{"text_format":"1","workbook":"xlsx","n_sheets":12,"sheets":["Main Page 1","Create Team","Help","Roster","per_game","3","5","8","9","custom","transfer","Sheet2"],"not_rendered":{"charts":0,"images":25,"macros":1,"external_links":0,"defined_names":240,"comments":0,"pivot_tables":0},"unopened":[],"bounds":{"document_bytes":16777216,"sheet_cells":100000,"rows_first":2000,"rows_last":500,"rows_between":2000,"halvings":0,"cell_chars":16384,"cell_head_chars":4096},"cells_cut":0,"cells_raw":0,"read":"whole","date_system":"1900"}

{"sheet":"Main Page 1","index":0,"n_rows":0,"n_cols":0,"rows_kept":0,"cut":false,"hidden":false,"merged":[]}

{"sheet":"Create Team","index":1,"n_rows":44,"n_cols":4,"rows_kept":44,"cut":false,"hidden":false,"merged":[]}
[null,null,null,"Player"]
[]
[null,null,null,"Player"]
[]
[null,null,null,"Player"]
[]
[null,null,null,"Player"]
[]
[null,null,null,"Player"]
[]
[null,null,null,"Player"]
[]
[null,null,null,"Player"]
[]
[null,null,null,"Player"]
[]
[null,null,null,"Player"]
[]
[null,null,null,"Player"]
[]
[]
[]
[]
["Points",1]
["Rebounds",1]
["Assists",1]
["Blocks",1]
["Steals",1]
["FG %",1]
["FT %",1]
["3 pt %",1]
["Turnovers",-1]
[" Offensive Rebounds",1]
["Defensive Rebounds",1]
["Personal Fouls",-1]
["Field Goals Made",1]
[" Field Goals Attempted",1]
["Free Throws Made",1]
["Free Throws Attempted",1]
["Three Pointers Made",1]
["Three Pointers Attempted",1]
["Minutes Played",1]
["Games Started",1]
["Games Played",1]

{"sheet":"Help","index":2,"n_rows":0,"n_cols":0,"rows_kept":0,"cut":false,"hidden":false,"merged":[]}

{"sheet":"Roster","index":3,"n_rows":510,"n_cols":8,"rows_kept":510,"cut":false,"hidden":true,"merged":[]}
["ATL"]
["No.","Player","Pos","Ht","Wt","Birth Date","Exp","College"]
[34,"Devin Harris","G","2012-06-03",185,"1983-02-27",8,"University of Wisconsin"]
[15,"Al Horford","C","2012-06-10",245,"1986-06-03",5,"University of Florida"]
[12,"John Jenkins","G","2012-06-04",215,"1991-03-06","R","Vanderbilt University"]
[44,"Ivan Johnson","F","2012-06-08",230,"1984-04-10",1,"University of Oregon"]
[26,"Kyle Korver","F","2012-06-07",210,"1981-03-17",9,"Creighton University"]
[22,"Anthony Morrow","G","2012-06-05",210,"1985-09-27",4,"Georgia Institute of Technology"]
[27,"Zaza Pachulia","C","2012-06-11",240,"1984-02-10",9]
[10,"Johan Petro","C","2000-07-01",247,"1986-01-27",7]
[32,"Mike Scott","F","2012-06-08",237,"1988-07-16","R","University of Virginia"]
[5,"Josh Smith","F","2012-06-09",225,"1985-12-05",8]
[92,"DeShawn Stevenson","G","2012-06-05",210,"1981-04-03",12]
[0,"Jeff Teague","G","2012-06-02",180,"1988-06-10",3,"Wake Forest University"]
[4,"Anthony Tolliver","C","2012-06-08",240,"1985-06-01",4,"Creighton University"]
[3,"Louis Williams","G","2012-06-02",175,"1986-10-27",7]
[]
["BOS"]
["No.","Player","Pos","Ht","Wt","Birth Date","Exp","College"]
[12,"Leandro Barbosa","G","2012-06-03",176,"1982-11-28",9]
[30,"Brandon Bass","F","2012-06-08",240,"1985-04-30",7,"Louisiana State University"]
[98,"Jason Collins","C","2000-07-01",255,"1978-12-02",11,"Stanford University"]
[5,"Kevin Garnett","F","2012-06-11",220,"1976-05-19",17]
[8,"Jeff Green","F","2012-06-09",235,"1986-08-28",4,"Georgetown University"]
[43,"Kris Joseph","F","2012-06-07",210,"1988-12-17","R","Syracuse University"]
[11,"Courtney Lee","G","2012-06-05",200,"1985-10-03",4,"Western Kentucky University"]
[99,"Darko Milicic","F-C","2000-07-01",250,"1985-06-20",9]
[34,"Paul Pierce","F","2012-06-06",230,"1977-10-13",14,"University of Kansas"]
[9,"Rajon Rondo","G","2012-06-01",171,"1986-02-22",6,"University of Kentucky"]
[7,"Jared Sullinger","F","2012-06-09",280,"1992-03-04","R","Ohio State University"]
[4,"Jason Terry","G","2012-06-02",176,"1977-09-15",13,"University of Arizona"]
[44,"Chris Wilcox","F","2012-06-10",221,"1982-09-03",10,"University of Maryland"]
[]
["BRK"]
["No.","Player","Pos","Ht","Wt","Birth Date","Exp","College"]
[0,"Andray Blatche","F","2012-06-11",235,"1986-08-22",7]
[10,"Keith Bogans","G-F","2012-06-05",215,"1980-05-12",9,"University of Kentucky"]
[9,"MarShon Brooks","G-F","2012-06-05",200,"1989-01-26",1,"Providence College"]
[2,"Josh Childress","G-F","2012-06-08",210,"1983-06-20",6,"Stanford University"]
[30,"Reggie Evans","F","2012-06-08",245,"1980-05-18",10,"University of Iowa"]
[43,"Kris Humphries","F","2012-06-09",235,"1985-02-06",8,"University of Minnesota"]
[7,"Joe Johnson","G","2012-06-08",225,"1981-06-29",11,"University of Arkansas"]
[11,"Brook Lopez","C","2000-07-01",260,"1988-04-01",4,"Stanford University"]
[20,"Tornike Shengelia","F","2012-06-09",217,"1991-10-05","R"]
[42,"Jerry Stackhouse","G-F","2012-06-06",218,"1974-11-05",17,"University of North Carolina"]
[41,"Tyshawn Taylor","G","2012-06-03",185,"1990-04-11","R","University of Kansas"]
[33,"Mirza Teletovic","F","2012-06-08",235,"1985-09-18","R"]
[45,"Gerald Wallace","F","2012-06-07",215,"1982-07-23",11,"University of Alabama"]
[1,"C.J. Watson","G","2012-06-02",180,"1984-04-17",5,"University of Tennessee"]
[8,"Deron Williams","G","2012-06-03",210,"1984-06-26",7,"University of Illinois at Urbana-Champaign"]
[]
["CHA"]
["No.","Player","Pos","Ht","Wt","Birth Date","Exp","College"]
[0,"Bismack Biyombo","F","2012-06-09",229,"1992-08-28",1]
[13,"Matt Carroll","G","2012-06-06",212,"1980-08-28",9,"University of Notre Dame"]
[2,"DeSagana Diop","C","2000-07-01",300,"1982-01-30",11]
[8,"Ben Gordon","G","2012-06-03",200,"1983-04-04",8,"University of Connecticut"]
[33,"Brendan Haywood","C","2000-07-01",268,"1979-11-27",11,"University of North Carolina"]
[9,"Gerald Henderson","G","2012-06-05",215,"1987-12-09",3,"Duke University"]
[11,"Cory Higgins","G","2012-06-05",180,"1989-06-14",1,"University of Colorado"]
[14,"Michael Kidd-Gilchrist","F","2012-06-07",232,"1993-09-26","R","University of Kentucky"]
[22,"Byron Mullens","C","2000-07-01",275,"1989-02-14",3,"Ohio State University"]
[7,"Ramon Sessions","G","2012-06-03",190,"1986-04-11",5,"University of Nevada, Reno"]
[44,"Jeff Taylor","F","2012-06-07",225,"1989-05-23","R","Vanderbilt University"]
[12,"Tyrus Thomas","F","2012-06-09",215,"1986-08-17",6,"Louisiana State University"]
[15,"Kemba Walker","G","2012-06-01",172,"1990-05-08",1,"University of Connecticut"]
[21,"Hakim Warrick","F","2012-06-09",219,"1982-07-08",7,"Syracuse University"]
[55,"Reggie Williams","F","2012-06-06",210,"1986-09-14",3,"Virginia Military Institute"]
[]
["CHI"]
["No.","Player","Pos","Ht","Wt","Birth Date","Exp","College"]
[8,"Marco Belinelli","G","2012-06-05",192,"1986-03-25",5]
[5,"Carlos Boozer","F-C","2012-06-09",258,"1981-11-20",10,"Duke University"]
[21,"Jimmy Butler","F","2012-06-07",220,"1989-09-14",1,"Marquette University"]
[9,"Luol Deng","F","2012-06-08",220,"1985-04-16",8,"Duke University"]
[22,"Taj Gibson","F","2012-06-09",225,"1985-06-24",3,"University of Southern California"]
[32,"Richard Hamilton","G-F","2012-06-06",185,"1978-02-14",13,"University of Connecticut"]
[12,"Kirk Hinrich","G","2012-06-03",190,"1981-01-02",9,"University of Kansas"]
[48,"Nazr Mohammed","C","2012-06-10",221,"1977-09-05",14,"University of Kentucky"]
[13,"Joakim Noah","C","2012-06-11",232,"1985-02-25",5,"University of Florida"]
[77,"Vladimir Radmanovic","F","2012-06-10",227,"1980-11-19",11]
[2,"Nate Robinson","G","2012-05-09",180,"1984-05-31",7,"University of Washington"]
[25,"Marquis Teague","G","2012-06-02",189,"1993-02-28","R","University of Kentucky"]
[]
["CLE"]
["No.","Player","Pos","Ht","Wt","Birth Date","Exp","College"]
[36,"Omri Casspi","F","2012-06-09",225,"1988-06-22",3]
[33,"Alonzo Gee","G","2012-06-06",220,"1987-05-29",3,"University of Alabama"]
[1,"Daniel Gibson","G","2012-06-02",190,"1986-02-27",6,"University of Texas at Austin"]
[2,"Kyrie Irving","G","2012-06-02",180,"1992-03-23",1,"Duke University"]
[30,"Jon Leuer","F","2012-06-10",228,"1989-05-14",1,"University of Wisconsin"]
[0,"C.J. Miles","G","2012-06-06",210,"1987-04-18",7]
[8,"Jeremy Pargo","G","2012-06-02",219,"1986-03-07",1,"Gonzaga University"]
[24,"Samardo Samuels","F","2012-06-09",260,"1989-01-09",2,"University of Louisville"]
[15,"Donald Sloan","G","2012-06-03",205,"1988-01-15",1,"Texas A&M University"]
[13,"Tristan Thompson","F","2012-06-08",225,"1991-03-13",1,"University of Texas at Austin"]
[17,"Anderson Varejao","F-C","2012-06-10",230,"1982-09-28",8]
[3,"Dion Waiters","G","2012-06-04",210,"1991-12-10","R","Syracuse University"]
[4,"Luke Walton","F","2012-06-08",235,"1980-03-28",9,"University of Arizona"]
[40,"Tyler Zeller","F-C","2000-07-01",250,"1990-01-17","R","University of North Carolina"]
[]
["DAL"]
["No.","Player","Pos","Ht","Wt","Birth Date","Exp","College"]
[3,"Rodrigue Beaubois","G","2000-06-01",170,"1988-02-24",3]
[42,"Elton Brand","F","2012-06-08",275,"1979-03-11",13,"Duke University"]
[25,"Vince Carter","G-F","2012-06-06",215,"1977-01-26",14,"University of North Carolina"]
[4,"Darren Collison","G","2000-06-01",160,"1987-08-23",3,"University of California, Los Angeles"]
[9,"Jae Crowder","F","2012-06-07",240,"1990-07-06","R","Marquette University"]
[1,"Jared Cunningham","G","2012-06-04",194,"1991-05-22","R","Oregon State University"]
[52,"Eddy Curry","C","2000-07-01",295,"1982-12-05",10]
[6,"Derek Fisher","G","2012-06-01",200,"1974-08-09",16,"University of Arkansas at Little Rock"]
[5,"Bernard James","C","2012-06-10",240,"1985-02-07","R","Florida State University"]
[30,"Dahntay Jones","G","2012-06-06",210,"1980-12-27",9,"Duke University"]
[20,"Dominique Jones","G","2012-06-04",215,"1988-10-15",2,"University of South Florida"]
[35,"Chris Kaman","C","2000-07-01",268,"1982-04-28",9,"Central Michigan University"]
[0,"Shawn Marion","F","2012-06-07",220,"1978-05-07",13,"University of Nevada, Las Vegas"]
[32,"O.J. Mayo","G","2012-06-04",210,"1987-11-05",4,"University of Southern California"]
[6,"Troy Murphy","F","2012-06-11",245,"1980-05-02",11,"University of Notre Dame"]
[34,"Brandan Wright","F","2012-06-09",205,"1987-10-05",4,"University of North Carolina"]
[]
["DEN"]
["No.","Player","Pos","Ht","Wt","Birth Date","Exp","College"]
[13,"Corey Brewer","F","2012-06-09",185,"1986-03-05",5,"University of Florida"]
[21,"Wilson Chandler","F","2012-06-08",220,"1987-05-10",5,"DePaul University"]
[35,"Kenneth Faried","F","2012-06-08",228,"1989-11-19",1,"Morehead State University"]
[94,"Evan Fournier","G-F","2012-06-06",190,"1992-10-29","R"]
[8,"Danilo Gallinari","F","2012-06-10",225,"1988-08-08",4]
[1,"Jordan Hamilton","G-F","2012-06-07",220,"1990-10-06",1,"University of Texas at Austin"]
[9,"Andre Iguodala","G-F","2012-06-06",207,"1984-01-28",8,"University of Arizona"]
[41,"Kosta Koufos","C","2000-07-01",265,"1989-02-24",4,"Ohio State University"]
[3,"Ty Lawson","G","2012-05-11",195,"1987-11-03",3,"University of North Carolina"]
[34,"JaVale McGee","C","2000-07-01",237,"1988-01-19",4,"University of Nevada, Reno"]
[24,"Andre Miller","G","2012-06-02",200,"1976-03-19",13,"University of Utah"]
[25,"Timofey Mozgov","C","2012-07-01",250,"1986-07-16",2]
[15,"Anthony Randolph","F","2012-06-10",205,"1989-07-15",4,"Louisiana State University"]
[]
["DET"]
["No.","Player","Pos","Ht","Wt","Birth Date","Exp","College"]
[12,"Will Bynum","G","2000-06-01",185,"1983-01-04",5,"Georgia Institute of Technology"]
[5,"Austin Daye","F","2012-06-11",200,"1988-06-05",3,"Gonzaga University"]
[1,"Andre Drummond","C","2012-06-10",270,"1993-08-10","R","University of Connecticut"]
[24,"Kim English","G","2012-06-06",200,"1988-09-24","R","University of Missouri"]
[33,"Jonas Jerebko","F","2012-06-10",231,"1987-03-03",2]
[7,"Brandon Knight","G","2012-06-03",189,"1991-12-02",1,"University of Kentucky"]
[50,"Corey Maggette","F","2012-06-06",218,"1979-11-12",13,"Duke University"]
[54,"Jason Maxiell","F","2012-06-07",260,"1983-02-18",7,"University of Cincinnati"]
[32,"Khris Middleton","F","2012-06-07",215,"1991-08-12","R","Texas A&M University"]
[10,"Greg Monroe","F-C","2012-06-11",253,"1990-06-04",2,"Georgetown University"]
[22,"Tayshaun Prince","F","2012-06-09",215,"1980-02-28",10,"University of Kentucky"]
[25,"Kyle Singler","F","2012-06-08",230,"1988-05-04","R","Duke University"]
[3,"Rodney Stuckey","G","2012-06-05",205,"1986-04-21",5,"Eastern Washington University"]
[31,"Charlie Villanueva","F","2012-06-11",240,"1984-08-24",7,"University of Connecticut"]
[]
["GSW"]
["No.","Player","Pos","Ht","Wt","Birth Date","Exp","College"]
[40,"Harrison Barnes","F","2012-06-08",210,"1992-05-30","R","University of North Carolina"]
[20,"Kent Bazemore","G","2012-06-05",201,"1989-07-01","R","Old Dominion University"]
[15,"Andris Biedrins","C","2012-06-11",240,"1986-04-02",8]
[12,"Andrew Bogut","C","2000-07-01",245,"1984-11-28",7,"University of Utah"]
[30,"Stephen Curry","G","2012-06-03",185,"1988-03-14",3,"Davidson College"]
[31,"Festus Ezeli","C","2012-06-11",255,"1989-10-21","R","Vanderbilt University"]
[23,"Draymond Green","F","2012-06-07",230,"1990-03-14","R","Michigan State University"]
[2,"Jarrett Jack","G","2012-06-03",202,"1983-10-28",7,"Georgia Institute of Technology"]
[44,"Richard Jefferson","F","2012-06-07",222,"1980-06-21",11,"University of Arizona"]
[22,"Charles Jenkins","G","2012-06-03",220,"1989-02-28",1,"Hofstra University"]
[7,"Carl Landry","F","2012-06-09",248,"1983-09-19",5,"Purdue University"]
[10,"David Lee","F","2012-06-09",249,"1983-04-29",7,"University of Florida"]
[4,"Brandon Rush","F","2012-06-06",210,"1985-07-07",4,"University of Kansas"]
[11,"Klay Thompson","G","2012-06-07",205,"1990-02-08",1,"Washington State University"]
[3,"Jeremy Tyler","C","2012-06-10",260,"1991-06-21",1]
[]
["HOU"]
["No.","Player","Pos","Ht","Wt","Birth Date","Exp","College"]
[31,"Cole Aldrich","C","2012-06-11",245,"1988-10-31",2,"University of Kansas"]
[3,"Omer Asik","C","2000-07-01",255,"1986-07-04",2]
[14,"Daequan Cook","G","2012-06-05",205,"1987-04-28",5,"Ohio State University"]
[10,"Carlos Delfino","G","2012-06-06",230,"1982-08-29",7]
[15,"Toney Douglas","G","2012-06-02",190,"1986-03-16",3,"Florida State University"]
[13,"James Harden","G","2012-06-05",220,"1989-08-26",3,"Arizona State University"]
[6,"Terrence Jones","F","2012-06-09",252,"1992-01-09","R","University of Kentucky"]
[7,"Jeremy Lin","G","2012-06-03",200,"1988-08-23",2,"Harvard University"]
[14,"Scott Machado","G","2012-06-01",205,"1990-06-08","R"]
[2,"Marcus Morris","F","2012-06-09",235,"1989-09-02",1,"University of Kansas"]
[20,"Donatas Motiejunas","F","2000-07-01",222,"1990-09-20","R"]
[25,"Chandler Parsons","F","2012-06-09",200,"1988-10-25",1,"University of Florida"]
[54,"Patrick Patterson","F","2012-06-09",235,"1989-03-14",2,"University of Kentucky"]
[4,"Greg Smith","C","2012-06-10",250,"1991-01-08",1,"California State University, Fresno"]
[]
["IND"]
["No.","Player","Pos","Ht","Wt","Birth Date","Exp","College"]
[14,"D.J. Augustin","G","2000-06-01",180,"1987-11-10",4,"University of Texas at Austin"]
[24,"Paul George","F","2012-06-08",210,"1990-05-02",2,"California State University, Fresno"]
[25,"Gerald Green","F","2012-06-08",200,"1986-01-26",5]
[23,"Ben Hansbrough","G","2012-06-03",203,"1987-12-23","R","University of Notre Dame"]
[50,"Tyler Hansbrough","F","2012-06-09",250,"1985-11-03",3,"University of North Carolina"]
[55,"Roy Hibbert","C","2012-07-02",278,"1986-12-11",4,"Georgetown University"]
[3,"George Hill","G","2012-06-02",180,"1986-05-04",4,"Indiana University-Purdue University Indianapolis"]
[11,"Orlando Johnson","G","2012-06-05",220,"1989-03-11","R","University of California, Santa Barbara"]
[28,"Ian Mahinmi","C","2012-06-11",230,"1986-11-05",4]
[29,"Jeff Pendergraph","F","2012-06-09",240,"1987-04-29",2,"Arizona State University"]
[13,"Miles Plumlee","F","2012-06-10",245,"1988-09-01","R","Duke University"]
[1,"Lance Stephenson","G","2012-06-05",210,"1990-09-05",2,"University of Cincinnati"]
[21,"David West","F","2012-06-09",240,"1980-08-29",9,"Xavier University"]
[4,"Sam Young","F","2012-06-06",220,"1985-06-01",3,"University of Pittsburgh"]
[]
["LAC"]
["No.","Player","Pos","Ht","Wt","Birth Date","Exp","College"]
[22,"Matt Barnes","F","2012-06-07",235,"1980-03-09",9,"University of California, Los Angeles"]
[1,"Chauncey Billups","G","2012-06-03",202,"1976-09-25",15,"University of Colorado"]
[12,"Eric Bledsoe","G","2012-06-01",190,"1989-12-09",2,"University of Kentucky"]
[5,"Caron Butler","F","2012-06-07",217,"1980-03-13",10,"University of Connecticut"]
[11,"Jamal Crawford","G","2012-06-06",185,"1980-03-20",12,"University of Michigan"]
[34,"Willie Green","G","2012-06-04",200,"1981-07-28",9,"University of Detroit Mercy"]
[32,"Blake Griffin","F","2012-06-10",251,"1989-03-16",2,"University of Oklahoma"]
[15,"Ryan Hollins","C","2000-07-01",230,"1984-10-10",6,"University of California, Los Angeles"]
[6,"DeAndre Jordan","C","2012-06-11",250,"1988-07-21",4,"Texas A&M University"]
[7,"Lamar Odom","F","2012-06-10",220,"1979-11-06",13,"University of Rhode Island"]
[3,"Chris Paul","G","2000-06-01",175,"1985-05-06",7,"Wake Forest University"]
[21,"Ronny Turiaf","F","2012-06-10",249,"1983-01-13",7,"Gonzaga University"]
[]
["LAL"]
["No.","Player","Pos","Ht","Wt","Birth Date","Exp","College"]
[5,"Steve Blake","G","2012-06-03",172,"1980-02-26",9,"University of Maryland"]
[24,"Kobe Bryant","G","2012-06-06",200,"1978-08-23",16]
[6,"Earl Clark","F","2012-06-10",225,"1988-01-17",3,"University of Louisville"]
[21,"Chris Duhon","G","2012-06-01",185,"1982-08-31",8,"Duke University"]
[3,"Devin Ebanks","F","2012-06-09",215,"1989-10-28",2,"West Virginia University"]
[16,"Pau Gasol","F-C","2000-07-01",227,"1980-07-06",11]
[27,"Jordan Hill","F","2012-06-10",235,"1987-07-27",3,"University of Arizona"]
[12,"Dwight Howard","C-F","2012-06-11",240,"1985-12-08",8]
[4,"Antawn Jamison","F","2012-06-08",223,"1976-06-12",14,"University of North Carolina"]
[7,"Darius Johnson-Odom","G","2012-06-02",215,"1989-09-28","R","Marquette University"]
[20,"Jodie Meeks","G","2012-06-04",208,"1987-08-21",3,"University of Kentucky"]
[1,"Darius Morris","G","2012-06-04",190,"1991-01-03",1,"University of Michigan"]
[10,"Steve Nash","G","2012-06-03",195,"1974-02-07",16,"Santa Clara University"]
[50,"Robert Sacre","C","2000-07-01",263,"1989-06-06","R","Gonzaga University"]
[15,"Metta World Peace","F","2012-06-06",244,"1979-11-13",13,"St. John's University"]
[]
["MEM"]
["No.","Player","Pos","Ht","Wt","Birth Date","Exp","College"]
[9,"Tony Allen","G","2012-06-04",213,"1982-01-11",8,"Oklahoma State University"]
[0,"Darrell Arthur","F","2012-06-09",225,"1988-03-25",3,"University of Kansas"]
[7,"Jerryd Bayless","G","2012-06-03",200,"1988-08-20",4,"University of Arizona"]
[11,"Mike Conley","G","2012-06-01",180,"1987-10-11",5,"Ohio State University"]
[3,"Wayne Ellington","G","2012-06-04",200,"1987-10-29",3,"University of North Carolina"]
[33,"Marc Gasol","C","2012-07-01",265,"1985-01-29",4]
[22,"Rudy Gay","F","2012-06-09",220,"1986-08-17",6,"University of Connecticut"]
[15,"Hamed Haddadi","C","2012-07-02",254,"1985-05-19",4]
[20,"Quincy Pondexter","G-F","2012-06-06",225,"1988-03-10",2,"University of Washington"]
[50,"Zach Randolph","F","2012-06-09",253,"1981-07-16",11,"Michigan State University"]
[2,"Josh Selby","G","2012-06-02",183,"1991-03-27",1,"University of Kansas"]
[5,"Marreese Speights","F","2012-06-10",245,"1987-08-04",4,"University of Florida"]
[1,"Tony Wroten","G","2012-06-05",205,"1993-04-13","R","University of Washington"]
[]
["MIA"]
["No.","Player","Pos","Ht","Wt","Birth Date","Exp","College"]
[34,"Ray Allen","G","2012-06-05",205,"1975-07-20",16,"University of Connecticut"]
[50,"Joel Anthony","C","2012-06-09",245,"1982-08-09",5,"University of Nevada, Las Vegas"]
[31,"Shane Battier","F","2012-06-08",220,"1978-09-09",11,"Duke University"]
[1,"Chris Bosh","F-C","2012-06-10",228,"1984-03-24",9,"Georgia Institute of Technology"]
[15,"Mario Chalmers","G","2012-06-01",190,"1986-05-19",4,"University of Kansas"]
[30,"Norris Cole","G","2012-06-02",170,"1988-10-13",1,"Cleveland State University"]
[55,"Josh Harrellson","C","2012-06-10",275,"1989-02-12",1,"University of Kentucky"]
[14,"Terrel Harris","G","2012-06-05",190,"1987-08-10",1,"Oklahoma State University"]
[40,"Udonis Haslem","F","2012-06-08",230,"1980-06-09",9,"University of Florida"]
[6,"LeBron James","F-G","2012-06-08",240,"1984-12-30",9]
[22,"James Jones","F","2012-06-08",225,"1980-10-04",9,"University of Miami"]
[9,"Rashard Lewis","F","2012-06-10",215,"1979-08-08",14]
[13,"Mike Miller","F","2012-06-08",218,"1980-02-19",12,"University of Florida"]
[45,"Dexter Pittman","C","2012-06-11",308,"1988-03-02",2,"University of Texas at Austin"]
[3,"Dwyane Wade","G","2012-06-04",212,"1982-01-17",9,"Marquette University"]
[]
["MIL"]
["No.","Player","Pos","Ht","Wt","Birth Date","Exp","College"]
[21,"Samuel Dalembert","C","2012-06-11",250,"1981-05-10",10,"Seton Hall University"]
[6,"Marquis Daniels","G-F","2012-06-06",200,"1981-01-07",9,"Auburn University"]
[17,"Mike Dunleavy","F-G","2012-06-09",220,"1980-09-15",10,"Duke University"]
[11,"Monta Ellis","G","2012-06-03",175,"1985-10-26",7]
[15,"Tobias Harris","F","2012-06-08",226,"1992-07-15",1,"University of Tennessee"]
[31,"John Henson","F","2012-06-11",220,"1990-12-28","R","University of North Carolina"]
[7,"Ersan Ilyasova","F","2012-06-09",235,"1987-05-15",4]
[3,"Brandon Jennings","G","2012-06-01",169,"1989-09-23",3]
[20,"Doron Lamb","G","2012-06-04",210,"1991-11-06","R","University of Kentucky"]
[12,"Luc Mbah a Moute","F","2012-06-08",230,"1986-09-09",4,"University of California, Los Angeles"]
[10,"Joel Przybilla","C","2012-07-01",255,"1979-10-10",12,"University of Minnesota"]
[8,"Larry Sanders","F","2012-06-11",235,"1988-11-21",2,"Virginia Commonwealth University"]
[13,"Ekpe Udoh","F","2012-06-10",240,"1987-05-20",2,"Baylor University"]
[19,"Beno Udrih","G","2012-06-03",205,"1982-07-05",8]
[]
["MIN"]
["No.","Player","Pos","Ht","Wt","Birth Date","Exp","College"]
[17,"Louis Amundson","F","2012-06-09",225,"1982-12-07",6,"University of Nevada, Las Vegas"]
[11,"Jose Barea","G","2000-06-01",175,"1984-06-26",6,"Northeastern University"]
[10,"Chase Budinger","F","2012-06-07",218,"1988-05-22",3,"University of Arizona"]
[5,"Will Conroy","G","2012-06-02",195,"1982-12-08",2,"University of Washington"]
[33,"Dante Cunningham","F","2012-06-08",230,"1987-04-22",3,"Villanova University"]
[5,"Josh Howard","F-G","2012-06-07",210,"1980-04-28",9,"Wake Forest University"]
[47,"Andrei Kirilenko","F","2012-06-09",220,"1981-02-18",10]
[8,"Malcolm Lee","G","2012-06-05",200,"1990-05-22",1,"University of California, Los Angeles"]
[42,"Kevin Love","F","2012-06-10",260,"1988-09-07",4,"University of California, Los Angeles"]
[14,"Nikola Pekovic","C-F","2012-06-11",243,"1986-01-03",2]
[13,"Luke Ridnour","G","2012-06-02",175,"1981-02-13",9,"University of Oregon"]
[3,"Brandon Roy","G","2012-06-06",215,"1984-07-23",5,"University of Washington"]
[1,"Alexey Shved","G","2012-06-06",190,"1988-12-16","R"]
[34,"Greg Stiemsma","C","2012-06-11",260,"1985-09-26",1,"University of Wisconsin"]
[7,"Derrick Williams","F","2012-06-08",241,"1991-05-25",1,"University of Arizona"]
[]
["NOH"]
["No.","Player","Pos","Ht","Wt","Birth Date","Exp","College"]
[0,"Al-Farouq Aminu","F","2012-06-09",215,"1990-09-21",2,"Wake Forest University"]
[33,"Ryan Anderson","F","2012-06-10",240,"1988-05-06",4,"University of California"]
[23,"Anthony Davis","F-C","2012-06-10",220,"1993-03-11","R","University of Kentucky"]
[4,"Xavier Henry","G","2012-06-06",220,"1991-03-15",2,"University of Kansas"]
[15,"Robin Lopez","C","2000-07-01",255,"1988-04-01",4,"Stanford University"]
[8,"Roger Mason","G","2012-06-05",200,"1980-09-10",8,"University of Virginia"]
[2,"Darius Miller","F","2012-06-08",235,"1990-03-21","R","University of Kentucky"]
[25,"Austin Rivers","G","2012-06-04",200,"1992-08-01","R","Duke University"]
[22,"Brian Roberts","G","2012-06-01",180,"1985-12-03","R","University of Dayton"]
[14,"Jason Smith","F","2000-07-01",240,"1986-03-02",4,"Colorado State University"]
[42,"Lance Thomas","F","2012-06-08",225,"1988-04-24",1,"Duke University"]
[21,"Greivis Vasquez","G","2012-06-06",200,"1987-01-16",2,"University of Maryland"]
[1,"Hakim Warrick","F","2012-06-09",219,"1982-07-08",7,"Syracuse University"]
[]
["NYK"]
["No.","Player","Pos","Ht","Wt","Birth Date","Exp","College"]
[7,"Carmelo Anthony","F","2012-06-08",230,"1984-05-29",9,"Syracuse University"]
[11,"Ronnie Brewer","G-F","2012-06-07",220,"1985-03-20",6,"University of Arkansas"]
[23,"Marcus Camby","C-F","2012-06-11",220,"1974-03-22",16,"University of Massachusetts Amherst"]
[6,"Tyson Chandler","C","2012-07-01",235,"1982-10-02",11]
[14,"Chris Copeland","F","2012-06-09",235,"1984-03-17","R","University of Colorado"]
[2,"Raymond Felton","G","2012-06-01",198,"1984-06-26",7,"University of North Carolina"]
[5,"Jason Kidd","G","2012-06-04",205,"1973-03-23",18,"University of California"]
[16,"Steve Novak","F","2012-06-10",220,"1983-06-13",6,"Marquette University"]
[9,"Pablo Prigioni","G","2012-06-03",180,"1977-05-17","R"]
[8,"J.R. Smith","G","2012-06-06",220,"1985-09-09",8]
[40,"Kurt Thomas","F","2012-06-09",230,"1972-10-04",17,"Texas Christian University"]
[36,"Rasheed Wallace","F-C","2012-06-10",225,"1974-09-17",15,"University of North Carolina"]
[4,"James White","G-F","2012-06-07",200,"1982-10-21",2,"University of Cincinnati"]
[]
["OKC"]
["No.","Player","Pos","Ht","Wt","Birth Date","Exp","College"]
[4,"Nick Collison","F","2012-06-09",255,"1980-10-26",8,"University of Kansas"]
[35,"Kevin Durant","F","2012-06-09",215,"1988-09-29",5,"University of Texas at Austin"]
[9,"Serge Ibaka","F","2012-06-10",220,"1989-09-18",3]
[15,"Reggie Jackson","G","2012-06-03",208,"1990-04-16",1,"Boston College"]
[3,"Perry Jones","F","2012-06-11",235,"1991-09-24","R","Baylor University"]
[11,"Jeremy Lamb","G-F","2012-06-05",180,"1992-05-30","R","University of Connecticut"]
[25,"DeAndre Liggins","G","2012-06-06",209,"1988-03-31",1,"University of Kentucky"]
[23,"Kevin Martin","G","2012-06-07",185,"1983-02-01",8,"Western Carolina University"]
[6,"Eric Maynor","G","2012-06-03",175,"1987-06-11",3,"Virginia Commonwealth University"]
[33,"Daniel Orton","F","2012-06-10",255,"1990-08-06",1,"University of Kentucky"]
[5,"Kendrick Perkins","C","2012-06-10",280,"1984-11-10",9]
[2,"Thabo Sefolosha","G","2012-06-05",215,"1984-05-02",6]
[34,"Hasheem Thabeet","C","2012-07-03",263,"1987-02-16",3,"University of Connecticut"]
[0,"Russell Westbrook","G","2012-06-03",187,"1988-11-12",4,"University of California, Los Angeles"]
[]
["ORL"]
["No.","Player","Pos","Ht","Wt","Birth Date","Exp","College"]
[4,"Arron Afflalo","G","2012-06-05",215,"1985-10-15",5,"University of California, Los Angeles"]
[19,"Gustavo Ayon","C","2012-06-10",250,"1985-04-01",1]
[11,"Glen Davis","F","2012-06-09",289,"1986-01-01",5,"Louisiana State University"]
[21,"Maurice Harkless","G-F","2012-06-08",208,"1993-05-11","R","St. John's University"]
[20,"DeQuan Jones","F","2012-06-08",221,"1990-06-20","R","University of Miami"]
[17,"Josh McRoberts","F","2012-06-10",240,"1987-02-28",5,"Duke University"]
[55,"E'Twaun Moore","F","2012-06-04",191,"1989-02-28",1,"Purdue University"]
[14,"Jameer Nelson","G","2000-06-01",190,"1982-02-09",8,"Saint Joseph's University"]
[44,"Andrew Nicholson","F","2012-06-09",250,"1989-12-08","R","St. Bonaventure University"]
[2,"Kyle O'Quinn","C","2012-06-10",240,"1990-03-26","R","Norfolk State University"]
[7,"J.J. Redick","G","2012-06-04",190,"1984-06-24",6,"Duke University"]
[10,"Ishmael Smith","G","2000-06-01",175,"1988-07-05",2,"Wake Forest University"]
[15,"Hedo Turkoglu","F","2012-06-10",220,"1979-03-19",12]
[9,"Nikola Vucevic","F","2012-06-10",240,"1990-10-24",1,"University of Southern California"]
[]
["PHI"]
["No.","Player","Pos","Ht","Wt","Birth Date","Exp","College"]
[50,"Lavoy Allen","F","2012-06-09",225,"1989-02-04",1,"Temple University"]
[54,"Kwame Brown","F","2012-06-11",270,"1982-03-10",11]
[0,"Spencer Hawes","C","2000-07-01",245,"1988-04-28",5,"University of Washington"]
[11,"Jrue Holiday","G","2012-06-03",180,"1990-06-12",3,"University of California, Los Angeles"]
[7,"Royal Ivey","G","2012-06-03",200,"1981-12-20",8,"University of Texas at Austin"]
[5,"Arnett Moultrie","F","2012-06-11",249,"1990-11-18","R","Mississippi State University"]
[23,"Jason Richardson","G","2012-06-06",220,"1981-01-20",11,"Michigan State University"]
[12,"Evan Turner","G","2012-06-07",205,"1988-10-27",2,"Ohio State University"]
[18,"Maalik Wayns","G","2012-06-02",200,"1991-05-02","R","Villanova University"]
[8,"Damien Wilkins","F","2012-06-06",225,"1980-01-11",8,"University of Georgia"]
[4,"Dorell Wright","G-F","2012-06-07",200,"1985-12-02",8]
[1,"Nick Young","G","2012-06-06",200,"1985-06-01",5,"University of Southern California"]
[21,"Thaddeus Young","F","2012-06-08",220,"1988-06-21",5,"Georgia Institute of Technology"]
[]
["PHO"]
["No.","Player","Pos","Ht","Wt","Birth Date","Exp","College"]
[0,"Michael Beasley","F","2012-06-09",235,"1989-01-09",4,"Kansas State University"]
[26,"Shannon Brown","G","2012-06-04",205,"1985-11-29",6,"Michigan State University"]
[1,"Goran Dragic","G","2012-06-04",180,"1986-05-06",4]
[3,"Jared Dudley","F","2012-06-07",225,"1985-07-10",5,"Boston College"]
[10,"Diante Garrett","G","2012-06-04",190,"1988-11-03","R","Iowa State University"]
[4,"Marcin Gortat","C-F","2012-06-11",240,"1984-02-17",5]
[2,"Wesley Johnson","F","2012-06-07",205,"1987-07-11",2,"Syracuse University"]
[12,"Kendall Marshall","G","2012-06-04",195,"1991-08-19","R","University of North Carolina"]
[11,"Markieff Morris","F","2012-06-10",245,"1989-09-02",1,"University of Kansas"]
[20,"Jermaine O'Neal","F-C","2012-06-11",226,"1978-10-13",16]
[14,"Luis Scola","F","2012-06-09",245,"1980-04-30",5]
[31,"Sebastian Telfair","G","2000-06-01",165,"1985-06-09",8]
[17,"P.J. Tucker","F","2012-06-05",225,"1985-05-05",1,"University of Texas at Austin"]
[40,"Luke Zeller","C","2012-06-11",245,"1987-04-07","R","University of Notre Dame"]
[]
["POR"]
["No.","Player","Pos","Ht","Wt","Birth Date","Exp","College"]
[12,"LaMarcus Aldridge","F","2012-06-11",240,"1985-07-19",6,"University of Texas at Austin"]
[8,"Luke Babbitt","F","2012-06-09",225,"1989-06-20",2,"University of Nevada, Reno"]
[5,"Will Barton","G","2012-06-06",174,"1991-01-06","R","University of Memphis"]
[88,"Nicolas Batum","F","2012-06-08",200,"1988-12-14",4]
[18,"Victor Claver","F","2012-06-09",224,"1988-08-30","R"]
[19,"Joel Freeland","F-C","2012-06-10",250,"1987-02-07","R"]
[21,"J.J. Hickson","F","2012-06-09",242,"1988-09-04",4,"North Carolina State University"]
[1,"Jared Jeffries","F","2012-06-11",230,"1981-11-25",10,"Indiana University"]
[11,"Meyers Leonard","C","2012-07-01",245,"1992-02-27","R","University of Illinois at Urbana-Champaign"]
[0,"Damian Lillard","G","2012-06-03",195,"1990-07-15","R","Weber State University"]
[2,"Wesley Matthews","G","2012-06-05",220,"1986-10-14",3,"Marquette University"]
[3,"Sasha Pavlovic","G-F","2012-06-08",220,"1983-11-15",9]
[24,"Ronnie Price","G","2012-06-02",190,"1983-06-21",7,"Utah Valley State College"]
[4,"Nolan Smith","G","2012-06-02",185,"1988-07-25",1,"Duke University"]
[]
["SAC"]
["No.","Player","Pos","Ht","Wt","Birth Date","Exp","College"]
[3,"Aaron Brooks","G","2000-06-01",161,"1985-01-14",4,"University of Oregon"]
[15,"DeMarcus Cousins","F","2012-06-11",270,"1990-08-13",2,"University of Kentucky"]
[13,"Tyreke Evans","G","2012-06-06",220,"1989-09-19",3,"University of Memphis"]
[7,"Jimmer Fredette","G","2012-06-02",195,"1989-02-25",1,"Brigham Young University"]
[32,"Francisco Garcia","F-G","2012-06-07",195,"1981-12-31",7,"University of Louisville"]
[42,"Chuck Hayes","F","2012-06-06",240,"1983-06-11",7,"University of Kentucky"]
[52,"James Johnson","F","2012-06-09",245,"1987-02-20",3,"Wake Forest University"]
[25,"Travis Outlaw","F","2012-06-09",210,"1984-09-18",9]
[0,"Thomas Robinson","F","2012-06-09",240,"1991-03-17","R","University of Kansas"]
[5,"John Salmons","G","2012-06-07",210,"1979-12-12",10,"University of Miami"]
[22,"Isaiah Thomas","G","2012-05-09",185,"1989-02-07",1,"University of Washington"]
[34,"Jason Thompson","F","2012-06-11",250,"1986-07-21",4,"Rider University"]
[23,"Marcus Thornton","G","2012-06-04",205,"1987-06-05",3,"Louisiana State University"]
[]
["SAS"]
["No.","Player","Pos","Ht","Wt","Birth Date","Exp","College"]
[11,"James Anderson","G","2012-06-06",215,"1989-03-25",2,"Oklahoma State University"]
[45,"DeJuan Blair","F","2012-06-07",265,"1989-04-22",3,"University of Pittsburgh"]
[15,"Matt Bonner","F","2012-06-10",240,"1980-04-05",8,"University of Florida"]
[25,"Nando De Colo","G","2012-06-05",200,"1987-06-23","R"]
[33,"Boris Diaw","F-C","2012-06-08",215,"1982-04-16",9]
[21,"Tim Duncan","F-C","2012-06-11",248,"1976-04-25",15,"Wake Forest University"]
[20,"Manu Ginobili","G","2012-06-06",210,"1977-07-28",10]
[4,"Danny Green","F","2012-06-06",210,"1987-06-22",3,"University of North Carolina"]
[3,"Stephen Jackson","F","2012-06-08",218,"1978-04-05",12,"Butler County Community College"]
[5,"Cory Joseph","G","2012-06-03",185,"1991-08-20",1,"University of Texas at Austin"]
[2,"Kawhi Leonard","F","2012-06-07",225,"1991-06-29",1,"San Diego State University"]
[8,"Patrick Mills","G","2000-06-01",185,"1988-08-11",3,"Saint Mary's College of California"]
[14,"Gary Neal","G","2012-06-04",210,"1984-10-03",2,"Towson University"]
[9,"Tony Parker","G","2012-06-02",180,"1982-05-17",11]
[22,"Tiago Splitter","F","2012-06-11",232,"1985-01-01",2]
[]
["TOR"]
["No.","Player","Pos","Ht","Wt","Birth Date","Exp","College"]
[4,"Quincy Acy","F","2012-06-07",233,"1990-10-06","R","Baylor University"]
[6,"Alan Anderson","G-F","2012-06-06",220,"1982-10-16",3,"Michigan State University"]
[7,"Andrea Bargnani","F","2000-07-01",225,"1985-10-26",6]
[8,"Jose Calderon","G","2012-06-03",210,"1981-09-28",7]
[32,"Ed Davis","F","2012-06-10",225,"1989-06-05",2,"University of North Carolina"]
[10,"DeMar DeRozan","G","2012-06-07",220,"1989-08-07",3,"University of Southern California"]
[2,"Landry Fields","F","2012-06-07",210,"1988-06-27",2,"Stanford University"]
[34,"Aaron Gray","C","2000-07-01",270,"1984-12-07",5,"University of Pittsburgh"]
[15,"Amir Johnson","F","2012-06-09",210,"1987-05-01",7]
[11,"Linas Kleiza","F","2012-06-08",245,"1985-01-03",6,"University of Missouri"]
[3,"Kyle Lowry","G","2000-06-01",175,"1986-03-25",6,"Villanova University"]
[5,"John Lucas","G","2012-05-11",165,"1982-11-21",4,"Oklahoma State University"]
[1,"Dominic McGuire","F","2012-06-09",220,"1985-10-20",5,"California State University, Fresno"]
[20,"Mickael Pietrus","G-F","2012-06-06",215,"1982-02-07",9]
[31,"Terrence Ross","G","2012-06-06",195,"1991-02-05","R","University of Washington"]
[17,"Jonas Valanciunas","C","2012-06-11",231,"1992-05-06","R"]
[]
["UTA"]
["No.","Player","Pos","Ht","Wt","Birth Date","Exp","College"]
[10,"Alec Burks","G","2012-06-06",195,"1991-07-20",1,"University of Colorado"]
[3,"DeMarre Carroll","F","2012-06-08",212,"1986-07-27",3,"University of Missouri"]
[40,"Jeremy Evans","F","2012-06-09",196,"1987-10-24",2,"Western Kentucky University"]
[15,"Derrick Favors","F","2012-06-10",246,"1991-07-15",2,"Georgia Institute of Technology"]
[8,"Randy Foye","G","2012-06-04",210,"1983-09-24",6,"Villanova University"]
[20,"Gordon Hayward","F","2012-06-08",207,"1990-03-23",2,"Butler University"]
[25,"Al Jefferson","F","2012-06-10",265,"1985-01-04",8]
[0,"Enes Kanter","F","2012-06-11",262,"1992-05-20",1]
[24,"Paul Millsap","F","2012-06-08",245,"1985-02-10",6,"Louisiana Tech University"]
[55,"Kevin Murphy","G","2012-06-06",185,"1990-03-06","R","Tennessee Technological University"]
[6,"Jamaal Tinsley","G","2012-06-03",195,"1978-02-28",9,"Iowa State University"]
[11,"Earl Watson","G","2012-06-01",195,"1979-06-12",11,"University of California, Los Angeles"]
[2,"Marvin Williams","F","2012-06-09",230,"1986-06-19",7,"University of North Carolina"]
[5,"Mo Williams","G","2012-06-01",185,"1982-12-19",9,"University of Alabama"]
[]
["WAS"]
["No.","Player","Pos","Ht","Wt","Birth Date","Exp","College"]
[1,"Trevor Ariza","F","2012-06-08",200,"1985-06-30",8,"University of California, Los Angeles"]
[30,"Earl Barron","C","2000-07-01",245,"1981-08-14",6,"University of Memphis"]
[3,"Bradley Beal","G","2012-06-03",207,"1993-06-28","R","University of Florida"]
[35,"Trevor Booker","F","2012-06-07",240,"1987-11-25",2,"Clemson University"]
[15,"Jordan Crawford","G","2012-06-04",195,"1988-10-23",2,"Xavier University"]
[42,"Nene Hilario","F-C","2012-06-11",260,"1982-09-13",10]
[14,"Shaun Livingston","G","2012-06-07",182,"1985-09-11",7]
[20,"Cartier Martin","F","2012-06-07",220,"1984-11-20",4,"Kansas State University"]
[50,"Emeka Okafor","C-F","2012-06-10",252,"1982-09-28",8,"University of Connecticut"]
[7,"Jannero Pargo","G","2012-06-01",175,"1979-09-22",8,"University of Arkansas"]
[12,"A.J. Price","G","2012-06-02",181,"1986-10-07",3,"University of Connecticut"]
[13,"Kevin Seraphin","F","2012-06-09",264,"1989-12-07",2]
[31,"Chris Singleton","F","2012-06-08",230,"1989-11-21",1,"Florida State University"]
[24,"Jan Vesely","F","2012-06-11",240,"1990-04-24",1]
[9,"Martell Webster","G-F","2012-06-07",210,"1986-12-04",7]

{"sheet":"per_game","index":4,"n_rows":510,"n_cols":24,"rows_kept":510,"cut":false,"hidden":true,"merged":[]}
["ATL"]
["Rk","Player","Age","G","GS","MP","FG","FGA","FG%","3P","3PA","3P%","FT","FTA","FT%","ORB","DRB","TRB","AST","STL","BLK","TOV","PF","PTS"]
[1,"Josh Smith",27,13,13,34.9,7,15.8,0.44400000000000001,0.4,1.1000000000000001,0.35699999999999998,1.7,3.5,0.47799999999999998,1.8,5.8,7.6,3.7,1.4,2.4,3.2,3.3,16.100000000000001]
[2,"Al Horford",26,13,13,36.6,7.1,13.2,0.53500000000000003,0,0,null,1.8,3.4,0.52300000000000002,2.7,6.8,9.5,3.5,0.5,1.1000000000000001,1.8,1.8,15.9]
[3,"Louis Williams",26,14,0,24.3,4.5,10.6,0.42299999999999999,1.5,4.7,0.318,3.4,3.9,0.873,0.2,1.8,2,3.3,1.1000000000000001,0.3,1.4,1.3,13.9]
[4,"Jeff Teague",24,14,14,31,5.4,11.5,0.46600000000000003,1.1000000000000001,2.4,0.45500000000000002,1.9,2.1,0.86699999999999999,0.6,1.9,2.4,7.1,1.8,0.4,3,1.9,13.6]
[5,"Kyle Korver",31,13,13,29.3,3.6,8.5,0.42699999999999999,2.6,6.2,0.42,0.9,1.1000000000000001,0.85699999999999998,0.3,3.4,3.7,1.6,1,0.4,0.7,2.2000000000000002,10.8]
[6,"Zaza Pachulia",28,14,5,24.4,2.6,5.0999999999999996,0.5,0,0.1,0,1.7,2.4,0.72699999999999998,2.8,4.4000000000000004,7.1,1.6,0.8,0.4,1.7,2.4,6.9]
[7,"Devin Harris",29,12,4,21.8,2.5,6.1,0.41099999999999998,0.9,2.9,0.314,0.9,1.4,0.64700000000000002,0.1,1.5,1.6,2.5,1,0.4,1.2,1.4,6.8]
[8,"DeShawn Stevenson",31,11,7,25.5,2.2000000000000002,5.5,0.4,1.8,4.5,0.4,0.2,0.5,0.4,0.4,2.4,2.7,1.1000000000000001,0.5,0.3,0.5,1.5,6.4]
[9,"Anthony Morrow",27,11,0,12.4,2.2000000000000002,4.5,0.48,0.7,1.4,0.53300000000000003,0.6,0.7,0.875,0.2,0.5,0.6,0.1,0.7,0.1,0.2,1.7,5.7]
[10,"Ivan Johnson",28,12,0,11.5,2.2999999999999998,3.6,0.65100000000000002,0.1,0.2,0.5,0.3,0.8,0.4,0.8,2.2999999999999998,3.1,0.3,0.8,0.1,0.9,1.8,5.0999999999999996]
[11,"Anthony Tolliver",27,8,1,13.4,1.1000000000000001,4.0999999999999996,0.27300000000000002,0.4,2.1,0.17599999999999999,0.5,0.6,0.8,0.6,1.6,2.2999999999999998,0.1,0.5,0,0.9,1,3.1]
[12,"John Jenkins",21,4,0,3.3,0.5,1.8,0.28599999999999998,0,0.3,0,0.5,0.5,1,0.3,0.8,1,0,0,0,0,0,1.5]
[13,"Mike Scott",24,5,0,3.2,0.2,1.2,0.16700000000000001,0,0,null,0,0,null,0.2,0.6,0.8,0,0,0,0.6,0.4,0.4]
[14,"Johan Petro",27,2,0,4,0,1,0,0,0,null,0,0,null,0,0,0,0,0,0,0.5,0.5,0]
[]
["BOS"]
["Rk","Player","Age","G","GS","MP","FG","FGA","FG%","3P","3PA","3P%","FT","FTA","FT%","ORB","DRB","TRB","AST","STL","BLK","TOV","PF","PTS"]
[1,"Paul Pierce",35,17,17,33.700000000000003,6,14.4,0.41799999999999998,1.8,4.5,0.39500000000000002,5.4,6.5,0.83599999999999997,0.3,5.4,5.7,3.2,1.5,0.3,2.5,2.5,19.2]
[2,"Kevin Garnett",36,17,17,28.9,6.2,11.9,0.52200000000000002,0,0.1,0,3.1,3.9,0.80300000000000005,0.9,6.4,7.4,1.9,0.8,0.8,1.7,2.1,15.6]
[3,"Rajon Rondo",26,14,14,37,5.6,11,0.50600000000000001,0.4,1.4,0.316,1.4,2.2000000000000002,0.61299999999999999,0.6,4,4.5999999999999996,12.9,1.9,0,3.2,2.6,12.9]
[4,"Jason Terry",35,17,12,28.4,4.0999999999999996,8.4,0.48299999999999998,1.5,4,0.38200000000000001,2.1,2.4,0.875,0.1,1.7,1.8,2.2999999999999998,1.1000000000000001,0.1,1.2,1.4,11.7]
[5,"Brandon Bass",27,17,14,27.8,3.9,8.8000000000000007,0.443,0,0.1,0,1.8,2,0.88200000000000001,1.9,3.5,5.4,0.9,0.5,0.8,0.9,2.8,9.5]
[6,"Jeff Green",26,17,0,21.6,3.3,7.6,0.434,0.5,1.6,0.33300000000000002,1.8,2.4,0.75600000000000001,0.5,2.2000000000000002,2.8,0.7,0.6,0.5,1.5,1.5,8.9]
[7,"Leandro Barbosa",30,17,1,14.2,2.4,5.3,0.44400000000000001,0.6,1.4,0.41699999999999998,1,1.4,0.73899999999999999,0.1,0.9,0.9,1.5,0.5,0.3,0.6,1.2,6.3]
[8,"Courtney Lee",27,17,7,24.8,2.5,5.5,0.46200000000000002,0.4,1.5,0.24,0.5,0.5,1,0.5,2,2.5,1.5,0.9,0.1,1.5,1.7,5.9]
[9,"Jared Sullinger",20,17,3,18.2,2.4,4.5999999999999996,0.50600000000000001,0.1,0.1,1,0.7,0.8,0.92300000000000004,1.6,2.9,4.5999999999999996,0.6,0.4,0.5,0.6,2.8,5.5]
[10,"Chris Wilcox",30,16,0,12.3,1.6,2.2999999999999998,0.70299999999999996,0,0,null,1,1.3,0.76200000000000001,0.8,1.3,2.1,0.3,0.3,0.3,0.6,2,4.3]
[11,"Kris Joseph",24,2,0,4,0,1.5,0,0,0,null,1,1,1,0,0.5,0.5,0.5,0,0,0.5,1,1]
[12,"Jason Collins",34,4,0,11.3,0.3,1,0.25,0,0,null,0,0.3,0,1,1.3,2.2999999999999998,0,0.5,0.3,1,2.8,0.5]
[13,"Darko Milicic",27,1,0,5,0,1,0,0,0,null,0,0,null,0,1,1,0,0,0,2,1,0]
[]
["BRK"]
["Rk","Player","Age","G","GS","MP","FG","FGA","FG%","3P","3PA","3P%","FT","FTA","FT%","ORB","DRB","TRB","AST","STL","BLK","TOV","PF","PTS"]
[1,"Brook Lopez",24,14,14,29.7,7.9,14.9,0.53400000000000003,0,0,null,2.6,4.0999999999999996,0.63800000000000001,2.1,4.5999999999999996,6.8,0.8,0.5,2.5,1.7,2.6,18.5]
[2,"Joe Johnson",31,16,16,37.6,5.9,14.4,0.40899999999999997,1.8,5,0.36299999999999999,2,2.6,0.78,0.6,2.2000000000000002,2.8,3.8,0.6,0.2,1.8,1.3,15.6]
[3,"Deron Williams",28,16,16,35.9,5.0999999999999996,13.3,0.38200000000000001,1.4,5.0999999999999996,0.26800000000000002,3.9,4.5999999999999996,0.83799999999999997,0.5,2.5,3,8.9,1.1000000000000001,0.6,2.9,2.2999999999999998,15.4]
[4,"Andray Blatche",26,16,2,18.899999999999999,4,8.6,0.46700000000000003,0,0.2,0,2.1,2.8,0.75,2.5,3.3,5.8,1.1000000000000001,0.5,0.6,1.3,1.8,10.1]
[5,"Gerald Wallace",30,9,9,30.9,3.6,8.3000000000000007,0.42699999999999999,1.2,3.7,0.33300000000000002,1.1000000000000001,2.2000000000000002,0.5,0.7,3.4,4.0999999999999996,2.4,1.9,0.7,1.8,2.6,9.4]
[6,"Kris Humphries",27,16,16,24.6,3.1,6.6,0.47599999999999998,0,0,null,1.9,2.6,0.73199999999999998,2.4,5.7,8.1,0.6,0.4,0.9,0.6,2.6,8.1]
[7,"Jerry Stackhouse",38,10,0,16.600000000000001,2.6,5.3,0.49099999999999999,1.5,3.2,0.46899999999999997,0.6,0.7,0.85699999999999998,0.3,1.1000000000000001,1.4,0.8,0.6,0.2,0.6,0.9,7.3]
[8,"C.J. Watson",28,16,0,19.7,2.4,6.4,0.379,1.2,3.5,0.33900000000000002,1.2,1.4,0.82599999999999996,0.7,0.7,1.4,1.8,0.8,0.2,0.9,1.5,7.3]
[9,"MarShon Brooks",24,9,0,12.2,2.8,4.9000000000000004,0.56799999999999995,0.2,0.3,0.66700000000000004,1.3,2,0.66700000000000004,0.6,1.1000000000000001,1.7,0.9,0.6,0.1,0.9,1.2,7.1]
[10,"Reggie Evans",32,16,0,19.600000000000001,0.9,1.6,0.57699999999999996,0,0,null,1.2,2,0.59399999999999997,2.8,5.7,8.4,0.7,0.7,0.1,1.1000000000000001,2.4,3.1]
[11,"Keith Bogans",32,14,7,14.9,1.1000000000000001,3.3,0.34799999999999998,0.8,2.5,0.314,0.1,0.2,0.33300000000000002,0.3,1.1000000000000001,1.4,1.1000000000000001,0.3,0,0.8,1.4,3.1]
[12,"Mirza Teletovic",27,6,0,8,1.2,3.7,0.318,0.7,2.7,0.25,0,0,null,0.2,1,1.2,0.7,0.3,0,0,0.5,3]
[13,"Tornike Shengelia",21,4,0,5,0.5,0.5,1,0.3,0.3,1,0.8,1.3,0.6,0,0.3,0.3,0,0,0,0.5,0.5,2]
[14,"Josh Childress",29,10,0,9.3000000000000007,0.6,1.7,0.35299999999999998,0.1,0.2,0.5,0.1,0.2,0.5,0.5,0.9,1.4,0.5,0.2,0.2,0,0.3,1.4]
[15,"Tyshawn Taylor",22,9,0,3.1,0.4,1.3,0.33300000000000002,0,0,null,0.1,0.2,0.5,0,0,0,0.2,0.3,0,0.3,0.3,1]
[]
["CHA"]
["Rk","Player","Age","G","GS","MP","FG","FGA","FG%","3P","3PA","3P%","FT","FTA","FT%","ORB","DRB","TRB","AST","STL","BLK","TOV","PF","PTS"]
[1,"Kemba Walker",22,16,16,36.4,6.1,15.1,0.40100000000000002,0.8,3.1,0.26500000000000001,3.7,4.5999999999999996,0.79700000000000004,0.8,3.1,3.9,5.9,2.1,0.5,2.4,2.1,16.600000000000001]
[2,"Ramon Sessions",26,16,0,29,4.9000000000000004,13,0.38,0.4,2.2000000000000002,0.2,5.3,6.5,0.81699999999999995,0.6,3.2,3.8,4.7,0.9,0,2.1,1.4,15.6]
[3,"Ben Gordon",29,14,0,25.3,5.2,11.6,0.45100000000000001,2.5,5.0999999999999996,0.48599999999999999,2.1,2.4,0.85299999999999998,0.4,1.9,2.2999999999999998,2.9,0.6,0.4,2.1,2,15]
[4,"Byron Mullens",23,16,16,33.6,4.8,12.9,0.374,1.5,5.3,0.28599999999999998,1.8,2.2999999999999998,0.75700000000000001,1.6,6.8,8.4,1.2,1.1000000000000001,0.8,1.3,2.6,12.9]
[5,"Michael Kidd-Gilchrist",19,16,16,27.2,4.0999999999999996,8.9,0.45800000000000002,0.1,0.1,0.5,2.6,3.3,0.77400000000000002,1.9,4.4000000000000004,6.3,1.6,1.1000000000000001,1.4,1.4,2.4,10.8]
[6,"Gerald Henderson",25,3,2,23.7,3.3,9,0.37,1,2,0.5,2.2999999999999998,2.7,0.875,0.7,1,1.7,1.7,2,0.7,1.3,2.2999999999999998,10]
[7,"Jeff Taylor",23,15,14,24.9,3.1,7,0.438,1,2.6,0.38500000000000001,1.1000000000000001,1.5,0.77300000000000002,1,1.4,2.4,0.9,1.2,0.3,0.9,2.2999999999999998,8.3000000000000007]
[8,"Tyrus Thomas",26,8,0,17.8,2.2999999999999998,6.6,0.34,0,0,null,2.1,2.5,0.85,1,2.1,3.1,1,0.5,1.4,0.9,3,6.6]
[9,"Brendan Haywood",33,15,15,27.7,3,5.5,0.54900000000000004,0,0,null,0.5,1.1000000000000001,0.5,2.9,3.9,6.9,0.7,0.1,1.1000000000000001,1.4,2.5,6.5]
[10,"Bismack Biyombo",20,14,1,20.5,1.9,3.4,0.55300000000000005,0,0,null,0.7,1.3,0.55600000000000005,1.6,3.5,5.0999999999999996,0.1,0.3,1.6,1,2.2000000000000002,4.4000000000000004]
[11,"Reggie Williams",26,11,0,10.1,1.6,3.5,0.46200000000000002,0.6,1.8,0.35,0.2,0.2,1,0.4,0.8,1.2,0.5,0.7,0,0.5,0.6,4.0999999999999996]
[12,"Hakim Warrick",30,6,0,10.7,0.3,2.5,0.13300000000000001,0,0,null,1.5,2,0.75,0.5,1.3,1.8,0.2,0.2,0.3,0.5,1,2.2000000000000002]
[13,"Cory Higgins",23,5,0,5.2,0.6,2.6,0.23100000000000001,0.2,0.8,0.25,0,0,null,0,0.4,0.4,0.8,0.4,0,0,0.8,1.4]
[14,"DeSagana Diop",31,8,0,8.8000000000000007,0,0.9,0,0,0,null,0,0,null,0.4,1.5,1.9,0.3,0.3,0.5,0.1,0.6,0]
[15,"Matt Carroll",32,1,0,6,0,0,null,0,0,null,0,0,null,0,0,0,1,0,0,0,1,0]
[]
["CHI"]
["Rk","Player","Age","G","GS","MP","FG","FGA","FG%","3P","3PA","3P%","FT","FTA","FT%","ORB","DRB","TRB","AST","STL","BLK","TOV","PF","PTS"]
[1,"Luol Deng",27,15,15,40.700000000000003,6.9,15,0.46200000000000002,0.9,3.1,0.29799999999999999,3.3,4,0.81699999999999995,2.1,5.3,7.4,2.7,0.9,0.3,2.6,1.3,18.100000000000001]
[2,"Richard Hamilton",34,15,15,27.1,5.4,11.9,0.45500000000000002,0.4,1.1000000000000001,0.375,2.7,2.9,0.93,0.4,1.9,2.2999999999999998,2.2999999999999998,0.8,0.1,2.2000000000000002,1.7,13.9]
[3,"Carlos Boozer",31,15,15,29.7,5.9,12.9,0.45400000000000001,0,0,null,1.9,2.7,0.70699999999999996,2.2999999999999998,7.4,9.6999999999999993,1.9,0.7,0.4,2,3,13.7]
[4,"Joakim Noah",27,15,15,39,5,10.6,0.47199999999999998,0,0.1,0,3.3,4.2,0.77800000000000002,3.9,6,9.9,4.3,1.4,2.2000000000000002,2.5,2.9,13.3]
[5,"Nate Robinson",28,15,1,20.9,4.3,9.3000000000000007,0.46800000000000003,1.1000000000000001,2.9,0.36399999999999999,1.5,1.8,0.81499999999999995,0.3,1.8,2.1,3.6,0.9,0,1.7,2.2000000000000002,11.2]
[6,"Taj Gibson",27,15,0,21.1,2.7,6.1,0.44,0,0.1,0,1.7,2.1,0.78100000000000003,1.4,3.5,4.9000000000000004,0.9,0.6,1.3,1.2,2.1,7]
[7,"Kirk Hinrich",32,14,14,27.1,2.1,6.4,0.32200000000000001,0.6,2.2000000000000002,0.28999999999999998,1.4,2.2999999999999998,0.625,0.4,2.2000000000000002,2.6,5.6,0.9,0.3,2,2.6,6.2]
[8,"Jimmy Butler",23,15,0,15.9,1.8,3.4,0.52900000000000003,0.1,0.5,0.14299999999999999,1.7,2.1,0.83899999999999997,1.3,1.2,2.5,0.7,0.5,0.2,0.3,0.9,5.4]
[9,"Marco Belinelli",26,14,0,14.7,1.5,4.0999999999999996,0.36799999999999999,0.8,1.9,0.40699999999999997,1.2,1.4,0.89500000000000002,0,0.9,0.9,0.7,0.4,0.1,0.5,0.9,5]
[10,"Vladimir Radmanovic",32,5,0,3.2,0.6,1.6,0.375,0.2,1.2,0.16700000000000001,0,0,null,0.4,0,0.4,0.2,0,0,0.2,1,1.4]
[11,"Marquis Teague",19,6,0,5.7,0.3,1.3,0.25,0,0.2,0,0.5,0.7,0.75,0,0.7,0.7,1.2,0,0,0.3,1,1.2]
[12,"Nazr Mohammed",35,11,0,6.8,0.2,1.5,0.11799999999999999,0,0,null,0.4,0.7,0.5,0.6,1.3,1.9,0.3,0.2,0.5,0.2,1,0.7]
[]
["CLE"]
["Rk","Player","Age","G","GS","MP","FG","FGA","FG%","3P","3PA","3P%","FT","FTA","FT%","ORB","DRB","TRB","AST","STL","BLK","TOV","PF","PTS"]
[1,"Kyrie Irving",20,10,10,35.200000000000003,8.1999999999999993,17.7,0.46300000000000002,1.8,4.5999999999999996,0.39100000000000001,4.7,5.7,0.82499999999999996,0.5,3.2,3.7,5.6,1.1000000000000001,0.3,4.0999999999999996,2.9,22.9]
[2,"Dion Waiters",21,17,17,32,5.5,15.1,0.36299999999999999,1.9,5.5,0.35499999999999998,2.2999999999999998,2.9,0.78,0.1,2.2000000000000002,2.2999999999999998,3.4,1.2,0.2,1.9,1.7,15.2]
[3,"Anderson Varejao",30,17,17,36.6,6.2,11.8,0.52200000000000002,0,0.2,0,2.9,3.7,0.77800000000000002,6.2,9.1999999999999993,15.4,3.2,1.5,0.4,1.8,2.5,15.2]
[4,"Alonzo Gee",25,18,18,33.1,4.2,10.6,0.39800000000000002,0.9,3.2,0.29799999999999999,2.7,3.2,0.84499999999999997,1.1000000000000001,2.7,3.7,2.1,1.7,0.4,2.4,2.9,12.1]
[5,"Jeremy Pargo",26,11,8,26.2,4.4000000000000004,10.4,0.42099999999999999,1.5,3.6,0.4,1.5,2.2000000000000002,0.70799999999999996,0.5,1.5,1.9,3.8,0.8,0,2.4,2,11.7]
[6,"Tristan Thompson",21,18,18,30.4,3.6,8.1,0.44500000000000001,0,0,null,1.7,2.8,0.58799999999999997,3.5,4.5999999999999996,8.1,1.2,0.8,0.6,1.4,3.1,8.9]
[7,"Daniel Gibson",26,15,0,24.3,2.8,7.2,0.38900000000000001,1.9,4.9000000000000004,0.39200000000000002,0.9,1.2,0.77800000000000002,0.1,1.5,1.7,2.1,1,0.1,0.7,2.9,8.5]
[8,"Tyler Zeller",23,14,0,22.2,2.7,6.1,0.44700000000000001,0,0,null,1.2,2.2000000000000002,0.54800000000000004,1.9,2.9,4.8,0.9,0.4,0.6,1.2,3,6.6]
[9,"Omri Casspi",24,14,1,14.1,2.1,4.5999999999999996,0.44600000000000001,1.3,2.6,0.5,0.9,1.4,0.63200000000000001,0.6,1.9,2.5,0.4,0.6,0.4,0.7,1.1000000000000001,6.3]
[10,"C.J. Miles",25,12,0,15.4,2.2999999999999998,7.4,0.30299999999999999,0.9,3.6,0.25600000000000001,0.3,0.3,1,0.3,1.8,2.1,0.7,0.4,0.1,1.3,1.8,5.8]
[11,"Donald Sloan",25,12,0,10.8,1.3,3.4,0.36599999999999999,0.3,0.9,0.27300000000000002,0.8,1,0.75,0.3,0.8,1.1000000000000001,2,0.1,0,0.7,0.7,3.5]
[12,"Samardo Samuels",24,11,1,11.6,1.3,3.3,0.38900000000000001,0,0,null,0.7,1.3,0.57099999999999995,0.7,1,1.7,0.4,0.2,0.3,0.5,1.5,3.3]
[13,"Jon Leuer",23,5,0,14.4,1.4,4.2,0.33300000000000002,0,0.4,0,0.4,1.2,0.33300000000000002,0.8,1.2,2,0.6,0.2,0,0.8,1.6,3.2]
[14,"Luke Walton",32,5,0,6.4,0.2,1.4,0.14299999999999999,0,0.6,0,0,0,null,0.2,0.4,0.6,0.4,0.4,0,0.6,1,0.4]
[]
["DAL"]
["Rk","Player","Age","G","GS","MP","FG","FGA","FG%","3P","3PA","3P%","FT","FTA","FT%","ORB","DRB","TRB","AST","STL","BLK","TOV","PF","PTS"]
[1,"O.J. Mayo",25,17,17,34.6,7,14.7,0.47599999999999998,2.9,5.5,0.52700000000000002,3.3,3.9,0.84799999999999998,0.7,2.8,3.5,3.2,0.7,0.2,2.4,2.2999999999999998,20.2]
[2,"Chris Kaman",30,15,9,27.1,5.8,11.2,0.51800000000000002,0,0.1,0,2,2.5,0.81100000000000005,1.7,5.3,6.9,1,0.2,1.1000000000000001,2.1,2.7,13.6]
[3,"Vince Carter",36,17,0,23.4,4.5999999999999996,10.8,0.42599999999999999,2.2999999999999998,5.4,0.42399999999999999,1.6,2.1,0.75,0.5,2.6,3.1,1.7,0.8,0.5,1.1000000000000001,3.1,13.1]
[4,"Darren Collison",25,16,14,32.299999999999997,4.5,10.3,0.436,0.4,1.3,0.33300000000000002,2.9,3.3,0.88700000000000001,0.2,2.1,2.2999999999999998,6.4,1.4,0,2.4,1.6,12.4]
[5,"Shawn Marion",34,12,12,28.9,3.8,7.8,0.48399999999999999,0.4,1.1000000000000001,0.38500000000000001,1.3,1.4,0.88200000000000001,1.4,6,7.4,2.8,0.8,0.7,2.2999999999999998,1.4,9.1999999999999993]
[6,"Brandan Wright",25,12,9,17.399999999999999,3.7,5.7,0.64700000000000002,0,0,null,1.2,1.8,0.63600000000000001,0.8,2.5,3.3,0.8,0.5,0.9,0.7,1,8.5]
[7,"Elton Brand",33,16,12,22.4,2.6,6.6,0.39,0,0.1,0,1.8,2.2000000000000002,0.8,2.2000000000000002,4.2,6.4,1.6,0.8,1.4,1,2.9,6.9]
[8,"Jae Crowder",22,16,7,20.100000000000001,2.6,6.1,0.42299999999999999,1.1000000000000001,3.4,0.32700000000000001,0.5,1.1000000000000001,0.47099999999999997,0.1,2.6,2.7,1.2,1.1000000000000001,0.3,0.8,2.1,6.8]
[9,"Troy Murphy",32,14,1,18.3,1.6,4.4000000000000004,0.36099999999999999,0.8,2.5,0.314,0.7,0.8,0.90900000000000003,0.5,3,3.5,0.5,0.7,0.4,0.5,2.1,4.5999999999999996]
[10,"Eddy Curry",30,2,0,12.5,2,4,0.5,0,0,null,0.5,2,0.25,1,1,2,0,0,0,1.5,3.5,4.5]
[11,"Rodrigue Beaubois",24,10,0,16.2,1.6,5.0999999999999996,0.314,0.5,1.9,0.26300000000000001,0.8,1,0.8,0.2,1.6,1.8,2.7,0.7,0.1,0.9,1.8,4.5]
[12,"Bernard James",27,13,0,12.5,1.5,3.1,0.5,0,0.1,0,1.2,1.7,0.68200000000000005,1.4,2.4,3.8,0,0.2,0.9,0.5,1.2,4.2]
[13,"Dominique Jones",24,12,2,12.5,1.6,4.8,0.33300000000000002,0,0.6,0,1,2,0.5,0.9,1.2,2.1,3.6,0.8,0.1,1.5,1.3,4.2]
[14,"Dahntay Jones",32,17,1,10.9,0.7,2.2000000000000002,0.316,0.2,0.6,0.27300000000000002,1.2,1.4,0.83299999999999996,0.3,1.2,1.5,0.4,0.2,0.1,0.4,1.5,2.8]
[15,"Derek Fisher",38,1,1,24,1,8,0.125,0,1,0,0,0,null,0,2,2,3,2,0,3,2,2]
[16,"Jared Cunningham",21,6,0,3.3,0.7,1.8,0.36399999999999999,0.3,0.5,0.66700000000000004,0,0,null,0.2,0.2,0.3,0.2,0.2,0,0.2,0.3,1.7]
[]
["DEN"]
["Rk","Player","Age","G","GS","MP","FG","FGA","FG%","3P","3PA","3P%","FT","FTA","FT%","ORB","DRB","TRB","AST","STL","BLK","TOV","PF","PTS"]
[1,"Danilo Gallinari",24,17,17,33.5,5.2,13.6,0.38500000000000001,1.6,5.5,0.28999999999999998,3.5,4.4000000000000004,0.78700000000000003,1,5.0999999999999996,6.1,2.4,0.6,0.6,1.6,2.2999999999999998,15.5]
[2,"Andre Iguodala",29,18,18,35.200000000000003,5.7,12.4,0.45700000000000002,1.4,3.7,0.38800000000000001,2.2000000000000002,3.2,0.68400000000000005,0.9,4.5999999999999996,5.5,3.8,1.1000000000000001,0.7,2.7,1.4,14.9]
[3,"Ty Lawson",25,18,18,36.1,5.3,13.2,0.40300000000000002,0.8,2.8,0.28000000000000003,1.9,3.3,0.59299999999999997,0.9,1.8,2.7,7.2,1.9,0.1,3.3,1.6,13.4]
[4,"Kenneth Faried",23,18,18,30.6,5.3,9.5,0.56100000000000005,0,0,null,2.6,4.4000000000000004,0.58199999999999996,4.8,5.7,10.5,0.7,0.9,1.1000000000000001,1.4,3.1,13.2]
[5,"JaVale McGee",25,18,0,19.100000000000001,4.5,8.1,0.55500000000000005,0,0,null,1.8,2.8,0.627,2.6,3.1,5.7,0.6,0.2,1.8,1.2,1.8,10.8]
[6,"Corey Brewer",26,18,0,22.8,3.9,9.6,0.41299999999999998,1.5,3.9,0.38,1.1000000000000001,1.6,0.69,0.6,2.4,3.1,0.7,1.4,0.3,1.1000000000000001,1.8,10.5]
[7,"Andre Miller",36,18,0,25,3.1,6.6,0.47099999999999997,0.2,0.8,0.26700000000000002,1.9,2.2999999999999998,0.85399999999999998,0.8,2,2.8,5.0999999999999996,0.8,0.2,2.4,1.8,8.4]
[8,"Jordan Hamilton",22,12,1,12.3,2.5,5.8,0.42899999999999999,0.9,2.2999999999999998,0.40699999999999997,0.6,0.9,0.63600000000000001,0.9,2,2.9,0.8,0.3,0.2,0.7,1,6.5]
[9,"Wilson Chandler",25,4,0,17.3,2.5,8,0.313,0.5,2,0.25,1,2,0.5,1.5,3.5,5,0,0,0.3,1.3,2.5,6.5]
[10,"Kosta Koufos",23,18,18,21.6,2.8,5.3,0.52100000000000002,0,0.1,0,0.8,1.4,0.53800000000000003,2.2000000000000002,3.8,5.9,0.5,0.6,1.6,0.7,3.3,6.3]
[11,"Evan Fournier",20,7,0,8.1,1.4,2.7,0.52600000000000002,0.4,1.6,0.27300000000000002,0.1,0.3,0.5,0.1,0.3,0.4,0.9,0,0,1,0.9,3.4]
[12,"Timofey Mozgov",26,7,0,11.6,1.3,2.1,0.6,0,0,null,0.6,0.6,1,1.6,1.7,3.3,0.3,0.3,0.6,0.7,2.4,3.1]
[13,"Anthony Randolph",23,3,0,6,0.3,1,0.33300000000000002,0,0,null,0,0,null,0.7,0.3,1,1,0,0.3,0.3,0.7,0.7]
[]
["DET"]
["Rk","Player","Age","G","GS","MP","FG","FGA","FG%","3P","3PA","3P%","FT","FTA","FT%","ORB","DRB","TRB","AST","STL","BLK","TOV","PF","PTS"]
[1,"Greg Monroe",22,19,19,33.299999999999997,6.3,13.5,0.46300000000000002,0,0,null,3.2,4.5,0.69799999999999995,2.6,7.3,9.9,3.5,1.7,0.8,3.3,2.6,15.7]
[2,"Brandon Knight",21,19,19,31.3,4.5,10.7,0.42199999999999999,1.6,4,0.40799999999999997,2.8,3.5,0.79100000000000004,0.3,3.3,3.6,5.3,0.5,0.1,3.4,2.2999999999999998,13.5]
[3,"Tayshaun Prince",32,19,19,32.5,5,10.9,0.45900000000000002,0.5,1.1000000000000001,0.42899999999999999,1.8,2.2000000000000002,0.81,0.8,3.4,4.2,2.4,0.5,0.3,1.1000000000000001,0.8,12.3]
[4,"Kyle Singler",24,19,11,27.3,3.7,7.4,0.504,1.2,2.6,0.44900000000000001,1.6,2.1,0.77500000000000002,0.9,2.7,3.6,1,0.5,0.6,1,3.1,10.3]
[5,"Rodney Stuckey",26,18,8,28.1,3.2,9.3000000000000007,0.34699999999999998,0.5,2.5,0.2,2.6,3.3,0.79700000000000004,0.7,2.2999999999999998,3,3.7,0.3,0.3,1.3,1.3,9.6]
[6,"Jason Maxiell",29,19,19,26.9,3.6,7.1,0.51100000000000001,0,0,null,1.6,2.4,0.68899999999999995,1.7,4.7,6.5,0.7,0.4,1.6,1.4,2.4,8.9]
[7,"Charlie Villanueva",28,9,0,12.9,2.6,6.3,0.40400000000000003,1.3,3.7,0.36399999999999999,0.2,1,0.222,0.4,2.1,2.6,0.9,0.4,0.3,0.4,1,6.7]
[8,"Andre Drummond",19,19,0,16.899999999999999,2.6,4.7,0.55100000000000005,0.1,0.1,0.5,0.7,1.8,0.38200000000000001,2.8,3.4,6.2,0.5,0.8,1.3,0.8,1.9,5.9]
[9,"Jonas Jerebko",25,13,0,17,2.2000000000000002,6,0.35899999999999999,0.4,1.9,0.2,1.1000000000000001,1.5,0.73699999999999999,1.5,1.4,2.9,0.5,0.9,0.2,0.7,2,5.8]
[10,"Will Bynum",30,16,0,14.6,2.1,5.7,0.374,0.1,0.6,0.2,1.2,1.3,0.90500000000000003,0.1,0.8,0.9,2.5,0.6,0.1,1.2,1.9,5.6]
[11,"Corey Maggette",33,11,0,14.5,1.6,4.3,0.38300000000000001,0.5,1.3,0.35699999999999998,1.7,2.1,0.82599999999999996,0.1,0.9,1,1.4,0.4,0.1,1.3,2.5,5.5]
[12,"Kim English",24,10,0,9.1999999999999993,1.1000000000000001,2.9,0.379,0.8,1.6,0.5,0.2,0.2,1,0.1,0.4,0.5,0.7,0.3,0.2,0.4,0.9,3.2]
[13,"Austin Daye",24,5,0,4.4000000000000004,1,1.8,0.55600000000000005,0.4,0.6,0.66700000000000004,0,0,null,0,1,1,0.4,0,0,0.2,0.2,2.4]
[14,"Khris Middleton",21,3,0,4,0.3,1,0.33300000000000002,0,0,null,0.7,1,0.66700000000000004,0,0,0,0.7,0.7,0,0,0.7,1.3]
[]
["GSW"]
["Rk","Player","Age","G","GS","MP","FG","FGA","FG%","3P","3PA","3P%","FT","FTA","FT%","ORB","DRB","TRB","AST","STL","BLK","TOV","PF","PTS"]
[1,"Stephen Curry",24,17,17,37.1,6.5,15.5,0.41799999999999998,2.5,6.1,0.41299999999999998,3.5,3.9,0.89400000000000002,0.6,3.4,3.9,6.4,1.6,0.1,3.2,2.9,18.899999999999999]
[2,"David Lee",29,17,17,37.5,7.2,14.8,0.49,0,0.1,0,2.9,3.8,0.76900000000000002,2.7,8,10.7,3.8,1.1000000000000001,0.3,2.6,3.6,17.399999999999999]
[3,"Klay Thompson",22,17,17,35.1,5.8,15.4,0.375,2.2000000000000002,6.8,0.32200000000000001,1.6,2.1,0.8,0.5,3.5,4.0999999999999996,2.2000000000000002,0.4,0.4,2.2000000000000002,2.6,15.4]
[4,"Carl Landry",29,17,0,26.6,5.0999999999999996,8.9,0.56999999999999995,0,0.1,0,3.9,4.9000000000000004,0.79500000000000004,3.1,4,7.1,1.1000000000000001,0.3,0.5,1.8,2.9,14]
[5,"Jarrett Jack",29,17,0,25.2,3.9,8,0.48499999999999999,0.7,1.9,0.375,1.5,1.8,0.86699999999999999,0.1,2.9,3,4.5,0.8,0,1.8,2,10]
[6,"Harrison Barnes",20,17,17,27.8,3.8,8.1999999999999993,0.46,0.7,2,0.35299999999999998,1.6,2.4,0.65900000000000003,0.8,4,4.8,1.4,0.6,0.2,1.4,2.2000000000000002,9.8000000000000007]
[7,"Brandon Rush",27,2,0,12.5,3,4.5,0.66700000000000004,0,1,0,1,1.5,0.66700000000000004,0,0.5,0.5,1,0,0,1.5,2.5,7]
[8,"Andrew Bogut",28,4,4,18.3,2.8,5,0.55000000000000004,0,0,null,0.5,1,0.5,1,2.8,3.8,2,0.3,1,1,1.5,6]
[9,"Richard Jefferson",32,10,0,15.2,1.5,4.5,0.33300000000000002,0.3,1.8,0.16700000000000001,0.9,1.2,0.75,0.2,1.2,1.4,1.2,0.5,0.3,0.3,1,4.2]
[10,"Festus Ezeli",23,17,13,16.7,1.5,3,0.49,0,0,null,0.6,1.6,0.37,2.2999999999999998,2.4,4.5999999999999996,0.2,0.4,1,0.9,2.1,3.5]
[11,"Draymond Green",22,17,0,11.6,0.8,2.4,0.32500000000000001,0.2,0.9,0.25,0.5,0.6,0.8,0.5,2.1,2.6,0.4,0.5,0.1,0.5,2.1,2.2000000000000002]
[12,"Charles Jenkins",23,14,0,4.0999999999999996,0.8,1.3,0.61099999999999999,0,0,null,0.4,0.6,0.625,0.1,0.4,0.4,0.3,0.1,0,0.5,0.3,1.9]
[13,"Jeremy Tyler",21,5,0,2,0.6,1,0.6,0,0,null,0.4,0.4,1,0.2,0,0.2,0,0.2,0,0.2,0,1.6]
[14,"Andris Biedrins",26,14,0,9.5,0.2,0.6,0.375,0,0,null,0.1,0.4,0.33300000000000002,0.6,2.1,2.7,0.4,0.4,0.5,0.6,1.6,0.6]
[15,"Kent Bazemore",23,7,0,1.4,0,0.9,0,0,0,null,0,0,null,0.1,0.1,0.3,0.1,0.3,0.3,0,0,0]
[]
["HOU"]
["Rk","Player","Age","G","GS","MP","FG","FGA","FG%","3P","3PA","3P%","FT","FTA","FT%","ORB","DRB","TRB","AST","STL","BLK","TOV","PF","PTS"]
[1,"James Harden",23,16,16,38.799999999999997,7.3,17.100000000000001,0.42699999999999999,1.9,5.7,0.34100000000000003,7.6,9.1,0.83399999999999996,0.8,3.3,4.0999999999999996,5.4,1.7,0.6,4.0999999999999996,2.2000000000000002,24.1]
[2,"Chandler Parsons",24,15,15,38.200000000000003,5.9,12.1,0.48399999999999999,2.4,5.6,0.42899999999999999,1.8,2.2999999999999998,0.77100000000000002,1.2,5.5,6.7,3.5,1.1000000000000001,0.2,2.1,2,15.9]
[3,"Patrick Patterson",23,15,15,30.1,6.3,12.4,0.51100000000000001,0.8,2.1,0.375,1.1000000000000001,1.5,0.77300000000000002,2,3.3,5.3,1,0.6,0.6,1.2,2,14.6]
[4,"Omer Asik",26,16,16,32.799999999999997,4.2,8.4,0.496,0,0,null,2.6,4.5,0.58299999999999996,3.8,8.5,12.3,1.3,0.8,1.3,3,2.6,11]
[5,"Jeremy Lin",24,16,16,34.4,4.0999999999999996,10.5,0.39300000000000002,0.7,2.6,0.26200000000000001,1.9,2.4,0.81599999999999995,0.7,3.7,4.4000000000000004,6.6,2,0.4,2.9,2.2999999999999998,10.9]
[6,"Marcus Morris",23,16,1,20.7,3.4,7.5,0.45,1.2,3.1,0.38800000000000001,0.8,1.3,0.6,1.6,2.6,4.2,0.8,0.5,0.5,0.7,2.6,8.6999999999999993]
[7,"Carlos Delfino",30,9,0,22.9,3,8.1,0.37,2,5.8,0.34599999999999997,0.7,0.9,0.75,0.2,3.8,4,2,1,0.1,1.1000000000000001,1.2,8.6999999999999993]
[8,"Greg Smith",22,11,0,12.2,2,3.5,0.57899999999999996,0,0,null,1.8,2.2999999999999998,0.8,1.8,1.7,3.5,0.7,0.3,0.4,0.3,2.4,5.8]
[9,"Toney Douglas",26,15,0,15.5,1.6,5.3,0.30399999999999999,0.8,2.4,0.33300000000000002,1.7,1.7,1,0.4,0.8,1.2,1.7,0.9,0,1.5,1.7,5.7]
[10,"Daequan Cook",25,8,1,13.9,2,5.3,0.38100000000000001,1.1000000000000001,2.9,0.39100000000000001,0.1,0.3,0.5,0.5,1.1000000000000001,1.6,1,0.5,0.3,0.4,1.4,5.3]
[11,"Terrence Jones",21,7,0,10.4,1.3,3.9,0.33300000000000002,0.1,0.7,0.2,0.9,0.9,1,0.9,1.1000000000000001,2,0.4,0.4,0.6,0.3,0.4,3.6]
[12,"Cole Aldrich",24,8,0,8.6,1.4,2.6,0.52400000000000002,0,0,null,0.3,0.4,0.66700000000000004,0.8,1.4,2.1,0.3,0.1,0.3,0.3,1.8,3]
[13,"Scott Machado",22,1,0,3,0,0,null,0,0,null,2,2,1,0,0,0,1,0,0,0,0,2]
[14,"Donatas Motiejunas",22,3,0,3,0.3,0.7,0.5,0,0,null,0.3,0.7,0.5,0,0.3,0.3,0,0,0,0,0.7,1]
[]
["IND"]
["Rk","Player","Age","G","GS","MP","FG","FGA","FG%","3P","3PA","3P%","FT","FTA","FT%","ORB","DRB","TRB","AST","STL","BLK","TOV","PF","PTS"]
[1,"David West",32,17,17,34.299999999999997,7.2,14.7,0.49199999999999999,0,0.2,0,3.3,4.4000000000000004,0.75700000000000001,2,6.3,8.3000000000000007,2.5,0.6,1.2,1.8,1.8,17.8]
[2,"George Hill",26,17,17,35.200000000000003,5.2,12.4,0.42399999999999999,1.5,4.5,0.32500000000000001,2.8,3.4,0.84199999999999997,0.6,3.4,4.0999999999999996,5.3,0.9,0.4,1.8,1.9,14.8]
[3,"Paul George",22,17,17,34.700000000000003,5,13,0.38500000000000001,1.9,5.3,0.36699999999999999,1.5,1.9,0.78800000000000003,0.9,5.6,6.5,3.4,1.2,0.6,2.5,2.6,13.5]
[4,"Roy Hibbert",26,17,17,29.1,4.2,10.7,0.39,0,0.1,0,1.4,2.4,0.57499999999999996,4,4.2,8.1999999999999993,1.4,0.7,3.1,1.9,3.7,9.6999999999999993]
[5,"Gerald Green",27,17,3,22.8,2.8,7.5,0.375,1.1000000000000001,3.1,0.36499999999999999,1,1.4,0.73899999999999999,1,3.1,4.0999999999999996,0.5,0.2,0.4,1.1000000000000001,1.2,7.8]
[6,"Lance Stephenson",22,17,11,24.9,2.9,6.1,0.48099999999999998,0.9,2.2999999999999998,0.41,0.4,0.5,0.75,0.2,2.7,2.9,2.5,0.6,0.1,1.5,1.7,7.2]
[7,"Tyler Hansbrough",27,17,0,17.399999999999999,1.6,4.3,0.38400000000000001,0,0.1,0,3.2,4.4000000000000004,0.72,1.7,3,4.7,0.2,0.4,0.2,0.8,1.7,6.5]
[8,"Sam Young",27,15,3,17.100000000000001,2,4.9000000000000004,0.40500000000000003,0.6,2.1,0.28100000000000003,0.4,1,0.4,0.7,2.8,3.5,0.9,0.5,0.1,1.1000000000000001,1.3,5]
[9,"Ian Mahinmi",26,17,0,14.8,1.4,3.6,0.39300000000000002,0,0.1,0,1.9,2.8,0.66700000000000004,1.4,2.2000000000000002,3.6,0.2,0.3,1.1000000000000001,1.2,2.2999999999999998,4.7]
[10,"Jeff Pendergraph",25,3,0,4,1.7,2.2999999999999998,0.71399999999999997,0,0,null,0.3,0.3,1,1,1.3,2.2999999999999998,0.3,0,0.3,0.7,0.3,3.7]
[11,"D.J. Augustin",25,17,0,13.4,1.1000000000000001,4.0999999999999996,0.27100000000000002,0.6,2.5,0.23799999999999999,0.7,0.9,0.8,0.1,1,1.1000000000000001,2.4,0.6,0.1,0.9,0.8,3.5]
[12,"Ben Hansbrough",25,3,0,4.3,0.7,1,0.66700000000000004,0,0.3,0,0,0,null,0,0.3,0.3,1.3,0.3,0,1,0.7,1.3]
[13,"Miles Plumlee",24,4,0,4,0.3,1.3,0.2,0,0,null,0.5,0.5,1,0.8,0.5,1.3,0.3,0,0.5,0,0.3,1]
[14,"Orlando Johnson",23,2,0,3,0,0.5,0,0,0,null,0,0,null,0,0.5,0.5,0,0,0,1,0,0]
[]
["LAC"]
["Rk","Player","Age","G","GS","MP","FG","FGA","FG%","3P","3PA","3P%","FT","FTA","FT%","ORB","DRB","TRB","AST","STL","BLK","TOV","PF","PTS"]
[1,"Jamal Crawford",32,17,0,28.9,5.8,12.9,0.44500000000000001,2.1,5.2,0.39800000000000002,4.0999999999999996,4.3,0.94499999999999995,0.1,1.7,1.8,1.7,1.1000000000000001,0.1,1.8,1.1000000000000001,17.600000000000001]
[2,"Blake Griffin",23,17,17,33.200000000000003,7.2,14,0.51300000000000001,0,0.2,0,3.1,5,0.624,1.6,7.3,8.9,3.1,1.2,0.6,2.6,3.2,17.5]
[3,"Chris Paul",27,17,17,34.200000000000003,5.7,11.8,0.48299999999999998,0.9,2.9,0.32,3.9,4.4000000000000004,0.89200000000000002,0.6,3.1,3.6,9.3000000000000007,2.6,0,2.2999999999999998,2.6,16.2]
[4,"DeAndre Jordan",24,17,17,26,4.4000000000000004,7.4,0.59199999999999997,0,0,null,1.4,3,0.45100000000000001,2.8,4,6.8,0.3,0.8,2,1.5,2.8,10.1]
[5,"Eric Bledsoe",23,17,0,18.5,3.9,7.8,0.496,0.4,1,0.35299999999999998,1.8,2.2999999999999998,0.79500000000000004,1.2,1.5,2.7,2.6,1.4,0.6,1.8,1.5,9.9]
[6,"Caron Butler",32,16,16,24.6,3.8,8.9,0.42,1.8,4,0.438,0.4,0.6,0.7,0.5,1.9,2.4,1,0.5,0.3,0.9,1.9,9.6999999999999993]
[7,"Matt Barnes",32,16,1,25.4,3.1,7.1,0.442,0.8,3.1,0.26,1.3,1.7,0.74099999999999999,1.5,3.8,5.3,1.2,1.3,0.8,1.3,2.9,8.3000000000000007]
[8,"Chauncey Billups",36,3,3,20,1.7,5,0.33300000000000002,1.3,3.7,0.36399999999999999,2.7,3,0.88900000000000001,0,1,1,2.2999999999999998,0.7,0,1.3,0.7,7.3]
[9,"Willie Green",31,14,14,18.399999999999999,2.5,5.2,0.47899999999999998,1.1000000000000001,2.4,0.441,0.3,0.4,0.66700000000000004,0.2,1.1000000000000001,1.4,1.1000000000000001,0.3,0.4,0.6,1.6,6.4]
[10,"Ryan Hollins",28,16,0,13.3,0.9,1.4,0.63600000000000001,0,0,null,1,1.2,0.84199999999999997,0.9,1.6,2.4,0.1,0.3,0.8,0.9,3.1,2.8]
[11,"Lamar Odom",33,17,0,13.8,1,3.4,0.29799999999999999,0.1,0.9,0.125,0.1,0.2,0.33300000000000002,0.7,2.6,3.3,1,0.6,0.4,0.7,1.6,2.2000000000000002]
[12,"Ronny Turiaf",30,15,0,9.9,0.5,0.7,0.72699999999999998,0,0,null,0.4,0.5,0.75,0.5,1.5,2.1,0.5,0.5,0.7,0.3,1.1000000000000001,1.5]
[]
["LAL"]
["Rk","Player","Age","G","GS","MP","FG","FGA","FG%","3P","3PA","3P%","FT","FTA","FT%","ORB","DRB","TRB","AST","STL","BLK","TOV","PF","PTS"]
[1,"Kobe Bryant",34,17,17,37.1,9.1,18.600000000000001,0.48899999999999999,1.9,4.8,0.39500000000000002,7.2,8.1999999999999993,0.878,0.7,4.5,5.2,5.0999999999999996,1.5,0,4,2.9,27.3]
[2,"Dwight Howard",27,17,17,36.200000000000003,6.8,11.3,0.59899999999999998,0.1,0.1,1,5.0999999999999996,11,0.46500000000000002,3.6,7.6,11.3,1.7,1.2,2.6,3.1,3.7,18.7]
[3,"Metta World Peace",33,17,17,35.6,4.4000000000000004,10.6,0.40899999999999997,2.4,6.2,0.38100000000000001,2.2000000000000002,2.8,0.77100000000000002,1,4.4000000000000004,5.4,2.2999999999999998,1.6,0.3,1.8,2.4,13.2]
[4,"Pau Gasol",32,17,17,34.799999999999997,4.9000000000000004,11.8,0.42,0.1,0.4,0.28599999999999998,2.6,3.4,0.75900000000000001,2.5,6.4,8.8000000000000007,3.5,0.5,1.2,1.8,1.9,12.6]
[5,"Antawn Jamison",36,17,0,18.899999999999999,2.8,5.9,0.48,0.9,2.9,0.30599999999999999,0.9,1.3,0.68200000000000005,1.1000000000000001,3.5,4.5999999999999996,0.6,0.5,0.4,0.8,1.3,7.4]
[6,"Darius Morris",22,15,10,22.3,2.1,5.7,0.372,0.7,1.9,0.379,0.9,1.5,0.56499999999999995,0.9,0.9,1.7,2.5,0.9,0.1,1.7,1.5,5.9]
[7,"Jordan Hill",25,16,0,14.5,2,4.4000000000000004,0.45100000000000001,0,0.1,0,1.5,2.4,0.61499999999999999,2.5,2.1,4.5999999999999996,0.4,0.3,0.4,1.1000000000000001,1.7,5.5]
[8,"Jodie Meeks",25,15,0,11.7,1.9,4.8,0.40300000000000002,1.4,3.4,0.41199999999999998,0.1,0.1,1,0.1,1.2,1.3,0.9,0.3,0,0.9,0.8,5.4]
[9,"Steve Blake",32,7,5,26,1.7,4.9000000000000004,0.35299999999999998,1.1000000000000001,2.9,0.4,0.6,0.6,1,0.4,2,2.4,3.4,1.3,0,1.3,2.2999999999999998,5.0999999999999996]
[10,"Steve Nash",38,2,2,25,2,6,0.33300000000000002,0.5,2.5,0.2,0,0,null,0,3,3,4,0.5,0.5,1.5,1,4.5]
[11,"Devin Ebanks",23,6,0,9.6999999999999993,1.2,3.5,0.33300000000000002,0.3,1.2,0.28599999999999998,0.5,0.7,0.75,1,1,2,0.8,0,0.2,0.7,1.3,3.2]
[12,"Chris Duhon",30,13,0,19,1.1000000000000001,2.5,0.42399999999999999,0.7,1.7,0.40899999999999997,0.2,0.3,0.5,0.2,1.2,1.4,2.8,0.5,0,0.6,1.8,3]
[13,"Earl Clark",25,4,0,2.2999999999999998,0.3,0.8,0.33300000000000002,0,0,null,0.3,0.5,0.5,0,0.5,0.5,0,0,0.3,0,1,0.8]
[14,"Robert Sacre",23,8,0,2.4,0.1,0.5,0.25,0,0,null,0,0,null,0,0.3,0.3,0.1,0,0.3,0.3,1,0.3]
[15,"Darius Johnson-Odom",23,4,0,1.5,0,1,0,0,0.3,0,0,0,null,0.3,0.8,1,0.3,0,0,0,0,0]
[]
["MEM"]
["Rk","Player","Age","G","GS","MP","FG","FGA","FG%","3P","3PA","3P%","FT","FTA","FT%","ORB","DRB","TRB","AST","STL","BLK","TOV","PF","PTS"]
[1,"Rudy Gay",26,15,15,36.6,7.2,17.100000000000001,0.42199999999999999,1.3,3.2,0.39600000000000002,3.2,4.0999999999999996,0.78700000000000003,1.5,4.4000000000000004,5.9,2.2999999999999998,1.4,0.9,2.4,2.2000000000000002,18.899999999999999]
[2,"Zach Randolph",31,15,15,36.299999999999997,6.3,13.6,0.46600000000000003,0,0.2,0,3.7,4.9000000000000004,0.753,4.9000000000000004,7.9,12.7,1.5,0.7,0.5,2.4,2.5,16.3]
[3,"Marc Gasol",28,15,15,36.5,5.6,11.1,0.503,0,0.1,0,4.7,5.2,0.89700000000000002,2.2000000000000002,4.9000000000000004,7.1,4.4000000000000004,0.7,1.4,1.5,3.3,15.9]
[4,"Mike Conley",25,14,14,34,5.4,10.8,0.497,1.8,3.9,0.46300000000000002,2.8,3.4,0.83,0.6,2.2000000000000002,2.8,6.7,2.6,0.3,3,2.1,15.3]
[5,"Tony Allen",31,13,13,24.4,2.9,7.7,0.38,0,0.5,0,2.2000000000000002,2.5,0.84799999999999998,0.8,2.7,3.5,0.6,2,0.6,1,2.8,8]
[6,"Jerryd Bayless",24,15,1,17.5,2.6,6.1,0.42399999999999999,0.7,2.2999999999999998,0.32400000000000001,1.1000000000000001,1.4,0.81,0.1,1.3,1.4,3.1,0.9,0.5,1.5,2.6,7.1]
[7,"Marreese Speights",25,15,0,16.5,2.5,6.4,0.39600000000000002,0.1,0.1,1,1.6,2.1,0.77400000000000002,1.9,3.4,5.3,0.6,0.3,0.9,1,2.7,6.7]
[8,"Darrell Arthur",24,4,0,14,3,5.5,0.54500000000000004,0,0,null,0.3,0.3,1,1,0.8,1.8,0.5,0,0.5,0.5,1.3,6.3]
[9,"Quincy Pondexter",24,15,0,23.1,2.1,5.3,0.40500000000000003,1.1000000000000001,2.8,0.38100000000000001,0.5,0.8,0.66700000000000004,0.5,1.4,1.9,1.5,0.9,0.1,0.5,1.6,5.9]
[10,"Wayne Ellington",25,15,2,16.5,1.9,5.0999999999999996,0.36799999999999999,0.9,2.6,0.33300000000000002,0.3,0.4,0.83299999999999996,0.2,1,1.2,1.2,0.4,0.1,0.3,1.1000000000000001,4.9000000000000004]
[11,"Hamed Haddadi",27,2,0,5,0.5,1,0.5,0,0,null,0,0,null,0,0,0,0,0,0,0.5,0.5,1]
[12,"Josh Selby",21,5,0,3,0,1,0,0,0.2,0,0,0,null,0,0.2,0.2,0.4,0.2,0,0.6,1,0]
[13,"Tony Wroten",19,3,0,2.7,0,1.3,0,0,0,null,0,0,null,0.3,0,0.3,0,0.3,0,0,0.3,0]
[]
["MIA"]
["Rk","Player","Age","G","GS","MP","FG","FGA","FG%","3P","3PA","3P%","FT","FTA","FT%","ORB","DRB","TRB","AST","STL","BLK","TOV","PF","PTS"]
[1,"LeBron James",28,15,15,37.299999999999997,9.6999999999999993,18.3,0.53300000000000003,1.4,3.2,0.438,3.9,5.9,0.65900000000000003,1.5,7.3,8.9,6.5,1.1000000000000001,0.9,2.5,1.9,24.7]
[2,"Dwyane Wade",31,12,12,33.799999999999997,7.7,15.7,0.48899999999999999,0.2,0.8,0.222,4,5.3,0.76200000000000001,1.1000000000000001,3,4.0999999999999996,4.9000000000000004,1.3,0.8,2.2999999999999998,1.8,19.5]
[3,"Chris Bosh",28,15,15,33.700000000000003,6.9,12.6,0.55000000000000004,0.1,0.8,0.16700000000000001,5.3,6.1,0.86799999999999999,2.2999999999999998,5.6,7.9,1.3,0.7,1.4,1.9,2.4,19.3]
[4,"Ray Allen",37,15,0,26.7,4.3,8.4,0.51600000000000001,2,3.8,0.52600000000000002,2.7,3.1,0.85099999999999998,0.6,2.4,3,2.1,1.1000000000000001,0.1,1.2,2.2000000000000002,13.3]
[5,"Shane Battier",34,13,13,26.5,2.2999999999999998,5.2,0.44800000000000001,2.1,4.5,0.45800000000000002,0.3,0.5,0.66700000000000004,0.5,2,2.5,0.8,0.6,1,0.8,2.5,7]
[6,"Mario Chalmers",26,15,15,25.9,2.5,6.3,0.40400000000000003,0.8,2.4,0.33300000000000002,0.9,1.4,0.66700000000000004,0.2,2.6,2.8,4.3,1.8,0.2,1.7,2.7,6.8]
[7,"Rashard Lewis",33,13,2,15.9,2.5,4.8,0.51600000000000001,1.2,2.5,0.5,0.3,0.6,0.5,0.3,1.7,2,0.5,0.5,0.1,0.8,1.8,6.5]
[8,"Norris Cole",24,14,0,19.600000000000001,2,5.4,0.36799999999999999,0.3,1.1000000000000001,0.25,0.8,1,0.78600000000000003,0.4,1.1000000000000001,1.4,2.2999999999999998,0.6,0.1,1.4,2.2999999999999998,5.0999999999999996]
[9,"Udonis Haslem",32,15,0,17.899999999999999,1.7,3.3,0.5,0,0,null,0.4,0.7,0.6,1.2,3.9,5.0999999999999996,0.4,0.3,0.1,1,2.2000000000000002,3.7]
[10,"Mike Miller",32,13,3,14,1.2,2.8,0.44400000000000001,0.8,2.1,0.40699999999999997,0.1,0.1,1,0.4,1.9,2.2999999999999998,1.5,0.4,0,0.4,0.8,3.4]
[11,"James Jones",32,6,0,3.2,0.7,1.5,0.44400000000000001,0.7,1.5,0.44400000000000001,0,0,null,0,0,0,0,0,0,0,0.2,2]
[12,"Josh Harrellson",23,3,0,3.3,0.7,1,0.66700000000000004,0.3,0.3,1,0,0,null,0.7,1,1.7,0,0.3,0,0.3,0.3,1.7]
[13,"Terrel Harris",25,3,0,3.3,0.3,1,0.33300000000000002,0,0,null,0.7,0.7,1,0.7,0.3,1,0,0,0,0.7,0.3,1.3]
[14,"Joel Anthony",30,11,0,4.5,0.3,0.6,0.42899999999999999,0,0,null,0,0,null,0.1,0.5,0.5,0.1,0,0.5,0.3,0.4,0.5]
[15,"Dexter Pittman",24,1,0,1,0,0,null,0,0,null,0,0,null,0,0,0,0,0,0,0,0,0]
[]
["MIL"]
["Rk","Player","Age","G","GS","MP","FG","FGA","FG%","3P","3PA","3P%","FT","FTA","FT%","ORB","DRB","TRB","AST","STL","BLK","TOV","PF","PTS"]
[1,"Monta Ellis",27,16,16,35.1,7.1,17.8,0.40100000000000002,0.8,3.6,0.21099999999999999,3.6,4.3,0.85299999999999998,0.5,2.6,3.1,5.0999999999999996,1.4,0.6,2.8,1.6,18.600000000000001]
[2,"Brandon Jennings",23,16,16,36,6.6,15.8,0.41499999999999998,1.9,5.0999999999999996,0.37,2,2.5,0.8,0.6,2.8,3.4,6.3,2.5,0.3,2.2999999999999998,1.5,17]
[3,"Mike Dunleavy",32,15,0,26.7,3.8,8.5,0.44900000000000001,1.7,3.9,0.42399999999999999,1.5,2.2000000000000002,0.69699999999999995,0.6,4.5,5.0999999999999996,2.4,0.7,0.4,1.1000000000000001,1.7,10.8]
[4,"Beno Udrih",30,13,0,18.8,3.5,7.2,0.47899999999999998,0.5,1.6,0.28599999999999998,0.9,1.2,0.75,0.5,2.2999999999999998,2.8,3.3,0.8,0.2,1.5,1.1000000000000001,8.3000000000000007]
[5,"Larry Sanders",24,16,0,23.1,3.4,6.3,0.55000000000000004,0,0.1,0,1.2,1.9,0.61299999999999999,2.2000000000000002,5.4,7.6,0.8,0.6,3,1.3,4,8.1]
[6,"Luc Mbah a Moute",26,2,0,17,3.5,7.5,0.46700000000000003,0,0.5,0,0.5,1,0.5,4.5,2.5,7,2,0,0,2,1,7.5]
[7,"Tobias Harris",20,15,14,17.3,2.9,5.7,0.50600000000000001,0.4,1.2,0.33300000000000002,1,1.2,0.83299999999999996,0.6,2.4,3,0.7,0.3,0.3,0.9,1.7,7.1]
[8,"Ersan Ilyasova",25,15,11,22.8,2.8,7.9,0.35299999999999998,0.5,2.1,0.219,0.9,1.4,0.61899999999999999,1.3,3.4,4.7,1.5,0.4,0.3,0.6,1.8,6.9]
[9,"Samuel Dalembert",31,13,13,17.2,2.7,4.5,0.60299999999999998,0.1,0.1,1,0.8,0.9,0.83299999999999996,1.7,3.2,4.8,0.7,0.2,1,1.3,1.8,6.2]
[10,"John Henson",22,11,5,13.6,2.6,5.5,0.47499999999999998,0,0.1,0,0.7,1.7,0.42099999999999999,1.9,1.8,3.7,0.5,0.3,0.6,0.6,1.9,6]
[11,"Marquis Daniels",32,12,2,16.100000000000001,2.4,5.8,0.41399999999999998,0.1,1,8.3000000000000004E-2,0.7,0.8,0.88900000000000001,0.5,1.1000000000000001,1.6,1.3,1,0.3,0.8,0.9,5.6]
[12,"Ekpe Udoh",25,16,2,22.2,2.1,4.7,0.45300000000000001,0,0,null,1.3,1.6,0.84,1.5,2.2999999999999998,3.8,0.9,0.6,1.1000000000000001,0.9,2.2999999999999998,5.6]
[13,"Doron Lamb",21,10,0,11.9,1.6,3.7,0.432,0.2,0.7,0.28599999999999998,0.2,0.2,1,0,0.4,0.4,0.9,0.1,0,0.7,1.2,3.6]
[14,"Joel Przybilla",33,6,1,6.3,0.2,0.5,0.33300000000000002,0,0,null,0,0.3,0,0.5,1.5,2,0.5,0.2,0.2,0.3,0.8,0.3]
[]
["MIN"]
["Rk","Player","Age","G","GS","MP","FG","FGA","FG%","3P","3PA","3P%","FT","FTA","FT%","ORB","DRB","TRB","AST","STL","BLK","TOV","PF","PTS"]
[1,"Kevin Love",24,6,6,35.700000000000003,6.7,18,0.37,1.2,6,0.19400000000000001,7.2,10.5,0.68300000000000005,3.8,11.5,15.3,1.7,1.3,0.5,2,2.7,21.7]
[2,"Nikola Pekovic",27,13,13,31.5,5.6,11.5,0.48699999999999999,0,0,null,3.6,4.9000000000000004,0.73399999999999999,3,4.5999999999999996,7.6,1.2,0.8,1,2.2000000000000002,2.8,14.8]
[3,"Andrei Kirilenko",31,13,13,36.4,4.5999999999999996,9.1,0.50800000000000001,0.7,1.8,0.375,3.1,4.3,0.71399999999999997,2.2000000000000002,5.6,7.8,3.3,1.5,1.8,2.6,1.2,13]
[4,"Chase Budinger",24,6,1,23.5,4,8.3000000000000007,0.48,1.2,3.8,0.30399999999999999,2.7,3.3,0.8,0.7,2.8,3.5,1.5,1,0.5,2,1.5,11.8]
[5,"Luke Ridnour",31,15,15,31.8,4.3,9.6999999999999993,0.441,0.9,2.9,0.318,2.1,2.8,0.76200000000000001,0.4,2.5,2.9,4.4000000000000004,1.3,0.3,1.8,2.5,11.6]
[6,"Alexey Shved",24,15,0,24.4,3.4,8.6999999999999993,0.38900000000000001,1.4,4.5,0.313,2.2000000000000002,2.5,0.86799999999999999,0.7,1.9,2.6,3.7,0.6,0.5,1.9,1.5,10.4]
[7,"Derrick Williams",21,12,9,21.1,3.3,8.8000000000000007,0.38100000000000001,0.7,2,0.33300000000000002,2.2000000000000002,2.9,0.74299999999999999,1.3,4.2,5.5,0.7,0.3,1,1.5,1,9.5]
[8,"Jose Barea",28,10,1,21.2,2.9,7.5,0.38700000000000001,0.8,2.9,0.27600000000000002,2,2.2000000000000002,0.90900000000000003,1,2.2000000000000002,3.2,4.4000000000000004,0.5,0,1.8,1.7,8.6]
[9,"Dante Cunningham",25,15,0,22.3,3.6,7.3,0.49099999999999999,0,0,null,0.6,0.8,0.75,1.8,3.2,5,0.6,0.7,0.7,0.5,2.2999999999999998,7.8]
[10,"Josh Howard",32,7,2,17,2.4,6.4,0.378,0.3,1,0.28599999999999998,0.7,0.9,0.83299999999999996,1,2,3,0.6,0.7,0.4,0.7,1.9,5.9]
[11,"Brandon Roy",28,5,5,24.4,2.2000000000000002,7,0.314,0,1.8,0,1.4,2,0.7,0.6,2.2000000000000002,2.8,4.5999999999999996,0.6,0,1.4,1,5.8]
[12,"Malcolm Lee",22,12,8,18,1.8,5,0.36699999999999999,0.4,1.4,0.29399999999999998,0.6,1,0.58299999999999996,1,1.2,2.2000000000000002,1.3,0.6,0.3,0.7,2.2000000000000002,4.7]
[13,"Greg Stiemsma",27,13,2,12.5,1.3,3.7,0.35399999999999998,0,0,null,0.7,1.1000000000000001,0.64300000000000002,0.6,1.7,2.2999999999999998,0.4,0.2,1.1000000000000001,0.8,2.1,3.3]
[14,"Louis Amundson",30,8,0,10,0.3,1.4,0.182,0,0,null,0.4,1.3,0.3,1.1000000000000001,1.3,2.4,0.1,0.6,0.6,0.8,1.5,0.9]
[15,"Will Conroy",30,4,0,5,0,2.2999999999999998,0,0,0.8,0,0.3,0.5,0.5,0.3,0,0.3,0,0,0,0,0.3,0.3]
[]
["NOH"]
["Rk","Player","Age","G","GS","MP","FG","FGA","FG%","3P","3PA","3P%","FT","FTA","FT%","ORB","DRB","TRB","AST","STL","BLK","TOV","PF","PTS"]
[1,"Ryan Anderson",24,16,10,32.799999999999997,6.6,13.9,0.47099999999999997,3.3,7.7,0.42299999999999999,1.1000000000000001,1.3,0.85699999999999998,2.2999999999999998,5.6,7.9,1.4,0.4,0.3,1.1000000000000001,2.6,17.5]
[2,"Anthony Davis",19,6,6,28.3,5.8,11.8,0.49299999999999999,0,0.3,0,4.3,5.2,0.83899999999999997,3.3,5,8.3000000000000007,0.8,1,2.2000000000000002,1.5,1.8,16]
[3,"Greivis Vasquez",26,16,16,32.799999999999997,5,11.8,0.42299999999999999,1.1000000000000001,2.8,0.378,1.9,2.4,0.79500000000000004,0.4,3.3,3.7,8.6999999999999993,0.4,0.1,3.4,2.5,13]
[4,"Robin Lopez",24,16,16,27.5,4.8,8.9,0.53100000000000003,0,0,null,2.2999999999999998,3.1,0.755,2.2999999999999998,3.3,5.6,1.1000000000000001,0.8,1.9,1.4,1.9,11.8]
[5,"Al-Farouq Aminu",22,16,16,31,4.3,8.9,0.48599999999999999,0.1,0.5,0.25,1.3,1.8,0.72399999999999998,1.8,5.4,7.2,2,1.6,0.6,2.6,2.4,10.1]
[6,"Jason Smith",26,16,0,17.3,2.8,6.4,0.42699999999999999,0,0.1,0,2.8,3,0.91700000000000004,1.2,2.4,3.6,0.6,0.3,0.9,1.3,2.2000000000000002,8.3000000000000007]
[7,"Brian Roberts",27,16,0,15.6,3.1,6.5,0.48099999999999998,0.6,1.4,0.39100000000000001,1.1000000000000001,1.2,0.94699999999999995,0.2,0.7,0.9,2.4,0.3,0.1,1,1,7.9]
[8,"Austin Rivers",20,15,9,27.3,2.1,7.2,0.29599999999999999,0.6,1.9,0.32100000000000001,1.5,2.2999999999999998,0.67600000000000005,0.3,2.1,2.4,3,0.7,0.2,1.5,2.2000000000000002,6.4]
[9,"Roger Mason",32,16,6,20.9,1.9,4.9000000000000004,0.38500000000000001,1.1000000000000001,2.9,0.37,0.9,0.9,1,0.1,2,2.1,1.3,0.4,0.1,0.5,1.4,5.7]
[10,"Lance Thomas",24,11,0,12,1.3,2.8,0.45200000000000001,0,0,null,1.8,2.5,0.71399999999999997,1.1000000000000001,1.5,2.5,0.1,0.3,0.2,0.2,1.2,4.4000000000000004]
[11,"Hakim Warrick",30,1,0,7,1,2,0.5,0,0,null,2,2,1,0,0,0,0,1,0,0,0,4]
[12,"Xavier Henry",21,9,0,12.7,1.3,3.9,0.34300000000000003,0.1,0.1,1,0.4,1.1000000000000001,0.4,0.4,1.2,1.7,0.2,0.3,0,0.3,1.3,3.2]
[13,"Darius Miller",22,15,1,14,0.7,1.9,0.379,0.5,1.3,0.42099999999999999,0.2,0.2,1,0.2,1.5,1.7,1.1000000000000001,0.5,0.1,0.3,1.7,2.2000000000000002]
[]
["NYK"]
["Rk","Player","Age","G","GS","MP","FG","FGA","FG%","3P","3PA","3P%","FT","FTA","FT%","ORB","DRB","TRB","AST","STL","BLK","TOV","PF","PTS"]
[1,"Carmelo Anthony",28,16,16,35.5,9.1999999999999993,19.8,0.46400000000000002,2.2999999999999998,5.3,0.435,5.9,7.3,0.80300000000000005,2.1,4.8,6.9,2.1,0.8,0.6,3.1,3.1,26.6]
[2,"Raymond Felton",28,16,16,33.299999999999997,6.2,14.4,0.43,1.8,4.3,0.41199999999999998,1,1.5,0.66700000000000004,0.6,2,2.6,6.8,1.4,0.1,2.4,1.8,15.1]
[3,"J.R. Smith",27,16,0,33.299999999999997,4.9000000000000004,11.8,0.41799999999999998,1.3,2.9,0.45700000000000002,2.4,2.7,0.88400000000000001,0.4,4.7,5.0999999999999996,2.8,1.3,0.4,1.1000000000000001,2.6,13.6]
[4,"Tyson Chandler",30,16,16,29.6,4.5,6.3,0.71299999999999997,0,0,null,3.2,4.0999999999999996,0.78500000000000003,3.8,5.0999999999999996,8.9,0.5,0.6,0.7,0.9,2.9,12.2]
[5,"Steve Novak",29,16,0,23.8,2.8,6.7,0.41099999999999998,2.2999999999999998,5.4,0.43,0.3,0.3,1,0.1,1.7,1.8,0.4,0.6,0.3,0.2,1.4,8.1]
[6,"Jason Kidd",39,12,12,26.1,2.4,4.7,0.51800000000000002,1.8,3.7,0.5,1.3,1.3,1,0.4,2.8,3.3,3.4,2.1,0.5,0.7,1.2,8]
[7,"Rasheed Wallace",38,15,0,14.9,2.7,6.9,0.39800000000000002,1.1000000000000001,3.4,0.314,0.7,0.8,0.83299999999999996,0.4,3.7,4.0999999999999996,0.3,0.6,0.7,0.5,2.1,7.2]
[8,"Ronnie Brewer",27,16,16,22.8,2.8,6.1,0.45400000000000001,0.9,2.2999999999999998,0.41699999999999998,0.6,1.4,0.435,1.1000000000000001,2.4,3.6,1.4,1.1000000000000001,0.1,0.3,1.1000000000000001,7.1]
[9,"Chris Copeland",28,11,0,5.6,1.5,3.3,0.47199999999999998,0.1,0.5,0.2,0.5,0.7,0.625,0.3,0.4,0.6,0.4,0.2,0.1,0.3,0.5,3.6]
[10,"Pablo Prigioni",35,15,0,14.5,1.2,2.7,0.439,0.5,1.4,0.33300000000000002,0.4,0.5,0.85699999999999998,0.2,1,1.2,2.9,1,0,1.5,1.2,3.3]
[11,"James White",30,11,0,5.0999999999999996,0.5,1.4,0.4,0.3,0.6,0.42899999999999999,0.2,0.4,0.5,0,0.7,0.7,0.2,0.2,0,0,0.5,1.5]
[12,"Kurt Thomas",40,9,4,10.8,0.6,2,0.27800000000000002,0,0,null,0.2,0.3,0.66700000000000004,0.8,1.9,2.7,0.4,0.1,0.4,0.1,1.3,1.3]
[13,"Marcus Camby",38,6,0,7.7,0,0.7,0,0,0,null,0.3,0.7,0.5,0.8,1.7,2.5,0.3,0,0.3,0.7,1,0.3]
[]
["OKC"]
["Rk","Player","Age","G","GS","MP","FG","FGA","FG%","3P","3PA","3P%","FT","FTA","FT%","ORB","DRB","TRB","AST","STL","BLK","TOV","PF","PTS"]
[1,"Kevin Durant",24,18,18,39,8.5,16.600000000000001,0.51200000000000001,1.6,3.6,0.438,7.6,8.5,0.89500000000000002,0.7,8,8.6999999999999993,4.3,1.6,1.6,3.4,1.5,26.2]
[2,"Russell Westbrook",24,18,18,35.799999999999997,7.4,17.899999999999999,0.41499999999999998,1.4,4.2,0.34699999999999998,4.3,5.6,0.77200000000000002,1.4,3.7,5.0999999999999996,8.6999999999999993,2.1,0.3,3.4,2.7,20.7]
[3,"Kevin Martin",29,18,0,29.7,4.8,10.3,0.46200000000000002,2.2999999999999998,4.8,0.47699999999999998,4.3,4.5999999999999996,0.92800000000000005,0.2,2.2999999999999998,2.4,1.7,1.2,0.2,1.6,2,16.100000000000001]
[4,"Serge Ibaka",23,18,18,31.2,6,10.199999999999999,0.59,0.2,0.7,0.25,2.1,2.4,0.86399999999999999,2.2999999999999998,5.3,7.6,0.3,0.2,3.3,1.7,3.3,14.3]
[5,"Thabo Sefolosha",28,18,18,27.7,2.6,5.3,0.48399999999999999,1.3,2.8,0.45100000000000001,0.7,0.8,0.86699999999999999,0.6,3.8,4.4000000000000004,1.9,0.8,0.4,1.1000000000000001,1.9,7.1]
[6,"Nick Collison",32,18,0,18.600000000000001,2.5,3.9,0.63400000000000001,0,0,null,0.9,1.3,0.66700000000000004,1.6,2.2000000000000002,3.7,1.2,0.6,0.3,1.2,2.9,5.9]
[7,"Kendrick Perkins",28,18,18,25.3,2.2000000000000002,3.8,0.57999999999999996,0,0,null,0.7,1.3,0.52200000000000002,1.5,3.5,5,1.7,0.5,0.9,1,2.4,5.0999999999999996]
[8,"Eric Maynor",25,18,0,13.6,1.2,4.3,0.28599999999999998,0.6,1.8,0.34399999999999997,0.7,0.9,0.81299999999999994,0.2,0.6,0.8,2.1,0.2,0,0.9,0.6,3.8]
[9,"Hasheem Thabeet",25,16,0,13.1,1.1000000000000001,1.6,0.72,0,0,null,1.3,1.6,0.76900000000000002,1.4,2.4,3.8,0.1,0.5,0.9,1,2.7,3.5]
[10,"Jeremy Lamb",20,8,0,4.3,0.6,1.9,0.33300000000000002,0.5,1,0.5,0.4,0.4,1,0,0.4,0.4,0.3,0,0,0.4,0.6,2.1]
[11,"Daniel Orton",22,1,0,2,1,1,1,0,0,null,0,0,null,0,0,0,0,0,1,0,0,2]
[12,"Reggie Jackson",22,10,0,5.6,0.7,1.7,0.41199999999999998,0.4,0.7,0.57099999999999995,0,0,null,0.2,0.8,1,0.7,0,0,0.3,0.5,1.8]
[13,"Perry Jones",21,10,0,7.6,0.6,2,0.3,0,0,null,0,0,null,0.1,1.3,1.4,0.4,0.1,0.2,0.9,0.9,1.2]
[14,"DeAndre Liggins",24,5,0,3.4,0.2,0.2,1,0,0,null,0.2,0.2,1,0.4,1,1.4,0.2,0,0,0.4,0.4,0.6]
[]
["ORL"]
["Rk","Player","Age","G","GS","MP","FG","FGA","FG%","3P","3PA","3P%","FT","FTA","FT%","ORB","DRB","TRB","AST","STL","BLK","TOV","PF","PTS"]
[1,"Arron Afflalo",27,17,17,34.700000000000003,6.2,14,0.44500000000000001,1.4,3.9,0.34799999999999998,2.2999999999999998,2.8,0.83,0.5,3.3,3.8,2.5,0.8,0.3,2.2000000000000002,2.1,16.100000000000001]
[2,"Glen Davis",27,17,17,32,6.6,15.2,0.434,0,0.1,0,2.6,3.5,0.75,2.1,6.1,8.1999999999999993,2.1,0.9,0.5,1.6,2.7,15.8]
[3,"J.J. Redick",28,16,4,30.3,4.8,10.8,0.44500000000000001,1.6,4.5,0.36099999999999999,2.7,2.9,0.91500000000000004,0.1,1.9,2.1,5.0999999999999996,0.4,0.1,2.1,1.9,13.9]
[4,"Jameer Nelson",30,10,10,33.299999999999997,4.8,12.3,0.39,1.6,5.4,0.29599999999999999,1.8,1.9,0.94699999999999995,0.7,3.8,4.5,6.7,1.6,0.1,2.5,3,13]
[5,"Nikola Vucevic",22,17,17,29.4,4.5999999999999996,9.6999999999999993,0.47299999999999998,0,0,null,1,1.4,0.73899999999999999,2.5,6.1,8.6,1.6,0.8,1.3,1.6,2.7,10.199999999999999]
[6,"E'Twaun Moore",23,17,7,26.5,4.0999999999999996,9.5,0.42899999999999999,1.3,3.2,0.40699999999999997,0.6,0.8,0.71399999999999997,0.8,1.8,2.6,3.2,0.4,0.3,2.2999999999999998,1.8,10]
[7,"Andrew Nicholson",23,16,0,13.1,2.7,5.0999999999999996,0.52400000000000002,0,0,null,1.3,1.5,0.83299999999999996,0.5,1.8,2.2999999999999998,0.4,0.1,0.4,0.8,1.6,6.6]
[8,"Hedo Turkoglu",33,1,1,17,3,4,0.75,0,1,0,0,0,null,1,1,2,1,2,0,0,3,6]
[9,"Maurice Harkless",19,14,7,18.399999999999999,2,4,0.5,0.1,0.4,0.2,0.3,0.9,0.308,1.3,3,4.3,0.6,0.6,0.9,0.6,1.6,4.4000000000000004]
[10,"Josh McRoberts",25,16,2,15.8,1.6,3.4,0.46300000000000002,0.3,0.7,0.36399999999999999,0.6,0.8,0.75,1.1000000000000001,2.8,3.8,1.3,0.3,0.4,0.6,1.6,3.9]
[11,"DeQuan Jones",22,9,3,10.7,1.2,2.9,0.42299999999999999,0.2,0.4,0.5,0.3,0.7,0.5,0.2,1.7,1.9,0.1,0.2,0.3,0.2,0.7,3]
[12,"Gustavo Ayon",27,16,0,11.6,1.3,2.7,0.48799999999999999,0,0,null,0.4,0.8,0.5,0.9,2,2.9,0.9,0.2,0.1,0.6,2,3]
[13,"Kyle O'Quinn",22,9,0,6.4,0.6,1.7,0.33300000000000002,0,0,null,1.3,1.3,1,0.8,1.7,2.4,0.7,0.1,0.8,0.3,0.9,2.4]
[14,"Ishmael Smith",24,11,0,11.5,0.5,2.7,0.16700000000000001,0,0.5,0,0,0,null,0.3,1.3,1.5,1.5,0.4,0.1,0.8,0.5,0.9]
[]
["PHI"]
["Rk","Player","Age","G","GS","MP","FG","FGA","FG%","3P","3PA","3P%","FT","FTA","FT%","ORB","DRB","TRB","AST","STL","BLK","TOV","PF","PTS"]
[1,"Jrue Holiday",22,17,17,38.5,7.2,15.7,0.45700000000000002,1.2,3,0.39200000000000002,2.9,3.8,0.78100000000000003,0.9,2.6,3.5,9.3000000000000007,1.4,0.5,4.0999999999999996,2.5,18.5]
[2,"Thaddeus Young",24,17,17,35.6,6.4,12.2,0.52400000000000002,0,0,null,1.7,2.8,0.60399999999999998,2.2000000000000002,5.5,7.7,1.4,1.6,0.9,1.3,2.6,14.5]
[3,"Evan Turner",24,17,17,34.5,5.3,12,0.441,0.6,1.5,0.42299999999999999,2.9,3.5,0.83099999999999996,0.8,6.3,7.1,4.0999999999999996,0.9,0.3,1.8,2.6,14.1]
[4,"Jason Richardson",32,13,13,29.1,4.8,11.2,0.42499999999999999,2.5,5.9,0.42899999999999999,0.6,0.8,0.8,0.7,3.5,4.2,1.2,1.7,0.7,0.6,1.7,12.7]
[5,"Nick Young",27,16,0,23.3,3.3,8.6999999999999993,0.38100000000000001,1.1000000000000001,3.3,0.34,1.9,2.1,0.88200000000000001,0.3,1.5,1.8,1.3,0.6,0.4,0.9,1.1000000000000001,9.6]
[6,"Dorell Wright",27,17,4,21.9,2.4,7.1,0.33300000000000002,1.5,4.0999999999999996,0.371,1.7,1.9,0.90600000000000003,0.9,3.5,4.4000000000000004,0.9,1.2,0.5,1.1000000000000001,1.2,7.9]
[7,"Spencer Hawes",24,17,0,20.100000000000001,3.1,7,0.437,0.2,0.6,0.4,0.9,1.4,0.625,1.4,3.8,5.2,1.4,0.3,1.2,1.1000000000000001,2.5,7.2]
[8,"Lavoy Allen",23,17,11,23,2.6,5.9,0.44600000000000001,0,0,null,0.9,1,0.94099999999999995,2.2000000000000002,2.4,4.5999999999999996,1.1000000000000001,0.1,1.2,0.8,2.5,6.2]
[9,"Royal Ivey",31,11,0,12.7,1.2,3.1,0.38200000000000001,0.4,1.3,0.28599999999999998,0.5,0.7,0.75,0.6,1,1.6,0.7,0.6,0.1,0.3,1.1000000000000001,3.3]
[10,"Maalik Wayns",21,10,0,6.8,0.8,3.3,0.24199999999999999,0.4,1.2,0.33300000000000002,0.6,0.6,1,0,0.1,0.1,0.5,0,0,0.6,0.8,2.6]
[11,"Kwame Brown",30,10,6,12.1,1,2.4,0.41699999999999998,0,0,null,0.4,0.9,0.44400000000000001,1.2,1.5,2.7,0.5,0.3,0.4,0.2,2,2.4]
[12,"Damien Wilkins",33,9,0,5.4,0.3,1.3,0.25,0,0.1,0,0.3,0.7,0.5,0,0.6,0.6,0.1,0.1,0.1,0,0.6,1]
[13,"Arnett Moultrie",22,5,0,5.2,0.2,0.8,0.25,0,0,null,0.4,0.8,0.5,0.8,0.4,1.2,0,0.2,0,0.2,0.6,0.8]
[]
["PHO"]
["Rk","Player","Age","G","GS","MP","FG","FGA","FG%","3P","3PA","3P%","FT","FTA","FT%","ORB","DRB","TRB","AST","STL","BLK","TOV","PF","PTS"]
[1,"Goran Dragic",26,18,18,31.6,5.3,11.2,0.47,1.7,4.4000000000000004,0.375,3.1,4.0999999999999996,0.74299999999999999,0.9,2.2000000000000002,3.1,6.6,1.9,0.3,2.2999999999999998,2.6,15.3]
[2,"Luis Scola",32,18,11,26.9,5.3,11.4,0.46100000000000002,0.1,0.2,0.33300000000000002,1.9,2.2000000000000002,0.85,1.9,4.8,6.8,1.6,0.8,0.6,1.4,2.8,12.5]
[3,"Shannon Brown",27,18,7,23.9,4.3,10.7,0.40600000000000003,1,3.2,0.316,2.2999999999999998,2.9,0.80800000000000005,0.7,1.9,2.6,2.1,0.7,0.2,1.3,1.6,12]
[4,"Michael Beasley",24,18,18,27.7,4.7,12.1,0.39,0.7,2.5,0.28899999999999998,1.6,2.2000000000000002,0.72499999999999998,1.1000000000000001,3.1,4.2,2.5,0.5,0.7,2.7,2.1,11.8]
[5,"Marcin Gortat",28,18,18,31.2,5,9.3000000000000007,0.53600000000000003,0,0.1,0,1.7,2.6,0.67400000000000004,2.2999999999999998,6,8.3000000000000007,1,0.7,2.1,1.7,2.2000000000000002,11.7]
[6,"Markieff Morris",23,18,7,21.6,3.7,8.8000000000000007,0.42099999999999999,0.6,1.6,0.34499999999999997,1,1.3,0.75,1.8,2.7,4.5999999999999996,1.3,0.9,0.3,0.9,2.8,9]
[7,"Jared Dudley",27,18,11,25.8,3.4,7.6,0.44900000000000001,1.2,3.2,0.36799999999999999,0.7,1.1000000000000001,0.63200000000000001,0.7,1.7,2.4,1.7,1,0.1,1,1.4,8.6]
[8,"Jermaine O'Neal",34,11,0,18.5,3,5.7,0.52400000000000002,0,0,null,1.8,2.1,0.87,0.9,4.3,5.2,0.3,0.5,1.7,1,2,7.8]
[9,"Sebastian Telfair",27,18,0,17.600000000000001,2.2000000000000002,5.4,0.40799999999999997,0.6,1.9,0.32400000000000001,1.1000000000000001,1.5,0.70399999999999996,0.4,1.4,1.8,2.7,0.8,0.3,0.9,2.2999999999999998,6.1]
[10,"P.J. Tucker",27,18,0,18.8,1.8,3.6,0.50800000000000001,0.2,0.4,0.42899999999999999,0.8,1.3,0.60899999999999999,1.4,2.2000000000000002,3.6,1.1000000000000001,0.6,0.3,0.6,1.7,4.5999999999999996]
[11,"Luke Zeller",25,6,0,4.5,1,2,0.5,0.2,0.3,0.5,0,0,null,0,0.8,0.8,0,0,0,0,0.3,2.2000000000000002]
[12,"Diante Garrett",24,1,0,5,1,1,1,0,0,null,0,0,null,0,0,0,2,1,0,0,0,2]
[13,"Wesley Johnson",25,8,0,6.4,0.8,2.6,0.28599999999999998,0.3,1,0.25,0,0,null,0.1,1,1.1000000000000001,0.6,0,0.1,0.3,0.3,1.8]
[14,"Kendall Marshall",21,6,0,5.7,0.5,1.5,0.33300000000000002,0.2,0.7,0.25,0,0,null,0,0,0,0.8,0.2,0,0.5,0.5,1.2]
[]
["POR"]
["Rk","Player","Age","G","GS","MP","FG","FGA","FG%","3P","3PA","3P%","FT","FTA","FT%","ORB","DRB","TRB","AST","STL","BLK","TOV","PF","PTS"]
[1,"LaMarcus Aldridge",27,17,17,38.6,8.5,18.600000000000001,0.45900000000000002,0,0.4,0,3.8,4.9000000000000004,0.77100000000000002,2.1,5.8,7.9,2.8,0.8,1.2,2.2000000000000002,3.2,20.8]
[2,"Damian Lillard",22,18,18,37.6,6.5,15.2,0.42699999999999999,2.4,6.3,0.38900000000000001,3.6,4.3,0.83299999999999996,0.8,2.4,3.3,6.3,1.3,0.2,3.3,2.2000000000000002,19.100000000000001]
[3,"Nicolas Batum",24,18,18,39.299999999999997,5.9,13.7,0.433,2.6,6.9,0.376,3.1,3.8,0.82399999999999995,1.6,4.7,6.3,3.2,1.7,1.1000000000000001,2.5,1.8,17.600000000000001]
[4,"Wesley Matthews",26,18,18,37.700000000000003,5.6,12.9,0.42899999999999999,2.2000000000000002,5.6,0.38600000000000001,2.7,3.8,0.70599999999999996,0.7,2.5,3.2,2.7,1.9,0.3,1.4,2.7,15.9]
[5,"J.J. Hickson",24,17,17,28.5,4.4000000000000004,8.4,0.52400000000000002,0,0.1,0,2,3.3,0.60699999999999998,3.9,5.7,9.6,0.9,0.6,0.6,1.7,1.9,10.8]
[6,"Meyers Leonard",20,18,2,19,1.9,3.7,0.53,0,0.1,0,1.2,1.4,0.84,1.4,2.4,3.8,0.2,0.4,1,0.6,2.4,5.0999999999999996]
[7,"Ronnie Price",29,13,0,14.4,1.2,3.3,0.34899999999999998,0.4,1.1000000000000001,0.35699999999999998,0.3,0.5,0.66700000000000004,0.4,1,1.4,1.9,0.6,0,0.9,2.5,3]
[8,"Will Barton",22,15,0,8.5,1.1000000000000001,3.2,0.35399999999999998,0.3,1,0.26700000000000002,0.3,0.5,0.5,0.4,1,1.4,0.5,0.5,0.1,0.8,0.5,2.8]
[9,"Luke Babbitt",23,11,0,6.7,1,2.5,0.40699999999999997,0.6,1.6,0.38900000000000001,0,0,null,0.3,1.3,1.5,0.5,0.3,0.2,0.2,0.8,2.6]
[10,"Joel Freeland",25,10,0,10,0.9,2.9,0.31,0,0,null,0.6,0.8,0.75,0.9,1.1000000000000001,2,0.2,0.4,0.3,0.5,1.5,2.4]
[11,"Nolan Smith",24,11,0,7.5,0.9,2.5,0.35699999999999998,0.1,0.7,0.125,0.2,0.4,0.5,0.1,0.4,0.5,0.9,0,0,1,0.6,2.1]
[12,"Sasha Pavlovic",29,15,0,10.7,0.7,1.6,0.41699999999999998,0.3,0.9,0.35699999999999998,0,0.1,0,0.1,1,1.1000000000000001,0.5,0.7,0.1,0.3,1.1000000000000001,1.7]
[13,"Jared Jeffries",31,16,0,9.1,0.4,1.4,0.27300000000000002,0,0,null,0.3,0.7,0.45500000000000002,0.6,0.6,1.1000000000000001,0.4,0.1,0.1,0.5,1.8,1.1000000000000001]
[14,"Victor Claver",24,4,0,5.8,0,0.3,0,0,0.3,0,0.3,0.5,0.5,0.3,0.8,1,0.3,0,0,0.5,0.5,0.3]
[]
["SAC"]
["Rk","Player","Age","G","GS","MP","FG","FGA","FG%","3P","3PA","3P%","FT","FTA","FT%","ORB","DRB","TRB","AST","STL","BLK","TOV","PF","PTS"]
[1,"DeMarcus Cousins",22,14,14,29.6,6.4,15.4,0.41699999999999998,0.1,0.1,0.5,3.1,4.3,0.71699999999999997,3.2,6.3,9.5,2.1,1.4,0.6,2.6,3.4,16]
[2,"Marcus Thornton",25,16,2,28.8,5.7,13.3,0.42699999999999999,2,5.9,0.34,1.8,2.2999999999999998,0.77800000000000002,0.9,2,2.9,1.5,0.7,0,0.8,2.1,15.1]
[3,"Tyreke Evans",23,14,14,32.4,5.7,12.6,0.45500000000000002,0.4,1.6,0.27300000000000002,3.1,3.6,0.84299999999999997,0.8,4.4000000000000004,5.0999999999999996,3.7,1.4,0.6,2.1,2.4,14.9]
[4,"Jason Thompson",26,16,16,30.6,4.3,8.4,0.50700000000000001,0,0.1,0,2.4,3.1,0.76,2.5,4.5999999999999996,7.1,1.1000000000000001,0.4,1.2,1.1000000000000001,2.8,10.9]
[5,"Isaiah Thomas",23,14,8,18.7,2.9,6.8,0.432,1.1000000000000001,2.9,0.375,1.6,1.9,0.84599999999999997,0.4,0.9,1.2,1.8,0.5,0,1.9,1.6,8.5]
[6,"Aaron Brooks",28,16,8,22.3,3.1,6.9,0.44500000000000001,1.3,3.2,0.39200000000000002,0.3,0.5,0.5,0.3,1.5,1.8,2.1,0.6,0.1,0.9,2.4,7.6]
[7,"John Salmons",33,11,7,26,2.6,6.5,0.40799999999999997,0.7,2.2999999999999998,0.32,0.9,1.3,0.71399999999999997,0.3,2.6,2.9,2,0.8,0.2,1,1.5,6.9]
[8,"Jimmer Fredette",23,14,0,10.5,2.2000000000000002,4.8,0.46300000000000002,0.7,1.7,0.41699999999999998,1.1000000000000001,1.3,0.88900000000000001,0.1,0.4,0.5,1.4,0.2,0.1,0.7,0.6,6.3]
[9,"Thomas Robinson",21,14,0,16.399999999999999,2.1,4.3,0.48299999999999998,0,0,null,0.9,1.4,0.63200000000000001,1,2.8,3.8,0.7,0.7,0.4,1.4,2.4,5]
[10,"James Johnson",25,16,9,19.899999999999999,1.9,5.3,0.36499999999999999,0,0.5,0,0.8,1.4,0.59099999999999997,0.6,1.8,2.2999999999999998,1.1000000000000001,1.3,0.6,1.6,2.1,4.7]
[11,"Travis Outlaw",28,5,1,12.6,1.6,4.8,0.33300000000000002,0.2,1.2,0.16700000000000001,0.4,0.8,0.5,0.4,1.4,1.8,1,0.4,0.6,0.8,1.8,3.8]
[12,"Chuck Hayes",29,16,1,21.1,1.6,3.4,0.45500000000000002,0,0,null,0.3,0.6,0.5,1.8,3.3,5.0999999999999996,2.2999999999999998,0.6,0.6,0.8,2.5,3.4]
[13,"Francisco Garcia",31,7,0,10.4,1.4,3.6,0.4,0.6,1.3,0.44400000000000001,0,0,null,0.3,0.4,0.7,0.3,0.7,0.1,0.4,1.3,3.4]
[]
["SAS"]
["Rk","Player","Age","G","GS","MP","FG","FGA","FG%","3P","3PA","3P%","FT","FTA","FT%","ORB","DRB","TRB","AST","STL","BLK","TOV","PF","PTS"]
[1,"Tim Duncan",36,17,17,31.3,7.6,14.1,0.53800000000000003,0.1,0.2,0.66700000000000004,3.6,4.7,0.77500000000000002,1.9,8.1,10.1,2.6,0.9,2.4,1.5,1.9,18.899999999999999]
[2,"Tony Parker",30,16,16,32.5,7.6,15.5,0.48799999999999999,0.4,1.1000000000000001,0.33300000000000002,2.6,3.4,0.745,0.3,2.8,3.1,7.1,0.7,0.1,2,1.8,18.100000000000001]
[3,"Manu Ginobili",35,15,0,24.5,3.9,9.6999999999999993,0.4,1.5,4.7,0.314,2.5,3.1,0.78700000000000003,0.2,2.9,3.1,4.3,1.4,0.3,2.2000000000000002,1.9,11.7]
[4,"Gary Neal",28,16,6,24,4.2,9.4,0.44400000000000001,1.1000000000000001,3.3,0.34,1.6,1.8,0.86199999999999999,0.3,2.9,3.2,2,0.6,0,1.5,1.4,11.1]
[5,"Kawhi Leonard",21,9,9,28.9,3.9,7.9,0.49299999999999999,1,2.9,0.34599999999999997,1.8,1.9,0.94099999999999995,1.3,4.0999999999999996,5.4,1.3,2,0.2,1.9,2.2999999999999998,10.6]
[6,"Danny Green",25,17,17,30.2,3.6,8.8000000000000007,0.41599999999999998,1.9,5.2,0.36399999999999999,0.6,0.6,0.90900000000000003,0.8,2.8,3.5,1.4,0.9,0.7,1.1000000000000001,1.3,9.8000000000000007]
[7,"Tiago Splitter",28,18,2,18.7,3.1,5.3,0.57299999999999995,0,0,null,2.4,3.3,0.73299999999999998,1.7,2.8,4.5,1.2,0.6,0.7,1.2,1.9,8.6]
[8,"Stephen Jackson",34,10,2,23.2,2.6,7,0.371,1,3.5,0.28599999999999998,1.5,2.2000000000000002,0.68200000000000005,0.9,3.4,4.3,1.5,1,0.2,1.3,2,7.7]
[9,"DeJuan Blair",23,15,10,17.600000000000001,2.7,5.7,0.46500000000000002,0,0,null,1.1000000000000001,1.4,0.76200000000000001,1.8,2.9,4.7,1.1000000000000001,0.9,0.2,1.2,2,6.4]
[10,"Boris Diaw",30,18,7,24.1,2.2999999999999998,3.7,0.61199999999999999,0.5,1,0.5,0.7,1.1000000000000001,0.65,0.9,2.6,3.4,2.5,0.5,0.2,1,2.2999999999999998,5.8]
[11,"Patrick Mills",24,15,2,12.1,2,4.5,0.44800000000000001,0.7,2.1,0.35499999999999998,0.1,0.2,0.66700000000000004,0.3,0.8,1.1000000000000001,1.1000000000000001,0.5,0.1,1.2,0.8,4.9000000000000004]
[12,"Matt Bonner",32,14,1,12.3,1.6,2.9,0.53700000000000003,1.1000000000000001,1.9,0.55600000000000005,0,0,null,0.2,1.4,1.6,0.4,0.2,0.1,0.4,1.2,4.2]
[13,"James Anderson",23,4,0,7.8,1,1.8,0.57099999999999995,0.5,1,0.5,1,1.3,0.8,0.3,1,1.3,0.8,0,0.3,0.5,1,3.5]
[14,"Nando De Colo",25,13,1,10.4,0.7,2.2999999999999998,0.3,0.4,1.2,0.33300000000000002,0.7,0.9,0.75,0.2,1,1.2,1.4,0.4,0,1.2,0.8,2.5]
[15,"Cory Joseph",21,4,0,7.8,0.8,2.5,0.3,0.3,1.3,0.2,0,0,null,0.3,0.5,0.8,1.5,0.3,0,0.8,0,1.8]
[]
["TOR"]
["Rk","Player","Age","G","GS","MP","FG","FGA","FG%","3P","3PA","3P%","FT","FTA","FT%","ORB","DRB","TRB","AST","STL","BLK","TOV","PF","PTS"]
[1,"DeMar DeRozan",23,18,18,37,6.9,15.3,0.44900000000000001,0.5,1.6,0.32100000000000001,4.0999999999999996,5.2,0.78700000000000003,0.8,4.2,5,1.9,1.1000000000000001,0.2,1.7,2.4,18.399999999999999]
[2,"Andrea Bargnani",27,17,17,34.5,6.5,16,0.40400000000000003,1.6,4.5999999999999996,0.34599999999999997,2.8,3.4,0.82799999999999996,0.9,3.6,4.5,1.4,0.7,0.6,1.8,2.1,17.399999999999999]
[3,"Kyle Lowry",26,12,11,31.6,5.3,12.6,0.42399999999999999,1.8,4.7,0.375,4.5999999999999996,5.8,0.79700000000000004,1,4.8,5.8,5.6,1.7,0.8,2.4,3.5,17]
[4,"Jose Calderon",31,18,7,28.5,3.6,8.4,0.43,1.9,3.9,0.47899999999999998,1.1000000000000001,1.2,0.95199999999999996,0.3,1.6,1.9,7.3,0.7,0.2,2.1,1.3,10.199999999999999]
[5,"Jonas Valanciunas",20,18,18,24,3.7,7.1,0.51600000000000001,0,0,null,1.7,2.2999999999999998,0.75600000000000001,2.1,3.6,5.7,1.3,0.3,1.3,1.3,3.1,9.1]
[6,"Alan Anderson",30,6,1,20.7,2.2999999999999998,7.3,0.318,1.3,4.5,0.29599999999999999,1.3,1.5,0.88900000000000001,0.3,1,1.3,1.2,0.7,0.2,0.8,2,7.3]
[7,"Amir Johnson",25,18,0,20.2,2.8,5.6,0.495,0.1,0.3,0.33300000000000002,1.4,2.1,0.68400000000000005,2.2999999999999998,2.9,5.2,1.2,0.8,0.6,0.9,3.7,7.1]
[8,"Linas Kleiza",28,11,2,19.7,2.5,7.2,0.34200000000000003,0.5,2.4,0.23100000000000001,1.5,1.8,0.85,0.6,2.1,2.7,0.7,0.2,0.1,1,1.9,7]
[9,"Terrence Ross",21,16,0,15.6,2.6,6.1,0.42299999999999999,0.8,2.7,0.30199999999999999,0.1,0.3,0.4,0.4,1.6,2,0.6,0.7,0.1,0.8,1.9,6.1]
[10,"Ed Davis",23,18,1,15.4,2.2999999999999998,4.0999999999999996,0.57499999999999996,0,0,null,1.2,1.8,0.65600000000000003,2,3.4,5.4,0.7,0.5,0.7,0.8,2.1,5.8]
[11,"Mickael Pietrus",30,2,1,28.5,1.5,6,0.25,1.5,4,0.375,0,0,null,0,1,1,0,1,0.5,0.5,2,4.5]
[12,"John Lucas",30,14,0,11,1.1000000000000001,4.4000000000000004,0.25800000000000001,0.6,1.9,0.29599999999999999,0.3,0.4,0.8,0.1,0.9,0.9,1.3,0.4,0,0.4,0.6,3.1]
[13,"Landry Fields",24,5,5,21.4,1,4.8,0.20799999999999999,0,0.6,0,0.4,0.6,0.66700000000000004,0.6,2.6,3.2,1.6,0.6,0,1,1.2,2.4]
[14,"Quincy Acy",22,3,0,7,0.3,1,0.33300000000000002,0,0,null,1.7,2,0.83299999999999996,0.7,1.3,2,0,0.7,0.3,0,0.7,2.2999999999999998]
[15,"Dominic McGuire",27,15,9,15.3,1,2.1,0.46899999999999997,0,0,null,0.1,0.4,0.33300000000000002,0.7,2.5,3.2,0.7,0.3,0.5,0.5,1.7,2.1]
[16,"Aaron Gray",28,8,0,8.5,0.8,1.1000000000000001,0.66700000000000004,0,0,null,0.3,0.5,0.5,0.1,1.6,1.8,0.4,0.4,0,0.6,1.9,1.8]
[]
["UTA"]
["Rk","Player","Age","G","GS","MP","FG","FGA","FG%","3P","3PA","3P%","FT","FTA","FT%","ORB","DRB","TRB","AST","STL","BLK","TOV","PF","PTS"]
[1,"Al Jefferson",28,19,19,33.299999999999997,7.2,15.2,0.47199999999999998,0.1,0.3,0.2,2.2999999999999998,2.9,0.78600000000000003,2.4,8.1,10.5,1.9,1.1000000000000001,1.2,1.5,2.6,16.7]
[2,"Mo Williams",30,15,15,33.1,5.5,12.6,0.439,1.4,4,0.35,1.8,1.9,0.96399999999999997,0.7,1.3,2,6.9,1,0.5,2.7,2.2999999999999998,14.3]
[3,"Gordon Hayward",22,19,10,28.3,4.7,11,0.43099999999999999,1.1000000000000001,3.4,0.32800000000000001,3.3,4,0.82899999999999996,1,2,3,2,0.8,0.6,2,2.1,13.9]
[4,"Paul Millsap",27,19,19,30.7,5,11.1,0.45200000000000001,0.6,1.1000000000000001,0.52400000000000002,3.4,4.5999999999999996,0.72699999999999998,2.6,5.7,8.4,2.5,0.9,0.9,2.1,3.4,13.9]
[5,"Randy Foye",29,19,9,26.1,3.9,9.1,0.42799999999999999,2.5,5.4,0.46100000000000002,1.6,1.9,0.81100000000000005,0.2,1.2,1.3,1.9,0.7,0.4,1.2,2.6,11.8]
[6,"Marvin Williams",26,16,14,27.8,3.5,7.8,0.45200000000000001,1,2.8,0.35599999999999998,2.4,3.1,0.77600000000000002,0.6,3.1,3.8,1.1000000000000001,0.6,0.6,1,1.3,10.4]
[7,"Derrick Favors",21,17,2,22.8,3.2,7.4,0.44,0,0.1,0,2.8,3.9,0.71599999999999997,3.3,4.2,7.5,0.5,0.9,1.9,1.5,2.7,9.3000000000000007]
[8,"DeMarre Carroll",26,14,3,16.899999999999999,2.1,4.7,0.439,0.2,1,0.214,1.4,1.9,0.76900000000000002,1.8,1.6,3.4,0.6,0.9,0.6,0.3,1.4,5.8]
[9,"Enes Kanter",20,19,0,14.3,2.5,4.5999999999999996,0.54,0,0,null,0.6,1.1000000000000001,0.57099999999999995,1.6,2.2000000000000002,3.8,0.4,0.3,0.5,1.4,2,5.6]
[10,"Jamaal Tinsley",34,16,4,20.399999999999999,1,3.1,0.32700000000000001,0.5,1.7,0.29599999999999999,0.2,0.3,0.75,0.3,1.7,1.9,5.6,0.8,0.2,1.9,1.7,2.7]
[11,"Jeremy Evans",25,6,0,6,1,1.3,0.75,0,0,null,0.3,0.8,0.4,0.7,0.8,1.5,0.2,0.2,0.5,0,1.3,2.2999999999999998]
[12,"Alec Burks",21,9,0,9.6,0.9,3.6,0.25,0.2,1,0.222,0.3,0.9,0.375,0.3,0.7,1,0.4,0.2,0.2,0.3,1.1000000000000001,2.2999999999999998]
[13,"Earl Watson",33,7,0,13.1,1,2.2999999999999998,0.438,0.1,0.6,0.25,0,0,null,0.4,0.6,1,4.0999999999999996,1.1000000000000001,0,1,2.6,2.1]
[14,"Kevin Murphy",22,3,0,3,0.7,2,0.33300000000000002,0,0.3,0,0,0,null,0,0,0,0,0.3,0,0.3,0.3,1.3]
[]
["WAS"]
["Rk","Player","Age","G","GS","MP","FG","FGA","FG%","3P","3PA","3P%","FT","FTA","FT%","ORB","DRB","TRB","AST","STL","BLK","TOV","PF","PTS"]
[1,"Jordan Crawford",24,14,4,24.4,4.9000000000000004,11.8,0.41199999999999998,1,3.6,0.28000000000000003,2.4,2.9,0.80500000000000005,1.1000000000000001,2.1,3.2,3.4,0.3,0.1,2.2999999999999998,1.6,13.1]
[2,"Nene Hilario",30,4,0,21.5,3.8,7.3,0.51700000000000002,0,0,null,4,5.5,0.72699999999999998,1.3,3.5,4.8,1.3,1.3,0.3,1.3,2,11.5]
[3,"Kevin Seraphin",23,13,5,24.5,5.5,11.8,0.46100000000000002,0,0,null,0.5,0.9,0.58299999999999996,2.2000000000000002,3.2,5.5,1.2,0.5,0.9,2.4,3.2,11.5]
[4,"Bradley Beal",19,14,12,27.7,3.5,10.4,0.33600000000000002,1.4,4.2,0.33900000000000002,2.6,3,0.85699999999999998,0.7,2.6,3.3,1.7,0.8,0.5,1.8,1.5,11]
[5,"A.J. Price",26,14,12,29.6,3.3,9.3000000000000007,0.35399999999999998,1.6,4.8,0.32800000000000001,0.8,0.9,0.84599999999999997,0.6,2.6,3.2,5.2,0.6,0,1.6,1.6,8.9]
[6,"Martell Webster",26,13,0,21.5,2.5,5.4,0.45700000000000002,1.2,3,0.41,2.5,2.8,0.88900000000000001,0.3,3.2,3.5,1.2,0.5,0.4,1.3,1.8,8.6]
[7,"Trevor Ariza",27,14,12,25.6,3.1,8.8000000000000007,0.35,0.7,2.8,0.25600000000000001,1.5,1.8,0.84,1.2,3.9,5.0999999999999996,1.9,1.8,0.5,1.4,1.4,8.4]
[8,"Emeka Okafor",30,14,12,21.9,2.9,7.1,0.40400000000000003,0,0,null,1.5,2.1,0.7,2.6,3.4,5.9,0.9,0.8,1.6,0.9,1.7,7.2]
[9,"Trevor Booker",25,9,7,24.1,3.2,7.1,0.45300000000000001,0,0.2,0,0.3,0.6,0.6,2,3.6,5.6,1.4,1.2,0.6,1.3,2.4,6.8]
[10,"Shaun Livingston",27,6,2,19.8,2.2999999999999998,4.8,0.48299999999999998,0,0.3,0,0.7,0.7,1,0.2,1.8,2,1.8,0.5,0.2,1,1.2,5.3]
[11,"Chris Singleton",23,14,0,16.399999999999999,1.9,4.2,0.45800000000000002,0.1,0.6,0.125,1.1000000000000001,1.9,0.55600000000000005,1,2.6,3.6,0.6,0.9,0.1,0.9,2.8,5]
[12,"Cartier Martin",28,7,0,9.3000000000000007,1.4,4.0999999999999996,0.34499999999999997,0.9,2.7,0.316,0.6,0.6,1,0.1,1.1000000000000001,1.3,0.1,0.6,0,0.4,0.4,4.3]
[13,"Earl Barron",31,6,0,9.8000000000000007,1.7,3.2,0.52600000000000002,0,0,null,0.2,0.5,0.33300000000000002,1.3,2,3.3,0.3,0.5,0.2,0.5,1.8,3.5]
[14,"Jannero Pargo",33,7,0,14.6,1.1000000000000001,4.5999999999999996,0.25,0.4,2.9,0.15,0.3,0.3,1,0,0.9,0.9,2,0,0.1,1.1000000000000001,1.1000000000000001,3]
[15,"Jan Vesely",22,14,4,12.3,0.9,2.1,0.433,0,0,null,0.2,0.9,0.23100000000000001,0.9,1.3,2.1,0.6,0.4,0.3,0.6,2.4,2.1]

{"sheet":"3","index":5,"n_rows":508,"n_cols":9,"rows_kept":508,"cut":false,"hidden":true,"merged":[]}
["Points",{"$f":"'Create Team'!B24","v":1},{"$f":"Roster!C3","v":"G"},{"$f":"F1*$B$2+G1*$B$3+H1*$B$1","v":27.400000000000002},{"$f":"per_game!B3 & \"-\" & D1","v":"Josh Smith-27.4"},{"$f":"per_game!R3","v":7.6},{"$f":"per_game!S3","v":3.7},{"$f":"per_game!X3","v":16.100000000000001},{"$f":"per_game!A3","v":1}]
["Rebounds",{"$f":"'Create Team'!B25","v":1},{"$f":"Roster!C4","v":"C"},{"$f":"F2*$B$2+G2*$B$3+H2*$B$1","v":28.9},{"$f":"per_game!B4 & \"-\" & D2","v":"Al Horford-28.9"},{"$f":"per_game!R4","v":9.5},{"$f":"per_game!S4","v":3.5},{"$f":"per_game!X4","v":15.9},{"$f":"per_game!A4","v":2}]
["Assists",{"$f":"'Create Team'!B26","v":1},{"$f":"Roster!C5","v":"G"},19.2,{"$f":"per_game!B5 & \"-\" & D3","v":"Louis Williams-19.2"},{"$f":"per_game!R5","v":2},{"$f":"per_game!S5","v":3.3},{"$f":"per_game!X5","v":13.9},{"$f":"per_game!A5","v":3}]
[null,null,{"$f":"Roster!C6","v":"F"},23.1,{"$f":"per_game!B6 & \"-\" & D4","v":"Jeff Teague-23.1"},{"$f":"per_game!R6","v":2.4},{"$f":"per_game!S6","v":7.1},{"$f":"per_game!X6","v":13.6},{"$f":"per_game!A6","v":4}]
[null,null,{"$f":"Roster!C7","v":"F"},16.100000000000001,{"$f":"per_game!B7 & \"-\" & D5","v":"Kyle Korver-16.1"},{"$f":"per_game!R7","v":3.7},{"$f":"per_game!S7","v":1.6},{"$f":"per_game!X7","v":10.8},{"$f":"per_game!A7","v":5}]
[null,null,{"$f":"Roster!C8","v":"G"},15.6,{"$f":"per_game!B8 & \"-\" & D6","v":"Zaza Pachulia-15.6"},{"$f":"per_game!R8","v":7.1},{"$f":"per_game!S8","v":1.6},{"$f":"per_game!X8","v":6.9},{"$f":"per_game!A8","v":6}]
[null,null,{"$f":"Roster!C9","v":"C"},10.899999999999999,{"$f":"per_game!B9 & \"-\" & D7","v":"Devin Harris-10.9"},{"$f":"per_game!R9","v":1.6},{"$f":"per_game!S9","v":2.5},{"$f":"per_game!X9","v":6.8},{"$f":"per_game!A9","v":7}]
[null,null,{"$f":"Roster!C10","v":"C"},10.200000000000001,{"$f":"per_game!B10 & \"-\" & D8","v":"DeShawn Stevenson-10.2"},{"$f":"per_game!R10","v":2.7},{"$f":"per_game!S10","v":1.1000000000000001},{"$f":"per_game!X10","v":6.4},{"$f":"per_game!A10","v":8}]
[null,null,{"$f":"Roster!C11","v":"F"},6.4,{"$f":"per_game!B11 & \"-\" & D9","v":"Anthony Morrow-6.4"},{"$f":"per_game!R11","v":0.6},{"$f":"per_game!S11","v":0.1},{"$f":"per_game!X11","v":5.7},{"$f":"per_game!A11","v":9}]
[null,null,{"$f":"Roster!C12","v":"F"},8.5,{"$f":"per_game!B12 & \"-\" & D10","v":"Ivan Johnson-8.5"},{"$f":"per_game!R12","v":3.1},{"$f":"per_game!S12","v":0.3},{"$f":"per_game!X12","v":5.0999999999999996},{"$f":"per_game!A12","v":10}]
[null,null,{"$f":"Roster!C13","v":"G"},5.5,{"$f":"per_game!B13 & \"-\" & D11","v":"Anthony Tolliver-5.5"},{"$f":"per_game!R13","v":2.2999999999999998},{"$f":"per_game!S13","v":0.1},{"$f":"per_game!X13","v":3.1},{"$f":"per_game!A13","v":11}]
[null,null,{"$f":"Roster!C14","v":"G"},2.5,{"$f":"per_game!B14 & \"-\" & D12","v":"John Jenkins-2.5"},{"$f":"per_game!R14","v":1},{"$f":"per_game!S14","v":0},{"$f":"per_game!X14","v":1.5},{"$f":"per_game!A14","v":12}]
[null,null,{"$f":"Roster!C15","v":"C"},1.2000000000000002,{"$f":"per_game!B15 & \"-\" & D13","v":"Mike Scott-1.2"},{"$f":"per_game!R15","v":0.8},{"$f":"per_game!S15","v":0},{"$f":"per_game!X15","v":0.4},{"$f":"per_game!A15","v":13}]
[null,null,{"$f":"Roster!C16","v":"G"},0,{"$f":"per_game!B16 & \"-\" & D14","v":"Johan Petro-0"},{"$f":"per_game!R16","v":0},{"$f":"per_game!S16","v":0},{"$f":"per_game!X16","v":0},{"$f":"per_game!A16","v":14}]
[null,null,{"$f":"Roster!C17","v":0},0,null,{"$f":"per_game!R17","v":0},{"$f":"per_game!S17","v":0},{"$f":"per_game!X17","v":0},{"$f":"per_game!A17","v":0}]
[null,null,{"$f":"Roster!C18","v":0},0,null,{"$f":"per_game!R18","v":0},{"$f":"per_game!S18","v":0},{"$f":"per_game!X18","v":0},{"$f":"per_game!A18","v":"BOS"}]
[null,null,{"$f":"Roster!C19","v":"Pos"},null,null,{"$f":"per_game!R19","v":"TRB"},{"$f":"per_game!S19","v":"AST"},{"$f":"per_game!X19","v":"PTS"},{"$f":"per_game!A19","v":"Rk"}]
[null,null,{"$f":"Roster!C20","v":"G"},28.1,{"$f":"per_game!B20 & \"-\" & D18","v":"Paul Pierce-28.1"},{"$f":"per_game!R20","v":5.7},{"$f":"per_game!S20","v":3.2},{"$f":"per_game!X20","v":19.2},{"$f":"per_game!A20","v":1}]
[null,null,{"$f":"Roster!C21","v":"F"},24.9,{"$f":"per_game!B21 & \"-\" & D19","v":"Kevin Garnett-24.9"},{"$f":"per_game!R21","v":7.4},{"$f":"per_game!S21","v":1.9},{"$f":"per_game!X21","v":15.6},{"$f":"per_game!A21","v":2}]
[null,null,{"$f":"Roster!C22","v":"C"},30.4,{"$f":"per_game!B22 & \"-\" & D20","v":"Rajon Rondo-30.4"},{"$f":"per_game!R22","v":4.5999999999999996},{"$f":"per_game!S22","v":12.9},{"$f":"per_game!X22","v":12.9},{"$f":"per_game!A22","v":3}]
[null,null,{"$f":"Roster!C23","v":"F"},15.799999999999999,{"$f":"per_game!B23 & \"-\" & D21","v":"Jason Terry-15.8"},{"$f":"per_game!R23","v":1.8},{"$f":"per_game!S23","v":2.2999999999999998},{"$f":"per_game!X23","v":11.7},{"$f":"per_game!A23","v":4}]
[null,null,{"$f":"Roster!C24","v":"F"},15.8,{"$f":"per_game!B24 & \"-\" & D22","v":"Brandon Bass-15.8"},{"$f":"per_game!R24","v":5.4},{"$f":"per_game!S24","v":0.9},{"$f":"per_game!X24","v":9.5},{"$f":"per_game!A24","v":5}]
[null,null,{"$f":"Roster!C25","v":"F"},12.4,{"$f":"per_game!B25 & \"-\" & D23","v":"Jeff Green-12.4"},{"$f":"per_game!R25","v":2.8},{"$f":"per_game!S25","v":0.7},{"$f":"per_game!X25","v":8.9},{"$f":"per_game!A25","v":6}]
[null,null,{"$f":"Roster!C26","v":"G"},8.6999999999999993,{"$f":"per_game!B26 & \"-\" & D24","v":"Leandro Barbosa-8.7"},{"$f":"per_game!R26","v":0.9},{"$f":"per_game!S26","v":1.5},{"$f":"per_game!X26","v":6.3},{"$f":"per_game!A26","v":7}]
[null,null,{"$f":"Roster!C27","v":"F-C"},9.9,{"$f":"per_game!B27 & \"-\" & D25","v":"Courtney Lee-9.9"},{"$f":"per_game!R27","v":2.5},{"$f":"per_game!S27","v":1.5},{"$f":"per_game!X27","v":5.9},{"$f":"per_game!A27","v":8}]
[null,null,{"$f":"Roster!C28","v":"F"},10.7,{"$f":"per_game!B28 & \"-\" & D26","v":"Jared Sullinger-10.7"},{"$f":"per_game!R28","v":4.5999999999999996},{"$f":"per_game!S28","v":0.6},{"$f":"per_game!X28","v":5.5},{"$f":"per_game!A28","v":9}]
[null,null,{"$f":"Roster!C29","v":"G"},6.6999999999999993,{"$f":"per_game!B29 & \"-\" & D27","v":"Chris Wilcox-6.7"},{"$f":"per_game!R29","v":2.1},{"$f":"per_game!S29","v":0.3},{"$f":"per_game!X29","v":4.3},{"$f":"per_game!A29","v":10}]
[null,null,{"$f":"Roster!C30","v":"F"},2,{"$f":"per_game!B30 & \"-\" & D28","v":"Kris Joseph-2"},{"$f":"per_game!R30","v":0.5},{"$f":"per_game!S30","v":0.5},{"$f":"per_game!X30","v":1},{"$f":"per_game!A30","v":11}]
[null,null,{"$f":"Roster!C31","v":"G"},2.8,{"$f":"per_game!B31 & \"-\" & D29","v":"Jason Collins-2.8"},{"$f":"per_game!R31","v":2.2999999999999998},{"$f":"per_game!S31","v":0},{"$f":"per_game!X31","v":0.5},{"$f":"per_game!A31","v":12}]
[null,null,{"$f":"Roster!C32","v":"F"},1,{"$f":"per_game!B32 & \"-\" & D30","v":"Darko Milicic-1"},{"$f":"per_game!R32","v":1},{"$f":"per_game!S32","v":0},{"$f":"per_game!X32","v":0},{"$f":"per_game!A32","v":13}]
[null,null,{"$f":"Roster!C33","v":0},0,null,{"$f":"per_game!R33","v":0},{"$f":"per_game!S33","v":0},{"$f":"per_game!X33","v":0},{"$f":"per_game!A33","v":0}]
[null,null,{"$f":"Roster!C34","v":0},0,null,{"$f":"per_game!R34","v":0},{"$f":"per_game!S34","v":0},{"$f":"per_game!X34","v":0},{"$f":"per_game!A34","v":"BRK"}]
[null,null,{"$f":"Roster!C35","v":"Pos"},null,null,{"$f":"per_game!R35","v":"TRB"},{"$f":"per_game!S35","v":"AST"},{"$f":"per_game!X35","v":"PTS"},{"$f":"per_game!A35","v":"Rk"}]
[null,null,{"$f":"Roster!C36","v":"F"},26.1,{"$f":"per_game!B36 & \"-\" & D34","v":"Brook Lopez-26.1"},{"$f":"per_game!R36","v":6.8},{"$f":"per_game!S36","v":0.8},{"$f":"per_game!X36","v":18.5},{"$f":"per_game!A36","v":1}]
[null,null,{"$f":"Roster!C37","v":"G-F"},22.2,{"$f":"per_game!B37 & \"-\" & D35","v":"Joe Johnson-22.2"},{"$f":"per_game!R37","v":2.8},{"$f":"per_game!S37","v":3.8},{"$f":"per_game!X37","v":15.6},{"$f":"per_game!A37","v":2}]
[null,null,{"$f":"Roster!C38","v":"G-F"},27.3,{"$f":"per_game!B38 & \"-\" & D36","v":"Deron Williams-27.3"},{"$f":"per_game!R38","v":3},{"$f":"per_game!S38","v":8.9},{"$f":"per_game!X38","v":15.4},{"$f":"per_game!A38","v":3}]
[null,null,{"$f":"Roster!C39","v":"G-F"},17,{"$f":"per_game!B39 & \"-\" & D37","v":"Andray Blatche-17"},{"$f":"per_game!R39","v":5.8},{"$f":"per_game!S39","v":1.1000000000000001},{"$f":"per_game!X39","v":10.1},{"$f":"per_game!A39","v":4}]
[null,null,{"$f":"Roster!C40","v":"F"},15.9,{"$f":"per_game!B40 & \"-\" & D38","v":"Gerald Wallace-15.9"},{"$f":"per_game!R40","v":4.0999999999999996},{"$f":"per_game!S40","v":2.4},{"$f":"per_game!X40","v":9.4},{"$f":"per_game!A40","v":5}]
[null,null,{"$f":"Roster!C41","v":"F"},16.799999999999997,{"$f":"per_game!B41 & \"-\" & D39","v":"Kris Humphries-16.8"},{"$f":"per_game!R41","v":8.1},{"$f":"per_game!S41","v":0.6},{"$f":"per_game!X41","v":8.1},{"$f":"per_game!A41","v":6}]
[null,null,{"$f":"Roster!C42","v":"G"},9.5,{"$f":"per_game!B42 & \"-\" & D40","v":"Jerry Stackhouse-9.5"},{"$f":"per_game!R42","v":1.4},{"$f":"per_game!S42","v":0.8},{"$f":"per_game!X42","v":7.3},{"$f":"per_game!A42","v":7}]
[null,null,{"$f":"Roster!C43","v":"C"},10.5,{"$f":"per_game!B43 & \"-\" & D41","v":"C.J. Watson-10.5"},{"$f":"per_game!R43","v":1.4},{"$f":"per_game!S43","v":1.8},{"$f":"per_game!X43","v":7.3},{"$f":"per_game!A43","v":8}]
[null,null,{"$f":"Roster!C44","v":"F"},9.6999999999999993,{"$f":"per_game!B44 & \"-\" & D42","v":"MarShon Brooks-9.7"},{"$f":"per_game!R44","v":1.7},{"$f":"per_game!S44","v":0.9},{"$f":"per_game!X44","v":7.1},{"$f":"per_game!A44","v":9}]
[null,null,{"$f":"Roster!C45","v":"G-F"},12.2,{"$f":"per_game!B45 & \"-\" & D43","v":"Reggie Evans-12.2"},{"$f":"per_game!R45","v":8.4},{"$f":"per_game!S45","v":0.7},{"$f":"per_game!X45","v":3.1},{"$f":"per_game!A45","v":10}]
[null,null,{"$f":"Roster!C46","v":"G"},5.6,{"$f":"per_game!B46 & \"-\" & D44","v":"Keith Bogans-5.6"},{"$f":"per_game!R46","v":1.4},{"$f":"per_game!S46","v":1.1000000000000001},{"$f":"per_game!X46","v":3.1},{"$f":"per_game!A46","v":11}]
[null,null,{"$f":"Roster!C47","v":"F"},4.9000000000000004,{"$f":"per_game!B47 & \"-\" & D45","v":"Mirza Teletovic-4.9"},{"$f":"per_game!R47","v":1.2},{"$f":"per_game!S47","v":0.7},{"$f":"per_game!X47","v":3},{"$f":"per_game!A47","v":12}]
[null,null,{"$f":"Roster!C48","v":"F"},2.2999999999999998,{"$f":"per_game!B48 & \"-\" & D46","v":"Tornike Shengelia-2.3"},{"$f":"per_game!R48","v":0.3},{"$f":"per_game!S48","v":0},{"$f":"per_game!X48","v":2},{"$f":"per_game!A48","v":13}]
[null,null,{"$f":"Roster!C49","v":"G"},3.3,{"$f":"per_game!B49 & \"-\" & D47","v":"Josh Childress-3.3"},{"$f":"per_game!R49","v":1.4},{"$f":"per_game!S49","v":0.5},{"$f":"per_game!X49","v":1.4},{"$f":"per_game!A49","v":14}]
[null,null,{"$f":"Roster!C50","v":"G"},1.2,{"$f":"per_game!B50 & \"-\" & D48","v":"Tyshawn Taylor-1.2"},{"$f":"per_game!R50","v":0},{"$f":"per_game!S50","v":0.2},{"$f":"per_game!X50","v":1},{"$f":"per_game!A50","v":15}]
[null,null,{"$f":"Roster!C51","v":0},0,null,{"$f":"per_game!R51","v":0},{"$f":"per_game!S51","v":0},{"$f":"per_game!X51","v":0},{"$f":"per_game!A51","v":0}]
[null,null,{"$f":"Roster!C52","v":0},0,null,{"$f":"per_game!R52","v":0},{"$f":"per_game!S52","v":0},{"$f":"per_game!X52","v":0},{"$f":"per_game!A52","v":"CHA"}]
[null,null,{"$f":"Roster!C53","v":"Pos"},null,null,{"$f":"per_game!R53","v":"TRB"},{"$f":"per_game!S53","v":"AST"},{"$f":"per_game!X53","v":"PTS"},{"$f":"per_game!A53","v":"Rk"}]
[null,null,{"$f":"Roster!C54","v":"F"},26.400000000000002,{"$f":"per_game!B54 & \"-\" & D52","v":"Kemba Walker-26.4"},{"$f":"per_game!R54","v":3.9},{"$f":"per_game!S54","v":5.9},{"$f":"per_game!X54","v":16.600000000000001},{"$f":"per_game!A54","v":1}]
[null,null,{"$f":"Roster!C55","v":"G"},24.1,{"$f":"per_game!B55 & \"-\" & D53","v":"Ramon Sessions-24.1"},{"$f":"per_game!R55","v":3.8},{"$f":"per_game!S55","v":4.7},{"$f":"per_game!X55","v":15.6},{"$f":"per_game!A55","v":2}]
[null,null,{"$f":"Roster!C56","v":"C"},20.2,{"$f":"per_game!B56 & \"-\" & D54","v":"Ben Gordon-20.2"},{"$f":"per_game!R56","v":2.2999999999999998},{"$f":"per_game!S56","v":2.9},{"$f":"per_game!X56","v":15},{"$f":"per_game!A56","v":3}]
[null,null,{"$f":"Roster!C57","v":"G"},22.5,{"$f":"per_game!B57 & \"-\" & D55","v":"Byron Mullens-22.5"},{"$f":"per_game!R57","v":8.4},{"$f":"per_game!S57","v":1.2},{"$f":"per_game!X57","v":12.9},{"$f":"per_game!A57","v":4}]
[null,null,{"$f":"Roster!C58","v":"C"},18.700000000000003,{"$f":"per_game!B58 & \"-\" & D56","v":"Michael Kidd-Gilchrist-18.7"},{"$f":"per_game!R58","v":6.3},{"$f":"per_game!S58","v":1.6},{"$f":"per_game!X58","v":10.8},{"$f":"per_game!A58","v":5}]
[null,null,{"$f":"Roster!C59","v":"G"},13.4,{"$f":"per_game!B59 & \"-\" & D57","v":"Gerald Henderson-13.4"},{"$f":"per_game!R59","v":1.7},{"$f":"per_game!S59","v":1.7},{"$f":"per_game!X59","v":10},{"$f":"per_game!A59","v":6}]
[null,null,{"$f":"Roster!C60","v":"G"},11.600000000000001,{"$f":"per_game!B60 & \"-\" & D58","v":"Jeff Taylor-11.6"},{"$f":"per_game!R60","v":2.4},{"$f":"per_game!S60","v":0.9},{"$f":"per_game!X60","v":8.3000000000000007},{"$f":"per_game!A60","v":7}]
[null,null,{"$f":"Roster!C61","v":"F"},10.7,{"$f":"per_game!B61 & \"-\" & D59","v":"Tyrus Thomas-10.7"},{"$f":"per_game!R61","v":3.1},{"$f":"per_game!S61","v":1},{"$f":"per_game!X61","v":6.6},{"$f":"per_game!A61","v":8}]
[null,null,{"$f":"Roster!C62","v":"C"},14.100000000000001,{"$f":"per_game!B62 & \"-\" & D60","v":"Brendan Haywood-14.1"},{"$f":"per_game!R62","v":6.9},{"$f":"per_game!S62","v":0.7},{"$f":"per_game!X62","v":6.5},{"$f":"per_game!A62","v":9}]
[null,null,{"$f":"Roster!C63","v":"G"},9.6,{"$f":"per_game!B63 & \"-\" & D61","v":"Bismack Biyombo-9.6"},{"$f":"per_game!R63","v":5.0999999999999996},{"$f":"per_game!S63","v":0.1},{"$f":"per_game!X63","v":4.4000000000000004},{"$f":"per_game!A63","v":10}]
[null,null,{"$f":"Roster!C64","v":"F"},5.8,{"$f":"per_game!B64 & \"-\" & D62","v":"Reggie Williams-5.8"},{"$f":"per_game!R64","v":1.2},{"$f":"per_game!S64","v":0.5},{"$f":"per_game!X64","v":4.0999999999999996},{"$f":"per_game!A64","v":11}]
[null,null,{"$f":"Roster!C65","v":"F"},4.2,{"$f":"per_game!B65 & \"-\" & D63","v":"Hakim Warrick-4.2"},{"$f":"per_game!R65","v":1.8},{"$f":"per_game!S65","v":0.2},{"$f":"per_game!X65","v":2.2000000000000002},{"$f":"per_game!A65","v":12}]
[null,null,{"$f":"Roster!C66","v":"G"},2.6,{"$f":"per_game!B66 & \"-\" & D64","v":"Cory Higgins-2.6"},{"$f":"per_game!R66","v":0.4},{"$f":"per_game!S66","v":0.8},{"$f":"per_game!X66","v":1.4},{"$f":"per_game!A66","v":13}]
[null,null,{"$f":"Roster!C67","v":"F"},2.1999999999999997,{"$f":"per_game!B67 & \"-\" & D65","v":"DeSagana Diop-2.2"},{"$f":"per_game!R67","v":1.9},{"$f":"per_game!S67","v":0.3},{"$f":"per_game!X67","v":0},{"$f":"per_game!A67","v":14}]
[null,null,{"$f":"Roster!C68","v":"F"},{"$f":"F66*$B$2+G66*$B$3+H66*$B$1","v":1},{"$f":"per_game!B68 & \"-\" & D66","v":"Matt Carroll-1"},{"$f":"per_game!R68","v":0},{"$f":"per_game!S68","v":1},{"$f":"per_game!X68","v":0},{"$f":"per_game!A68","v":15}]
[null,null,{"$f":"Roster!C69","v":0},0,null,{"$f":"per_game!R69","v":0},{"$f":"per_game!S69","v":0},{"$f":"per_game!X69","v":0},{"$f":"per_game!A69","v":0}]
[null,null,{"$f":"Roster!C70","v":0},0,null,{"$f":"per_game!R70","v":0},{"$f":"per_game!S70","v":0},{"$f":"per_game!X70","v":0},{"$f":"per_game!A70","v":"CHI"}]
[null,null,{"$f":"Roster!C71","v":"Pos"},null,null,{"$f":"per_game!R71","v":"TRB"},{"$f":"per_game!S71","v":"AST"},{"$f":"per_game!X71","v":"PTS"},{"$f":"per_game!A71","v":"Rk"}]
[null,null,{"$f":"Roster!C72","v":"G"},28.200000000000003,{"$f":"per_game!B72 & \"-\" & D70","v":"Luol Deng-28.2"},{"$f":"per_game!R72","v":7.4},{"$f":"per_game!S72","v":2.7},{"$f":"per_game!X72","v":18.100000000000001},{"$f":"per_game!A72","v":1}]
[null,null,{"$f":"Roster!C73","v":"F-C"},18.5,{"$f":"per_game!B73 & \"-\" & D71","v":"Richard Hamilton-18.5"},{"$f":"per_game!R73","v":2.2999999999999998},{"$f":"per_game!S73","v":2.2999999999999998},{"$f":"per_game!X73","v":13.9},{"$f":"per_game!A73","v":2}]
[null,null,{"$f":"Roster!C74","v":"F"},25.299999999999997,{"$f":"per_game!B74 & \"-\" & D72","v":"Carlos Boozer-25.3"},{"$f":"per_game!R74","v":9.6999999999999993},{"$f":"per_game!S74","v":1.9},{"$f":"per_game!X74","v":13.7},{"$f":"per_game!A74","v":3}]
[null,null,{"$f":"Roster!C75","v":"F"},27.5,{"$f":"per_game!B75 & \"-\" & D73","v":"Joakim Noah-27.5"},{"$f":"per_game!R75","v":9.9},{"$f":"per_game!S75","v":4.3},{"$f":"per_game!X75","v":13.3},{"$f":"per_game!A75","v":4}]
[null,null,{"$f":"Roster!C76","v":"F"},16.899999999999999,{"$f":"per_game!B76 & \"-\" & D74","v":"Nate Robinson-16.9"},{"$f":"per_game!R76","v":2.1},{"$f":"per_game!S76","v":3.6},{"$f":"per_game!X76","v":11.2},{"$f":"per_game!A76","v":5}]
[null,null,{"$f":"Roster!C77","v":"G-F"},12.8,{"$f":"per_game!B77 & \"-\" & D75","v":"Taj Gibson-12.8"},{"$f":"per_game!R77","v":4.9000000000000004},{"$f":"per_game!S77","v":0.9},{"$f":"per_game!X77","v":7},{"$f":"per_game!A77","v":6}]
[null,null,{"$f":"Roster!C78","v":"G"},14.399999999999999,{"$f":"per_game!B78 & \"-\" & D76","v":"Kirk Hinrich-14.4"},{"$f":"per_game!R78","v":2.6},{"$f":"per_game!S78","v":5.6},{"$f":"per_game!X78","v":6.2},{"$f":"per_game!A78","v":7}]
[null,null,{"$f":"Roster!C79","v":"C"},8.6000000000000014,{"$f":"per_game!B79 & \"-\" & D77","v":"Jimmy Butler-8.6"},{"$f":"per_game!R79","v":2.5},{"$f":"per_game!S79","v":0.7},{"$f":"per_game!X79","v":5.4},{"$f":"per_game!A79","v":8}]
[null,null,{"$f":"Roster!C80","v":"C"},6.6,{"$f":"per_game!B80 & \"-\" & D78","v":"Marco Belinelli-6.6"},{"$f":"per_game!R80","v":0.9},{"$f":"per_game!S80","v":0.7},{"$f":"per_game!X80","v":5},{"$f":"per_game!A80","v":9}]
[null,null,{"$f":"Roster!C81","v":"F"},2,{"$f":"per_game!B81 & \"-\" & D79","v":"Vladimir Radmanovic-2"},{"$f":"per_game!R81","v":0.4},{"$f":"per_game!S81","v":0.2},{"$f":"per_game!X81","v":1.4},{"$f":"per_game!A81","v":10}]
[null,null,{"$f":"Roster!C82","v":"G"},3.0999999999999996,{"$f":"per_game!B82 & \"-\" & D80","v":"Marquis Teague-3.1"},{"$f":"per_game!R82","v":0.7},{"$f":"per_game!S82","v":1.2},{"$f":"per_game!X82","v":1.2},{"$f":"per_game!A82","v":11}]
[null,null,{"$f":"Roster!C83","v":"G"},2.8999999999999995,{"$f":"per_game!B83 & \"-\" & D81","v":"Nazr Mohammed-2.9"},{"$f":"per_game!R83","v":1.9},{"$f":"per_game!S83","v":0.3},{"$f":"per_game!X83","v":0.7},{"$f":"per_game!A83","v":12}]
[null,null,{"$f":"Roster!C84","v":0},0,null,{"$f":"per_game!R84","v":0},{"$f":"per_game!S84","v":0},{"$f":"per_game!X84","v":0},{"$f":"per_game!A84","v":0}]
[null,null,{"$f":"Roster!C85","v":0},0,null,{"$f":"per_game!R85","v":0},{"$f":"per_game!S85","v":0},{"$f":"per_game!X85","v":0},{"$f":"per_game!A85","v":"CLE"}]
[null,null,{"$f":"Roster!C86","v":"Pos"},null,null,{"$f":"per_game!R86","v":"TRB"},{"$f":"per_game!S86","v":"AST"},{"$f":"per_game!X86","v":"PTS"},{"$f":"per_game!A86","v":"Rk"}]
[null,null,{"$f":"Roster!C87","v":"F"},32.200000000000003,{"$f":"per_game!B87 & \"-\" & D85","v":"Kyrie Irving-32.2"},{"$f":"per_game!R87","v":3.7},{"$f":"per_game!S87","v":5.6},{"$f":"per_game!X87","v":22.9},{"$f":"per_game!A87","v":1}]
[null,null,{"$f":"Roster!C88","v":"G"},20.9,{"$f":"per_game!B88 & \"-\" & D86","v":"Dion Waiters-20.9"},{"$f":"per_game!R88","v":2.2999999999999998},{"$f":"per_game!S88","v":3.4},{"$f":"per_game!X88","v":15.2},{"$f":"per_game!A88","v":2}]
[null,null,{"$f":"Roster!C89","v":"G"},33.799999999999997,{"$f":"per_game!B89 & \"-\" & D87","v":"Anderson Varejao-33.8"},{"$f":"per_game!R89","v":15.4},{"$f":"per_game!S89","v":3.2},{"$f":"per_game!X89","v":15.2},{"$f":"per_game!A89","v":3}]
[null,null,{"$f":"Roster!C90","v":"G"},17.899999999999999,{"$f":"per_game!B90 & \"-\" & D88","v":"Alonzo Gee-17.9"},{"$f":"per_game!R90","v":3.7},{"$f":"per_game!S90","v":2.1},{"$f":"per_game!X90","v":12.1},{"$f":"per_game!A90","v":4}]
[null,null,{"$f":"Roster!C91","v":"F"},17.399999999999999,{"$f":"per_game!B91 & \"-\" & D89","v":"Jeremy Pargo-17.4"},{"$f":"per_game!R91","v":1.9},{"$f":"per_game!S91","v":3.8},{"$f":"per_game!X91","v":11.7},{"$f":"per_game!A91","v":5}]
[null,null,{"$f":"Roster!C92","v":"G"},18.2,{"$f":"per_game!B92 & \"-\" & D90","v":"Tristan Thompson-18.2"},{"$f":"per_game!R92","v":8.1},{"$f":"per_game!S92","v":1.2},{"$f":"per_game!X92","v":8.9},{"$f":"per_game!A92","v":6}]
[null,null,{"$f":"Roster!C93","v":"G"},12.3,{"$f":"per_game!B93 & \"-\" & D91","v":"Daniel Gibson-12.3"},{"$f":"per_game!R93","v":1.7},{"$f":"per_game!S93","v":2.1},{"$f":"per_game!X93","v":8.5},{"$f":"per_game!A93","v":7}]
[null,null,{"$f":"Roster!C94","v":"F"},12.3,{"$f":"per_game!B94 & \"-\" & D92","v":"Tyler Zeller-12.3"},{"$f":"per_game!R94","v":4.8},{"$f":"per_game!S94","v":0.9},{"$f":"per_game!X94","v":6.6},{"$f":"per_game!A94","v":8}]
[null,null,{"$f":"Roster!C95","v":"G"},9.1999999999999993,{"$f":"per_game!B95 & \"-\" & D93","v":"Omri Casspi-9.2"},{"$f":"per_game!R95","v":2.5},{"$f":"per_game!S95","v":0.4},{"$f":"per_game!X95","v":6.3},{"$f":"per_game!A95","v":9}]
[null,null,{"$f":"Roster!C96","v":"F"},8.6,{"$f":"per_game!B96 & \"-\" & D94","v":"C.J. Miles-8.6"},{"$f":"per_game!R96","v":2.1},{"$f":"per_game!S96","v":0.7},{"$f":"per_game!X96","v":5.8},{"$f":"per_game!A96","v":10}]
[null,null,{"$f":"Roster!C97","v":"F-C"},6.6,{"$f":"per_game!B97 & \"-\" & D95","v":"Donald Sloan-6.6"},{"$f":"per_game!R97","v":1.1000000000000001},{"$f":"per_game!S97","v":2},{"$f":"per_game!X97","v":3.5},{"$f":"per_game!A97","v":11}]
[null,null,{"$f":"Roster!C98","v":"G"},5.4,{"$f":"per_game!B98 & \"-\" & D96","v":"Samardo Samuels-5.4"},{"$f":"per_game!R98","v":1.7},{"$f":"per_game!S98","v":0.4},{"$f":"per_game!X98","v":3.3},{"$f":"per_game!A98","v":12}]
[null,null,{"$f":"Roster!C99","v":"F"},5.8000000000000007,{"$f":"per_game!B99 & \"-\" & D97","v":"Jon Leuer-5.8"},{"$f":"per_game!R99","v":2},{"$f":"per_game!S99","v":0.6},{"$f":"per_game!X99","v":3.2},{"$f":"per_game!A99","v":13}]
[null,null,{"$f":"Roster!C100","v":"F-C"},1.4,{"$f":"per_game!B100 & \"-\" & D98","v":"Luke Walton-1.4"},{"$f":"per_game!R100","v":0.6},{"$f":"per_game!S100","v":0.4},{"$f":"per_game!X100","v":0.4},{"$f":"per_game!A100","v":14}]
[null,null,{"$f":"Roster!C101","v":0},0,null,{"$f":"per_game!R101","v":0},{"$f":"per_game!S101","v":0},{"$f":"per_game!X101","v":0},{"$f":"per_game!A101","v":0}]
[null,null,{"$f":"Roster!C102","v":0},0,null,{"$f":"per_game!R102","v":0},{"$f":"per_game!S102","v":0},{"$f":"per_game!X102","v":0},{"$f":"per_game!A102","v":"DAL"}]
[null,null,{"$f":"Roster!C103","v":"Pos"},null,null,{"$f":"per_game!R103","v":"TRB"},{"$f":"per_game!S103","v":"AST"},{"$f":"per_game!X103","v":"PTS"},{"$f":"per_game!A103","v":"Rk"}]
[null,null,{"$f":"Roster!C104","v":"G"},26.9,{"$f":"per_game!B104 & \"-\" & D102","v":"O.J. Mayo-26.9"},{"$f":"per_game!R104","v":3.5},{"$f":"per_game!S104","v":3.2},{"$f":"per_game!X104","v":20.2},{"$f":"per_game!A104","v":1}]
[null,null,{"$f":"Roster!C105","v":"F"},21.5,{"$f":"per_game!B105 & \"-\" & D103","v":"Chris Kaman-21.5"},{"$f":"per_game!R105","v":6.9},{"$f":"per_game!S105","v":1},{"$f":"per_game!X105","v":13.6},{"$f":"per_game!A105","v":2}]
[null,null,{"$f":"Roster!C106","v":"G-F"},17.899999999999999,{"$f":"per_game!B106 & \"-\" & D104","v":"Vince Carter-17.9"},{"$f":"per_game!R106","v":3.1},{"$f":"per_game!S106","v":1.7},{"$f":"per_game!X106","v":13.1},{"$f":"per_game!A106","v":3}]
[null,null,{"$f":"Roster!C107","v":"G"},21.1,{"$f":"per_game!B107 & \"-\" & D105","v":"Darren Collison-21.1"},{"$f":"per_game!R107","v":2.2999999999999998},{"$f":"per_game!S107","v":6.4},{"$f":"per_game!X107","v":12.4},{"$f":"per_game!A107","v":4}]
[null,null,{"$f":"Roster!C108","v":"F"},19.399999999999999,{"$f":"per_game!B108 & \"-\" & D106","v":"Shawn Marion-19.4"},{"$f":"per_game!R108","v":7.4},{"$f":"per_game!S108","v":2.8},{"$f":"per_game!X108","v":9.1999999999999993},{"$f":"per_game!A108","v":5}]
[null,null,{"$f":"Roster!C109","v":"G"},12.6,{"$f":"per_game!B109 & \"-\" & D107","v":"Brandan Wright-12.6"},{"$f":"per_game!R109","v":3.3},{"$f":"per_game!S109","v":0.8},{"$f":"per_game!X109","v":8.5},{"$f":"per_game!A109","v":6}]
[null,null,{"$f":"Roster!C110","v":"C"},14.9,{"$f":"per_game!B110 & \"-\" & D108","v":"Elton Brand-14.9"},{"$f":"per_game!R110","v":6.4},{"$f":"per_game!S110","v":1.6},{"$f":"per_game!X110","v":6.9},{"$f":"per_game!A110","v":7}]
[null,null,{"$f":"Roster!C111","v":"G"},10.7,{"$f":"per_game!B111 & \"-\" & D109","v":"Jae Crowder-10.7"},{"$f":"per_game!R111","v":2.7},{"$f":"per_game!S111","v":1.2},{"$f":"per_game!X111","v":6.8},{"$f":"per_game!A111","v":8}]
[null,null,{"$f":"Roster!C112","v":"C"},8.6,{"$f":"per_game!B112 & \"-\" & D110","v":"Troy Murphy-8.6"},{"$f":"per_game!R112","v":3.5},{"$f":"per_game!S112","v":0.5},{"$f":"per_game!X112","v":4.5999999999999996},{"$f":"per_game!A112","v":9}]
[null,null,{"$f":"Roster!C113","v":"G"},6.5,{"$f":"per_game!B113 & \"-\" & D111","v":"Eddy Curry-6.5"},{"$f":"per_game!R113","v":2},{"$f":"per_game!S113","v":0},{"$f":"per_game!X113","v":4.5},{"$f":"per_game!A113","v":10}]
[null,null,{"$f":"Roster!C114","v":"G"},9,{"$f":"per_game!B114 & \"-\" & D112","v":"Rodrigue Beaubois-9"},{"$f":"per_game!R114","v":1.8},{"$f":"per_game!S114","v":2.7},{"$f":"per_game!X114","v":4.5},{"$f":"per_game!A114","v":11}]
[null,null,{"$f":"Roster!C115","v":"C"},8,{"$f":"per_game!B115 & \"-\" & D113","v":"Bernard James-8"},{"$f":"per_game!R115","v":3.8},{"$f":"per_game!S115","v":0},{"$f":"per_game!X115","v":4.2},{"$f":"per_game!A115","v":12}]
[null,null,{"$f":"Roster!C116","v":"F"},9.9,{"$f":"per_game!B116 & \"-\" & D114","v":"Dominique Jones-9.9"},{"$f":"per_game!R116","v":2.1},{"$f":"per_game!S116","v":3.6},{"$f":"per_game!X116","v":4.2},{"$f":"per_game!A116","v":13}]
[null,null,{"$f":"Roster!C117","v":"G"},4.6999999999999993,{"$f":"per_game!B117 & \"-\" & D115","v":"Dahntay Jones-4.7"},{"$f":"per_game!R117","v":1.5},{"$f":"per_game!S117","v":0.4},{"$f":"per_game!X117","v":2.8},{"$f":"per_game!A117","v":14}]
[null,null,{"$f":"Roster!C118","v":"F"},7,{"$f":"per_game!B118 & \"-\" & D116","v":"Derek Fisher-7"},{"$f":"per_game!R118","v":2},{"$f":"per_game!S118","v":3},{"$f":"per_game!X118","v":2},{"$f":"per_game!A118","v":15}]
[null,null,{"$f":"Roster!C119","v":"F"},2.2000000000000002,null,{"$f":"per_game!R119","v":0.3},{"$f":"per_game!S119","v":0.2},{"$f":"per_game!X119","v":1.7},{"$f":"per_game!A119","v":16}]
[null,null,{"$f":"Roster!C120","v":0},0,null,{"$f":"per_game!R120","v":0},{"$f":"per_game!S120","v":0},{"$f":"per_game!X120","v":0},{"$f":"per_game!A120","v":0}]
[null,null,{"$f":"Roster!C121","v":0},0,null,{"$f":"per_game!R121","v":0},{"$f":"per_game!S121","v":0},{"$f":"per_game!X121","v":0},{"$f":"per_game!A121","v":"DEN"}]
[null,null,{"$f":"Roster!C122","v":"Pos"},null,{"$f":"per_game!B122 & \"-\" & D120","v":"Player-"},{"$f":"per_game!R122","v":"TRB"},{"$f":"per_game!S122","v":"AST"},{"$f":"per_game!X122","v":"PTS"},{"$f":"per_game!A122","v":"Rk"}]
[null,null,{"$f":"Roster!C123","v":"F"},24,{"$f":"per_game!B123 & \"-\" & D121","v":"Danilo Gallinari-24"},{"$f":"per_game!R123","v":6.1},{"$f":"per_game!S123","v":2.4},{"$f":"per_game!X123","v":15.5},{"$f":"per_game!A123","v":1}]
[null,null,{"$f":"Roster!C124","v":"F"},24.200000000000003,{"$f":"per_game!B124 & \"-\" & D122","v":"Andre Iguodala-24.2"},{"$f":"per_game!R124","v":5.5},{"$f":"per_game!S124","v":3.8},{"$f":"per_game!X124","v":14.9},{"$f":"per_game!A124","v":2}]
[null,null,{"$f":"Roster!C125","v":"F"},23.3,{"$f":"per_game!B125 & \"-\" & D123","v":"Ty Lawson-23.3"},{"$f":"per_game!R125","v":2.7},{"$f":"per_game!S125","v":7.2},{"$f":"per_game!X125","v":13.4},{"$f":"per_game!A125","v":3}]
[null,null,{"$f":"Roster!C126","v":"G-F"},24.4,{"$f":"per_game!B126 & \"-\" & D124","v":"Kenneth Faried-24.4"},{"$f":"per_game!R126","v":10.5},{"$f":"per_game!S126","v":0.7},{"$f":"per_game!X126","v":13.2},{"$f":"per_game!A126","v":4}]
[null,null,{"$f":"Roster!C127","v":"F"},17.100000000000001,{"$f":"per_game!B127 & \"-\" & D125","v":"JaVale McGee-17.1"},{"$f":"per_game!R127","v":5.7},{"$f":"per_game!S127","v":0.6},{"$f":"per_game!X127","v":10.8},{"$f":"per_game!A127","v":5}]
[null,null,{"$f":"Roster!C128","v":"G-F"},14.3,{"$f":"per_game!B128 & \"-\" & D126","v":"Corey Brewer-14.3"},{"$f":"per_game!R128","v":3.1},{"$f":"per_game!S128","v":0.7},{"$f":"per_game!X128","v":10.5},{"$f":"per_game!A128","v":6}]
[null,null,{"$f":"Roster!C129","v":"G-F"},16.3,{"$f":"per_game!B129 & \"-\" & D127","v":"Andre Miller-16.3"},{"$f":"per_game!R129","v":2.8},{"$f":"per_game!S129","v":5.0999999999999996},{"$f":"per_game!X129","v":8.4},{"$f":"per_game!A129","v":7}]
[null,null,{"$f":"Roster!C130","v":"C"},10.199999999999999,{"$f":"per_game!B130 & \"-\" & D128","v":"Jordan Hamilton-10.2"},{"$f":"per_game!R130","v":2.9},{"$f":"per_game!S130","v":0.8},{"$f":"per_game!X130","v":6.5},{"$f":"per_game!A130","v":8}]
[null,null,{"$f":"Roster!C131","v":"G"},11.5,{"$f":"per_game!B131 & \"-\" & D129","v":"Wilson Chandler-11.5"},{"$f":"per_game!R131","v":5},{"$f":"per_game!S131","v":0},{"$f":"per_game!X131","v":6.5},{"$f":"per_game!A131","v":9}]
[null,null,{"$f":"Roster!C132","v":"C"},{"$f":"F130*$B$2+G130*$B$3+H130*$B$1","v":12.7},{"$f":"per_game!B132 & \"-\" & D130","v":"Kosta Koufos-12.7"},{"$f":"per_game!R132","v":5.9},{"$f":"per_game!S132","v":0.5},{"$f":"per_game!X132","v":6.3},{"$f":"per_game!A132","v":10}]
[null,null,{"$f":"Roster!C133","v":"G"},4.7,{"$f":"per_game!B133 & \"-\" & D131","v":"Evan Fournier-4.7"},{"$f":"per_game!R133","v":0.4},{"$f":"per_game!S133","v":0.9},{"$f":"per_game!X133","v":3.4},{"$f":"per_game!A133","v":11}]
[null,null,{"$f":"Roster!C134","v":"C"},6.6999999999999993,{"$f":"per_game!B134 & \"-\" & D132","v":"Timofey Mozgov-6.7"},{"$f":"per_game!R134","v":3.3},{"$f":"per_game!S134","v":0.3},{"$f":"per_game!X134","v":3.1},{"$f":"per_game!A134","v":12}]
[null,null,{"$f":"Roster!C135","v":"F"},2.7,null,{"$f":"per_game!R135","v":1},{"$f":"per_game!S135","v":1},{"$f":"per_game!X135","v":0.7},{"$f":"per_game!A135","v":13}]
[null,null,{"$f":"Roster!C136","v":0},0,null,{"$f":"per_game!R136","v":0},{"$f":"per_game!S136","v":0},{"$f":"per_game!X136","v":0},{"$f":"per_game!A136","v":0}]
[null,null,{"$f":"Roster!C137","v":0},0,null,{"$f":"per_game!R137","v":0},{"$f":"per_game!S137","v":0},{"$f":"per_game!X137","v":0},{"$f":"per_game!A137","v":"DET"}]
[null,null,{"$f":"Roster!C138","v":"Pos"},null,{"$f":"per_game!B138 & \"-\" & D136","v":"Player-"},{"$f":"per_game!R138","v":"TRB"},{"$f":"per_game!S138","v":"AST"},{"$f":"per_game!X138","v":"PTS"},{"$f":"per_game!A138","v":"Rk"}]
[null,null,{"$f":"Roster!C139","v":"G"},29.1,{"$f":"per_game!B139 & \"-\" & D137","v":"Greg Monroe-29.1"},{"$f":"per_game!R139","v":9.9},{"$f":"per_game!S139","v":3.5},{"$f":"per_game!X139","v":15.7},{"$f":"per_game!A139","v":1}]
[null,null,{"$f":"Roster!C140","v":"F"},22.4,{"$f":"per_game!B140 & \"-\" & D138","v":"Brandon Knight-22.4"},{"$f":"per_game!R140","v":3.6},{"$f":"per_game!S140","v":5.3},{"$f":"per_game!X140","v":13.5},{"$f":"per_game!A140","v":2}]
[null,null,{"$f":"Roster!C141","v":"C"},18.899999999999999,{"$f":"per_game!B141 & \"-\" & D139","v":"Tayshaun Prince-18.9"},{"$f":"per_game!R141","v":4.2},{"$f":"per_game!S141","v":2.4},{"$f":"per_game!X141","v":12.3},{"$f":"per_game!A141","v":3}]
[null,null,{"$f":"Roster!C142","v":"G"},14.9,{"$f":"per_game!B142 & \"-\" & D140","v":"Kyle Singler-14.9"},{"$f":"per_game!R142","v":3.6},{"$f":"per_game!S142","v":1},{"$f":"per_game!X142","v":10.3},{"$f":"per_game!A142","v":4}]
[null,null,{"$f":"Roster!C143","v":"F"},16.3,{"$f":"per_game!B143 & \"-\" & D141","v":"Rodney Stuckey-16.3"},{"$f":"per_game!R143","v":3},{"$f":"per_game!S143","v":3.7},{"$f":"per_game!X143","v":9.6},{"$f":"per_game!A143","v":5}]
[null,null,{"$f":"Roster!C144","v":"G"},16.100000000000001,{"$f":"per_game!B144 & \"-\" & D142","v":"Jason Maxiell-16.1"},{"$f":"per_game!R144","v":6.5},{"$f":"per_game!S144","v":0.7},{"$f":"per_game!X144","v":8.9},{"$f":"per_game!A144","v":6}]
[null,null,{"$f":"Roster!C145","v":"F"},10.199999999999999,{"$f":"per_game!B145 & \"-\" & D143","v":"Charlie Villanueva-10.2"},{"$f":"per_game!R145","v":2.6},{"$f":"per_game!S145","v":0.9},{"$f":"per_game!X145","v":6.7},{"$f":"per_game!A145","v":7}]
[null,null,{"$f":"Roster!C146","v":"F"},12.600000000000001,{"$f":"per_game!B146 & \"-\" & D144","v":"Andre Drummond-12.6"},{"$f":"per_game!R146","v":6.2},{"$f":"per_game!S146","v":0.5},{"$f":"per_game!X146","v":5.9},{"$f":"per_game!A146","v":8}]
[null,null,{"$f":"Roster!C147","v":"F"},9.1999999999999993,{"$f":"per_game!B147 & \"-\" & D145","v":"Jonas Jerebko-9.2"},{"$f":"per_game!R147","v":2.9},{"$f":"per_game!S147","v":0.5},{"$f":"per_game!X147","v":5.8},{"$f":"per_game!A147","v":9}]
[null,null,{"$f":"Roster!C148","v":"F-C"},9,{"$f":"per_game!B148 & \"-\" & D146","v":"Will Bynum-9"},{"$f":"per_game!R148","v":0.9},{"$f":"per_game!S148","v":2.5},{"$f":"per_game!X148","v":5.6},{"$f":"per_game!A148","v":10}]
[null,null,{"$f":"Roster!C149","v":"F"},7.9,{"$f":"per_game!B149 & \"-\" & D147","v":"Corey Maggette-7.9"},{"$f":"per_game!R149","v":1},{"$f":"per_game!S149","v":1.4},{"$f":"per_game!X149","v":5.5},{"$f":"per_game!A149","v":11}]
[null,null,{"$f":"Roster!C150","v":"F"},4.4000000000000004,{"$f":"per_game!B150 & \"-\" & D148","v":"Kim English-4.4"},{"$f":"per_game!R150","v":0.5},{"$f":"per_game!S150","v":0.7},{"$f":"per_game!X150","v":3.2},{"$f":"per_game!A150","v":12}]
[null,null,{"$f":"Roster!C151","v":"G"},3.8,{"$f":"per_game!B151 & \"-\" & D149","v":"Austin Daye-3.8"},{"$f":"per_game!R151","v":1},{"$f":"per_game!S151","v":0.4},{"$f":"per_game!X151","v":2.4},{"$f":"per_game!A151","v":13}]
[null,null,{"$f":"Roster!C152","v":"F"},2,null,{"$f":"per_game!R152","v":0},{"$f":"per_game!S152","v":0.7},{"$f":"per_game!X152","v":1.3},{"$f":"per_game!A152","v":14}]
[null,null,{"$f":"Roster!C153","v":0},0,null,{"$f":"per_game!R153","v":0},{"$f":"per_game!S153","v":0},{"$f":"per_game!X153","v":0},{"$f":"per_game!A153","v":0}]
[null,null,{"$f":"Roster!C154","v":0},0,null,{"$f":"per_game!R154","v":0},{"$f":"per_game!S154","v":0},{"$f":"per_game!X154","v":0},{"$f":"per_game!A154","v":"GSW"}]
[null,null,{"$f":"Roster!C155","v":"Pos"},null,{"$f":"per_game!B155 & \"-\" & D153","v":"Player-"},{"$f":"per_game!R155","v":"TRB"},{"$f":"per_game!S155","v":"AST"},{"$f":"per_game!X155","v":"PTS"},{"$f":"per_game!A155","v":"Rk"}]
[null,null,{"$f":"Roster!C156","v":"F"},29.2,{"$f":"per_game!B156 & \"-\" & D154","v":"Stephen Curry-29.2"},{"$f":"per_game!R156","v":3.9},{"$f":"per_game!S156","v":6.4},{"$f":"per_game!X156","v":18.899999999999999},{"$f":"per_game!A156","v":1}]
[null,null,{"$f":"Roster!C157","v":"G"},31.9,{"$f":"per_game!B157 & \"-\" & D155","v":"David Lee-31.9"},{"$f":"per_game!R157","v":10.7},{"$f":"per_game!S157","v":3.8},{"$f":"per_game!X157","v":17.399999999999999},{"$f":"per_game!A157","v":2}]
[null,null,{"$f":"Roster!C158","v":"C"},21.7,{"$f":"per_game!B158 & \"-\" & D156","v":"Klay Thompson-21.7"},{"$f":"per_game!R158","v":4.0999999999999996},{"$f":"per_game!S158","v":2.2000000000000002},{"$f":"per_game!X158","v":15.4},{"$f":"per_game!A158","v":3}]
[null,null,{"$f":"Roster!C159","v":"C"},22.2,{"$f":"per_game!B159 & \"-\" & D157","v":"Carl Landry-22.2"},{"$f":"per_game!R159","v":7.1},{"$f":"per_game!S159","v":1.1000000000000001},{"$f":"per_game!X159","v":14},{"$f":"per_game!A159","v":4}]
[null,null,{"$f":"Roster!C160","v":"G"},17.5,{"$f":"per_game!B160 & \"-\" & D158","v":"Jarrett Jack-17.5"},{"$f":"per_game!R160","v":3},{"$f":"per_game!S160","v":4.5},{"$f":"per_game!X160","v":10},{"$f":"per_game!A160","v":5}]
[null,null,{"$f":"Roster!C161","v":"C"},16,{"$f":"per_game!B161 & \"-\" & D159","v":"Harrison Barnes-16"},{"$f":"per_game!R161","v":4.8},{"$f":"per_game!S161","v":1.4},{"$f":"per_game!X161","v":9.8000000000000007},{"$f":"per_game!A161","v":6}]
[null,null,{"$f":"Roster!C162","v":"F"},8.5,{"$f":"per_game!B162 & \"-\" & D160","v":"Brandon Rush-8.5"},{"$f":"per_game!R162","v":0.5},{"$f":"per_game!S162","v":1},{"$f":"per_game!X162","v":7},{"$f":"per_game!A162","v":7}]
[null,null,{"$f":"Roster!C163","v":"G"},11.8,{"$f":"per_game!B163 & \"-\" & D161","v":"Andrew Bogut-11.8"},{"$f":"per_game!R163","v":3.8},{"$f":"per_game!S163","v":2},{"$f":"per_game!X163","v":6},{"$f":"per_game!A163","v":8}]
[null,null,{"$f":"Roster!C164","v":"F"},6.8,{"$f":"per_game!B164 & \"-\" & D162","v":"Richard Jefferson-6.8"},{"$f":"per_game!R164","v":1.4},{"$f":"per_game!S164","v":1.2},{"$f":"per_game!X164","v":4.2},{"$f":"per_game!A164","v":9}]
[null,null,{"$f":"Roster!C165","v":"G"},8.3000000000000007,{"$f":"per_game!B165 & \"-\" & D163","v":"Festus Ezeli-8.3"},{"$f":"per_game!R165","v":4.5999999999999996},{"$f":"per_game!S165","v":0.2},{"$f":"per_game!X165","v":3.5},{"$f":"per_game!A165","v":10}]
[null,null,{"$f":"Roster!C166","v":"F"},5.2,{"$f":"per_game!B166 & \"-\" & D164","v":"Draymond Green-5.2"},{"$f":"per_game!R166","v":2.6},{"$f":"per_game!S166","v":0.4},{"$f":"per_game!X166","v":2.2000000000000002},{"$f":"per_game!A166","v":11}]
[null,null,{"$f":"Roster!C167","v":"F"},2.5999999999999996,{"$f":"per_game!B167 & \"-\" & D165","v":"Charles Jenkins-2.6"},{"$f":"per_game!R167","v":0.4},{"$f":"per_game!S167","v":0.3},{"$f":"per_game!X167","v":1.9},{"$f":"per_game!A167","v":12}]
[null,null,{"$f":"Roster!C168","v":"F"},1.8,{"$f":"per_game!B168 & \"-\" & D166","v":"Jeremy Tyler-1.8"},{"$f":"per_game!R168","v":0.2},{"$f":"per_game!S168","v":0},{"$f":"per_game!X168","v":1.6},{"$f":"per_game!A168","v":13}]
[null,null,{"$f":"Roster!C169","v":"G"},3.7,{"$f":"per_game!B169 & \"-\" & D167","v":"Andris Biedrins-3.7"},{"$f":"per_game!R169","v":2.7},{"$f":"per_game!S169","v":0.4},{"$f":"per_game!X169","v":0.6},{"$f":"per_game!A169","v":14}]
[null,null,{"$f":"Roster!C170","v":"C"},0.4,null,{"$f":"per_game!R170","v":0.3},{"$f":"per_game!S170","v":0.1},{"$f":"per_game!X170","v":0},{"$f":"per_game!A170","v":15}]
[null,null,{"$f":"Roster!C171","v":0},0,null,{"$f":"per_game!R171","v":0},{"$f":"per_game!S171","v":0},{"$f":"per_game!X171","v":0},{"$f":"per_game!A171","v":0}]
[null,null,{"$f":"Roster!C172","v":0},0,null,{"$f":"per_game!R172","v":0},{"$f":"per_game!S172","v":0},{"$f":"per_game!X172","v":0},{"$f":"per_game!A172","v":"HOU"}]
[null,null,{"$f":"Roster!C173","v":"Pos"},null,{"$f":"per_game!B173 & \"-\" & D171","v":"Player-"},{"$f":"per_game!R173","v":"TRB"},{"$f":"per_game!S173","v":"AST"},{"$f":"per_game!X173","v":"PTS"},{"$f":"per_game!A173","v":"Rk"}]
[null,null,{"$f":"Roster!C174","v":"C"},33.6,{"$f":"per_game!B174 & \"-\" & D172","v":"James Harden-33.6"},{"$f":"per_game!R174","v":4.0999999999999996},{"$f":"per_game!S174","v":5.4},{"$f":"per_game!X174","v":24.1},{"$f":"per_game!A174","v":1}]
[null,null,{"$f":"Roster!C175","v":"C"},26.1,{"$f":"per_game!B175 & \"-\" & D173","v":"Chandler Parsons-26.1"},{"$f":"per_game!R175","v":6.7},{"$f":"per_game!S175","v":3.5},{"$f":"per_game!X175","v":15.9},{"$f":"per_game!A175","v":2}]
[null,null,{"$f":"Roster!C176","v":"G"},20.9,{"$f":"per_game!B176 & \"-\" & D174","v":"Patrick Patterson-20.9"},{"$f":"per_game!R176","v":5.3},{"$f":"per_game!S176","v":1},{"$f":"per_game!X176","v":14.6},{"$f":"per_game!A176","v":3}]
[null,null,{"$f":"Roster!C177","v":"G"},24.6,{"$f":"per_game!B177 & \"-\" & D175","v":"Omer Asik-24.6"},{"$f":"per_game!R177","v":12.3},{"$f":"per_game!S177","v":1.3},{"$f":"per_game!X177","v":11},{"$f":"per_game!A177","v":4}]
[null,null,{"$f":"Roster!C178","v":"G"},21.9,{"$f":"per_game!B178 & \"-\" & D176","v":"Jeremy Lin-21.9"},{"$f":"per_game!R178","v":4.4000000000000004},{"$f":"per_game!S178","v":6.6},{"$f":"per_game!X178","v":10.9},{"$f":"per_game!A178","v":5}]
[null,null,{"$f":"Roster!C179","v":"G"},13.7,{"$f":"per_game!B179 & \"-\" & D177","v":"Marcus Morris-13.7"},{"$f":"per_game!R179","v":4.2},{"$f":"per_game!S179","v":0.8},{"$f":"per_game!X179","v":8.6999999999999993},{"$f":"per_game!A179","v":6}]
[null,null,{"$f":"Roster!C180","v":"F"},14.7,{"$f":"per_game!B180 & \"-\" & D178","v":"Carlos Delfino-14.7"},{"$f":"per_game!R180","v":4},{"$f":"per_game!S180","v":2},{"$f":"per_game!X180","v":8.6999999999999993},{"$f":"per_game!A180","v":7}]
[null,null,{"$f":"Roster!C181","v":"G"},10,{"$f":"per_game!B181 & \"-\" & D179","v":"Greg Smith-10"},{"$f":"per_game!R181","v":3.5},{"$f":"per_game!S181","v":0.7},{"$f":"per_game!X181","v":5.8},{"$f":"per_game!A181","v":8}]
[null,null,{"$f":"Roster!C182","v":"G"},8.6,{"$f":"per_game!B182 & \"-\" & D180","v":"Toney Douglas-8.6"},{"$f":"per_game!R182","v":1.2},{"$f":"per_game!S182","v":1.7},{"$f":"per_game!X182","v":5.7},{"$f":"per_game!A182","v":9}]
[null,null,{"$f":"Roster!C183","v":"F"},7.9,{"$f":"per_game!B183 & \"-\" & D181","v":"Daequan Cook-7.9"},{"$f":"per_game!R183","v":1.6},{"$f":"per_game!S183","v":1},{"$f":"per_game!X183","v":5.3},{"$f":"per_game!A183","v":10}]
[null,null,{"$f":"Roster!C184","v":"F"},6,{"$f":"per_game!B184 & \"-\" & D182","v":"Terrence Jones-6"},{"$f":"per_game!R184","v":2},{"$f":"per_game!S184","v":0.4},{"$f":"per_game!X184","v":3.6},{"$f":"per_game!A184","v":11}]
[null,null,{"$f":"Roster!C185","v":"F"},5.4,{"$f":"per_game!B185 & \"-\" & D183","v":"Cole Aldrich-5.4"},{"$f":"per_game!R185","v":2.1},{"$f":"per_game!S185","v":0.3},{"$f":"per_game!X185","v":3},{"$f":"per_game!A185","v":12}]
[null,null,{"$f":"Roster!C186","v":"F"},3,{"$f":"per_game!B186 & \"-\" & D184","v":"Scott Machado-3"},{"$f":"per_game!R186","v":0},{"$f":"per_game!S186","v":1},{"$f":"per_game!X186","v":2},{"$f":"per_game!A186","v":13}]
[null,null,{"$f":"Roster!C187","v":"C"},1.3,null,{"$f":"per_game!R187","v":0.3},{"$f":"per_game!S187","v":0},{"$f":"per_game!X187","v":1},{"$f":"per_game!A187","v":14}]
[null,null,{"$f":"Roster!C188","v":0},0,null,{"$f":"per_game!R188","v":0},{"$f":"per_game!S188","v":0},{"$f":"per_game!X188","v":0},{"$f":"per_game!A188","v":0}]
[null,null,{"$f":"Roster!C189","v":0},0,null,{"$f":"per_game!R189","v":0},{"$f":"per_game!S189","v":0},{"$f":"per_game!X189","v":0},{"$f":"per_game!A189","v":"IND"}]
[null,null,{"$f":"Roster!C190","v":"Pos"},null,{"$f":"per_game!B190 & \"-\" & D188","v":"Player-"},{"$f":"per_game!R190","v":"TRB"},{"$f":"per_game!S190","v":"AST"},{"$f":"per_game!X190","v":"PTS"},{"$f":"per_game!A190","v":"Rk"}]
[null,null,{"$f":"Roster!C191","v":"G"},28.6,{"$f":"per_game!B191 & \"-\" & D189","v":"David West-28.6"},{"$f":"per_game!R191","v":8.3000000000000007},{"$f":"per_game!S191","v":2.5},{"$f":"per_game!X191","v":17.8},{"$f":"per_game!A191","v":1}]
[null,null,{"$f":"Roster!C192","v":"F"},24.2,{"$f":"per_game!B192 & \"-\" & D190","v":"George Hill-24.2"},{"$f":"per_game!R192","v":4.0999999999999996},{"$f":"per_game!S192","v":5.3},{"$f":"per_game!X192","v":14.8},{"$f":"per_game!A192","v":2}]
[null,null,{"$f":"Roster!C193","v":"F"},23.4,{"$f":"per_game!B193 & \"-\" & D191","v":"Paul George-23.4"},{"$f":"per_game!R193","v":6.5},{"$f":"per_game!S193","v":3.4},{"$f":"per_game!X193","v":13.5},{"$f":"per_game!A193","v":3}]
[null,null,{"$f":"Roster!C194","v":"G"},19.299999999999997,{"$f":"per_game!B194 & \"-\" & D192","v":"Roy Hibbert-19.3"},{"$f":"per_game!R194","v":8.1999999999999993},{"$f":"per_game!S194","v":1.4},{"$f":"per_game!X194","v":9.6999999999999993},{"$f":"per_game!A194","v":4}]
[null,null,{"$f":"Roster!C195","v":"F"},12.399999999999999,{"$f":"per_game!B195 & \"-\" & D193","v":"Gerald Green-12.4"},{"$f":"per_game!R195","v":4.0999999999999996},{"$f":"per_game!S195","v":0.5},{"$f":"per_game!X195","v":7.8},{"$f":"per_game!A195","v":5}]
[null,null,{"$f":"Roster!C196","v":"C"},{"$f":"F194*$B$2+G194*$B$3+H194*$B$1","v":12.600000000000001},{"$f":"per_game!B196 & \"-\" & D194","v":"Lance Stephenson-12.6"},{"$f":"per_game!R196","v":2.9},{"$f":"per_game!S196","v":2.5},{"$f":"per_game!X196","v":7.2},{"$f":"per_game!A196","v":6}]
[null,null,{"$f":"Roster!C197","v":"G"},11.4,{"$f":"per_game!B197 & \"-\" & D195","v":"Tyler Hansbrough-11.4"},{"$f":"per_game!R197","v":4.7},{"$f":"per_game!S197","v":0.2},{"$f":"per_game!X197","v":6.5},{"$f":"per_game!A197","v":7}]
[null,null,{"$f":"Roster!C198","v":"G"},9.4,{"$f":"per_game!B198 & \"-\" & D196","v":"Sam Young-9.4"},{"$f":"per_game!R198","v":3.5},{"$f":"per_game!S198","v":0.9},{"$f":"per_game!X198","v":5},{"$f":"per_game!A198","v":8}]
[null,null,{"$f":"Roster!C199","v":"C"},8.5,{"$f":"per_game!B199 & \"-\" & D197","v":"Ian Mahinmi-8.5"},{"$f":"per_game!R199","v":3.6},{"$f":"per_game!S199","v":0.2},{"$f":"per_game!X199","v":4.7},{"$f":"per_game!A199","v":9}]
[null,null,{"$f":"Roster!C200","v":"F"},6.3,{"$f":"per_game!B200 & \"-\" & D198","v":"Jeff Pendergraph-6.3"},{"$f":"per_game!R200","v":2.2999999999999998},{"$f":"per_game!S200","v":0.3},{"$f":"per_game!X200","v":3.7},{"$f":"per_game!A200","v":10}]
[null,null,{"$f":"Roster!C201","v":"F"},7,{"$f":"per_game!B201 & \"-\" & D199","v":"D.J. Augustin-7"},{"$f":"per_game!R201","v":1.1000000000000001},{"$f":"per_game!S201","v":2.4},{"$f":"per_game!X201","v":3.5},{"$f":"per_game!A201","v":11}]
[null,null,{"$f":"Roster!C202","v":"G"},2.9000000000000004,{"$f":"per_game!B202 & \"-\" & D200","v":"Ben Hansbrough-2.9"},{"$f":"per_game!R202","v":0.3},{"$f":"per_game!S202","v":1.3},{"$f":"per_game!X202","v":1.3},{"$f":"per_game!A202","v":12}]
[null,null,{"$f":"Roster!C203","v":"F"},2.6,{"$f":"per_game!B203 & \"-\" & D201","v":"Miles Plumlee-2.6"},{"$f":"per_game!R203","v":1.3},{"$f":"per_game!S203","v":0.3},{"$f":"per_game!X203","v":1},{"$f":"per_game!A203","v":13}]
[null,null,{"$f":"Roster!C204","v":"F"},0.5,null,{"$f":"per_game!R204","v":0.5},{"$f":"per_game!S204","v":0},{"$f":"per_game!X204","v":0},{"$f":"per_game!A204","v":14}]
[null,null,{"$f":"Roster!C205","v":0},0,null,{"$f":"per_game!R205","v":0},{"$f":"per_game!S205","v":0},{"$f":"per_game!X205","v":0},{"$f":"per_game!A205","v":0}]
[null,null,{"$f":"Roster!C206","v":0},0,null,{"$f":"per_game!R206","v":0},{"$f":"per_game!S206","v":0},{"$f":"per_game!X206","v":0},{"$f":"per_game!A206","v":"LAC"}]
[null,null,{"$f":"Roster!C207","v":"Pos"},null,{"$f":"per_game!B207 & \"-\" & D205","v":"Player-"},{"$f":"per_game!R207","v":"TRB"},{"$f":"per_game!S207","v":"AST"},{"$f":"per_game!X207","v":"PTS"},{"$f":"per_game!A207","v":"Rk"}]
[null,null,{"$f":"Roster!C208","v":"F"},21.1,{"$f":"per_game!B208 & \"-\" & D206","v":"Jamal Crawford-21.1"},{"$f":"per_game!R208","v":1.8},{"$f":"per_game!S208","v":1.7},{"$f":"per_game!X208","v":17.600000000000001},{"$f":"per_game!A208","v":1}]
[null,null,{"$f":"Roster!C209","v":"G"},29.5,{"$f":"per_game!B209 & \"-\" & D207","v":"Blake Griffin-29.5"},{"$f":"per_game!R209","v":8.9},{"$f":"per_game!S209","v":3.1},{"$f":"per_game!X209","v":17.5},{"$f":"per_game!A209","v":2}]
[null,null,{"$f":"Roster!C210","v":"G"},29.1,{"$f":"per_game!B210 & \"-\" & D208","v":"Chris Paul-29.1"},{"$f":"per_game!R210","v":3.6},{"$f":"per_game!S210","v":9.3000000000000007},{"$f":"per_game!X210","v":16.2},{"$f":"per_game!A210","v":3}]
[null,null,{"$f":"Roster!C211","v":"F"},17.2,{"$f":"per_game!B211 & \"-\" & D209","v":"DeAndre Jordan-17.2"},{"$f":"per_game!R211","v":6.8},{"$f":"per_game!S211","v":0.3},{"$f":"per_game!X211","v":10.1},{"$f":"per_game!A211","v":4}]
[null,null,{"$f":"Roster!C212","v":"G"},15.200000000000001,{"$f":"per_game!B212 & \"-\" & D210","v":"Eric Bledsoe-15.2"},{"$f":"per_game!R212","v":2.7},{"$f":"per_game!S212","v":2.6},{"$f":"per_game!X212","v":9.9},{"$f":"per_game!A212","v":5}]
[null,null,{"$f":"Roster!C213","v":"G"},13.1,{"$f":"per_game!B213 & \"-\" & D211","v":"Caron Butler-13.1"},{"$f":"per_game!R213","v":2.4},{"$f":"per_game!S213","v":1},{"$f":"per_game!X213","v":9.6999999999999993},{"$f":"per_game!A213","v":6}]
[null,null,{"$f":"Roster!C214","v":"F"},14.8,{"$f":"per_game!B214 & \"-\" & D212","v":"Matt Barnes-14.8"},{"$f":"per_game!R214","v":5.3},{"$f":"per_game!S214","v":1.2},{"$f":"per_game!X214","v":8.3000000000000007},{"$f":"per_game!A214","v":7}]
[null,null,{"$f":"Roster!C215","v":"C"},10.6,{"$f":"per_game!B215 & \"-\" & D213","v":"Chauncey Billups-10.6"},{"$f":"per_game!R215","v":1},{"$f":"per_game!S215","v":2.2999999999999998},{"$f":"per_game!X215","v":7.3},{"$f":"per_game!A215","v":8}]
[null,null,{"$f":"Roster!C216","v":"C"},8.9,{"$f":"per_game!B216 & \"-\" & D214","v":"Willie Green-8.9"},{"$f":"per_game!R216","v":1.4},{"$f":"per_game!S216","v":1.1000000000000001},{"$f":"per_game!X216","v":6.4},{"$f":"per_game!A216","v":9}]
[null,null,{"$f":"Roster!C217","v":"F"},5.3,{"$f":"per_game!B217 & \"-\" & D215","v":"Ryan Hollins-5.3"},{"$f":"per_game!R217","v":2.4},{"$f":"per_game!S217","v":0.1},{"$f":"per_game!X217","v":2.8},{"$f":"per_game!A217","v":10}]
[null,null,{"$f":"Roster!C218","v":"G"},6.5,{"$f":"per_game!B218 & \"-\" & D216","v":"Lamar Odom-6.5"},{"$f":"per_game!R218","v":3.3},{"$f":"per_game!S218","v":1},{"$f":"per_game!X218","v":2.2000000000000002},{"$f":"per_game!A218","v":11}]
[null,null,{"$f":"Roster!C219","v":"F"},4.0999999999999996,null,{"$f":"per_game!R219","v":2.1},{"$f":"per_game!S219","v":0.5},{"$f":"per_game!X219","v":1.5},{"$f":"per_game!A219","v":12}]
[null,null,{"$f":"Roster!C220","v":0},0,null,{"$f":"per_game!R220","v":0},{"$f":"per_game!S220","v":0},{"$f":"per_game!X220","v":0},{"$f":"per_game!A220","v":0}]
[null,null,{"$f":"Roster!C221","v":0},0,null,{"$f":"per_game!R221","v":0},{"$f":"per_game!S221","v":0},{"$f":"per_game!X221","v":0},{"$f":"per_game!A221","v":"LAL"}]
[null,null,{"$f":"Roster!C222","v":"Pos"},null,{"$f":"per_game!B222 & \"-\" & D220","v":"Player-"},{"$f":"per_game!R222","v":"TRB"},{"$f":"per_game!S222","v":"AST"},{"$f":"per_game!X222","v":"PTS"},{"$f":"per_game!A222","v":"Rk"}]
[null,null,{"$f":"Roster!C223","v":"G"},37.6,{"$f":"per_game!B223 & \"-\" & D221","v":"Kobe Bryant-37.6"},{"$f":"per_game!R223","v":5.2},{"$f":"per_game!S223","v":5.0999999999999996},{"$f":"per_game!X223","v":27.3},{"$f":"per_game!A223","v":1}]
[null,null,{"$f":"Roster!C224","v":"G"},31.7,{"$f":"per_game!B224 & \"-\" & D222","v":"Dwight Howard-31.7"},{"$f":"per_game!R224","v":11.3},{"$f":"per_game!S224","v":1.7},{"$f":"per_game!X224","v":18.7},{"$f":"per_game!A224","v":2}]
[null,null,{"$f":"Roster!C225","v":"F"},20.9,{"$f":"per_game!B225 & \"-\" & D223","v":"Metta World Peace-20.9"},{"$f":"per_game!R225","v":5.4},{"$f":"per_game!S225","v":2.2999999999999998},{"$f":"per_game!X225","v":13.2},{"$f":"per_game!A225","v":3}]
[null,null,{"$f":"Roster!C226","v":"G"},24.9,{"$f":"per_game!B226 & \"-\" & D224","v":"Pau Gasol-24.9"},{"$f":"per_game!R226","v":8.8000000000000007},{"$f":"per_game!S226","v":3.5},{"$f":"per_game!X226","v":12.6},{"$f":"per_game!A226","v":4}]
[null,null,{"$f":"Roster!C227","v":"F"},12.6,{"$f":"per_game!B227 & \"-\" & D225","v":"Antawn Jamison-12.6"},{"$f":"per_game!R227","v":4.5999999999999996},{"$f":"per_game!S227","v":0.6},{"$f":"per_game!X227","v":7.4},{"$f":"per_game!A227","v":5}]
[null,null,{"$f":"Roster!C228","v":"F-C"},10.100000000000001,{"$f":"per_game!B228 & \"-\" & D226","v":"Darius Morris-10.1"},{"$f":"per_game!R228","v":1.7},{"$f":"per_game!S228","v":2.5},{"$f":"per_game!X228","v":5.9},{"$f":"per_game!A228","v":6}]
[null,null,{"$f":"Roster!C229","v":"F"},10.5,{"$f":"per_game!B229 & \"-\" & D227","v":"Jordan Hill-10.5"},{"$f":"per_game!R229","v":4.5999999999999996},{"$f":"per_game!S229","v":0.4},{"$f":"per_game!X229","v":5.5},{"$f":"per_game!A229","v":7}]
[null,null,{"$f":"Roster!C230","v":"C-F"},7.6000000000000005,{"$f":"per_game!B230 & \"-\" & D228","v":"Jodie Meeks-7.6"},{"$f":"per_game!R230","v":1.3},{"$f":"per_game!S230","v":0.9},{"$f":"per_game!X230","v":5.4},{"$f":"per_game!A230","v":8}]
[null,null,{"$f":"Roster!C231","v":"F"},10.899999999999999,{"$f":"per_game!B231 & \"-\" & D229","v":"Steve Blake-10.9"},{"$f":"per_game!R231","v":2.4},{"$f":"per_game!S231","v":3.4},{"$f":"per_game!X231","v":5.0999999999999996},{"$f":"per_game!A231","v":9}]
[null,null,{"$f":"Roster!C232","v":"G"},11.5,{"$f":"per_game!B232 & \"-\" & D230","v":"Steve Nash-11.5"},{"$f":"per_game!R232","v":3},{"$f":"per_game!S232","v":4},{"$f":"per_game!X232","v":4.5},{"$f":"per_game!A232","v":10}]
[null,null,{"$f":"Roster!C233","v":"G"},6,{"$f":"per_game!B233 & \"-\" & D231","v":"Devin Ebanks-6"},{"$f":"per_game!R233","v":2},{"$f":"per_game!S233","v":0.8},{"$f":"per_game!X233","v":3.2},{"$f":"per_game!A233","v":11}]
[null,null,{"$f":"Roster!C234","v":"G"},7.1999999999999993,{"$f":"per_game!B234 & \"-\" & D232","v":"Chris Duhon-7.2"},{"$f":"per_game!R234","v":1.4},{"$f":"per_game!S234","v":2.8},{"$f":"per_game!X234","v":3},{"$f":"per_game!A234","v":12}]
[null,null,{"$f":"Roster!C235","v":"G"},1.3,{"$f":"per_game!B235 & \"-\" & D233","v":"Earl Clark-1.3"},{"$f":"per_game!R235","v":0.5},{"$f":"per_game!S235","v":0},{"$f":"per_game!X235","v":0.8},{"$f":"per_game!A235","v":13}]
[null,null,{"$f":"Roster!C236","v":"C"},0.7,{"$f":"per_game!B236 & \"-\" & D234","v":"Robert Sacre-0.7"},{"$f":"per_game!R236","v":0.3},{"$f":"per_game!S236","v":0.1},{"$f":"per_game!X236","v":0.3},{"$f":"per_game!A236","v":14}]
[null,null,{"$f":"Roster!C237","v":"F"},1.3,null,{"$f":"per_game!R237","v":1},{"$f":"per_game!S237","v":0.3},{"$f":"per_game!X237","v":0},{"$f":"per_game!A237","v":15}]
[null,null,{"$f":"Roster!C238","v":0},0,null,{"$f":"per_game!R238","v":0},{"$f":"per_game!S238","v":0},{"$f":"per_game!X238","v":0},{"$f":"per_game!A238","v":0}]
[null,null,{"$f":"Roster!C239","v":0},0,null,{"$f":"per_game!R239","v":0},{"$f":"per_game!S239","v":0},{"$f":"per_game!X239","v":0},{"$f":"per_game!A239","v":"MEM"}]
[null,null,{"$f":"Roster!C240","v":"Pos"},null,{"$f":"per_game!B240 & \"-\" & D238","v":"Player-"},{"$f":"per_game!R240","v":"TRB"},{"$f":"per_game!S240","v":"AST"},{"$f":"per_game!X240","v":"PTS"},{"$f":"per_game!A240","v":"Rk"}]
[null,null,{"$f":"Roster!C241","v":"G"},27.099999999999998,{"$f":"per_game!B241 & \"-\" & D239","v":"Rudy Gay-27.1"},{"$f":"per_game!R241","v":5.9},{"$f":"per_game!S241","v":2.2999999999999998},{"$f":"per_game!X241","v":18.899999999999999},{"$f":"per_game!A241","v":1}]
[null,null,{"$f":"Roster!C242","v":"F"},30.5,{"$f":"per_game!B242 & \"-\" & D240","v":"Zach Randolph-30.5"},{"$f":"per_game!R242","v":12.7},{"$f":"per_game!S242","v":1.5},{"$f":"per_game!X242","v":16.3},{"$f":"per_game!A242","v":2}]
[null,null,{"$f":"Roster!C243","v":"G"},27.4,{"$f":"per_game!B243 & \"-\" & D241","v":"Marc Gasol-27.4"},{"$f":"per_game!R243","v":7.1},{"$f":"per_game!S243","v":4.4000000000000004},{"$f":"per_game!X243","v":15.9},{"$f":"per_game!A243","v":3}]
[null,null,{"$f":"Roster!C244","v":"G"},24.8,{"$f":"per_game!B244 & \"-\" & D242","v":"Mike Conley-24.8"},{"$f":"per_game!R244","v":2.8},{"$f":"per_game!S244","v":6.7},{"$f":"per_game!X244","v":15.3},{"$f":"per_game!A244","v":4}]
[null,null,{"$f":"Roster!C245","v":"G"},12.1,{"$f":"per_game!B245 & \"-\" & D243","v":"Tony Allen-12.1"},{"$f":"per_game!R245","v":3.5},{"$f":"per_game!S245","v":0.6},{"$f":"per_game!X245","v":8},{"$f":"per_game!A245","v":5}]
[null,null,{"$f":"Roster!C246","v":"C"},11.6,{"$f":"per_game!B246 & \"-\" & D244","v":"Jerryd Bayless-11.6"},{"$f":"per_game!R246","v":1.4},{"$f":"per_game!S246","v":3.1},{"$f":"per_game!X246","v":7.1},{"$f":"per_game!A246","v":6}]
[null,null,{"$f":"Roster!C247","v":"F"},12.6,{"$f":"per_game!B247 & \"-\" & D245","v":"Marreese Speights-12.6"},{"$f":"per_game!R247","v":5.3},{"$f":"per_game!S247","v":0.6},{"$f":"per_game!X247","v":6.7},{"$f":"per_game!A247","v":7}]
[null,null,{"$f":"Roster!C248","v":"C"},8.6,{"$f":"per_game!B248 & \"-\" & D246","v":"Darrell Arthur-8.6"},{"$f":"per_game!R248","v":1.8},{"$f":"per_game!S248","v":0.5},{"$f":"per_game!X248","v":6.3},{"$f":"per_game!A248","v":8}]
[null,null,{"$f":"Roster!C249","v":"G-F"},9.3000000000000007,{"$f":"per_game!B249 & \"-\" & D247","v":"Quincy Pondexter-9.3"},{"$f":"per_game!R249","v":1.9},{"$f":"per_game!S249","v":1.5},{"$f":"per_game!X249","v":5.9},{"$f":"per_game!A249","v":9}]
[null,null,{"$f":"Roster!C250","v":"F"},7.3000000000000007,{"$f":"per_game!B250 & \"-\" & D248","v":"Wayne Ellington-7.3"},{"$f":"per_game!R250","v":1.2},{"$f":"per_game!S250","v":1.2},{"$f":"per_game!X250","v":4.9000000000000004},{"$f":"per_game!A250","v":10}]
[null,null,{"$f":"Roster!C251","v":"G"},1,{"$f":"per_game!B251 & \"-\" & D249","v":"Hamed Haddadi-1"},{"$f":"per_game!R251","v":0},{"$f":"per_game!S251","v":0},{"$f":"per_game!X251","v":1},{"$f":"per_game!A251","v":11}]
[null,null,{"$f":"Roster!C252","v":"F"},0.60000000000000009,{"$f":"per_game!B252 & \"-\" & D250","v":"Josh Selby-0.6"},{"$f":"per_game!R252","v":0.2},{"$f":"per_game!S252","v":0.4},{"$f":"per_game!X252","v":0},{"$f":"per_game!A252","v":12}]
[null,null,{"$f":"Roster!C253","v":"G"},0.3,null,{"$f":"per_game!R253","v":0.3},{"$f":"per_game!S253","v":0},{"$f":"per_game!X253","v":0},{"$f":"per_game!A253","v":13}]
[null,null,{"$f":"Roster!C254","v":0},0,null,{"$f":"per_game!R254","v":0},{"$f":"per_game!S254","v":0},{"$f":"per_game!X254","v":0},{"$f":"per_game!A254","v":0}]
[null,null,{"$f":"Roster!C255","v":0},0,null,{"$f":"per_game!R255","v":0},{"$f":"per_game!S255","v":0},{"$f":"per_game!X255","v":0},{"$f":"per_game!A255","v":"MIA"}]
[null,null,{"$f":"Roster!C256","v":"Pos"},null,{"$f":"per_game!B256 & \"-\" & D254","v":"Player-"},{"$f":"per_game!R256","v":"TRB"},{"$f":"per_game!S256","v":"AST"},{"$f":"per_game!X256","v":"PTS"},{"$f":"per_game!A256","v":"Rk"}]
[null,null,{"$f":"Roster!C257","v":"G"},40.1,{"$f":"per_game!B257 & \"-\" & D255","v":"LeBron James-40.1"},{"$f":"per_game!R257","v":8.9},{"$f":"per_game!S257","v":6.5},{"$f":"per_game!X257","v":24.7},{"$f":"per_game!A257","v":1}]
[null,null,{"$f":"Roster!C258","v":"C"},28.5,{"$f":"per_game!B258 & \"-\" & D256","v":"Dwyane Wade-28.5"},{"$f":"per_game!R258","v":4.0999999999999996},{"$f":"per_game!S258","v":4.9000000000000004},{"$f":"per_game!X258","v":19.5},{"$f":"per_game!A258","v":2}]
[null,null,{"$f":"Roster!C259","v":"F"},28.5,{"$f":"per_game!B259 & \"-\" & D257","v":"Chris Bosh-28.5"},{"$f":"per_game!R259","v":7.9},{"$f":"per_game!S259","v":1.3},{"$f":"per_game!X259","v":19.3},{"$f":"per_game!A259","v":3}]
[null,null,{"$f":"Roster!C260","v":"F-C"},{"$f":"F258*$B$2+G258*$B$3+H258*$B$1","v":18.399999999999999},{"$f":"per_game!B260 & \"-\" & D258","v":"Ray Allen-18.4"},{"$f":"per_game!R260","v":3},{"$f":"per_game!S260","v":2.1},{"$f":"per_game!X260","v":13.3},{"$f":"per_game!A260","v":4}]
[null,null,{"$f":"Roster!C261","v":"G"},10.3,{"$f":"per_game!B261 & \"-\" & D259","v":"Shane Battier-10.3"},{"$f":"per_game!R261","v":2.5},{"$f":"per_game!S261","v":0.8},{"$f":"per_game!X261","v":7},{"$f":"per_game!A261","v":5}]
[null,null,{"$f":"Roster!C262","v":"G"},13.899999999999999,{"$f":"per_game!B262 & \"-\" & D260","v":"Mario Chalmers-13.9"},{"$f":"per_game!R262","v":2.8},{"$f":"per_game!S262","v":4.3},{"$f":"per_game!X262","v":6.8},{"$f":"per_game!A262","v":6}]
[null,null,{"$f":"Roster!C263","v":"C"},9,{"$f":"per_game!B263 & \"-\" & D261","v":"Rashard Lewis-9"},{"$f":"per_game!R263","v":2},{"$f":"per_game!S263","v":0.5},{"$f":"per_game!X263","v":6.5},{"$f":"per_game!A263","v":7}]
[null,null,{"$f":"Roster!C264","v":"G"},8.7999999999999989,{"$f":"per_game!B264 & \"-\" & D262","v":"Norris Cole-8.8"},{"$f":"per_game!R264","v":1.4},{"$f":"per_game!S264","v":2.2999999999999998},{"$f":"per_game!X264","v":5.0999999999999996},{"$f":"per_game!A264","v":8}]
[null,null,{"$f":"Roster!C265","v":"F"},9.1999999999999993,{"$f":"per_game!B265 & \"-\" & D263","v":"Udonis Haslem-9.2"},{"$f":"per_game!R265","v":5.0999999999999996},{"$f":"per_game!S265","v":0.4},{"$f":"per_game!X265","v":3.7},{"$f":"per_game!A265","v":9}]
[null,null,{"$f":"Roster!C266","v":"F-G"},7.1999999999999993,{"$f":"per_game!B266 & \"-\" & D264","v":"Mike Miller-7.2"},{"$f":"per_game!R266","v":2.2999999999999998},{"$f":"per_game!S266","v":1.5},{"$f":"per_game!X266","v":3.4},{"$f":"per_game!A266","v":10}]
[null,null,{"$f":"Roster!C267","v":"F"},2,{"$f":"per_game!B267 & \"-\" & D265","v":"James Jones-2"},{"$f":"per_game!R267","v":0},{"$f":"per_game!S267","v":0},{"$f":"per_game!X267","v":2},{"$f":"per_game!A267","v":11}]
[null,null,{"$f":"Roster!C268","v":"F"},3.4,{"$f":"per_game!B268 & \"-\" & D266","v":"Josh Harrellson-3.4"},{"$f":"per_game!R268","v":1.7},{"$f":"per_game!S268","v":0},{"$f":"per_game!X268","v":1.7},{"$f":"per_game!A268","v":12}]
[null,null,{"$f":"Roster!C269","v":"F"},2.2999999999999998,{"$f":"per_game!B269 & \"-\" & D267","v":"Terrel Harris-2.3"},{"$f":"per_game!R269","v":1},{"$f":"per_game!S269","v":0},{"$f":"per_game!X269","v":1.3},{"$f":"per_game!A269","v":13}]
[null,null,{"$f":"Roster!C270","v":"C"},1.1000000000000001,null,{"$f":"per_game!R270","v":0.5},{"$f":"per_game!S270","v":0.1},{"$f":"per_game!X270","v":0.5},{"$f":"per_game!A270","v":14}]
[null,null,{"$f":"Roster!C271","v":"G"},0,null,{"$f":"per_game!R271","v":0},{"$f":"per_game!S271","v":0},{"$f":"per_game!X271","v":0},{"$f":"per_game!A271","v":15}]
[null,null,{"$f":"Roster!C272","v":0},0,null,{"$f":"per_game!R272","v":0},{"$f":"per_game!S272","v":0},{"$f":"per_game!X272","v":0},{"$f":"per_game!A272","v":0}]
[null,null,{"$f":"Roster!C273","v":0},0,{"$f":"per_game!B273 & \"-\" & D271","v":"-0"},{"$f":"per_game!R273","v":0},{"$f":"per_game!S273","v":0},{"$f":"per_game!X273","v":0},{"$f":"per_game!A273","v":"MIL"}]
[null,null,{"$f":"Roster!C274","v":"Pos"},null,{"$f":"per_game!B274 & \"-\" & D272","v":"Player-"},{"$f":"per_game!R274","v":"TRB"},{"$f":"per_game!S274","v":"AST"},{"$f":"per_game!X274","v":"PTS"},{"$f":"per_game!A274","v":"Rk"}]
[null,null,{"$f":"Roster!C275","v":"C"},26.8,{"$f":"per_game!B275 & \"-\" & D273","v":"Monta Ellis-26.8"},{"$f":"per_game!R275","v":3.1},{"$f":"per_game!S275","v":5.0999999999999996},{"$f":"per_game!X275","v":18.600000000000001},{"$f":"per_game!A275","v":1}]
[null,null,{"$f":"Roster!C276","v":"G-F"},26.7,{"$f":"per_game!B276 & \"-\" & D274","v":"Brandon Jennings-26.7"},{"$f":"per_game!R276","v":3.4},{"$f":"per_game!S276","v":6.3},{"$f":"per_game!X276","v":17},{"$f":"per_game!A276","v":2}]
[null,null,{"$f":"Roster!C277","v":"F-G"},18.3,{"$f":"per_game!B277 & \"-\" & D275","v":"Mike Dunleavy-18.3"},{"$f":"per_game!R277","v":5.0999999999999996},{"$f":"per_game!S277","v":2.4},{"$f":"per_game!X277","v":10.8},{"$f":"per_game!A277","v":3}]
[null,null,{"$f":"Roster!C278","v":"G"},14.4,{"$f":"per_game!B278 & \"-\" & D276","v":"Beno Udrih-14.4"},{"$f":"per_game!R278","v":2.8},{"$f":"per_game!S278","v":3.3},{"$f":"per_game!X278","v":8.3000000000000007},{"$f":"per_game!A278","v":4}]
[null,null,{"$f":"Roster!C279","v":"F"},16.5,{"$f":"per_game!B279 & \"-\" & D277","v":"Larry Sanders-16.5"},{"$f":"per_game!R279","v":7.6},{"$f":"per_game!S279","v":0.8},{"$f":"per_game!X279","v":8.1},{"$f":"per_game!A279","v":5}]
[null,null,{"$f":"Roster!C280","v":"F"},16.5,{"$f":"per_game!B280 & \"-\" & D278","v":"Luc Mbah a Moute-16.5"},{"$f":"per_game!R280","v":7},{"$f":"per_game!S280","v":2},{"$f":"per_game!X280","v":7.5},{"$f":"per_game!A280","v":6}]
[null,null,{"$f":"Roster!C281","v":"F"},10.8,{"$f":"per_game!B281 & \"-\" & D279","v":"Tobias Harris-10.8"},{"$f":"per_game!R281","v":3},{"$f":"per_game!S281","v":0.7},{"$f":"per_game!X281","v":7.1},{"$f":"per_game!A281","v":7}]
[null,null,{"$f":"Roster!C282","v":"G"},13.100000000000001,{"$f":"per_game!B282 & \"-\" & D280","v":"Ersan Ilyasova-13.1"},{"$f":"per_game!R282","v":4.7},{"$f":"per_game!S282","v":1.5},{"$f":"per_game!X282","v":6.9},{"$f":"per_game!A282","v":8}]
[null,null,{"$f":"Roster!C283","v":"G"},11.7,{"$f":"per_game!B283 & \"-\" & D281","v":"Samuel Dalembert-11.7"},{"$f":"per_game!R283","v":4.8},{"$f":"per_game!S283","v":0.7},{"$f":"per_game!X283","v":6.2},{"$f":"per_game!A283","v":9}]
[null,null,{"$f":"Roster!C284","v":"F"},10.199999999999999,{"$f":"per_game!B284 & \"-\" & D282","v":"John Henson-10.2"},{"$f":"per_game!R284","v":3.7},{"$f":"per_game!S284","v":0.5},{"$f":"per_game!X284","v":6},{"$f":"per_game!A284","v":10}]
[null,null,{"$f":"Roster!C285","v":"C"},8.5,{"$f":"per_game!B285 & \"-\" & D283","v":"Marquis Daniels-8.5"},{"$f":"per_game!R285","v":1.6},{"$f":"per_game!S285","v":1.3},{"$f":"per_game!X285","v":5.6},{"$f":"per_game!A285","v":11}]
[null,null,{"$f":"Roster!C286","v":"F"},10.3,null,{"$f":"per_game!R286","v":3.8},{"$f":"per_game!S286","v":0.9},{"$f":"per_game!X286","v":5.6},{"$f":"per_game!A286","v":12}]
[null,null,{"$f":"Roster!C287","v":"F"},4.9000000000000004,null,{"$f":"per_game!R287","v":0.4},{"$f":"per_game!S287","v":0.9},{"$f":"per_game!X287","v":3.6},{"$f":"per_game!A287","v":13}]
[null,null,{"$f":"Roster!C288","v":"G"},2.8,null,{"$f":"per_game!R288","v":2},{"$f":"per_game!S288","v":0.5},{"$f":"per_game!X288","v":0.3},{"$f":"per_game!A288","v":14}]
[null,null,{"$f":"Roster!C289","v":0},0,{"$f":"per_game!B289 & \"-\" & D287","v":"-0"},{"$f":"per_game!R289","v":0},{"$f":"per_game!S289","v":0},{"$f":"per_game!X289","v":0},{"$f":"per_game!A289","v":0}]
[null,null,{"$f":"Roster!C290","v":0},0,{"$f":"per_game!B290 & \"-\" & D288","v":"-0"},{"$f":"per_game!R290","v":0},{"$f":"per_game!S290","v":0},{"$f":"per_game!X290","v":0},{"$f":"per_game!A290","v":"MIN"}]
[null,null,{"$f":"Roster!C291","v":"Pos"},null,{"$f":"per_game!B291 & \"-\" & D289","v":"Player-"},{"$f":"per_game!R291","v":"TRB"},{"$f":"per_game!S291","v":"AST"},{"$f":"per_game!X291","v":"PTS"},{"$f":"per_game!A291","v":"Rk"}]
[null,null,{"$f":"Roster!C292","v":"F"},38.700000000000003,{"$f":"per_game!B292 & \"-\" & D290","v":"Kevin Love-38.7"},{"$f":"per_game!R292","v":15.3},{"$f":"per_game!S292","v":1.7},{"$f":"per_game!X292","v":21.7},{"$f":"per_game!A292","v":1}]
[null,null,{"$f":"Roster!C293","v":"G"},23.6,{"$f":"per_game!B293 & \"-\" & D291","v":"Nikola Pekovic-23.6"},{"$f":"per_game!R293","v":7.6},{"$f":"per_game!S293","v":1.2},{"$f":"per_game!X293","v":14.8},{"$f":"per_game!A293","v":2}]
[null,null,{"$f":"Roster!C294","v":"F"},24.1,{"$f":"per_game!B294 & \"-\" & D292","v":"Andrei Kirilenko-24.1"},{"$f":"per_game!R294","v":7.8},{"$f":"per_game!S294","v":3.3},{"$f":"per_game!X294","v":13},{"$f":"per_game!A294","v":3}]
[null,null,{"$f":"Roster!C295","v":"G"},16.8,{"$f":"per_game!B295 & \"-\" & D293","v":"Chase Budinger-16.8"},{"$f":"per_game!R295","v":3.5},{"$f":"per_game!S295","v":1.5},{"$f":"per_game!X295","v":11.8},{"$f":"per_game!A295","v":4}]
[null,null,{"$f":"Roster!C296","v":"F"},18.899999999999999,{"$f":"per_game!B296 & \"-\" & D294","v":"Luke Ridnour-18.9"},{"$f":"per_game!R296","v":2.9},{"$f":"per_game!S296","v":4.4000000000000004},{"$f":"per_game!X296","v":11.6},{"$f":"per_game!A296","v":5}]
[null,null,{"$f":"Roster!C297","v":"F-G"},16.700000000000003,{"$f":"per_game!B297 & \"-\" & D295","v":"Alexey Shved-16.7"},{"$f":"per_game!R297","v":2.6},{"$f":"per_game!S297","v":3.7},{"$f":"per_game!X297","v":10.4},{"$f":"per_game!A297","v":6}]
[null,null,{"$f":"Roster!C298","v":"F"},15.7,{"$f":"per_game!B298 & \"-\" & D296","v":"Derrick Williams-15.7"},{"$f":"per_game!R298","v":5.5},{"$f":"per_game!S298","v":0.7},{"$f":"per_game!X298","v":9.5},{"$f":"per_game!A298","v":7}]
[null,null,{"$f":"Roster!C299","v":"G"},16.2,{"$f":"per_game!B299 & \"-\" & D297","v":"Jose Barea-16.2"},{"$f":"per_game!R299","v":3.2},{"$f":"per_game!S299","v":4.4000000000000004},{"$f":"per_game!X299","v":8.6},{"$f":"per_game!A299","v":8}]
[null,null,{"$f":"Roster!C300","v":"F"},13.399999999999999,{"$f":"per_game!B300 & \"-\" & D298","v":"Dante Cunningham-13.4"},{"$f":"per_game!R300","v":5},{"$f":"per_game!S300","v":0.6},{"$f":"per_game!X300","v":7.8},{"$f":"per_game!A300","v":9}]
[null,null,{"$f":"Roster!C301","v":"C-F"},9.5,{"$f":"per_game!B301 & \"-\" & D299","v":"Josh Howard-9.5"},{"$f":"per_game!R301","v":3},{"$f":"per_game!S301","v":0.6},{"$f":"per_game!X301","v":5.9},{"$f":"per_game!A301","v":10}]
[null,null,{"$f":"Roster!C302","v":"G"},13.2,{"$f":"per_game!B302 & \"-\" & D300","v":"Brandon Roy-13.2"},{"$f":"per_game!R302","v":2.8},{"$f":"per_game!S302","v":4.5999999999999996},{"$f":"per_game!X302","v":5.8},{"$f":"per_game!A302","v":11}]
[null,null,{"$f":"Roster!C303","v":"G"},8.1999999999999993,{"$f":"per_game!B303 & \"-\" & D301","v":"Malcolm Lee-8.2"},{"$f":"per_game!R303","v":2.2000000000000002},{"$f":"per_game!S303","v":1.3},{"$f":"per_game!X303","v":4.7},{"$f":"per_game!A303","v":12}]
[null,null,{"$f":"Roster!C304","v":"G"},6,null,{"$f":"per_game!R304","v":2.2999999999999998},{"$f":"per_game!S304","v":0.4},{"$f":"per_game!X304","v":3.3},{"$f":"per_game!A304","v":13}]
[null,null,{"$f":"Roster!C305","v":"C"},3.4,null,{"$f":"per_game!R305","v":2.4},{"$f":"per_game!S305","v":0.1},{"$f":"per_game!X305","v":0.9},{"$f":"per_game!A305","v":14}]
[null,null,{"$f":"Roster!C306","v":"F"},0.6,null,{"$f":"per_game!R306","v":0.3},{"$f":"per_game!S306","v":0},{"$f":"per_game!X306","v":0.3},{"$f":"per_game!A306","v":15}]
[null,null,{"$f":"Roster!C307","v":0},0,{"$f":"per_game!B307 & \"-\" & D305","v":"-0"},{"$f":"per_game!R307","v":0},{"$f":"per_game!S307","v":0},{"$f":"per_game!X307","v":0},{"$f":"per_game!A307","v":0}]
[null,null,{"$f":"Roster!C308","v":0},0,{"$f":"per_game!B308 & \"-\" & D306","v":"-0"},{"$f":"per_game!R308","v":0},{"$f":"per_game!S308","v":0},{"$f":"per_game!X308","v":0},{"$f":"per_game!A308","v":"NOH"}]
[null,null,{"$f":"Roster!C309","v":"Pos"},null,{"$f":"per_game!B309 & \"-\" & D307","v":"Player-"},{"$f":"per_game!R309","v":"TRB"},{"$f":"per_game!S309","v":"AST"},{"$f":"per_game!X309","v":"PTS"},{"$f":"per_game!A309","v":"Rk"}]
[null,null,{"$f":"Roster!C310","v":"F"},26.8,{"$f":"per_game!B310 & \"-\" & D308","v":"Ryan Anderson-26.8"},{"$f":"per_game!R310","v":7.9},{"$f":"per_game!S310","v":1.4},{"$f":"per_game!X310","v":17.5},{"$f":"per_game!A310","v":1}]
[null,null,{"$f":"Roster!C311","v":"F"},25.1,{"$f":"per_game!B311 & \"-\" & D309","v":"Anthony Davis-25.1"},{"$f":"per_game!R311","v":8.3000000000000007},{"$f":"per_game!S311","v":0.8},{"$f":"per_game!X311","v":16},{"$f":"per_game!A311","v":2}]
[null,null,{"$f":"Roster!C312","v":"F-C"},25.4,{"$f":"per_game!B312 & \"-\" & D310","v":"Greivis Vasquez-25.4"},{"$f":"per_game!R312","v":3.7},{"$f":"per_game!S312","v":8.6999999999999993},{"$f":"per_game!X312","v":13},{"$f":"per_game!A312","v":3}]
[null,null,{"$f":"Roster!C313","v":"G"},18.5,{"$f":"per_game!B313 & \"-\" & D311","v":"Robin Lopez-18.5"},{"$f":"per_game!R313","v":5.6},{"$f":"per_game!S313","v":1.1000000000000001},{"$f":"per_game!X313","v":11.8},{"$f":"per_game!A313","v":4}]
[null,null,{"$f":"Roster!C314","v":"C"},19.299999999999997,{"$f":"per_game!B314 & \"-\" & D312","v":"Al-Farouq Aminu-19.3"},{"$f":"per_game!R314","v":7.2},{"$f":"per_game!S314","v":2},{"$f":"per_game!X314","v":10.1},{"$f":"per_game!A314","v":5}]
[null,null,{"$f":"Roster!C315","v":"G"},12.5,{"$f":"per_game!B315 & \"-\" & D313","v":"Jason Smith-12.5"},{"$f":"per_game!R315","v":3.6},{"$f":"per_game!S315","v":0.6},{"$f":"per_game!X315","v":8.3000000000000007},{"$f":"per_game!A315","v":6}]
[null,null,{"$f":"Roster!C316","v":"F"},11.2,{"$f":"per_game!B316 & \"-\" & D314","v":"Brian Roberts-11.2"},{"$f":"per_game!R316","v":0.9},{"$f":"per_game!S316","v":2.4},{"$f":"per_game!X316","v":7.9},{"$f":"per_game!A316","v":7}]
[null,null,{"$f":"Roster!C317","v":"G"},11.8,{"$f":"per_game!B317 & \"-\" & D315","v":"Austin Rivers-11.8"},{"$f":"per_game!R317","v":2.4},{"$f":"per_game!S317","v":3},{"$f":"per_game!X317","v":6.4},{"$f":"per_game!A317","v":8}]
[null,null,{"$f":"Roster!C318","v":"G"},9.1000000000000014,{"$f":"per_game!B318 & \"-\" & D316","v":"Roger Mason-9.1"},{"$f":"per_game!R318","v":2.1},{"$f":"per_game!S318","v":1.3},{"$f":"per_game!X318","v":5.7},{"$f":"per_game!A318","v":9}]
[null,null,{"$f":"Roster!C319","v":"F"},7,{"$f":"per_game!B319 & \"-\" & D317","v":"Lance Thomas-7"},{"$f":"per_game!R319","v":2.5},{"$f":"per_game!S319","v":0.1},{"$f":"per_game!X319","v":4.4000000000000004},{"$f":"per_game!A319","v":10}]
[null,null,{"$f":"Roster!C320","v":"F"},4,null,{"$f":"per_game!R320","v":0},{"$f":"per_game!S320","v":0},{"$f":"per_game!X320","v":4},{"$f":"per_game!A320","v":11}]
[null,null,{"$f":"Roster!C321","v":"G"},5.0999999999999996,null,{"$f":"per_game!R321","v":1.7},{"$f":"per_game!S321","v":0.2},{"$f":"per_game!X321","v":3.2},{"$f":"per_game!A321","v":12}]
[null,null,{"$f":"Roster!C322","v":"F"},5,null,{"$f":"per_game!R322","v":1.7},{"$f":"per_game!S322","v":1.1000000000000001},{"$f":"per_game!X322","v":2.2000000000000002},{"$f":"per_game!A322","v":13}]
[null,null,{"$f":"Roster!C323","v":0},0,{"$f":"per_game!B323 & \"-\" & D321","v":"-0"},{"$f":"per_game!R323","v":0},{"$f":"per_game!S323","v":0},{"$f":"per_game!X323","v":0},{"$f":"per_game!A323","v":0}]
[null,null,{"$f":"Roster!C324","v":0},{"$f":"F322*$B$2+G322*$B$3+H322*$B$1","v":0},{"$f":"per_game!B324 & \"-\" & D322","v":"-0"},{"$f":"per_game!R324","v":0},{"$f":"per_game!S324","v":0},{"$f":"per_game!X324","v":0},{"$f":"per_game!A324","v":"NYK"}]
[null,null,{"$f":"Roster!C325","v":"Pos"},null,{"$f":"per_game!B325 & \"-\" & D323","v":"Player-"},{"$f":"per_game!R325","v":"TRB"},{"$f":"per_game!S325","v":"AST"},{"$f":"per_game!X325","v":"PTS"},{"$f":"per_game!A325","v":"Rk"}]
[null,null,{"$f":"Roster!C326","v":"F"},35.6,{"$f":"per_game!B326 & \"-\" & D324","v":"Carmelo Anthony-35.6"},{"$f":"per_game!R326","v":6.9},{"$f":"per_game!S326","v":2.1},{"$f":"per_game!X326","v":26.6},{"$f":"per_game!A326","v":1}]
[null,null,{"$f":"Roster!C327","v":"G-F"},24.5,{"$f":"per_game!B327 & \"-\" & D325","v":"Raymond Felton-24.5"},{"$f":"per_game!R327","v":2.6},{"$f":"per_game!S327","v":6.8},{"$f":"per_game!X327","v":15.1},{"$f":"per_game!A327","v":2}]
[null,null,{"$f":"Roster!C328","v":"C-F"},21.5,{"$f":"per_game!B328 & \"-\" & D326","v":"J.R. Smith-21.5"},{"$f":"per_game!R328","v":5.0999999999999996},{"$f":"per_game!S328","v":2.8},{"$f":"per_game!X328","v":13.6},{"$f":"per_game!A328","v":3}]
[null,null,{"$f":"Roster!C329","v":"C"},21.6,{"$f":"per_game!B329 & \"-\" & D327","v":"Tyson Chandler-21.6"},{"$f":"per_game!R329","v":8.9},{"$f":"per_game!S329","v":0.5},{"$f":"per_game!X329","v":12.2},{"$f":"per_game!A329","v":4}]
[null,null,{"$f":"Roster!C330","v":"F"},10.3,{"$f":"per_game!B330 & \"-\" & D328","v":"Steve Novak-10.3"},{"$f":"per_game!R330","v":1.8},{"$f":"per_game!S330","v":0.4},{"$f":"per_game!X330","v":8.1},{"$f":"per_game!A330","v":5}]
[null,null,{"$f":"Roster!C331","v":"G"},14.7,{"$f":"per_game!B331 & \"-\" & D329","v":"Jason Kidd-14.7"},{"$f":"per_game!R331","v":3.3},{"$f":"per_game!S331","v":3.4},{"$f":"per_game!X331","v":8},{"$f":"per_game!A331","v":6}]
[null,null,{"$f":"Roster!C332","v":"G"},11.6,{"$f":"per_game!B332 & \"-\" & D330","v":"Rasheed Wallace-11.6"},{"$f":"per_game!R332","v":4.0999999999999996},{"$f":"per_game!S332","v":0.3},{"$f":"per_game!X332","v":7.2},{"$f":"per_game!A332","v":7}]
[null,null,{"$f":"Roster!C333","v":"F"},12.1,{"$f":"per_game!B333 & \"-\" & D331","v":"Ronnie Brewer-12.1"},{"$f":"per_game!R333","v":3.6},{"$f":"per_game!S333","v":1.4},{"$f":"per_game!X333","v":7.1},{"$f":"per_game!A333","v":8}]
[null,null,{"$f":"Roster!C334","v":"G"},4.5999999999999996,{"$f":"per_game!B334 & \"-\" & D332","v":"Chris Copeland-4.6"},{"$f":"per_game!R334","v":0.6},{"$f":"per_game!S334","v":0.4},{"$f":"per_game!X334","v":3.6},{"$f":"per_game!A334","v":9}]
[null,null,{"$f":"Roster!C335","v":"G"},7.3999999999999995,{"$f":"per_game!B335 & \"-\" & D333","v":"Pablo Prigioni-7.4"},{"$f":"per_game!R335","v":1.2},{"$f":"per_game!S335","v":2.9},{"$f":"per_game!X335","v":3.3},{"$f":"per_game!A335","v":10}]
[null,null,{"$f":"Roster!C336","v":"F"},2.4,null,{"$f":"per_game!R336","v":0.7},{"$f":"per_game!S336","v":0.2},{"$f":"per_game!X336","v":1.5},{"$f":"per_game!A336","v":11}]
[null,null,{"$f":"Roster!C337","v":"F-C"},4.4000000000000004,null,{"$f":"per_game!R337","v":2.7},{"$f":"per_game!S337","v":0.4},{"$f":"per_game!X337","v":1.3},{"$f":"per_game!A337","v":12}]
[null,null,{"$f":"Roster!C338","v":"G-F"},3.0999999999999996,null,{"$f":"per_game!R338","v":2.5},{"$f":"per_game!S338","v":0.3},{"$f":"per_game!X338","v":0.3},{"$f":"per_game!A338","v":13}]
[null,null,{"$f":"Roster!C339","v":0},0,{"$f":"per_game!B339 & \"-\" & D337","v":"-0"},{"$f":"per_game!R339","v":0},{"$f":"per_game!S339","v":0},{"$f":"per_game!X339","v":0},{"$f":"per_game!A339","v":0}]
[null,null,{"$f":"Roster!C340","v":0},0,{"$f":"per_game!B340 & \"-\" & D338","v":"-0"},{"$f":"per_game!R340","v":0},{"$f":"per_game!S340","v":0},{"$f":"per_game!X340","v":0},{"$f":"per_game!A340","v":"OKC"}]
[null,null,{"$f":"Roster!C341","v":"Pos"},null,{"$f":"per_game!B341 & \"-\" & D339","v":"Player-"},{"$f":"per_game!R341","v":"TRB"},{"$f":"per_game!S341","v":"AST"},{"$f":"per_game!X341","v":"PTS"},{"$f":"per_game!A341","v":"Rk"}]
[null,null,{"$f":"Roster!C342","v":"F"},39.200000000000003,{"$f":"per_game!B342 & \"-\" & D340","v":"Kevin Durant-39.2"},{"$f":"per_game!R342","v":8.6999999999999993},{"$f":"per_game!S342","v":4.3},{"$f":"per_game!X342","v":26.2},{"$f":"per_game!A342","v":1}]
[null,null,{"$f":"Roster!C343","v":"F"},34.5,{"$f":"per_game!B343 & \"-\" & D341","v":"Russell Westbrook-34.5"},{"$f":"per_game!R343","v":5.0999999999999996},{"$f":"per_game!S343","v":8.6999999999999993},{"$f":"per_game!X343","v":20.7},{"$f":"per_game!A343","v":2}]
[null,null,{"$f":"Roster!C344","v":"F"},20.200000000000003,{"$f":"per_game!B344 & \"-\" & D342","v":"Kevin Martin-20.2"},{"$f":"per_game!R344","v":2.4},{"$f":"per_game!S344","v":1.7},{"$f":"per_game!X344","v":16.100000000000001},{"$f":"per_game!A344","v":3}]
[null,null,{"$f":"Roster!C345","v":"G"},22.2,{"$f":"per_game!B345 & \"-\" & D343","v":"Serge Ibaka-22.2"},{"$f":"per_game!R345","v":7.6},{"$f":"per_game!S345","v":0.3},{"$f":"per_game!X345","v":14.3},{"$f":"per_game!A345","v":4}]
[null,null,{"$f":"Roster!C346","v":"F"},13.4,{"$f":"per_game!B346 & \"-\" & D344","v":"Thabo Sefolosha-13.4"},{"$f":"per_game!R346","v":4.4000000000000004},{"$f":"per_game!S346","v":1.9},{"$f":"per_game!X346","v":7.1},{"$f":"per_game!A346","v":5}]
[null,null,{"$f":"Roster!C347","v":"G-F"},10.8,{"$f":"per_game!B347 & \"-\" & D345","v":"Nick Collison-10.8"},{"$f":"per_game!R347","v":3.7},{"$f":"per_game!S347","v":1.2},{"$f":"per_game!X347","v":5.9},{"$f":"per_game!A347","v":6}]
[null,null,{"$f":"Roster!C348","v":"G"},11.8,{"$f":"per_game!B348 & \"-\" & D346","v":"Kendrick Perkins-11.8"},{"$f":"per_game!R348","v":5},{"$f":"per_game!S348","v":1.7},{"$f":"per_game!X348","v":5.0999999999999996},{"$f":"per_game!A348","v":7}]
[null,null,{"$f":"Roster!C349","v":"G"},6.7,{"$f":"per_game!B349 & \"-\" & D347","v":"Eric Maynor-6.7"},{"$f":"per_game!R349","v":0.8},{"$f":"per_game!S349","v":2.1},{"$f":"per_game!X349","v":3.8},{"$f":"per_game!A349","v":8}]
[null,null,{"$f":"Roster!C350","v":"G"},7.4,{"$f":"per_game!B350 & \"-\" & D348","v":"Hasheem Thabeet-7.4"},{"$f":"per_game!R350","v":3.8},{"$f":"per_game!S350","v":0.1},{"$f":"per_game!X350","v":3.5},{"$f":"per_game!A350","v":9}]
[null,null,{"$f":"Roster!C351","v":"F"},2.8,{"$f":"per_game!B351 & \"-\" & D349","v":"Jeremy Lamb-2.8"},{"$f":"per_game!R351","v":0.4},{"$f":"per_game!S351","v":0.3},{"$f":"per_game!X351","v":2.1},{"$f":"per_game!A351","v":10}]
[null,null,{"$f":"Roster!C352","v":"C"},2,{"$f":"per_game!B352 & \"-\" & D350","v":"Daniel Orton-2"},{"$f":"per_game!R352","v":0},{"$f":"per_game!S352","v":0},{"$f":"per_game!X352","v":2},{"$f":"per_game!A352","v":11}]
[null,null,{"$f":"Roster!C353","v":"G"},3.5,null,{"$f":"per_game!R353","v":1},{"$f":"per_game!S353","v":0.7},{"$f":"per_game!X353","v":1.8},{"$f":"per_game!A353","v":12}]
[null,null,{"$f":"Roster!C354","v":"C"},3,null,{"$f":"per_game!R354","v":1.4},{"$f":"per_game!S354","v":0.4},{"$f":"per_game!X354","v":1.2},{"$f":"per_game!A354","v":13}]
[null,null,{"$f":"Roster!C355","v":"G"},2.1999999999999997,null,{"$f":"per_game!R355","v":1.4},{"$f":"per_game!S355","v":0.2},{"$f":"per_game!X355","v":0.6},{"$f":"per_game!A355","v":14}]
[null,null,{"$f":"Roster!C356","v":0},0,{"$f":"per_game!B356 & \"-\" & D354","v":"-0"},{"$f":"per_game!R356","v":0},{"$f":"per_game!S356","v":0},{"$f":"per_game!X356","v":0},{"$f":"per_game!A356","v":0}]
[null,null,{"$f":"Roster!C357","v":0},0,{"$f":"per_game!B357 & \"-\" & D355","v":"-0"},{"$f":"per_game!R357","v":0},{"$f":"per_game!S357","v":0},{"$f":"per_game!X357","v":0},{"$f":"per_game!A357","v":"ORL"}]
[null,null,{"$f":"Roster!C358","v":"Pos"},null,{"$f":"per_game!B358 & \"-\" & D356","v":"Player-"},{"$f":"per_game!R358","v":"TRB"},{"$f":"per_game!S358","v":"AST"},{"$f":"per_game!X358","v":"PTS"},{"$f":"per_game!A358","v":"Rk"}]
[null,null,{"$f":"Roster!C359","v":"G"},22.400000000000002,{"$f":"per_game!B359 & \"-\" & D357","v":"Arron Afflalo-22.4"},{"$f":"per_game!R359","v":3.8},{"$f":"per_game!S359","v":2.5},{"$f":"per_game!X359","v":16.100000000000001},{"$f":"per_game!A359","v":1}]
[null,null,{"$f":"Roster!C360","v":"C"},26.1,{"$f":"per_game!B360 & \"-\" & D358","v":"Glen Davis-26.1"},{"$f":"per_game!R360","v":8.1999999999999993},{"$f":"per_game!S360","v":2.1},{"$f":"per_game!X360","v":15.8},{"$f":"per_game!A360","v":2}]
[null,null,{"$f":"Roster!C361","v":"F"},21.1,{"$f":"per_game!B361 & \"-\" & D359","v":"J.J. Redick-21.1"},{"$f":"per_game!R361","v":2.1},{"$f":"per_game!S361","v":5.0999999999999996},{"$f":"per_game!X361","v":13.9},{"$f":"per_game!A361","v":3}]
[null,null,{"$f":"Roster!C362","v":"G-F"},24.2,{"$f":"per_game!B362 & \"-\" & D360","v":"Jameer Nelson-24.2"},{"$f":"per_game!R362","v":4.5},{"$f":"per_game!S362","v":6.7},{"$f":"per_game!X362","v":13},{"$f":"per_game!A362","v":4}]
[null,null,{"$f":"Roster!C363","v":"F"},20.399999999999999,{"$f":"per_game!B363 & \"-\" & D361","v":"Nikola Vucevic-20.4"},{"$f":"per_game!R363","v":8.6},{"$f":"per_game!S363","v":1.6},{"$f":"per_game!X363","v":10.199999999999999},{"$f":"per_game!A363","v":5}]
[null,null,{"$f":"Roster!C364","v":"F"},15.8,{"$f":"per_game!B364 & \"-\" & D362","v":"E'Twaun Moore-15.8"},{"$f":"per_game!R364","v":2.6},{"$f":"per_game!S364","v":3.2},{"$f":"per_game!X364","v":10},{"$f":"per_game!A364","v":6}]
[null,null,{"$f":"Roster!C365","v":"F"},9.2999999999999989,{"$f":"per_game!B365 & \"-\" & D363","v":"Andrew Nicholson-9.3"},{"$f":"per_game!R365","v":2.2999999999999998},{"$f":"per_game!S365","v":0.4},{"$f":"per_game!X365","v":6.6},{"$f":"per_game!A365","v":7}]
[null,null,{"$f":"Roster!C366","v":"G"},9,{"$f":"per_game!B366 & \"-\" & D364","v":"Hedo Turkoglu-9"},{"$f":"per_game!R366","v":2},{"$f":"per_game!S366","v":1},{"$f":"per_game!X366","v":6},{"$f":"per_game!A366","v":8}]
[null,null,{"$f":"Roster!C367","v":"F"},9.3000000000000007,{"$f":"per_game!B367 & \"-\" & D365","v":"Maurice Harkless-9.3"},{"$f":"per_game!R367","v":4.3},{"$f":"per_game!S367","v":0.6},{"$f":"per_game!X367","v":4.4000000000000004},{"$f":"per_game!A367","v":9}]
[null,null,{"$f":"Roster!C368","v":"C"},9,{"$f":"per_game!B368 & \"-\" & D366","v":"Josh McRoberts-9"},{"$f":"per_game!R368","v":3.8},{"$f":"per_game!S368","v":1.3},{"$f":"per_game!X368","v":3.9},{"$f":"per_game!A368","v":10}]
[null,null,{"$f":"Roster!C369","v":"G"},5,{"$f":"per_game!B369 & \"-\" & D367","v":"DeQuan Jones-5"},{"$f":"per_game!R369","v":1.9},{"$f":"per_game!S369","v":0.1},{"$f":"per_game!X369","v":3},{"$f":"per_game!A369","v":11}]
[null,null,{"$f":"Roster!C370","v":"G"},6.8,null,{"$f":"per_game!R370","v":2.9},{"$f":"per_game!S370","v":0.9},{"$f":"per_game!X370","v":3},{"$f":"per_game!A370","v":12}]
[null,null,{"$f":"Roster!C371","v":"F"},5.5,null,{"$f":"per_game!R371","v":2.4},{"$f":"per_game!S371","v":0.7},{"$f":"per_game!X371","v":2.4},{"$f":"per_game!A371","v":13}]
[null,null,{"$f":"Roster!C372","v":"F"},3.9,null,{"$f":"per_game!R372","v":1.5},{"$f":"per_game!S372","v":1.5},{"$f":"per_game!X372","v":0.9},{"$f":"per_game!A372","v":14}]
[null,null,{"$f":"Roster!C373","v":0},0,{"$f":"per_game!B373 & \"-\" & D371","v":"-0"},{"$f":"per_game!R373","v":0},{"$f":"per_game!S373","v":0},{"$f":"per_game!X373","v":0},{"$f":"per_game!A373","v":0}]
[null,null,{"$f":"Roster!C374","v":0},0,{"$f":"per_game!B374 & \"-\" & D372","v":"-0"},{"$f":"per_game!R374","v":0},{"$f":"per_game!S374","v":0},{"$f":"per_game!X374","v":0},{"$f":"per_game!A374","v":"PHI"}]
[null,null,{"$f":"Roster!C375","v":"Pos"},null,{"$f":"per_game!B375 & \"-\" & D373","v":"Player-"},{"$f":"per_game!R375","v":"TRB"},{"$f":"per_game!S375","v":"AST"},{"$f":"per_game!X375","v":"PTS"},{"$f":"per_game!A375","v":"Rk"}]
[null,null,{"$f":"Roster!C376","v":"F"},31.3,{"$f":"per_game!B376 & \"-\" & D374","v":"Jrue Holiday-31.3"},{"$f":"per_game!R376","v":3.5},{"$f":"per_game!S376","v":9.3000000000000007},{"$f":"per_game!X376","v":18.5},{"$f":"per_game!A376","v":1}]
[null,null,{"$f":"Roster!C377","v":"F"},23.6,{"$f":"per_game!B377 & \"-\" & D375","v":"Thaddeus Young-23.6"},{"$f":"per_game!R377","v":7.7},{"$f":"per_game!S377","v":1.4},{"$f":"per_game!X377","v":14.5},{"$f":"per_game!A377","v":2}]
[null,null,{"$f":"Roster!C378","v":"C"},25.299999999999997,{"$f":"per_game!B378 & \"-\" & D376","v":"Evan Turner-25.3"},{"$f":"per_game!R378","v":7.1},{"$f":"per_game!S378","v":4.0999999999999996},{"$f":"per_game!X378","v":14.1},{"$f":"per_game!A378","v":3}]
[null,null,{"$f":"Roster!C379","v":"G"},18.100000000000001,{"$f":"per_game!B379 & \"-\" & D377","v":"Jason Richardson-18.1"},{"$f":"per_game!R379","v":4.2},{"$f":"per_game!S379","v":1.2},{"$f":"per_game!X379","v":12.7},{"$f":"per_game!A379","v":4}]
[null,null,{"$f":"Roster!C380","v":"G"},12.7,{"$f":"per_game!B380 & \"-\" & D378","v":"Nick Young-12.7"},{"$f":"per_game!R380","v":1.8},{"$f":"per_game!S380","v":1.3},{"$f":"per_game!X380","v":9.6},{"$f":"per_game!A380","v":5}]
[null,null,{"$f":"Roster!C381","v":"F"},13.200000000000001,{"$f":"per_game!B381 & \"-\" & D379","v":"Dorell Wright-13.2"},{"$f":"per_game!R381","v":4.4000000000000004},{"$f":"per_game!S381","v":0.9},{"$f":"per_game!X381","v":7.9},{"$f":"per_game!A381","v":6}]
[null,null,{"$f":"Roster!C382","v":"G"},13.8,{"$f":"per_game!B382 & \"-\" & D380","v":"Spencer Hawes-13.8"},{"$f":"per_game!R382","v":5.2},{"$f":"per_game!S382","v":1.4},{"$f":"per_game!X382","v":7.2},{"$f":"per_game!A382","v":7}]
[null,null,{"$f":"Roster!C383","v":"G"},11.899999999999999,{"$f":"per_game!B383 & \"-\" & D381","v":"Lavoy Allen-11.9"},{"$f":"per_game!R383","v":4.5999999999999996},{"$f":"per_game!S383","v":1.1000000000000001},{"$f":"per_game!X383","v":6.2},{"$f":"per_game!A383","v":8}]
[null,null,{"$f":"Roster!C384","v":"G"},5.6,{"$f":"per_game!B384 & \"-\" & D382","v":"Royal Ivey-5.6"},{"$f":"per_game!R384","v":1.6},{"$f":"per_game!S384","v":0.7},{"$f":"per_game!X384","v":3.3},{"$f":"per_game!A384","v":9}]
[null,null,{"$f":"Roster!C385","v":"F"},3.2,{"$f":"per_game!B385 & \"-\" & D383","v":"Maalik Wayns-3.2"},{"$f":"per_game!R385","v":0.1},{"$f":"per_game!S385","v":0.5},{"$f":"per_game!X385","v":2.6},{"$f":"per_game!A385","v":10}]
[null,null,{"$f":"Roster!C386","v":"G-F"},5.6,null,{"$f":"per_game!R386","v":2.7},{"$f":"per_game!S386","v":0.5},{"$f":"per_game!X386","v":2.4},{"$f":"per_game!A386","v":11}]
[null,null,{"$f":"Roster!C387","v":"G"},1.7,null,{"$f":"per_game!R387","v":0.6},{"$f":"per_game!S387","v":0.1},{"$f":"per_game!X387","v":1},{"$f":"per_game!A387","v":12}]
[null,null,{"$f":"Roster!C388","v":"F"},{"$f":"F386*$B$2+G386*$B$3+H386*$B$1","v":2},null,{"$f":"per_game!R388","v":1.2},{"$f":"per_game!S388","v":0},{"$f":"per_game!X388","v":0.8},{"$f":"per_game!A388","v":13}]
[null,null,{"$f":"Roster!C389","v":0},0,{"$f":"per_game!B389 & \"-\" & D387","v":"-0"},{"$f":"per_game!R389","v":0},{"$f":"per_game!S389","v":0},{"$f":"per_game!X389","v":0},{"$f":"per_game!A389","v":0}]
[null,null,{"$f":"Roster!C390","v":0},0,{"$f":"per_game!B390 & \"-\" & D388","v":"-0"},{"$f":"per_game!R390","v":0},{"$f":"per_game!S390","v":0},{"$f":"per_game!X390","v":0},{"$f":"per_game!A390","v":"PHO"}]
[null,null,{"$f":"Roster!C391","v":"Pos"},null,{"$f":"per_game!B391 & \"-\" & D389","v":"Player-"},{"$f":"per_game!R391","v":"TRB"},{"$f":"per_game!S391","v":"AST"},{"$f":"per_game!X391","v":"PTS"},{"$f":"per_game!A391","v":"Rk"}]
[null,null,{"$f":"Roster!C392","v":"F"},25,{"$f":"per_game!B392 & \"-\" & D390","v":"Goran Dragic-25"},{"$f":"per_game!R392","v":3.1},{"$f":"per_game!S392","v":6.6},{"$f":"per_game!X392","v":15.3},{"$f":"per_game!A392","v":1}]
[null,null,{"$f":"Roster!C393","v":"G"},20.9,{"$f":"per_game!B393 & \"-\" & D391","v":"Luis Scola-20.9"},{"$f":"per_game!R393","v":6.8},{"$f":"per_game!S393","v":1.6},{"$f":"per_game!X393","v":12.5},{"$f":"per_game!A393","v":2}]
[null,null,{"$f":"Roster!C394","v":"G"},16.7,{"$f":"per_game!B394 & \"-\" & D392","v":"Shannon Brown-16.7"},{"$f":"per_game!R394","v":2.6},{"$f":"per_game!S394","v":2.1},{"$f":"per_game!X394","v":12},{"$f":"per_game!A394","v":3}]
[null,null,{"$f":"Roster!C395","v":"F"},18.5,{"$f":"per_game!B395 & \"-\" & D393","v":"Michael Beasley-18.5"},{"$f":"per_game!R395","v":4.2},{"$f":"per_game!S395","v":2.5},{"$f":"per_game!X395","v":11.8},{"$f":"per_game!A395","v":4}]
[null,null,{"$f":"Roster!C396","v":"G"},21,{"$f":"per_game!B396 & \"-\" & D394","v":"Marcin Gortat-21"},{"$f":"per_game!R396","v":8.3000000000000007},{"$f":"per_game!S396","v":1},{"$f":"per_game!X396","v":11.7},{"$f":"per_game!A396","v":5}]
[null,null,{"$f":"Roster!C397","v":"C-F"},14.899999999999999,{"$f":"per_game!B397 & \"-\" & D395","v":"Markieff Morris-14.9"},{"$f":"per_game!R397","v":4.5999999999999996},{"$f":"per_game!S397","v":1.3},{"$f":"per_game!X397","v":9},{"$f":"per_game!A397","v":6}]
[null,null,{"$f":"Roster!C398","v":"F"},12.7,{"$f":"per_game!B398 & \"-\" & D396","v":"Jared Dudley-12.7"},{"$f":"per_game!R398","v":2.4},{"$f":"per_game!S398","v":1.7},{"$f":"per_game!X398","v":8.6},{"$f":"per_game!A398","v":7}]
[null,null,{"$f":"Roster!C399","v":"G"},13.3,{"$f":"per_game!B399 & \"-\" & D397","v":"Jermaine O'Neal-13.3"},{"$f":"per_game!R399","v":5.2},{"$f":"per_game!S399","v":0.3},{"$f":"per_game!X399","v":7.8},{"$f":"per_game!A399","v":8}]
[null,null,{"$f":"Roster!C400","v":"F"},10.6,{"$f":"per_game!B400 & \"-\" & D398","v":"Sebastian Telfair-10.6"},{"$f":"per_game!R400","v":1.8},{"$f":"per_game!S400","v":2.7},{"$f":"per_game!X400","v":6.1},{"$f":"per_game!A400","v":9}]
[null,null,{"$f":"Roster!C401","v":"F-C"},9.3000000000000007,{"$f":"per_game!B401 & \"-\" & D399","v":"P.J. Tucker-9.3"},{"$f":"per_game!R401","v":3.6},{"$f":"per_game!S401","v":1.1000000000000001},{"$f":"per_game!X401","v":4.5999999999999996},{"$f":"per_game!A401","v":10}]
[null,null,{"$f":"Roster!C402","v":"F"},3,{"$f":"per_game!B402 & \"-\" & D400","v":"Luke Zeller-3"},{"$f":"per_game!R402","v":0.8},{"$f":"per_game!S402","v":0},{"$f":"per_game!X402","v":2.2000000000000002},{"$f":"per_game!A402","v":11}]
[null,null,{"$f":"Roster!C403","v":"G"},4,null,{"$f":"per_game!R403","v":0},{"$f":"per_game!S403","v":2},{"$f":"per_game!X403","v":2},{"$f":"per_game!A403","v":12}]
[null,null,{"$f":"Roster!C404","v":"F"},3.5,null,{"$f":"per_game!R404","v":1.1000000000000001},{"$f":"per_game!S404","v":0.6},{"$f":"per_game!X404","v":1.8},{"$f":"per_game!A404","v":13}]
[null,null,{"$f":"Roster!C405","v":"C"},2,null,{"$f":"per_game!R405","v":0},{"$f":"per_game!S405","v":0.8},{"$f":"per_game!X405","v":1.2},{"$f":"per_game!A405","v":14}]
[null,null,{"$f":"Roster!C406","v":0},0,{"$f":"per_game!B406 & \"-\" & D404","v":"-0"},{"$f":"per_game!R406","v":0},{"$f":"per_game!S406","v":0},{"$f":"per_game!X406","v":0},{"$f":"per_game!A406","v":0}]
[null,null,{"$f":"Roster!C407","v":0},0,{"$f":"per_game!B407 & \"-\" & D405","v":"-0"},{"$f":"per_game!R407","v":0},{"$f":"per_game!S407","v":0},{"$f":"per_game!X407","v":0},{"$f":"per_game!A407","v":"POR"}]
[null,null,{"$f":"Roster!C408","v":"Pos"},null,{"$f":"per_game!B408 & \"-\" & D406","v":"Player-"},{"$f":"per_game!R408","v":"TRB"},{"$f":"per_game!S408","v":"AST"},{"$f":"per_game!X408","v":"PTS"},{"$f":"per_game!A408","v":"Rk"}]
[null,null,{"$f":"Roster!C409","v":"F"},31.5,{"$f":"per_game!B409 & \"-\" & D407","v":"LaMarcus Aldridge-31.5"},{"$f":"per_game!R409","v":7.9},{"$f":"per_game!S409","v":2.8},{"$f":"per_game!X409","v":20.8},{"$f":"per_game!A409","v":1}]
[null,null,{"$f":"Roster!C410","v":"F"},28.700000000000003,{"$f":"per_game!B410 & \"-\" & D408","v":"Damian Lillard-28.7"},{"$f":"per_game!R410","v":3.3},{"$f":"per_game!S410","v":6.3},{"$f":"per_game!X410","v":19.100000000000001},{"$f":"per_game!A410","v":2}]
[null,null,{"$f":"Roster!C411","v":"G"},27.1,{"$f":"per_game!B411 & \"-\" & D409","v":"Nicolas Batum-27.1"},{"$f":"per_game!R411","v":6.3},{"$f":"per_game!S411","v":3.2},{"$f":"per_game!X411","v":17.600000000000001},{"$f":"per_game!A411","v":3}]
[null,null,{"$f":"Roster!C412","v":"F"},21.8,{"$f":"per_game!B412 & \"-\" & D410","v":"Wesley Matthews-21.8"},{"$f":"per_game!R412","v":3.2},{"$f":"per_game!S412","v":2.7},{"$f":"per_game!X412","v":15.9},{"$f":"per_game!A412","v":4}]
[null,null,{"$f":"Roster!C413","v":"F"},21.3,{"$f":"per_game!B413 & \"-\" & D411","v":"J.J. Hickson-21.3"},{"$f":"per_game!R413","v":9.6},{"$f":"per_game!S413","v":0.9},{"$f":"per_game!X413","v":10.8},{"$f":"per_game!A413","v":5}]
[null,null,{"$f":"Roster!C414","v":"F-C"},9.1,{"$f":"per_game!B414 & \"-\" & D412","v":"Meyers Leonard-9.1"},{"$f":"per_game!R414","v":3.8},{"$f":"per_game!S414","v":0.2},{"$f":"per_game!X414","v":5.0999999999999996},{"$f":"per_game!A414","v":6}]
[null,null,{"$f":"Roster!C415","v":"F"},6.3,{"$f":"per_game!B415 & \"-\" & D413","v":"Ronnie Price-6.3"},{"$f":"per_game!R415","v":1.4},{"$f":"per_game!S415","v":1.9},{"$f":"per_game!X415","v":3},{"$f":"per_game!A415","v":7}]
[null,null,{"$f":"Roster!C416","v":"F"},4.6999999999999993,{"$f":"per_game!B416 & \"-\" & D414","v":"Will Barton-4.7"},{"$f":"per_game!R416","v":1.4},{"$f":"per_game!S416","v":0.5},{"$f":"per_game!X416","v":2.8},{"$f":"per_game!A416","v":8}]
[null,null,{"$f":"Roster!C417","v":"C"},4.5999999999999996,{"$f":"per_game!B417 & \"-\" & D415","v":"Luke Babbitt-4.6"},{"$f":"per_game!R417","v":1.5},{"$f":"per_game!S417","v":0.5},{"$f":"per_game!X417","v":2.6},{"$f":"per_game!A417","v":9}]
[null,null,{"$f":"Roster!C418","v":"G"},4.5999999999999996,{"$f":"per_game!B418 & \"-\" & D416","v":"Joel Freeland-4.6"},{"$f":"per_game!R418","v":2},{"$f":"per_game!S418","v":0.2},{"$f":"per_game!X418","v":2.4},{"$f":"per_game!A418","v":10}]
[null,null,{"$f":"Roster!C419","v":"G"},3.5,{"$f":"per_game!B419 & \"-\" & D417","v":"Nolan Smith-3.5"},{"$f":"per_game!R419","v":0.5},{"$f":"per_game!S419","v":0.9},{"$f":"per_game!X419","v":2.1},{"$f":"per_game!A419","v":11}]
[null,null,{"$f":"Roster!C420","v":"G-F"},3.3,null,{"$f":"per_game!R420","v":1.1000000000000001},{"$f":"per_game!S420","v":0.5},{"$f":"per_game!X420","v":1.7},{"$f":"per_game!A420","v":12}]
[null,null,{"$f":"Roster!C421","v":"G"},2.6,null,{"$f":"per_game!R421","v":1.1000000000000001},{"$f":"per_game!S421","v":0.4},{"$f":"per_game!X421","v":1.1000000000000001},{"$f":"per_game!A421","v":13}]
[null,null,{"$f":"Roster!C422","v":"G"},1.6,null,{"$f":"per_game!R422","v":1},{"$f":"per_game!S422","v":0.3},{"$f":"per_game!X422","v":0.3},{"$f":"per_game!A422","v":14}]
[null,null,{"$f":"Roster!C423","v":0},0,{"$f":"per_game!B423 & \"-\" & D421","v":"-0"},{"$f":"per_game!R423","v":0},{"$f":"per_game!S423","v":0},{"$f":"per_game!X423","v":0},{"$f":"per_game!A423","v":0}]
[null,null,{"$f":"Roster!C424","v":0},0,{"$f":"per_game!B424 & \"-\" & D422","v":"-0"},{"$f":"per_game!R424","v":0},{"$f":"per_game!S424","v":0},{"$f":"per_game!X424","v":0},{"$f":"per_game!A424","v":"SAC"}]
[null,null,{"$f":"Roster!C425","v":"Pos"},null,{"$f":"per_game!B425 & \"-\" & D423","v":"Player-"},{"$f":"per_game!R425","v":"TRB"},{"$f":"per_game!S425","v":"AST"},{"$f":"per_game!X425","v":"PTS"},{"$f":"per_game!A425","v":"Rk"}]
[null,null,{"$f":"Roster!C426","v":"G"},27.6,{"$f":"per_game!B426 & \"-\" & D424","v":"DeMarcus Cousins-27.6"},{"$f":"per_game!R426","v":9.5},{"$f":"per_game!S426","v":2.1},{"$f":"per_game!X426","v":16},{"$f":"per_game!A426","v":1}]
[null,null,{"$f":"Roster!C427","v":"F"},19.5,{"$f":"per_game!B427 & \"-\" & D425","v":"Marcus Thornton-19.5"},{"$f":"per_game!R427","v":2.9},{"$f":"per_game!S427","v":1.5},{"$f":"per_game!X427","v":15.1},{"$f":"per_game!A427","v":2}]
[null,null,{"$f":"Roster!C428","v":"G"},23.700000000000003,{"$f":"per_game!B428 & \"-\" & D426","v":"Tyreke Evans-23.7"},{"$f":"per_game!R428","v":5.0999999999999996},{"$f":"per_game!S428","v":3.7},{"$f":"per_game!X428","v":14.9},{"$f":"per_game!A428","v":3}]
[null,null,{"$f":"Roster!C429","v":"G"},19.100000000000001,{"$f":"per_game!B429 & \"-\" & D427","v":"Jason Thompson-19.1"},{"$f":"per_game!R429","v":7.1},{"$f":"per_game!S429","v":1.1000000000000001},{"$f":"per_game!X429","v":10.9},{"$f":"per_game!A429","v":4}]
[null,null,{"$f":"Roster!C430","v":"F-G"},11.5,{"$f":"per_game!B430 & \"-\" & D428","v":"Isaiah Thomas-11.5"},{"$f":"per_game!R430","v":1.2},{"$f":"per_game!S430","v":1.8},{"$f":"per_game!X430","v":8.5},{"$f":"per_game!A430","v":5}]
[null,null,{"$f":"Roster!C431","v":"F"},11.5,{"$f":"per_game!B431 & \"-\" & D429","v":"Aaron Brooks-11.5"},{"$f":"per_game!R431","v":1.8},{"$f":"per_game!S431","v":2.1},{"$f":"per_game!X431","v":7.6},{"$f":"per_game!A431","v":6}]
[null,null,{"$f":"Roster!C432","v":"F"},11.8,{"$f":"per_game!B432 & \"-\" & D430","v":"John Salmons-11.8"},{"$f":"per_game!R432","v":2.9},{"$f":"per_game!S432","v":2},{"$f":"per_game!X432","v":6.9},{"$f":"per_game!A432","v":7}]
[null,null,{"$f":"Roster!C433","v":"F"},8.1999999999999993,{"$f":"per_game!B433 & \"-\" & D431","v":"Jimmer Fredette-8.2"},{"$f":"per_game!R433","v":0.5},{"$f":"per_game!S433","v":1.4},{"$f":"per_game!X433","v":6.3},{"$f":"per_game!A433","v":8}]
[null,null,{"$f":"Roster!C434","v":"F"},9.5,{"$f":"per_game!B434 & \"-\" & D432","v":"Thomas Robinson-9.5"},{"$f":"per_game!R434","v":3.8},{"$f":"per_game!S434","v":0.7},{"$f":"per_game!X434","v":5},{"$f":"per_game!A434","v":9}]
[null,null,{"$f":"Roster!C435","v":"G"},8.1,{"$f":"per_game!B435 & \"-\" & D433","v":"James Johnson-8.1"},{"$f":"per_game!R435","v":2.2999999999999998},{"$f":"per_game!S435","v":1.1000000000000001},{"$f":"per_game!X435","v":4.7},{"$f":"per_game!A435","v":10}]
[null,null,{"$f":"Roster!C436","v":"G"},6.6,null,{"$f":"per_game!R436","v":1.8},{"$f":"per_game!S436","v":1},{"$f":"per_game!X436","v":3.8},{"$f":"per_game!A436","v":11}]
[null,null,{"$f":"Roster!C437","v":"F"},10.799999999999999,null,{"$f":"per_game!R437","v":5.0999999999999996},{"$f":"per_game!S437","v":2.2999999999999998},{"$f":"per_game!X437","v":3.4},{"$f":"per_game!A437","v":12}]
[null,null,{"$f":"Roster!C438","v":"G"},4.4000000000000004,null,{"$f":"per_game!R438","v":0.7},{"$f":"per_game!S438","v":0.3},{"$f":"per_game!X438","v":3.4},{"$f":"per_game!A438","v":13}]
[null,null,{"$f":"Roster!C439","v":0},0,{"$f":"per_game!B439 & \"-\" & D437","v":"-0"},{"$f":"per_game!R439","v":0},{"$f":"per_game!S439","v":0},{"$f":"per_game!X439","v":0},{"$f":"per_game!A439","v":0}]
[null,null,{"$f":"Roster!C440","v":0},0,{"$f":"per_game!B440 & \"-\" & D438","v":"-0"},{"$f":"per_game!R440","v":0},{"$f":"per_game!S440","v":0},{"$f":"per_game!X440","v":0},{"$f":"per_game!A440","v":"SAS"}]
[null,null,{"$f":"Roster!C441","v":"Pos"},null,{"$f":"per_game!B441 & \"-\" & D439","v":"Player-"},{"$f":"per_game!R441","v":"TRB"},{"$f":"per_game!S441","v":"AST"},{"$f":"per_game!X441","v":"PTS"},{"$f":"per_game!A441","v":"Rk"}]
[null,null,{"$f":"Roster!C442","v":"G"},31.599999999999998,{"$f":"per_game!B442 & \"-\" & D440","v":"Tim Duncan-31.6"},{"$f":"per_game!R442","v":10.1},{"$f":"per_game!S442","v":2.6},{"$f":"per_game!X442","v":18.899999999999999},{"$f":"per_game!A442","v":1}]
[null,null,{"$f":"Roster!C443","v":"F"},28.3,{"$f":"per_game!B443 & \"-\" & D441","v":"Tony Parker-28.3"},{"$f":"per_game!R443","v":3.1},{"$f":"per_game!S443","v":7.1},{"$f":"per_game!X443","v":18.100000000000001},{"$f":"per_game!A443","v":2}]
[null,null,{"$f":"Roster!C444","v":"F"},19.100000000000001,{"$f":"per_game!B444 & \"-\" & D442","v":"Manu Ginobili-19.1"},{"$f":"per_game!R444","v":3.1},{"$f":"per_game!S444","v":4.3},{"$f":"per_game!X444","v":11.7},{"$f":"per_game!A444","v":3}]
[null,null,{"$f":"Roster!C445","v":"G"},16.3,{"$f":"per_game!B445 & \"-\" & D443","v":"Gary Neal-16.3"},{"$f":"per_game!R445","v":3.2},{"$f":"per_game!S445","v":2},{"$f":"per_game!X445","v":11.1},{"$f":"per_game!A445","v":4}]
[null,null,{"$f":"Roster!C446","v":"F-C"},17.3,{"$f":"per_game!B446 & \"-\" & D444","v":"Kawhi Leonard-17.3"},{"$f":"per_game!R446","v":5.4},{"$f":"per_game!S446","v":1.3},{"$f":"per_game!X446","v":10.6},{"$f":"per_game!A446","v":5}]
[null,null,{"$f":"Roster!C447","v":"F-C"},14.700000000000001,{"$f":"per_game!B447 & \"-\" & D445","v":"Danny Green-14.7"},{"$f":"per_game!R447","v":3.5},{"$f":"per_game!S447","v":1.4},{"$f":"per_game!X447","v":9.8000000000000007},{"$f":"per_game!A447","v":6}]
[null,null,{"$f":"Roster!C448","v":"G"},14.3,{"$f":"per_game!B448 & \"-\" & D446","v":"Tiago Splitter-14.3"},{"$f":"per_game!R448","v":4.5},{"$f":"per_game!S448","v":1.2},{"$f":"per_game!X448","v":8.6},{"$f":"per_game!A448","v":7}]
[null,null,{"$f":"Roster!C449","v":"F"},13.5,{"$f":"per_game!B449 & \"-\" & D447","v":"Stephen Jackson-13.5"},{"$f":"per_game!R449","v":4.3},{"$f":"per_game!S449","v":1.5},{"$f":"per_game!X449","v":7.7},{"$f":"per_game!A449","v":8}]
[null,null,{"$f":"Roster!C450","v":"F"},12.200000000000001,{"$f":"per_game!B450 & \"-\" & D448","v":"DeJuan Blair-12.2"},{"$f":"per_game!R450","v":4.7},{"$f":"per_game!S450","v":1.1000000000000001},{"$f":"per_game!X450","v":6.4},{"$f":"per_game!A450","v":9}]
[null,null,{"$f":"Roster!C451","v":"G"},11.7,{"$f":"per_game!B451 & \"-\" & D449","v":"Boris Diaw-11.7"},{"$f":"per_game!R451","v":3.4},{"$f":"per_game!S451","v":2.5},{"$f":"per_game!X451","v":5.8},{"$f":"per_game!A451","v":10}]
[null,null,{"$f":"Roster!C452","v":"F"},{"$f":"F450*$B$2+G450*$B$3+H450*$B$1","v":7.1000000000000005},{"$f":"per_game!B452 & \"-\" & D450","v":"Patrick Mills-7.1"},{"$f":"per_game!R452","v":1.1000000000000001},{"$f":"per_game!S452","v":1.1000000000000001},{"$f":"per_game!X452","v":4.9000000000000004},{"$f":"per_game!A452","v":11}]
[null,null,{"$f":"Roster!C453","v":"G"},6.2,{"$f":"per_game!B453 & \"-\" & D451","v":"Matt Bonner-6.2"},{"$f":"per_game!R453","v":1.6},{"$f":"per_game!S453","v":0.4},{"$f":"per_game!X453","v":4.2},{"$f":"per_game!A453","v":12}]
[null,null,{"$f":"Roster!C454","v":"G"},5.6,null,{"$f":"per_game!R454","v":1.3},{"$f":"per_game!S454","v":0.8},{"$f":"per_game!X454","v":3.5},{"$f":"per_game!A454","v":13}]
[null,null,{"$f":"Roster!C455","v":"G"},5.0999999999999996,null,{"$f":"per_game!R455","v":1.2},{"$f":"per_game!S455","v":1.4},{"$f":"per_game!X455","v":2.5},{"$f":"per_game!A455","v":14}]
[null,null,{"$f":"Roster!C456","v":"F"},4.0999999999999996,null,{"$f":"per_game!R456","v":0.8},{"$f":"per_game!S456","v":1.5},{"$f":"per_game!X456","v":1.8},{"$f":"per_game!A456","v":15}]
[null,null,{"$f":"Roster!C457","v":0},0,{"$f":"per_game!B457 & \"-\" & D455","v":"-0"},{"$f":"per_game!R457","v":0},{"$f":"per_game!S457","v":0},{"$f":"per_game!X457","v":0},{"$f":"per_game!A457","v":0}]
[null,null,{"$f":"Roster!C458","v":0},0,{"$f":"per_game!B458 & \"-\" & D456","v":"-0"},{"$f":"per_game!R458","v":0},{"$f":"per_game!S458","v":0},{"$f":"per_game!X458","v":0},{"$f":"per_game!A458","v":"TOR"}]
[null,null,{"$f":"Roster!C459","v":"Pos"},null,{"$f":"per_game!B459 & \"-\" & D457","v":"Player-"},{"$f":"per_game!R459","v":"TRB"},{"$f":"per_game!S459","v":"AST"},{"$f":"per_game!X459","v":"PTS"},{"$f":"per_game!A459","v":"Rk"}]
[null,null,{"$f":"Roster!C460","v":"F"},25.299999999999997,{"$f":"per_game!B460 & \"-\" & D458","v":"DeMar DeRozan-25.3"},{"$f":"per_game!R460","v":5},{"$f":"per_game!S460","v":1.9},{"$f":"per_game!X460","v":18.399999999999999},{"$f":"per_game!A460","v":1}]
[null,null,{"$f":"Roster!C461","v":"G-F"},23.299999999999997,{"$f":"per_game!B461 & \"-\" & D459","v":"Andrea Bargnani-23.3"},{"$f":"per_game!R461","v":4.5},{"$f":"per_game!S461","v":1.4},{"$f":"per_game!X461","v":17.399999999999999},{"$f":"per_game!A461","v":2}]
[null,null,{"$f":"Roster!C462","v":"F"},28.4,{"$f":"per_game!B462 & \"-\" & D460","v":"Kyle Lowry-28.4"},{"$f":"per_game!R462","v":5.8},{"$f":"per_game!S462","v":5.6},{"$f":"per_game!X462","v":17},{"$f":"per_game!A462","v":3}]
[null,null,{"$f":"Roster!C463","v":"G"},19.399999999999999,{"$f":"per_game!B463 & \"-\" & D461","v":"Jose Calderon-19.4"},{"$f":"per_game!R463","v":1.9},{"$f":"per_game!S463","v":7.3},{"$f":"per_game!X463","v":10.199999999999999},{"$f":"per_game!A463","v":4}]
[null,null,{"$f":"Roster!C464","v":"F"},16.100000000000001,{"$f":"per_game!B464 & \"-\" & D462","v":"Jonas Valanciunas-16.1"},{"$f":"per_game!R464","v":5.7},{"$f":"per_game!S464","v":1.3},{"$f":"per_game!X464","v":9.1},{"$f":"per_game!A464","v":5}]
[null,null,{"$f":"Roster!C465","v":"G"},9.8000000000000007,{"$f":"per_game!B465 & \"-\" & D463","v":"Alan Anderson-9.8"},{"$f":"per_game!R465","v":1.3},{"$f":"per_game!S465","v":1.2},{"$f":"per_game!X465","v":7.3},{"$f":"per_game!A465","v":6}]
[null,null,{"$f":"Roster!C466","v":"F"},13.5,{"$f":"per_game!B466 & \"-\" & D464","v":"Amir Johnson-13.5"},{"$f":"per_game!R466","v":5.2},{"$f":"per_game!S466","v":1.2},{"$f":"per_game!X466","v":7.1},{"$f":"per_game!A466","v":7}]
[null,null,{"$f":"Roster!C467","v":"C"},10.4,{"$f":"per_game!B467 & \"-\" & D465","v":"Linas Kleiza-10.4"},{"$f":"per_game!R467","v":2.7},{"$f":"per_game!S467","v":0.7},{"$f":"per_game!X467","v":7},{"$f":"per_game!A467","v":8}]
[null,null,{"$f":"Roster!C468","v":"F"},8.6999999999999993,{"$f":"per_game!B468 & \"-\" & D466","v":"Terrence Ross-8.7"},{"$f":"per_game!R468","v":2},{"$f":"per_game!S468","v":0.6},{"$f":"per_game!X468","v":6.1},{"$f":"per_game!A468","v":9}]
[null,null,{"$f":"Roster!C469","v":"F"},11.9,{"$f":"per_game!B469 & \"-\" & D467","v":"Ed Davis-11.9"},{"$f":"per_game!R469","v":5.4},{"$f":"per_game!S469","v":0.7},{"$f":"per_game!X469","v":5.8},{"$f":"per_game!A469","v":10}]
[null,null,{"$f":"Roster!C470","v":"G"},5.5,{"$f":"per_game!B470 & \"-\" & D468","v":"Mickael Pietrus-5.5"},{"$f":"per_game!R470","v":1},{"$f":"per_game!S470","v":0},{"$f":"per_game!X470","v":4.5},{"$f":"per_game!A470","v":11}]
[null,null,{"$f":"Roster!C471","v":"G"},5.3000000000000007,{"$f":"per_game!B471 & \"-\" & D469","v":"John Lucas-5.3"},{"$f":"per_game!R471","v":0.9},{"$f":"per_game!S471","v":1.3},{"$f":"per_game!X471","v":3.1},{"$f":"per_game!A471","v":12}]
[null,null,{"$f":"Roster!C472","v":"F"},0,null,null,null,null,{"$f":"per_game!A472","v":13}]
[null,null,{"$f":"Roster!C473","v":"G-F"},0,null,null,null,null,{"$f":"per_game!A473","v":14}]
[null,null,{"$f":"Roster!C474","v":"G"},6,null,{"$f":"per_game!R474","v":3.2},{"$f":"per_game!S474","v":0.7},{"$f":"per_game!X474","v":2.1},{"$f":"per_game!A474","v":15}]
[null,null,{"$f":"Roster!C475","v":"C"},4,{"$f":"per_game!B475 & \"-\" & D473","v":"Aaron Gray-4"},{"$f":"per_game!R475","v":1.8},{"$f":"per_game!S475","v":0.4},{"$f":"per_game!X475","v":1.8},{"$f":"per_game!A475","v":16}]
[null,null,{"$f":"Roster!C476","v":0},0,{"$f":"per_game!B476 & \"-\" & D474","v":"-0"},{"$f":"per_game!R476","v":0},{"$f":"per_game!S476","v":0},{"$f":"per_game!X476","v":0},{"$f":"per_game!A476","v":0}]
[null,null,{"$f":"Roster!C477","v":0},0,{"$f":"per_game!B477 & \"-\" & D475","v":"-0"},{"$f":"per_game!R477","v":0},{"$f":"per_game!S477","v":0},{"$f":"per_game!X477","v":0},{"$f":"per_game!A477","v":"UTA"}]
[null,null,{"$f":"Roster!C478","v":"Pos"},null,{"$f":"per_game!B478 & \"-\" & D476","v":"Player-"},{"$f":"per_game!R478","v":"TRB"},{"$f":"per_game!S478","v":"AST"},{"$f":"per_game!X478","v":"PTS"},{"$f":"per_game!A478","v":"Rk"}]
[null,null,{"$f":"Roster!C479","v":"G"},29.1,{"$f":"per_game!B479 & \"-\" & D477","v":"Al Jefferson-29.1"},{"$f":"per_game!R479","v":10.5},{"$f":"per_game!S479","v":1.9},{"$f":"per_game!X479","v":16.7},{"$f":"per_game!A479","v":1}]
[null,null,{"$f":"Roster!C480","v":"F"},23.200000000000003,{"$f":"per_game!B480 & \"-\" & D478","v":"Mo Williams-23.2"},{"$f":"per_game!R480","v":2},{"$f":"per_game!S480","v":6.9},{"$f":"per_game!X480","v":14.3},{"$f":"per_game!A480","v":2}]
[null,null,{"$f":"Roster!C481","v":"F"},18.899999999999999,{"$f":"per_game!B481 & \"-\" & D479","v":"Gordon Hayward-18.9"},{"$f":"per_game!R481","v":3},{"$f":"per_game!S481","v":2},{"$f":"per_game!X481","v":13.9},{"$f":"per_game!A481","v":3}]
[null,null,{"$f":"Roster!C482","v":"F"},24.8,{"$f":"per_game!B482 & \"-\" & D480","v":"Paul Millsap-24.8"},{"$f":"per_game!R482","v":8.4},{"$f":"per_game!S482","v":2.5},{"$f":"per_game!X482","v":13.9},{"$f":"per_game!A482","v":4}]
[null,null,{"$f":"Roster!C483","v":"G"},15,{"$f":"per_game!B483 & \"-\" & D481","v":"Randy Foye-15"},{"$f":"per_game!R483","v":1.3},{"$f":"per_game!S483","v":1.9},{"$f":"per_game!X483","v":11.8},{"$f":"per_game!A483","v":5}]
[null,null,{"$f":"Roster!C484","v":"F"},15.3,{"$f":"per_game!B484 & \"-\" & D482","v":"Marvin Williams-15.3"},{"$f":"per_game!R484","v":3.8},{"$f":"per_game!S484","v":1.1000000000000001},{"$f":"per_game!X484","v":10.4},{"$f":"per_game!A484","v":6}]
[null,null,{"$f":"Roster!C485","v":"F"},17.3,{"$f":"per_game!B485 & \"-\" & D483","v":"Derrick Favors-17.3"},{"$f":"per_game!R485","v":7.5},{"$f":"per_game!S485","v":0.5},{"$f":"per_game!X485","v":9.3000000000000007},{"$f":"per_game!A485","v":7}]
[null,null,{"$f":"Roster!C486","v":"F"},9.8000000000000007,{"$f":"per_game!B486 & \"-\" & D484","v":"DeMarre Carroll-9.8"},{"$f":"per_game!R486","v":3.4},{"$f":"per_game!S486","v":0.6},{"$f":"per_game!X486","v":5.8},{"$f":"per_game!A486","v":8}]
[null,null,{"$f":"Roster!C487","v":"F"},9.8000000000000007,{"$f":"per_game!B487 & \"-\" & D485","v":"Enes Kanter-9.8"},{"$f":"per_game!R487","v":3.8},{"$f":"per_game!S487","v":0.4},{"$f":"per_game!X487","v":5.6},{"$f":"per_game!A487","v":9}]
[null,null,{"$f":"Roster!C488","v":"G"},10.199999999999999,{"$f":"per_game!B488 & \"-\" & D486","v":"Jamaal Tinsley-10.2"},{"$f":"per_game!R488","v":1.9},{"$f":"per_game!S488","v":5.6},{"$f":"per_game!X488","v":2.7},{"$f":"per_game!A488","v":10}]
[null,null,{"$f":"Roster!C489","v":"G"},4,null,{"$f":"per_game!R489","v":1.5},{"$f":"per_game!S489","v":0.2},{"$f":"per_game!X489","v":2.2999999999999998},{"$f":"per_game!A489","v":11}]
[null,null,{"$f":"Roster!C490","v":"G"},3.6999999999999997,null,{"$f":"per_game!R490","v":1},{"$f":"per_game!S490","v":0.4},{"$f":"per_game!X490","v":2.2999999999999998},{"$f":"per_game!A490","v":12}]
[null,null,{"$f":"Roster!C491","v":"F"},7.1999999999999993,null,{"$f":"per_game!R491","v":1},{"$f":"per_game!S491","v":4.0999999999999996},{"$f":"per_game!X491","v":2.1},{"$f":"per_game!A491","v":13}]
[null,null,{"$f":"Roster!C492","v":"G"},1.3,{"$f":"per_game!B492 & \"-\" & D490","v":"Kevin Murphy-1.3"},{"$f":"per_game!R492","v":0},{"$f":"per_game!S492","v":0},{"$f":"per_game!X492","v":1.3},{"$f":"per_game!A492","v":14}]
[null,null,{"$f":"Roster!C493","v":0},0,{"$f":"per_game!B493 & \"-\" & D491","v":"-0"},{"$f":"per_game!R493","v":0},{"$f":"per_game!S493","v":0},{"$f":"per_game!X493","v":0},{"$f":"per_game!A493","v":0}]
[null,null,{"$f":"Roster!C494","v":0},0,{"$f":"per_game!B494 & \"-\" & D492","v":"-0"},{"$f":"per_game!R494","v":0},{"$f":"per_game!S494","v":0},{"$f":"per_game!X494","v":0},{"$f":"per_game!A494","v":"WAS"}]
[null,null,{"$f":"Roster!C495","v":"Pos"},null,{"$f":"per_game!B495 & \"-\" & D493","v":"Player-"},{"$f":"per_game!R495","v":"TRB"},{"$f":"per_game!S495","v":"AST"},{"$f":"per_game!X495","v":"PTS"},{"$f":"per_game!A495","v":"Rk"}]
[null,null,{"$f":"Roster!C496","v":"F"},19.7,{"$f":"per_game!B496 & \"-\" & D494","v":"Jordan Crawford-19.7"},{"$f":"per_game!R496","v":3.2},{"$f":"per_game!S496","v":3.4},{"$f":"per_game!X496","v":13.1},{"$f":"per_game!A496","v":1}]
[null,null,{"$f":"Roster!C497","v":"C"},17.600000000000001,{"$f":"per_game!B497 & \"-\" & D495","v":"Nene Hilario-17.6"},{"$f":"per_game!R497","v":4.8},{"$f":"per_game!S497","v":1.3},{"$f":"per_game!X497","v":11.5},{"$f":"per_game!A497","v":2}]
[null,null,{"$f":"Roster!C498","v":"G"},18.2,{"$f":"per_game!B498 & \"-\" & D496","v":"Kevin Seraphin-18.2"},{"$f":"per_game!R498","v":5.5},{"$f":"per_game!S498","v":1.2},{"$f":"per_game!X498","v":11.5},{"$f":"per_game!A498","v":3}]
[null,null,{"$f":"Roster!C499","v":"F"},16,{"$f":"per_game!B499 & \"-\" & D497","v":"Bradley Beal-16"},{"$f":"per_game!R499","v":3.3},{"$f":"per_game!S499","v":1.7},{"$f":"per_game!X499","v":11},{"$f":"per_game!A499","v":4}]
[null,null,{"$f":"Roster!C500","v":"G"},17.3,{"$f":"per_game!B500 & \"-\" & D498","v":"A.J. Price-17.3"},{"$f":"per_game!R500","v":3.2},{"$f":"per_game!S500","v":5.2},{"$f":"per_game!X500","v":8.9},{"$f":"per_game!A500","v":5}]
[null,null,{"$f":"Roster!C501","v":"F-C"},13.3,{"$f":"per_game!B501 & \"-\" & D499","v":"Martell Webster-13.3"},{"$f":"per_game!R501","v":3.5},{"$f":"per_game!S501","v":1.2},{"$f":"per_game!X501","v":8.6},{"$f":"per_game!A501","v":6}]
[null,null,{"$f":"Roster!C502","v":"G"},15.4,{"$f":"per_game!B502 & \"-\" & D500","v":"Trevor Ariza-15.4"},{"$f":"per_game!R502","v":5.0999999999999996},{"$f":"per_game!S502","v":1.9},{"$f":"per_game!X502","v":8.4},{"$f":"per_game!A502","v":7}]
[null,null,{"$f":"Roster!C503","v":"F"},14,{"$f":"per_game!B503 & \"-\" & D501","v":"Emeka Okafor-14"},{"$f":"per_game!R503","v":5.9},{"$f":"per_game!S503","v":0.9},{"$f":"per_game!X503","v":7.2},{"$f":"per_game!A503","v":8}]
[null,null,{"$f":"Roster!C504","v":"C-F"},13.8,{"$f":"per_game!B504 & \"-\" & D502","v":"Trevor Booker-13.8"},{"$f":"per_game!R504","v":5.6},{"$f":"per_game!S504","v":1.4},{"$f":"per_game!X504","v":6.8},{"$f":"per_game!A504","v":9}]
[null,null,{"$f":"Roster!C505","v":"G"},9.1,{"$f":"per_game!B505 & \"-\" & D503","v":"Shaun Livingston-9.1"},{"$f":"per_game!R505","v":2},{"$f":"per_game!S505","v":1.8},{"$f":"per_game!X505","v":5.3},{"$f":"per_game!A505","v":10}]
[null,null,{"$f":"Roster!C506","v":"G"},9.1999999999999993,{"$f":"per_game!B506 & \"-\" & D504","v":"Chris Singleton-9.2"},{"$f":"per_game!R506","v":3.6},{"$f":"per_game!S506","v":0.6},{"$f":"per_game!X506","v":5},{"$f":"per_game!A506","v":11}]
[null,null,{"$f":"Roster!C507","v":"F"},5.7,{"$f":"per_game!B507 & \"-\" & D505","v":"Cartier Martin-5.7"},{"$f":"per_game!R507","v":1.3},{"$f":"per_game!S507","v":0.1},{"$f":"per_game!X507","v":4.3},{"$f":"per_game!A507","v":12}]
[null,null,{"$f":"Roster!C508","v":"F"},7.1,{"$f":"per_game!B508 & \"-\" & D506","v":"Earl Barron-7.1"},{"$f":"per_game!R508","v":3.3},{"$f":"per_game!S508","v":0.3},{"$f":"per_game!X508","v":3.5},{"$f":"per_game!A508","v":13}]
[null,null,{"$f":"Roster!C509","v":"F"},5.9,{"$f":"per_game!B509 & \"-\" & D507","v":"Jannero Pargo-5.9"},{"$f":"per_game!R509","v":0.9},{"$f":"per_game!S509","v":2},{"$f":"per_game!X509","v":3},{"$f":"per_game!A509","v":14}]
[null,null,{"$f":"Roster!C510","v":"G-F"},4.8000000000000007,{"$f":"per_game!B510 & \"-\" & D508","v":"Jan Vesely-4.8"},{"$f":"per_game!R510","v":2.1},{"$f":"per_game!S510","v":0.6},{"$f":"per_game!X510","v":2.1},{"$f":"per_game!A510","v":15}]

{"sheet":"5","index":6,"n_rows":510,"n_cols":12,"rows_kept":510,"cut":false,"hidden":true,"merged":[]}
["Points",{"$f":"'Create Team'!B24","v":1}]
["Rebounds",{"$f":"'Create Team'!B25","v":1},null,null,null,"TRB","AST","PTS","BLKS","STL"]
["Assists",{"$f":"'Create Team'!B26","v":1},{"$f":"Roster!C3","v":"G"},{"$f":"F3*$B$2+G3*$B$3+H3*$B$1+I3*$B$4+J3*$B$5","v":31.2},{"$f":"per_game!B3 & \"-\" & D3","v":"Josh Smith-31.2"},{"$f":"per_game!R3","v":7.6},{"$f":"per_game!S3","v":3.7},{"$f":"per_game!X3","v":16.100000000000001},{"$f":"per_game!U3","v":2.4},{"$f":"per_game!T3","v":1.4},"C"]
["Blocks",{"$f":"'Create Team'!B27","v":1},{"$f":"Roster!C4","v":"C"},{"$f":"F4*$B$2+G4*$B$3+H4*$B$1+I4*$B$4+J4*$B$5","v":30.5},{"$f":"per_game!B4 & \"-\" & D4","v":"Al Horford-30.5"},{"$f":"per_game!R4","v":9.5},{"$f":"per_game!S4","v":3.5},{"$f":"per_game!X4","v":15.9},{"$f":"per_game!U4","v":1.1000000000000001},{"$f":"per_game!T4","v":0.5},"F"]
["Steals",{"$f":"'Create Team'!B28","v":1},{"$f":"Roster!C5","v":"G"},20.6,{"$f":"per_game!B5 & \"-\" & D5","v":"Louis Williams-20.6"},{"$f":"per_game!R5","v":2},{"$f":"per_game!S5","v":3.3},{"$f":"per_game!X5","v":13.9},{"$f":"per_game!U5","v":0.3},{"$f":"per_game!T5","v":1.1000000000000001},"G"]
[null,null,{"$f":"Roster!C6","v":"F"},25.3,{"$f":"per_game!B6 & \"-\" & D6","v":"Jeff Teague-25.3"},{"$f":"per_game!R6","v":2.4},{"$f":"per_game!S6","v":7.1},{"$f":"per_game!X6","v":13.6},{"$f":"per_game!U6","v":0.4},{"$f":"per_game!T6","v":1.8},"G"]
[null,null,{"$f":"Roster!C7","v":"F"},17.5,{"$f":"per_game!B7 & \"-\" & D7","v":"Kyle Korver-17.5"},{"$f":"per_game!R7","v":3.7},{"$f":"per_game!S7","v":1.6},{"$f":"per_game!X7","v":10.8},{"$f":"per_game!U7","v":0.4},{"$f":"per_game!T7","v":1},"F"]
[null,null,{"$f":"Roster!C8","v":"G"},16.8,{"$f":"per_game!B8 & \"-\" & D8","v":"Zaza Pachulia-16.8"},{"$f":"per_game!R8","v":7.1},{"$f":"per_game!S8","v":1.6},{"$f":"per_game!X8","v":6.9},{"$f":"per_game!U8","v":0.4},{"$f":"per_game!T8","v":0.8},"C"]
[null,null,{"$f":"Roster!C9","v":"C"},12.299999999999999,{"$f":"per_game!B9 & \"-\" & D9","v":"Devin Harris-12.3"},{"$f":"per_game!R9","v":1.6},{"$f":"per_game!S9","v":2.5},{"$f":"per_game!X9","v":6.8},{"$f":"per_game!U9","v":0.4},{"$f":"per_game!T9","v":1},"G"]
[null,null,{"$f":"Roster!C10","v":"C"},11.000000000000002,{"$f":"per_game!B10 & \"-\" & D10","v":"DeShawn Stevenson-11"},{"$f":"per_game!R10","v":2.7},{"$f":"per_game!S10","v":1.1000000000000001},{"$f":"per_game!X10","v":6.4},{"$f":"per_game!U10","v":0.3},{"$f":"per_game!T10","v":0.5},"G"]
[null,null,{"$f":"Roster!C11","v":"F"},7.2,{"$f":"per_game!B11 & \"-\" & D11","v":"Anthony Morrow-7.2"},{"$f":"per_game!R11","v":0.6},{"$f":"per_game!S11","v":0.1},{"$f":"per_game!X11","v":5.7},{"$f":"per_game!U11","v":0.1},{"$f":"per_game!T11","v":0.7},"G"]
[null,null,{"$f":"Roster!C12","v":"F"},9.4,{"$f":"per_game!B12 & \"-\" & D12","v":"Ivan Johnson-9.4"},{"$f":"per_game!R12","v":3.1},{"$f":"per_game!S12","v":0.3},{"$f":"per_game!X12","v":5.0999999999999996},{"$f":"per_game!U12","v":0.1},{"$f":"per_game!T12","v":0.8},"F"]
[null,null,{"$f":"Roster!C13","v":"G"},6,{"$f":"per_game!B13 & \"-\" & D13","v":"Anthony Tolliver-6"},{"$f":"per_game!R13","v":2.2999999999999998},{"$f":"per_game!S13","v":0.1},{"$f":"per_game!X13","v":3.1},{"$f":"per_game!U13","v":0},{"$f":"per_game!T13","v":0.5},"C"]
[null,null,{"$f":"Roster!C14","v":"G"},2.5,{"$f":"per_game!B14 & \"-\" & D14","v":"John Jenkins-2.5"},{"$f":"per_game!R14","v":1},{"$f":"per_game!S14","v":0},{"$f":"per_game!X14","v":1.5},{"$f":"per_game!U14","v":0},{"$f":"per_game!T14","v":0},"G"]
[null,null,{"$f":"Roster!C15","v":"C"},1.2000000000000002,{"$f":"per_game!B15 & \"-\" & D15","v":"Mike Scott-1.2"},{"$f":"per_game!R15","v":0.8},{"$f":"per_game!S15","v":0},{"$f":"per_game!X15","v":0.4},{"$f":"per_game!U15","v":0},{"$f":"per_game!T15","v":0},"F"]
[null,null,{"$f":"Roster!C16","v":"G"},0,{"$f":"per_game!B16 & \"-\" & D16","v":"Johan Petro-0"},{"$f":"per_game!R16","v":0},{"$f":"per_game!S16","v":0},{"$f":"per_game!X16","v":0},{"$f":"per_game!U16","v":0},{"$f":"per_game!T16","v":0},"C"]
[null,null,{"$f":"Roster!C17","v":0},0,null,{"$f":"per_game!R17","v":0},{"$f":"per_game!S17","v":0},{"$f":"per_game!X17","v":0},{"$f":"per_game!U17","v":0},{"$f":"per_game!T17","v":0}]
[null,null,{"$f":"Roster!C18","v":0},0,null,{"$f":"per_game!R18","v":0},{"$f":"per_game!S18","v":0},{"$f":"per_game!X18","v":0},{"$f":"per_game!U18","v":0},{"$f":"per_game!T18","v":0},"BOS"]
[null,null,{"$f":"Roster!C19","v":"Pos"},null,null,{"$f":"per_game!R19","v":"TRB"},{"$f":"per_game!S19","v":"AST"},{"$f":"per_game!X19","v":"PTS"},{"$f":"per_game!U19","v":"BLK"},{"$f":"per_game!T19","v":"STL"},"Rk","BRK"]
[null,null,{"$f":"Roster!C20","v":"G"},29.900000000000002,{"$f":"per_game!B20 & \"-\" & D20","v":"Paul Pierce-29.9"},{"$f":"per_game!R20","v":5.7},{"$f":"per_game!S20","v":3.2},{"$f":"per_game!X20","v":19.2},{"$f":"per_game!U20","v":0.3},{"$f":"per_game!T20","v":1.5},"F"]
[null,null,{"$f":"Roster!C21","v":"F"},26.5,{"$f":"per_game!B21 & \"-\" & D21","v":"Kevin Garnett-26.5"},{"$f":"per_game!R21","v":7.4},{"$f":"per_game!S21","v":1.9},{"$f":"per_game!X21","v":15.6},{"$f":"per_game!U21","v":0.8},{"$f":"per_game!T21","v":0.8},"F"]
[null,null,{"$f":"Roster!C22","v":"C"},32.299999999999997,{"$f":"per_game!B22 & \"-\" & D22","v":"Rajon Rondo-32.3"},{"$f":"per_game!R22","v":4.5999999999999996},{"$f":"per_game!S22","v":12.9},{"$f":"per_game!X22","v":12.9},{"$f":"per_game!U22","v":0},{"$f":"per_game!T22","v":1.9},"G"]
[null,null,{"$f":"Roster!C23","v":"F"},17,{"$f":"per_game!B23 & \"-\" & D23","v":"Jason Terry-17"},{"$f":"per_game!R23","v":1.8},{"$f":"per_game!S23","v":2.2999999999999998},{"$f":"per_game!X23","v":11.7},{"$f":"per_game!U23","v":0.1},{"$f":"per_game!T23","v":1.1000000000000001},"G"]
[null,null,{"$f":"Roster!C24","v":"F"},17.100000000000001,{"$f":"per_game!B24 & \"-\" & D24","v":"Brandon Bass-17.1"},{"$f":"per_game!R24","v":5.4},{"$f":"per_game!S24","v":0.9},{"$f":"per_game!X24","v":9.5},{"$f":"per_game!U24","v":0.8},{"$f":"per_game!T24","v":0.5},"F"]
[null,null,{"$f":"Roster!C25","v":"F"},13.5,{"$f":"per_game!B25 & \"-\" & D25","v":"Jeff Green-13.5"},{"$f":"per_game!R25","v":2.8},{"$f":"per_game!S25","v":0.7},{"$f":"per_game!X25","v":8.9},{"$f":"per_game!U25","v":0.5},{"$f":"per_game!T25","v":0.6},"F"]
[null,null,{"$f":"Roster!C26","v":"G"},9.5,{"$f":"per_game!B26 & \"-\" & D26","v":"Leandro Barbosa-9.5"},{"$f":"per_game!R26","v":0.9},{"$f":"per_game!S26","v":1.5},{"$f":"per_game!X26","v":6.3},{"$f":"per_game!U26","v":0.3},{"$f":"per_game!T26","v":0.5},"G"]
[null,null,{"$f":"Roster!C27","v":"F-C"},10.9,{"$f":"per_game!B27 & \"-\" & D27","v":"Courtney Lee-10.9"},{"$f":"per_game!R27","v":2.5},{"$f":"per_game!S27","v":1.5},{"$f":"per_game!X27","v":5.9},{"$f":"per_game!U27","v":0.1},{"$f":"per_game!T27","v":0.9},"F"]
[null,null,{"$f":"Roster!C28","v":"F"},11.6,{"$f":"per_game!B28 & \"-\" & D28","v":"Jared Sullinger-11.6"},{"$f":"per_game!R28","v":4.5999999999999996},{"$f":"per_game!S28","v":0.6},{"$f":"per_game!X28","v":5.5},{"$f":"per_game!U28","v":0.5},{"$f":"per_game!T28","v":0.4},"G"]
[null,null,{"$f":"Roster!C29","v":"G"},7.2999999999999989,{"$f":"per_game!B29 & \"-\" & D29","v":"Chris Wilcox-7.3"},{"$f":"per_game!R29","v":2.1},{"$f":"per_game!S29","v":0.3},{"$f":"per_game!X29","v":4.3},{"$f":"per_game!U29","v":0.3},{"$f":"per_game!T29","v":0.3},"F"]
[null,null,{"$f":"Roster!C30","v":"F"},2,{"$f":"per_game!B30 & \"-\" & D30","v":"Kris Joseph-2"},{"$f":"per_game!R30","v":0.5},{"$f":"per_game!S30","v":0.5},{"$f":"per_game!X30","v":1},{"$f":"per_game!U30","v":0},{"$f":"per_game!T30","v":0},"C"]
[null,null,{"$f":"Roster!C31","v":"G"},3.5999999999999996,{"$f":"per_game!B31 & \"-\" & D31","v":"Jason Collins-3.6"},{"$f":"per_game!R31","v":2.2999999999999998},{"$f":"per_game!S31","v":0},{"$f":"per_game!X31","v":0.5},{"$f":"per_game!U31","v":0.3},{"$f":"per_game!T31","v":0.5},"F"]
[null,null,{"$f":"Roster!C32","v":"F"},1,{"$f":"per_game!B32 & \"-\" & D32","v":"Darko Milicic-1"},{"$f":"per_game!R32","v":1},{"$f":"per_game!S32","v":0},{"$f":"per_game!X32","v":0},{"$f":"per_game!U32","v":0},{"$f":"per_game!T32","v":0},"F-C"]
[null,null,{"$f":"Roster!C33","v":0},0,null,{"$f":"per_game!R33","v":0},{"$f":"per_game!S33","v":0},{"$f":"per_game!X33","v":0},{"$f":"per_game!U33","v":0},{"$f":"per_game!T33","v":0}]
[null,null,{"$f":"Roster!C34","v":0},0,null,{"$f":"per_game!R34","v":0},{"$f":"per_game!S34","v":0},{"$f":"per_game!X34","v":0},{"$f":"per_game!U34","v":0},{"$f":"per_game!T34","v":0},"BRK"]
[null,null,{"$f":"Roster!C35","v":"Pos"},null,null,{"$f":"per_game!R35","v":"TRB"},{"$f":"per_game!S35","v":"AST"},{"$f":"per_game!X35","v":"PTS"},{"$f":"per_game!U35","v":"BLK"},{"$f":"per_game!T35","v":"STL"},"Rk"]
[null,null,{"$f":"Roster!C36","v":"F"},29.1,{"$f":"per_game!B36 & \"-\" & D36","v":"Brook Lopez-29.1"},{"$f":"per_game!R36","v":6.8},{"$f":"per_game!S36","v":0.8},{"$f":"per_game!X36","v":18.5},{"$f":"per_game!U36","v":2.5},{"$f":"per_game!T36","v":0.5},"C"]
[null,null,{"$f":"Roster!C37","v":"G-F"},23,{"$f":"per_game!B37 & \"-\" & D37","v":"Joe Johnson-23"},{"$f":"per_game!R37","v":2.8},{"$f":"per_game!S37","v":3.8},{"$f":"per_game!X37","v":15.6},{"$f":"per_game!U37","v":0.2},{"$f":"per_game!T37","v":0.6},"G"]
[null,null,{"$f":"Roster!C38","v":"G-F"},29.000000000000004,{"$f":"per_game!B38 & \"-\" & D38","v":"Deron Williams-29"},{"$f":"per_game!R38","v":3},{"$f":"per_game!S38","v":8.9},{"$f":"per_game!X38","v":15.4},{"$f":"per_game!U38","v":0.6},{"$f":"per_game!T38","v":1.1000000000000001},"G"]
[null,null,{"$f":"Roster!C39","v":"G-F"},18.100000000000001,{"$f":"per_game!B39 & \"-\" & D39","v":"Andray Blatche-18.1"},{"$f":"per_game!R39","v":5.8},{"$f":"per_game!S39","v":1.1000000000000001},{"$f":"per_game!X39","v":10.1},{"$f":"per_game!U39","v":0.6},{"$f":"per_game!T39","v":0.5},"F"]
[null,null,{"$f":"Roster!C40","v":"F"},18.5,{"$f":"per_game!B40 & \"-\" & D40","v":"Gerald Wallace-18.5"},{"$f":"per_game!R40","v":4.0999999999999996},{"$f":"per_game!S40","v":2.4},{"$f":"per_game!X40","v":9.4},{"$f":"per_game!U40","v":0.7},{"$f":"per_game!T40","v":1.9},"F"]
[null,null,{"$f":"Roster!C41","v":"F"},18.099999999999994,{"$f":"per_game!B41 & \"-\" & D41","v":"Kris Humphries-18.1"},{"$f":"per_game!R41","v":8.1},{"$f":"per_game!S41","v":0.6},{"$f":"per_game!X41","v":8.1},{"$f":"per_game!U41","v":0.9},{"$f":"per_game!T41","v":0.4},"G-F"]
[null,null,{"$f":"Roster!C42","v":"G"},10.299999999999999,{"$f":"per_game!B42 & \"-\" & D42","v":"Jerry Stackhouse-10.3"},{"$f":"per_game!R42","v":1.4},{"$f":"per_game!S42","v":0.8},{"$f":"per_game!X42","v":7.3},{"$f":"per_game!U42","v":0.2},{"$f":"per_game!T42","v":0.6},"F"]
[null,null,{"$f":"Roster!C43","v":"C"},11.5,{"$f":"per_game!B43 & \"-\" & D43","v":"C.J. Watson-11.5"},{"$f":"per_game!R43","v":1.4},{"$f":"per_game!S43","v":1.8},{"$f":"per_game!X43","v":7.3},{"$f":"per_game!U43","v":0.2},{"$f":"per_game!T43","v":0.8},"G"]
[null,null,{"$f":"Roster!C44","v":"F"},10.399999999999999,{"$f":"per_game!B44 & \"-\" & D44","v":"MarShon Brooks-10.4"},{"$f":"per_game!R44","v":1.7},{"$f":"per_game!S44","v":0.9},{"$f":"per_game!X44","v":7.1},{"$f":"per_game!U44","v":0.1},{"$f":"per_game!T44","v":0.6},"G-F"]
[null,null,{"$f":"Roster!C45","v":"G-F"},12.999999999999998,{"$f":"per_game!B45 & \"-\" & D45","v":"Reggie Evans-13"},{"$f":"per_game!R45","v":8.4},{"$f":"per_game!S45","v":0.7},{"$f":"per_game!X45","v":3.1},{"$f":"per_game!U45","v":0.1},{"$f":"per_game!T45","v":0.7},"F"]
[null,null,{"$f":"Roster!C46","v":"G"},5.8999999999999995,{"$f":"per_game!B46 & \"-\" & D46","v":"Keith Bogans-5.9"},{"$f":"per_game!R46","v":1.4},{"$f":"per_game!S46","v":1.1000000000000001},{"$f":"per_game!X46","v":3.1},{"$f":"per_game!U46","v":0},{"$f":"per_game!T46","v":0.3},"G-F"]
[null,null,{"$f":"Roster!C47","v":"F"},5.2,{"$f":"per_game!B47 & \"-\" & D47","v":"Mirza Teletovic-5.2"},{"$f":"per_game!R47","v":1.2},{"$f":"per_game!S47","v":0.7},{"$f":"per_game!X47","v":3},{"$f":"per_game!U47","v":0},{"$f":"per_game!T47","v":0.3},"F"]
[null,null,{"$f":"Roster!C48","v":"F"},2.2999999999999998,{"$f":"per_game!B48 & \"-\" & D48","v":"Tornike Shengelia-2.3"},{"$f":"per_game!R48","v":0.3},{"$f":"per_game!S48","v":0},{"$f":"per_game!X48","v":2},{"$f":"per_game!U48","v":0},{"$f":"per_game!T48","v":0},"F"]
[null,null,{"$f":"Roster!C49","v":"G"},3.7,{"$f":"per_game!B49 & \"-\" & D49","v":"Josh Childress-3.7"},{"$f":"per_game!R49","v":1.4},{"$f":"per_game!S49","v":0.5},{"$f":"per_game!X49","v":1.4},{"$f":"per_game!U49","v":0.2},{"$f":"per_game!T49","v":0.2},"G-F"]
[null,null,{"$f":"Roster!C50","v":"G"},1.5,{"$f":"per_game!B50 & \"-\" & D50","v":"Tyshawn Taylor-1.5"},{"$f":"per_game!R50","v":0},{"$f":"per_game!S50","v":0.2},{"$f":"per_game!X50","v":1},{"$f":"per_game!U50","v":0},{"$f":"per_game!T50","v":0.3},"G"]
[null,null,{"$f":"Roster!C51","v":0},0,null,{"$f":"per_game!R51","v":0},{"$f":"per_game!S51","v":0},{"$f":"per_game!X51","v":0},{"$f":"per_game!U51","v":0},{"$f":"per_game!T51","v":0}]
[null,null,{"$f":"Roster!C52","v":0},0,null,{"$f":"per_game!R52","v":0},{"$f":"per_game!S52","v":0},{"$f":"per_game!X52","v":0},{"$f":"per_game!U52","v":0},{"$f":"per_game!T52","v":0},"CHA"]
[null,null,{"$f":"Roster!C53","v":"Pos"},null,null,{"$f":"per_game!R53","v":"TRB"},{"$f":"per_game!S53","v":"AST"},{"$f":"per_game!X53","v":"PTS"},{"$f":"per_game!U53","v":"BLK"},{"$f":"per_game!T53","v":"STL"},"Rk"]
[null,null,{"$f":"Roster!C54","v":"F"},29.000000000000004,{"$f":"per_game!B54 & \"-\" & D54","v":"Kemba Walker-29"},{"$f":"per_game!R54","v":3.9},{"$f":"per_game!S54","v":5.9},{"$f":"per_game!X54","v":16.600000000000001},{"$f":"per_game!U54","v":0.5},{"$f":"per_game!T54","v":2.1},"G"]
[null,null,{"$f":"Roster!C55","v":"G"},25,{"$f":"per_game!B55 & \"-\" & D55","v":"Ramon Sessions-25"},{"$f":"per_game!R55","v":3.8},{"$f":"per_game!S55","v":4.7},{"$f":"per_game!X55","v":15.6},{"$f":"per_game!U55","v":0},{"$f":"per_game!T55","v":0.9},"G"]
[null,null,{"$f":"Roster!C56","v":"C"},21.2,{"$f":"per_game!B56 & \"-\" & D56","v":"Ben Gordon-21.2"},{"$f":"per_game!R56","v":2.2999999999999998},{"$f":"per_game!S56","v":2.9},{"$f":"per_game!X56","v":15},{"$f":"per_game!U56","v":0.4},{"$f":"per_game!T56","v":0.6},"G"]
[null,null,{"$f":"Roster!C57","v":"G"},24.400000000000002,{"$f":"per_game!B57 & \"-\" & D57","v":"Byron Mullens-24.4"},{"$f":"per_game!R57","v":8.4},{"$f":"per_game!S57","v":1.2},{"$f":"per_game!X57","v":12.9},{"$f":"per_game!U57","v":0.8},{"$f":"per_game!T57","v":1.1000000000000001},"C"]
[null,null,{"$f":"Roster!C58","v":"C"},21.200000000000003,{"$f":"per_game!B58 & \"-\" & D58","v":"Michael Kidd-Gilchrist-21.2"},{"$f":"per_game!R58","v":6.3},{"$f":"per_game!S58","v":1.6},{"$f":"per_game!X58","v":10.8},{"$f":"per_game!U58","v":1.4},{"$f":"per_game!T58","v":1.1000000000000001},"G"]
[null,null,{"$f":"Roster!C59","v":"G"},16.100000000000001,{"$f":"per_game!B59 & \"-\" & D59","v":"Gerald Henderson-16.1"},{"$f":"per_game!R59","v":1.7},{"$f":"per_game!S59","v":1.7},{"$f":"per_game!X59","v":10},{"$f":"per_game!U59","v":0.7},{"$f":"per_game!T59","v":2},"F"]
[null,null,{"$f":"Roster!C60","v":"G"},13.100000000000001,{"$f":"per_game!B60 & \"-\" & D60","v":"Jeff Taylor-13.1"},{"$f":"per_game!R60","v":2.4},{"$f":"per_game!S60","v":0.9},{"$f":"per_game!X60","v":8.3000000000000007},{"$f":"per_game!U60","v":0.3},{"$f":"per_game!T60","v":1.2},"F"]
[null,null,{"$f":"Roster!C61","v":"F"},12.6,{"$f":"per_game!B61 & \"-\" & D61","v":"Tyrus Thomas-12.6"},{"$f":"per_game!R61","v":3.1},{"$f":"per_game!S61","v":1},{"$f":"per_game!X61","v":6.6},{"$f":"per_game!U61","v":1.4},{"$f":"per_game!T61","v":0.5},"F"]
[null,null,{"$f":"Roster!C62","v":"C"},15.3,{"$f":"per_game!B62 & \"-\" & D62","v":"Brendan Haywood-15.3"},{"$f":"per_game!R62","v":6.9},{"$f":"per_game!S62","v":0.7},{"$f":"per_game!X62","v":6.5},{"$f":"per_game!U62","v":1.1000000000000001},{"$f":"per_game!T62","v":0.1},"C"]
[null,null,{"$f":"Roster!C63","v":"G"},11.5,{"$f":"per_game!B63 & \"-\" & D63","v":"Bismack Biyombo-11.5"},{"$f":"per_game!R63","v":5.0999999999999996},{"$f":"per_game!S63","v":0.1},{"$f":"per_game!X63","v":4.4000000000000004},{"$f":"per_game!U63","v":1.6},{"$f":"per_game!T63","v":0.3},"F"]
[null,null,{"$f":"Roster!C64","v":"F"},6.5,{"$f":"per_game!B64 & \"-\" & D64","v":"Reggie Williams-6.5"},{"$f":"per_game!R64","v":1.2},{"$f":"per_game!S64","v":0.5},{"$f":"per_game!X64","v":4.0999999999999996},{"$f":"per_game!U64","v":0},{"$f":"per_game!T64","v":0.7},"F"]
[null,null,{"$f":"Roster!C65","v":"F"},4.7,{"$f":"per_game!B65 & \"-\" & D65","v":"Hakim Warrick-4.7"},{"$f":"per_game!R65","v":1.8},{"$f":"per_game!S65","v":0.2},{"$f":"per_game!X65","v":2.2000000000000002},{"$f":"per_game!U65","v":0.3},{"$f":"per_game!T65","v":0.2},"F"]
[null,null,{"$f":"Roster!C66","v":"G"},3,{"$f":"per_game!B66 & \"-\" & D66","v":"Cory Higgins-3"},{"$f":"per_game!R66","v":0.4},{"$f":"per_game!S66","v":0.8},{"$f":"per_game!X66","v":1.4},{"$f":"per_game!U66","v":0},{"$f":"per_game!T66","v":0.4},"G"]
[null,null,{"$f":"Roster!C67","v":"F"},2.9999999999999996,{"$f":"per_game!B67 & \"-\" & D67","v":"DeSagana Diop-3"},{"$f":"per_game!R67","v":1.9},{"$f":"per_game!S67","v":0.3},{"$f":"per_game!X67","v":0},{"$f":"per_game!U67","v":0.5},{"$f":"per_game!T67","v":0.3},"C"]
[null,null,{"$f":"Roster!C68","v":"F"},{"$f":"F68*$B$2+G68*$B$3+H68*$B$1+I68*$B$4+J68*$B$5","v":1},{"$f":"per_game!B68 & \"-\" & D68","v":"Matt Carroll-1"},{"$f":"per_game!R68","v":0},{"$f":"per_game!S68","v":1},{"$f":"per_game!X68","v":0},{"$f":"per_game!U68","v":0},{"$f":"per_game!T68","v":0},"G"]
[null,null,{"$f":"Roster!C69","v":0},0,null,{"$f":"per_game!R69","v":0},{"$f":"per_game!S69","v":0},{"$f":"per_game!X69","v":0},{"$f":"per_game!U69","v":0},{"$f":"per_game!T69","v":0}]
[null,null,{"$f":"Roster!C70","v":0},0,null,{"$f":"per_game!R70","v":0},{"$f":"per_game!S70","v":0},{"$f":"per_game!X70","v":0},{"$f":"per_game!U70","v":0},{"$f":"per_game!T70","v":0},"CHI"]
[null,null,{"$f":"Roster!C71","v":"Pos"},null,null,{"$f":"per_game!R71","v":"TRB"},{"$f":"per_game!S71","v":"AST"},{"$f":"per_game!X71","v":"PTS"},{"$f":"per_game!U71","v":"BLK"},{"$f":"per_game!T71","v":"STL"},"Rk"]
[null,null,{"$f":"Roster!C72","v":"G"},29.400000000000002,{"$f":"per_game!B72 & \"-\" & D72","v":"Luol Deng-29.4"},{"$f":"per_game!R72","v":7.4},{"$f":"per_game!S72","v":2.7},{"$f":"per_game!X72","v":18.100000000000001},{"$f":"per_game!U72","v":0.3},{"$f":"per_game!T72","v":0.9},"F"]
[null,null,{"$f":"Roster!C73","v":"F-C"},19.400000000000002,{"$f":"per_game!B73 & \"-\" & D73","v":"Richard Hamilton-19.4"},{"$f":"per_game!R73","v":2.2999999999999998},{"$f":"per_game!S73","v":2.2999999999999998},{"$f":"per_game!X73","v":13.9},{"$f":"per_game!U73","v":0.1},{"$f":"per_game!T73","v":0.8},"G-F"]
[null,null,{"$f":"Roster!C74","v":"F"},26.399999999999995,{"$f":"per_game!B74 & \"-\" & D74","v":"Carlos Boozer-26.4"},{"$f":"per_game!R74","v":9.6999999999999993},{"$f":"per_game!S74","v":1.9},{"$f":"per_game!X74","v":13.7},{"$f":"per_game!U74","v":0.4},{"$f":"per_game!T74","v":0.7},"F-C"]
[null,null,{"$f":"Roster!C75","v":"F"},31.099999999999998,{"$f":"per_game!B75 & \"-\" & D75","v":"Joakim Noah-31.1"},{"$f":"per_game!R75","v":9.9},{"$f":"per_game!S75","v":4.3},{"$f":"per_game!X75","v":13.3},{"$f":"per_game!U75","v":2.2000000000000002},{"$f":"per_game!T75","v":1.4},"C"]
[null,null,{"$f":"Roster!C76","v":"F"},17.799999999999997,{"$f":"per_game!B76 & \"-\" & D76","v":"Nate Robinson-17.8"},{"$f":"per_game!R76","v":2.1},{"$f":"per_game!S76","v":3.6},{"$f":"per_game!X76","v":11.2},{"$f":"per_game!U76","v":0},{"$f":"per_game!T76","v":0.9},"G"]
[null,null,{"$f":"Roster!C77","v":"G-F"},14.700000000000001,{"$f":"per_game!B77 & \"-\" & D77","v":"Taj Gibson-14.7"},{"$f":"per_game!R77","v":4.9000000000000004},{"$f":"per_game!S77","v":0.9},{"$f":"per_game!X77","v":7},{"$f":"per_game!U77","v":1.3},{"$f":"per_game!T77","v":0.6},"F"]
[null,null,{"$f":"Roster!C78","v":"G"},15.6,{"$f":"per_game!B78 & \"-\" & D78","v":"Kirk Hinrich-15.6"},{"$f":"per_game!R78","v":2.6},{"$f":"per_game!S78","v":5.6},{"$f":"per_game!X78","v":6.2},{"$f":"per_game!U78","v":0.3},{"$f":"per_game!T78","v":0.9},"G"]
[null,null,{"$f":"Roster!C79","v":"C"},9.3000000000000007,{"$f":"per_game!B79 & \"-\" & D79","v":"Jimmy Butler-9.3"},{"$f":"per_game!R79","v":2.5},{"$f":"per_game!S79","v":0.7},{"$f":"per_game!X79","v":5.4},{"$f":"per_game!U79","v":0.2},{"$f":"per_game!T79","v":0.5},"F"]
[null,null,{"$f":"Roster!C80","v":"C"},7.1,{"$f":"per_game!B80 & \"-\" & D80","v":"Marco Belinelli-7.1"},{"$f":"per_game!R80","v":0.9},{"$f":"per_game!S80","v":0.7},{"$f":"per_game!X80","v":5},{"$f":"per_game!U80","v":0.1},{"$f":"per_game!T80","v":0.4},"G"]
[null,null,{"$f":"Roster!C81","v":"F"},2,{"$f":"per_game!B81 & \"-\" & D81","v":"Vladimir Radmanovic-2"},{"$f":"per_game!R81","v":0.4},{"$f":"per_game!S81","v":0.2},{"$f":"per_game!X81","v":1.4},{"$f":"per_game!U81","v":0},{"$f":"per_game!T81","v":0},"F"]
[null,null,{"$f":"Roster!C82","v":"G"},3.0999999999999996,{"$f":"per_game!B82 & \"-\" & D82","v":"Marquis Teague-3.1"},{"$f":"per_game!R82","v":0.7},{"$f":"per_game!S82","v":1.2},{"$f":"per_game!X82","v":1.2},{"$f":"per_game!U82","v":0},{"$f":"per_game!T82","v":0},"G"]
[null,null,{"$f":"Roster!C83","v":"G"},3.5999999999999996,{"$f":"per_game!B83 & \"-\" & D83","v":"Nazr Mohammed-3.6"},{"$f":"per_game!R83","v":1.9},{"$f":"per_game!S83","v":0.3},{"$f":"per_game!X83","v":0.7},{"$f":"per_game!U83","v":0.5},{"$f":"per_game!T83","v":0.2},"C"]
[null,null,{"$f":"Roster!C84","v":0},0,null,{"$f":"per_game!R84","v":0},{"$f":"per_game!S84","v":0},{"$f":"per_game!X84","v":0},{"$f":"per_game!U84","v":0},{"$f":"per_game!T84","v":0}]
[null,null,{"$f":"Roster!C85","v":0},0,null,{"$f":"per_game!R85","v":0},{"$f":"per_game!S85","v":0},{"$f":"per_game!X85","v":0},{"$f":"per_game!U85","v":0},{"$f":"per_game!T85","v":0},"CLE"]
[null,null,{"$f":"Roster!C86","v":"Pos"},null,null,{"$f":"per_game!R86","v":"TRB"},{"$f":"per_game!S86","v":"AST"},{"$f":"per_game!X86","v":"PTS"},{"$f":"per_game!U86","v":"BLK"},{"$f":"per_game!T86","v":"STL"},"Rk"]
[null,null,{"$f":"Roster!C87","v":"F"},33.6,{"$f":"per_game!B87 & \"-\" & D87","v":"Kyrie Irving-33.6"},{"$f":"per_game!R87","v":3.7},{"$f":"per_game!S87","v":5.6},{"$f":"per_game!X87","v":22.9},{"$f":"per_game!U87","v":0.3},{"$f":"per_game!T87","v":1.1000000000000001},"G"]
[null,null,{"$f":"Roster!C88","v":"G"},22.299999999999997,{"$f":"per_game!B88 & \"-\" & D88","v":"Dion Waiters-22.3"},{"$f":"per_game!R88","v":2.2999999999999998},{"$f":"per_game!S88","v":3.4},{"$f":"per_game!X88","v":15.2},{"$f":"per_game!U88","v":0.2},{"$f":"per_game!T88","v":1.2},"G"]
[null,null,{"$f":"Roster!C89","v":"G"},35.699999999999996,{"$f":"per_game!B89 & \"-\" & D89","v":"Anderson Varejao-35.7"},{"$f":"per_game!R89","v":15.4},{"$f":"per_game!S89","v":3.2},{"$f":"per_game!X89","v":15.2},{"$f":"per_game!U89","v":0.4},{"$f":"per_game!T89","v":1.5},"F-C"]
[null,null,{"$f":"Roster!C90","v":"G"},19.999999999999996,{"$f":"per_game!B90 & \"-\" & D90","v":"Alonzo Gee-20"},{"$f":"per_game!R90","v":3.7},{"$f":"per_game!S90","v":2.1},{"$f":"per_game!X90","v":12.1},{"$f":"per_game!U90","v":0.4},{"$f":"per_game!T90","v":1.7},"G"]
[null,null,{"$f":"Roster!C91","v":"F"},18.2,{"$f":"per_game!B91 & \"-\" & D91","v":"Jeremy Pargo-18.2"},{"$f":"per_game!R91","v":1.9},{"$f":"per_game!S91","v":3.8},{"$f":"per_game!X91","v":11.7},{"$f":"per_game!U91","v":0},{"$f":"per_game!T91","v":0.8},"G"]
[null,null,{"$f":"Roster!C92","v":"G"},19.600000000000001,{"$f":"per_game!B92 & \"-\" & D92","v":"Tristan Thompson-19.6"},{"$f":"per_game!R92","v":8.1},{"$f":"per_game!S92","v":1.2},{"$f":"per_game!X92","v":8.9},{"$f":"per_game!U92","v":0.6},{"$f":"per_game!T92","v":0.8},"G"]
[null,null,{"$f":"Roster!C93","v":"G"},13.4,{"$f":"per_game!B93 & \"-\" & D93","v":"Daniel Gibson-13.4"},{"$f":"per_game!R93","v":1.7},{"$f":"per_game!S93","v":2.1},{"$f":"per_game!X93","v":8.5},{"$f":"per_game!U93","v":0.1},{"$f":"per_game!T93","v":1},"F"]
[null,null,{"$f":"Roster!C94","v":"F"},13.3,{"$f":"per_game!B94 & \"-\" & D94","v":"Tyler Zeller-13.3"},{"$f":"per_game!R94","v":4.8},{"$f":"per_game!S94","v":0.9},{"$f":"per_game!X94","v":6.6},{"$f":"per_game!U94","v":0.6},{"$f":"per_game!T94","v":0.4},"G"]
[null,null,{"$f":"Roster!C95","v":"G"},10.199999999999999,{"$f":"per_game!B95 & \"-\" & D95","v":"Omri Casspi-10.2"},{"$f":"per_game!R95","v":2.5},{"$f":"per_game!S95","v":0.4},{"$f":"per_game!X95","v":6.3},{"$f":"per_game!U95","v":0.4},{"$f":"per_game!T95","v":0.6},"F-C"]
[null,null,{"$f":"Roster!C96","v":"F"},9.1,{"$f":"per_game!B96 & \"-\" & D96","v":"C.J. Miles-9.1"},{"$f":"per_game!R96","v":2.1},{"$f":"per_game!S96","v":0.7},{"$f":"per_game!X96","v":5.8},{"$f":"per_game!U96","v":0.1},{"$f":"per_game!T96","v":0.4},"F"]
[null,null,{"$f":"Roster!C97","v":"F-C"},6.6999999999999993,{"$f":"per_game!B97 & \"-\" & D97","v":"Donald Sloan-6.7"},{"$f":"per_game!R97","v":1.1000000000000001},{"$f":"per_game!S97","v":2},{"$f":"per_game!X97","v":3.5},{"$f":"per_game!U97","v":0},{"$f":"per_game!T97","v":0.1},"F"]
[null,null,{"$f":"Roster!C98","v":"G"},5.9,{"$f":"per_game!B98 & \"-\" & D98","v":"Samardo Samuels-5.9"},{"$f":"per_game!R98","v":1.7},{"$f":"per_game!S98","v":0.4},{"$f":"per_game!X98","v":3.3},{"$f":"per_game!U98","v":0.3},{"$f":"per_game!T98","v":0.2},"F"]
[null,null,{"$f":"Roster!C99","v":"F"},6.0000000000000009,{"$f":"per_game!B99 & \"-\" & D99","v":"Jon Leuer-6"},{"$f":"per_game!R99","v":2},{"$f":"per_game!S99","v":0.6},{"$f":"per_game!X99","v":3.2},{"$f":"per_game!U99","v":0},{"$f":"per_game!T99","v":0.2},"G"]
[null,null,{"$f":"Roster!C100","v":"F-C"},1.7999999999999998,{"$f":"per_game!B100 & \"-\" & D100","v":"Luke Walton-1.8"},{"$f":"per_game!R100","v":0.6},{"$f":"per_game!S100","v":0.4},{"$f":"per_game!X100","v":0.4},{"$f":"per_game!U100","v":0},{"$f":"per_game!T100","v":0.4},"F"]
[null,null,{"$f":"Roster!C101","v":0},0,null,{"$f":"per_game!R101","v":0},{"$f":"per_game!S101","v":0},{"$f":"per_game!X101","v":0},{"$f":"per_game!U101","v":0},{"$f":"per_game!T101","v":0}]
[null,null,{"$f":"Roster!C102","v":0},0,null,{"$f":"per_game!R102","v":0},{"$f":"per_game!S102","v":0},{"$f":"per_game!X102","v":0},{"$f":"per_game!U102","v":0},{"$f":"per_game!T102","v":0},"DAL"]
[null,null,{"$f":"Roster!C103","v":"Pos"},null,null,{"$f":"per_game!R103","v":"TRB"},{"$f":"per_game!S103","v":"AST"},{"$f":"per_game!X103","v":"PTS"},{"$f":"per_game!U103","v":"BLK"},{"$f":"per_game!T103","v":"STL"},"Rk"]
[null,null,{"$f":"Roster!C104","v":"G"},27.799999999999997,{"$f":"per_game!B104 & \"-\" & D104","v":"O.J. Mayo-27.8"},{"$f":"per_game!R104","v":3.5},{"$f":"per_game!S104","v":3.2},{"$f":"per_game!X104","v":20.2},{"$f":"per_game!U104","v":0.2},{"$f":"per_game!T104","v":0.7},"G"]
[null,null,{"$f":"Roster!C105","v":"F"},22.8,{"$f":"per_game!B105 & \"-\" & D105","v":"Chris Kaman-22.8"},{"$f":"per_game!R105","v":6.9},{"$f":"per_game!S105","v":1},{"$f":"per_game!X105","v":13.6},{"$f":"per_game!U105","v":1.1000000000000001},{"$f":"per_game!T105","v":0.2},"C"]
[null,null,{"$f":"Roster!C106","v":"G-F"},19.2,{"$f":"per_game!B106 & \"-\" & D106","v":"Vince Carter-19.2"},{"$f":"per_game!R106","v":3.1},{"$f":"per_game!S106","v":1.7},{"$f":"per_game!X106","v":13.1},{"$f":"per_game!U106","v":0.5},{"$f":"per_game!T106","v":0.8},"G-F"]
[null,null,{"$f":"Roster!C107","v":"G"},22.5,{"$f":"per_game!B107 & \"-\" & D107","v":"Darren Collison-22.5"},{"$f":"per_game!R107","v":2.2999999999999998},{"$f":"per_game!S107","v":6.4},{"$f":"per_game!X107","v":12.4},{"$f":"per_game!U107","v":0},{"$f":"per_game!T107","v":1.4},"G"]
[null,null,{"$f":"Roster!C108","v":"F"},20.9,{"$f":"per_game!B108 & \"-\" & D108","v":"Shawn Marion-20.9"},{"$f":"per_game!R108","v":7.4},{"$f":"per_game!S108","v":2.8},{"$f":"per_game!X108","v":9.1999999999999993},{"$f":"per_game!U108","v":0.7},{"$f":"per_game!T108","v":0.8},"F"]
[null,null,{"$f":"Roster!C109","v":"G"},14,{"$f":"per_game!B109 & \"-\" & D109","v":"Brandan Wright-14"},{"$f":"per_game!R109","v":3.3},{"$f":"per_game!S109","v":0.8},{"$f":"per_game!X109","v":8.5},{"$f":"per_game!U109","v":0.9},{"$f":"per_game!T109","v":0.5},"F"]
[null,null,{"$f":"Roster!C110","v":"C"},17.100000000000001,{"$f":"per_game!B110 & \"-\" & D110","v":"Elton Brand-17.1"},{"$f":"per_game!R110","v":6.4},{"$f":"per_game!S110","v":1.6},{"$f":"per_game!X110","v":6.9},{"$f":"per_game!U110","v":1.4},{"$f":"per_game!T110","v":0.8},"F"]
[null,null,{"$f":"Roster!C111","v":"G"},12.1,{"$f":"per_game!B111 & \"-\" & D111","v":"Jae Crowder-12.1"},{"$f":"per_game!R111","v":2.7},{"$f":"per_game!S111","v":1.2},{"$f":"per_game!X111","v":6.8},{"$f":"per_game!U111","v":0.3},{"$f":"per_game!T111","v":1.1000000000000001},"F"]
[null,null,{"$f":"Roster!C112","v":"C"},9.6999999999999993,{"$f":"per_game!B112 & \"-\" & D112","v":"Troy Murphy-9.7"},{"$f":"per_game!R112","v":3.5},{"$f":"per_game!S112","v":0.5},{"$f":"per_game!X112","v":4.5999999999999996},{"$f":"per_game!U112","v":0.4},{"$f":"per_game!T112","v":0.7},"F"]
[null,null,{"$f":"Roster!C113","v":"G"},6.5,{"$f":"per_game!B113 & \"-\" & D113","v":"Eddy Curry-6.5"},{"$f":"per_game!R113","v":2},{"$f":"per_game!S113","v":0},{"$f":"per_game!X113","v":4.5},{"$f":"per_game!U113","v":0},{"$f":"per_game!T113","v":0},"C"]
[null,null,{"$f":"Roster!C114","v":"G"},9.7999999999999989,{"$f":"per_game!B114 & \"-\" & D114","v":"Rodrigue Beaubois-9.8"},{"$f":"per_game!R114","v":1.8},{"$f":"per_game!S114","v":2.7},{"$f":"per_game!X114","v":4.5},{"$f":"per_game!U114","v":0.1},{"$f":"per_game!T114","v":0.7},"G"]
[null,null,{"$f":"Roster!C115","v":"C"},9.1,{"$f":"per_game!B115 & \"-\" & D115","v":"Bernard James-9.1"},{"$f":"per_game!R115","v":3.8},{"$f":"per_game!S115","v":0},{"$f":"per_game!X115","v":4.2},{"$f":"per_game!U115","v":0.9},{"$f":"per_game!T115","v":0.2},"G"]
[null,null,{"$f":"Roster!C116","v":"F"},10.8,{"$f":"per_game!B116 & \"-\" & D116","v":"Dominique Jones-10.8"},{"$f":"per_game!R116","v":2.1},{"$f":"per_game!S116","v":3.6},{"$f":"per_game!X116","v":4.2},{"$f":"per_game!U116","v":0.1},{"$f":"per_game!T116","v":0.8},"C"]
[null,null,{"$f":"Roster!C117","v":"G"},4.9999999999999991,{"$f":"per_game!B117 & \"-\" & D117","v":"Dahntay Jones-5"},{"$f":"per_game!R117","v":1.5},{"$f":"per_game!S117","v":0.4},{"$f":"per_game!X117","v":2.8},{"$f":"per_game!U117","v":0.1},{"$f":"per_game!T117","v":0.2},"G"]
[null,null,{"$f":"Roster!C118","v":"F"},9,{"$f":"per_game!B118 & \"-\" & D118","v":"Derek Fisher-9"},{"$f":"per_game!R118","v":2},{"$f":"per_game!S118","v":3},{"$f":"per_game!X118","v":2},{"$f":"per_game!U118","v":0},{"$f":"per_game!T118","v":2},"G"]
[null,null,{"$f":"Roster!C119","v":"F"},2.4000000000000004,null,{"$f":"per_game!R119","v":0.3},{"$f":"per_game!S119","v":0.2},{"$f":"per_game!X119","v":1.7},{"$f":"per_game!U119","v":0},{"$f":"per_game!T119","v":0.2}]
[null,null,{"$f":"Roster!C120","v":0},0,null,{"$f":"per_game!R120","v":0},{"$f":"per_game!S120","v":0},{"$f":"per_game!X120","v":0},{"$f":"per_game!U120","v":0},{"$f":"per_game!T120","v":0},"DEN"]
[null,null,{"$f":"Roster!C121","v":0},0,null,{"$f":"per_game!R121","v":0},{"$f":"per_game!S121","v":0},{"$f":"per_game!X121","v":0},{"$f":"per_game!U121","v":0},{"$f":"per_game!T121","v":0},"Rk"]
[null,null,{"$f":"Roster!C122","v":"Pos"},null,{"$f":"per_game!B122 & \"-\" & D122","v":"Player-"},{"$f":"per_game!R122","v":"TRB"},{"$f":"per_game!S122","v":"AST"},{"$f":"per_game!X122","v":"PTS"},{"$f":"per_game!U122","v":"BLK"},{"$f":"per_game!T122","v":"STL"},"G-F"]
[null,null,{"$f":"Roster!C123","v":"F"},25.200000000000003,{"$f":"per_game!B123 & \"-\" & D123","v":"Danilo Gallinari-25.2"},{"$f":"per_game!R123","v":6.1},{"$f":"per_game!S123","v":2.4},{"$f":"per_game!X123","v":15.5},{"$f":"per_game!U123","v":0.6},{"$f":"per_game!T123","v":0.6},"F"]
[null,null,{"$f":"Roster!C124","v":"F"},26.000000000000004,{"$f":"per_game!B124 & \"-\" & D124","v":"Andre Iguodala-26"},{"$f":"per_game!R124","v":5.5},{"$f":"per_game!S124","v":3.8},{"$f":"per_game!X124","v":14.9},{"$f":"per_game!U124","v":0.7},{"$f":"per_game!T124","v":1.1000000000000001},"G"]
[null,null,{"$f":"Roster!C125","v":"F"},25.3,{"$f":"per_game!B125 & \"-\" & D125","v":"Ty Lawson-25.3"},{"$f":"per_game!R125","v":2.7},{"$f":"per_game!S125","v":7.2},{"$f":"per_game!X125","v":13.4},{"$f":"per_game!U125","v":0.1},{"$f":"per_game!T125","v":1.9},"F"]
[null,null,{"$f":"Roster!C126","v":"G-F"},26.4,{"$f":"per_game!B126 & \"-\" & D126","v":"Kenneth Faried-26.4"},{"$f":"per_game!R126","v":10.5},{"$f":"per_game!S126","v":0.7},{"$f":"per_game!X126","v":13.2},{"$f":"per_game!U126","v":1.1000000000000001},{"$f":"per_game!T126","v":0.9},"C"]
[null,null,{"$f":"Roster!C127","v":"F"},19.100000000000001,{"$f":"per_game!B127 & \"-\" & D127","v":"JaVale McGee-19.1"},{"$f":"per_game!R127","v":5.7},{"$f":"per_game!S127","v":0.6},{"$f":"per_game!X127","v":10.8},{"$f":"per_game!U127","v":1.8},{"$f":"per_game!T127","v":0.2},"F"]
[null,null,{"$f":"Roster!C128","v":"G-F"},16,{"$f":"per_game!B128 & \"-\" & D128","v":"Corey Brewer-16"},{"$f":"per_game!R128","v":3.1},{"$f":"per_game!S128","v":0.7},{"$f":"per_game!X128","v":10.5},{"$f":"per_game!U128","v":0.3},{"$f":"per_game!T128","v":1.4},"G"]
[null,null,{"$f":"Roster!C129","v":"G-F"},17.3,{"$f":"per_game!B129 & \"-\" & D129","v":"Andre Miller-17.3"},{"$f":"per_game!R129","v":2.8},{"$f":"per_game!S129","v":5.0999999999999996},{"$f":"per_game!X129","v":8.4},{"$f":"per_game!U129","v":0.2},{"$f":"per_game!T129","v":0.8},"F"]
[null,null,{"$f":"Roster!C130","v":"C"},10.7,{"$f":"per_game!B130 & \"-\" & D130","v":"Jordan Hamilton-10.7"},{"$f":"per_game!R130","v":2.9},{"$f":"per_game!S130","v":0.8},{"$f":"per_game!X130","v":6.5},{"$f":"per_game!U130","v":0.2},{"$f":"per_game!T130","v":0.3},"C"]
[null,null,{"$f":"Roster!C131","v":"G"},11.8,{"$f":"per_game!B131 & \"-\" & D131","v":"Wilson Chandler-11.8"},{"$f":"per_game!R131","v":5},{"$f":"per_game!S131","v":0},{"$f":"per_game!X131","v":6.5},{"$f":"per_game!U131","v":0.3},{"$f":"per_game!T131","v":0},"G-F"]
[null,null,{"$f":"Roster!C132","v":"C"},{"$f":"F132*$B$2+G132*$B$3+H132*$B$1+I132*$B$4+J132*$B$5","v":14.899999999999999},{"$f":"per_game!B132 & \"-\" & D132","v":"Kosta Koufos-14.9"},{"$f":"per_game!R132","v":5.9},{"$f":"per_game!S132","v":0.5},{"$f":"per_game!X132","v":6.3},{"$f":"per_game!U132","v":1.6},{"$f":"per_game!T132","v":0.6},"G-F"]
[null,null,{"$f":"Roster!C133","v":"G"},4.7,{"$f":"per_game!B133 & \"-\" & D133","v":"Evan Fournier-4.7"},{"$f":"per_game!R133","v":0.4},{"$f":"per_game!S133","v":0.9},{"$f":"per_game!X133","v":3.4},{"$f":"per_game!U133","v":0},{"$f":"per_game!T133","v":0},"C"]
[null,null,{"$f":"Roster!C134","v":"C"},7.5999999999999988,{"$f":"per_game!B134 & \"-\" & D134","v":"Timofey Mozgov-7.6"},{"$f":"per_game!R134","v":3.3},{"$f":"per_game!S134","v":0.3},{"$f":"per_game!X134","v":3.1},{"$f":"per_game!U134","v":0.6},{"$f":"per_game!T134","v":0.3},"F"]
[null,null,{"$f":"Roster!C135","v":"F"},3,null,{"$f":"per_game!R135","v":1},{"$f":"per_game!S135","v":1},{"$f":"per_game!X135","v":0.7},{"$f":"per_game!U135","v":0.3},{"$f":"per_game!T135","v":0}]
[null,null,{"$f":"Roster!C136","v":0},0,null,{"$f":"per_game!R136","v":0},{"$f":"per_game!S136","v":0},{"$f":"per_game!X136","v":0},{"$f":"per_game!U136","v":0},{"$f":"per_game!T136","v":0},"DET"]
[null,null,{"$f":"Roster!C137","v":0},0,null,{"$f":"per_game!R137","v":0},{"$f":"per_game!S137","v":0},{"$f":"per_game!X137","v":0},{"$f":"per_game!U137","v":0},{"$f":"per_game!T137","v":0},"Rk"]
[null,null,{"$f":"Roster!C138","v":"Pos"},null,{"$f":"per_game!B138 & \"-\" & D138","v":"Player-"},{"$f":"per_game!R138","v":"TRB"},{"$f":"per_game!S138","v":"AST"},{"$f":"per_game!X138","v":"PTS"},{"$f":"per_game!U138","v":"BLK"},{"$f":"per_game!T138","v":"STL"},"F-C"]
[null,null,{"$f":"Roster!C139","v":"G"},31.6,{"$f":"per_game!B139 & \"-\" & D139","v":"Greg Monroe-31.6"},{"$f":"per_game!R139","v":9.9},{"$f":"per_game!S139","v":3.5},{"$f":"per_game!X139","v":15.7},{"$f":"per_game!U139","v":0.8},{"$f":"per_game!T139","v":1.7},"G"]
[null,null,{"$f":"Roster!C140","v":"F"},23,{"$f":"per_game!B140 & \"-\" & D140","v":"Brandon Knight-23"},{"$f":"per_game!R140","v":3.6},{"$f":"per_game!S140","v":5.3},{"$f":"per_game!X140","v":13.5},{"$f":"per_game!U140","v":0.1},{"$f":"per_game!T140","v":0.5},"F"]
[null,null,{"$f":"Roster!C141","v":"C"},19.7,{"$f":"per_game!B141 & \"-\" & D141","v":"Tayshaun Prince-19.7"},{"$f":"per_game!R141","v":4.2},{"$f":"per_game!S141","v":2.4},{"$f":"per_game!X141","v":12.3},{"$f":"per_game!U141","v":0.3},{"$f":"per_game!T141","v":0.5},"G"]
[null,null,{"$f":"Roster!C142","v":"G"},16,{"$f":"per_game!B142 & \"-\" & D142","v":"Kyle Singler-16"},{"$f":"per_game!R142","v":3.6},{"$f":"per_game!S142","v":1},{"$f":"per_game!X142","v":10.3},{"$f":"per_game!U142","v":0.6},{"$f":"per_game!T142","v":0.5},"F"]
[null,null,{"$f":"Roster!C143","v":"F"},16.900000000000002,{"$f":"per_game!B143 & \"-\" & D143","v":"Rodney Stuckey-16.9"},{"$f":"per_game!R143","v":3},{"$f":"per_game!S143","v":3.7},{"$f":"per_game!X143","v":9.6},{"$f":"per_game!U143","v":0.3},{"$f":"per_game!T143","v":0.3},"F"]
[null,null,{"$f":"Roster!C144","v":"G"},18.100000000000001,{"$f":"per_game!B144 & \"-\" & D144","v":"Jason Maxiell-18.1"},{"$f":"per_game!R144","v":6.5},{"$f":"per_game!S144","v":0.7},{"$f":"per_game!X144","v":8.9},{"$f":"per_game!U144","v":1.6},{"$f":"per_game!T144","v":0.4},"F"]
[null,null,{"$f":"Roster!C145","v":"F"},10.9,{"$f":"per_game!B145 & \"-\" & D145","v":"Charlie Villanueva-10.9"},{"$f":"per_game!R145","v":2.6},{"$f":"per_game!S145","v":0.9},{"$f":"per_game!X145","v":6.7},{"$f":"per_game!U145","v":0.3},{"$f":"per_game!T145","v":0.4},"C"]
[null,null,{"$f":"Roster!C146","v":"F"},14.700000000000003,{"$f":"per_game!B146 & \"-\" & D146","v":"Andre Drummond-14.7"},{"$f":"per_game!R146","v":6.2},{"$f":"per_game!S146","v":0.5},{"$f":"per_game!X146","v":5.9},{"$f":"per_game!U146","v":1.3},{"$f":"per_game!T146","v":0.8},"F"]
[null,null,{"$f":"Roster!C147","v":"F"},10.299999999999999,{"$f":"per_game!B147 & \"-\" & D147","v":"Jonas Jerebko-10.3"},{"$f":"per_game!R147","v":2.9},{"$f":"per_game!S147","v":0.5},{"$f":"per_game!X147","v":5.8},{"$f":"per_game!U147","v":0.2},{"$f":"per_game!T147","v":0.9},"F"]
[null,null,{"$f":"Roster!C148","v":"F-C"},9.6999999999999993,{"$f":"per_game!B148 & \"-\" & D148","v":"Will Bynum-9.7"},{"$f":"per_game!R148","v":0.9},{"$f":"per_game!S148","v":2.5},{"$f":"per_game!X148","v":5.6},{"$f":"per_game!U148","v":0.1},{"$f":"per_game!T148","v":0.6},"G"]
[null,null,{"$f":"Roster!C149","v":"F"},8.4,{"$f":"per_game!B149 & \"-\" & D149","v":"Corey Maggette-8.4"},{"$f":"per_game!R149","v":1},{"$f":"per_game!S149","v":1.4},{"$f":"per_game!X149","v":5.5},{"$f":"per_game!U149","v":0.1},{"$f":"per_game!T149","v":0.4},"G"]
[null,null,{"$f":"Roster!C150","v":"F"},4.9000000000000004,{"$f":"per_game!B150 & \"-\" & D150","v":"Kim English-4.9"},{"$f":"per_game!R150","v":0.5},{"$f":"per_game!S150","v":0.7},{"$f":"per_game!X150","v":3.2},{"$f":"per_game!U150","v":0.2},{"$f":"per_game!T150","v":0.3},"F"]
[null,null,{"$f":"Roster!C151","v":"G"},3.8,{"$f":"per_game!B151 & \"-\" & D151","v":"Austin Daye-3.8"},{"$f":"per_game!R151","v":1},{"$f":"per_game!S151","v":0.4},{"$f":"per_game!X151","v":2.4},{"$f":"per_game!U151","v":0},{"$f":"per_game!T151","v":0},"F"]
[null,null,{"$f":"Roster!C152","v":"F"},2.7,null,{"$f":"per_game!R152","v":0},{"$f":"per_game!S152","v":0.7},{"$f":"per_game!X152","v":1.3},{"$f":"per_game!U152","v":0},{"$f":"per_game!T152","v":0.7}]
[null,null,{"$f":"Roster!C153","v":0},0,null,{"$f":"per_game!R153","v":0},{"$f":"per_game!S153","v":0},{"$f":"per_game!X153","v":0},{"$f":"per_game!U153","v":0},{"$f":"per_game!T153","v":0},"GSW"]
[null,null,{"$f":"Roster!C154","v":0},0,null,{"$f":"per_game!R154","v":0},{"$f":"per_game!S154","v":0},{"$f":"per_game!X154","v":0},{"$f":"per_game!U154","v":0},{"$f":"per_game!T154","v":0},"Rk"]
[null,null,{"$f":"Roster!C155","v":"Pos"},null,{"$f":"per_game!B155 & \"-\" & D155","v":"Player-"},{"$f":"per_game!R155","v":"TRB"},{"$f":"per_game!S155","v":"AST"},{"$f":"per_game!X155","v":"PTS"},{"$f":"per_game!U155","v":"BLK"},{"$f":"per_game!T155","v":"STL"},"G"]
[null,null,{"$f":"Roster!C156","v":"F"},30.900000000000002,{"$f":"per_game!B156 & \"-\" & D156","v":"Stephen Curry-30.9"},{"$f":"per_game!R156","v":3.9},{"$f":"per_game!S156","v":6.4},{"$f":"per_game!X156","v":18.899999999999999},{"$f":"per_game!U156","v":0.1},{"$f":"per_game!T156","v":1.6},"F"]
[null,null,{"$f":"Roster!C157","v":"G"},33.299999999999997,{"$f":"per_game!B157 & \"-\" & D157","v":"David Lee-33.3"},{"$f":"per_game!R157","v":10.7},{"$f":"per_game!S157","v":3.8},{"$f":"per_game!X157","v":17.399999999999999},{"$f":"per_game!U157","v":0.3},{"$f":"per_game!T157","v":1.1000000000000001},"G"]
[null,null,{"$f":"Roster!C158","v":"C"},22.499999999999996,{"$f":"per_game!B158 & \"-\" & D158","v":"Klay Thompson-22.5"},{"$f":"per_game!R158","v":4.0999999999999996},{"$f":"per_game!S158","v":2.2000000000000002},{"$f":"per_game!X158","v":15.4},{"$f":"per_game!U158","v":0.4},{"$f":"per_game!T158","v":0.4},"F"]
[null,null,{"$f":"Roster!C159","v":"C"},23,{"$f":"per_game!B159 & \"-\" & D159","v":"Carl Landry-23"},{"$f":"per_game!R159","v":7.1},{"$f":"per_game!S159","v":1.1000000000000001},{"$f":"per_game!X159","v":14},{"$f":"per_game!U159","v":0.5},{"$f":"per_game!T159","v":0.3},"F"]
[null,null,{"$f":"Roster!C160","v":"G"},18.3,{"$f":"per_game!B160 & \"-\" & D160","v":"Jarrett Jack-18.3"},{"$f":"per_game!R160","v":3},{"$f":"per_game!S160","v":4.5},{"$f":"per_game!X160","v":10},{"$f":"per_game!U160","v":0},{"$f":"per_game!T160","v":0.8},"G"]
[null,null,{"$f":"Roster!C161","v":"C"},16.8,{"$f":"per_game!B161 & \"-\" & D161","v":"Harrison Barnes-16.8"},{"$f":"per_game!R161","v":4.8},{"$f":"per_game!S161","v":1.4},{"$f":"per_game!X161","v":9.8000000000000007},{"$f":"per_game!U161","v":0.2},{"$f":"per_game!T161","v":0.6},"F"]
[null,null,{"$f":"Roster!C162","v":"F"},8.5,{"$f":"per_game!B162 & \"-\" & D162","v":"Brandon Rush-8.5"},{"$f":"per_game!R162","v":0.5},{"$f":"per_game!S162","v":1},{"$f":"per_game!X162","v":7},{"$f":"per_game!U162","v":0},{"$f":"per_game!T162","v":0},"C"]
[null,null,{"$f":"Roster!C163","v":"G"},13.100000000000001,{"$f":"per_game!B163 & \"-\" & D163","v":"Andrew Bogut-13.1"},{"$f":"per_game!R163","v":3.8},{"$f":"per_game!S163","v":2},{"$f":"per_game!X163","v":6},{"$f":"per_game!U163","v":1},{"$f":"per_game!T163","v":0.3},"F"]
[null,null,{"$f":"Roster!C164","v":"F"},7.6,{"$f":"per_game!B164 & \"-\" & D164","v":"Richard Jefferson-7.6"},{"$f":"per_game!R164","v":1.4},{"$f":"per_game!S164","v":1.2},{"$f":"per_game!X164","v":4.2},{"$f":"per_game!U164","v":0.3},{"$f":"per_game!T164","v":0.5},"C"]
[null,null,{"$f":"Roster!C165","v":"G"},9.7000000000000011,{"$f":"per_game!B165 & \"-\" & D165","v":"Festus Ezeli-9.7"},{"$f":"per_game!R165","v":4.5999999999999996},{"$f":"per_game!S165","v":0.2},{"$f":"per_game!X165","v":3.5},{"$f":"per_game!U165","v":1},{"$f":"per_game!T165","v":0.4},"F"]
[null,null,{"$f":"Roster!C166","v":"F"},5.8,{"$f":"per_game!B166 & \"-\" & D166","v":"Draymond Green-5.8"},{"$f":"per_game!R166","v":2.6},{"$f":"per_game!S166","v":0.4},{"$f":"per_game!X166","v":2.2000000000000002},{"$f":"per_game!U166","v":0.1},{"$f":"per_game!T166","v":0.5},"G"]
[null,null,{"$f":"Roster!C167","v":"F"},2.6999999999999997,{"$f":"per_game!B167 & \"-\" & D167","v":"Charles Jenkins-2.7"},{"$f":"per_game!R167","v":0.4},{"$f":"per_game!S167","v":0.3},{"$f":"per_game!X167","v":1.9},{"$f":"per_game!U167","v":0},{"$f":"per_game!T167","v":0.1},"C"]
[null,null,{"$f":"Roster!C168","v":"F"},2,{"$f":"per_game!B168 & \"-\" & D168","v":"Jeremy Tyler-2"},{"$f":"per_game!R168","v":0.2},{"$f":"per_game!S168","v":0},{"$f":"per_game!X168","v":1.6},{"$f":"per_game!U168","v":0},{"$f":"per_game!T168","v":0.2},"C"]
[null,null,{"$f":"Roster!C169","v":"G"},4.6000000000000005,{"$f":"per_game!B169 & \"-\" & D169","v":"Andris Biedrins-4.6"},{"$f":"per_game!R169","v":2.7},{"$f":"per_game!S169","v":0.4},{"$f":"per_game!X169","v":0.6},{"$f":"per_game!U169","v":0.5},{"$f":"per_game!T169","v":0.4},"G"]
[null,null,{"$f":"Roster!C170","v":"C"},1,null,{"$f":"per_game!R170","v":0.3},{"$f":"per_game!S170","v":0.1},{"$f":"per_game!X170","v":0},{"$f":"per_game!U170","v":0.3},{"$f":"per_game!T170","v":0.3}]
[null,null,{"$f":"Roster!C171","v":0},0,null,{"$f":"per_game!R171","v":0},{"$f":"per_game!S171","v":0},{"$f":"per_game!X171","v":0},{"$f":"per_game!U171","v":0},{"$f":"per_game!T171","v":0},"HOU"]
[null,null,{"$f":"Roster!C172","v":0},0,null,{"$f":"per_game!R172","v":0},{"$f":"per_game!S172","v":0},{"$f":"per_game!X172","v":0},{"$f":"per_game!U172","v":0},{"$f":"per_game!T172","v":0},"Rk"]
[null,null,{"$f":"Roster!C173","v":"Pos"},null,{"$f":"per_game!B173 & \"-\" & D173","v":"Player-"},{"$f":"per_game!R173","v":"TRB"},{"$f":"per_game!S173","v":"AST"},{"$f":"per_game!X173","v":"PTS"},{"$f":"per_game!U173","v":"BLK"},{"$f":"per_game!T173","v":"STL"},"G"]
[null,null,{"$f":"Roster!C174","v":"C"},35.900000000000006,{"$f":"per_game!B174 & \"-\" & D174","v":"James Harden-35.9"},{"$f":"per_game!R174","v":4.0999999999999996},{"$f":"per_game!S174","v":5.4},{"$f":"per_game!X174","v":24.1},{"$f":"per_game!U174","v":0.6},{"$f":"per_game!T174","v":1.7},"F"]
[null,null,{"$f":"Roster!C175","v":"C"},27.400000000000002,{"$f":"per_game!B175 & \"-\" & D175","v":"Chandler Parsons-27.4"},{"$f":"per_game!R175","v":6.7},{"$f":"per_game!S175","v":3.5},{"$f":"per_game!X175","v":15.9},{"$f":"per_game!U175","v":0.2},{"$f":"per_game!T175","v":1.1000000000000001},"F"]
[null,null,{"$f":"Roster!C176","v":"G"},22.1,{"$f":"per_game!B176 & \"-\" & D176","v":"Patrick Patterson-22.1"},{"$f":"per_game!R176","v":5.3},{"$f":"per_game!S176","v":1},{"$f":"per_game!X176","v":14.6},{"$f":"per_game!U176","v":0.6},{"$f":"per_game!T176","v":0.6},"C"]
[null,null,{"$f":"Roster!C177","v":"G"},26.700000000000003,{"$f":"per_game!B177 & \"-\" & D177","v":"Omer Asik-26.7"},{"$f":"per_game!R177","v":12.3},{"$f":"per_game!S177","v":1.3},{"$f":"per_game!X177","v":11},{"$f":"per_game!U177","v":1.3},{"$f":"per_game!T177","v":0.8},"G"]
[null,null,{"$f":"Roster!C178","v":"G"},24.299999999999997,{"$f":"per_game!B178 & \"-\" & D178","v":"Jeremy Lin-24.3"},{"$f":"per_game!R178","v":4.4000000000000004},{"$f":"per_game!S178","v":6.6},{"$f":"per_game!X178","v":10.9},{"$f":"per_game!U178","v":0.4},{"$f":"per_game!T178","v":2},"F"]
[null,null,{"$f":"Roster!C179","v":"G"},14.7,{"$f":"per_game!B179 & \"-\" & D179","v":"Marcus Morris-14.7"},{"$f":"per_game!R179","v":4.2},{"$f":"per_game!S179","v":0.8},{"$f":"per_game!X179","v":8.6999999999999993},{"$f":"per_game!U179","v":0.5},{"$f":"per_game!T179","v":0.5},"G"]
[null,null,{"$f":"Roster!C180","v":"F"},15.799999999999999,{"$f":"per_game!B180 & \"-\" & D180","v":"Carlos Delfino-15.8"},{"$f":"per_game!R180","v":4},{"$f":"per_game!S180","v":2},{"$f":"per_game!X180","v":8.6999999999999993},{"$f":"per_game!U180","v":0.1},{"$f":"per_game!T180","v":1},"G"]
[null,null,{"$f":"Roster!C181","v":"G"},10.700000000000001,{"$f":"per_game!B181 & \"-\" & D181","v":"Greg Smith-10.7"},{"$f":"per_game!R181","v":3.5},{"$f":"per_game!S181","v":0.7},{"$f":"per_game!X181","v":5.8},{"$f":"per_game!U181","v":0.4},{"$f":"per_game!T181","v":0.3},"G"]
[null,null,{"$f":"Roster!C182","v":"G"},9.5,{"$f":"per_game!B182 & \"-\" & D182","v":"Toney Douglas-9.5"},{"$f":"per_game!R182","v":1.2},{"$f":"per_game!S182","v":1.7},{"$f":"per_game!X182","v":5.7},{"$f":"per_game!U182","v":0},{"$f":"per_game!T182","v":0.9},"C"]
[null,null,{"$f":"Roster!C183","v":"F"},8.7000000000000011,{"$f":"per_game!B183 & \"-\" & D183","v":"Daequan Cook-8.7"},{"$f":"per_game!R183","v":1.6},{"$f":"per_game!S183","v":1},{"$f":"per_game!X183","v":5.3},{"$f":"per_game!U183","v":0.3},{"$f":"per_game!T183","v":0.5},"F"]
[null,null,{"$f":"Roster!C184","v":"F"},7,{"$f":"per_game!B184 & \"-\" & D184","v":"Terrence Jones-7"},{"$f":"per_game!R184","v":2},{"$f":"per_game!S184","v":0.4},{"$f":"per_game!X184","v":3.6},{"$f":"per_game!U184","v":0.6},{"$f":"per_game!T184","v":0.4},"C"]
[null,null,{"$f":"Roster!C185","v":"F"},5.8,{"$f":"per_game!B185 & \"-\" & D185","v":"Cole Aldrich-5.8"},{"$f":"per_game!R185","v":2.1},{"$f":"per_game!S185","v":0.3},{"$f":"per_game!X185","v":3},{"$f":"per_game!U185","v":0.3},{"$f":"per_game!T185","v":0.1},"G"]
[null,null,{"$f":"Roster!C186","v":"F"},3,{"$f":"per_game!B186 & \"-\" & D186","v":"Scott Machado-3"},{"$f":"per_game!R186","v":0},{"$f":"per_game!S186","v":1},{"$f":"per_game!X186","v":2},{"$f":"per_game!U186","v":0},{"$f":"per_game!T186","v":0},"F"]
[null,null,{"$f":"Roster!C187","v":"C"},1.3,null,{"$f":"per_game!R187","v":0.3},{"$f":"per_game!S187","v":0},{"$f":"per_game!X187","v":1},{"$f":"per_game!U187","v":0},{"$f":"per_game!T187","v":0}]
[null,null,{"$f":"Roster!C188","v":0},0,null,{"$f":"per_game!R188","v":0},{"$f":"per_game!S188","v":0},{"$f":"per_game!X188","v":0},{"$f":"per_game!U188","v":0},{"$f":"per_game!T188","v":0},"IND"]
[null,null,{"$f":"Roster!C189","v":0},0,null,{"$f":"per_game!R189","v":0},{"$f":"per_game!S189","v":0},{"$f":"per_game!X189","v":0},{"$f":"per_game!U189","v":0},{"$f":"per_game!T189","v":0},"Rk"]
[null,null,{"$f":"Roster!C190","v":"Pos"},null,{"$f":"per_game!B190 & \"-\" & D190","v":"Player-"},{"$f":"per_game!R190","v":"TRB"},{"$f":"per_game!S190","v":"AST"},{"$f":"per_game!X190","v":"PTS"},{"$f":"per_game!U190","v":"BLK"},{"$f":"per_game!T190","v":"STL"},"F"]
[null,null,{"$f":"Roster!C191","v":"G"},30.400000000000002,{"$f":"per_game!B191 & \"-\" & D191","v":"David West-30.4"},{"$f":"per_game!R191","v":8.3000000000000007},{"$f":"per_game!S191","v":2.5},{"$f":"per_game!X191","v":17.8},{"$f":"per_game!U191","v":1.2},{"$f":"per_game!T191","v":0.6},"F"]
[null,null,{"$f":"Roster!C192","v":"F"},25.499999999999996,{"$f":"per_game!B192 & \"-\" & D192","v":"George Hill-25.5"},{"$f":"per_game!R192","v":4.0999999999999996},{"$f":"per_game!S192","v":5.3},{"$f":"per_game!X192","v":14.8},{"$f":"per_game!U192","v":0.4},{"$f":"per_game!T192","v":0.9},"G"]
[null,null,{"$f":"Roster!C193","v":"F"},25.2,{"$f":"per_game!B193 & \"-\" & D193","v":"Paul George-25.2"},{"$f":"per_game!R193","v":6.5},{"$f":"per_game!S193","v":3.4},{"$f":"per_game!X193","v":13.5},{"$f":"per_game!U193","v":0.6},{"$f":"per_game!T193","v":1.2},"C"]
[null,null,{"$f":"Roster!C194","v":"G"},23.099999999999998,{"$f":"per_game!B194 & \"-\" & D194","v":"Roy Hibbert-23.1"},{"$f":"per_game!R194","v":8.1999999999999993},{"$f":"per_game!S194","v":1.4},{"$f":"per_game!X194","v":9.6999999999999993},{"$f":"per_game!U194","v":3.1},{"$f":"per_game!T194","v":0.7},"F"]
[null,null,{"$f":"Roster!C195","v":"F"},12.999999999999998,{"$f":"per_game!B195 & \"-\" & D195","v":"Gerald Green-13"},{"$f":"per_game!R195","v":4.0999999999999996},{"$f":"per_game!S195","v":0.5},{"$f":"per_game!X195","v":7.8},{"$f":"per_game!U195","v":0.4},{"$f":"per_game!T195","v":0.2},"G"]
[null,null,{"$f":"Roster!C196","v":"C"},{"$f":"F196*$B$2+G196*$B$3+H196*$B$1+I196*$B$4+J196*$B$5","v":13.3},{"$f":"per_game!B196 & \"-\" & D196","v":"Lance Stephenson-13.3"},{"$f":"per_game!R196","v":2.9},{"$f":"per_game!S196","v":2.5},{"$f":"per_game!X196","v":7.2},{"$f":"per_game!U196","v":0.1},{"$f":"per_game!T196","v":0.6},"F"]
[null,null,{"$f":"Roster!C197","v":"G"},12,{"$f":"per_game!B197 & \"-\" & D197","v":"Tyler Hansbrough-12"},{"$f":"per_game!R197","v":4.7},{"$f":"per_game!S197","v":0.2},{"$f":"per_game!X197","v":6.5},{"$f":"per_game!U197","v":0.2},{"$f":"per_game!T197","v":0.4},"C"]
[null,null,{"$f":"Roster!C198","v":"G"},10,{"$f":"per_game!B198 & \"-\" & D198","v":"Sam Young-10"},{"$f":"per_game!R198","v":3.5},{"$f":"per_game!S198","v":0.9},{"$f":"per_game!X198","v":5},{"$f":"per_game!U198","v":0.1},{"$f":"per_game!T198","v":0.5},"F"]
[null,null,{"$f":"Roster!C199","v":"C"},9.9,{"$f":"per_game!B199 & \"-\" & D199","v":"Ian Mahinmi-9.9"},{"$f":"per_game!R199","v":3.6},{"$f":"per_game!S199","v":0.2},{"$f":"per_game!X199","v":4.7},{"$f":"per_game!U199","v":1.1000000000000001},{"$f":"per_game!T199","v":0.3},"F"]
[null,null,{"$f":"Roster!C200","v":"F"},6.6,{"$f":"per_game!B200 & \"-\" & D200","v":"Jeff Pendergraph-6.6"},{"$f":"per_game!R200","v":2.2999999999999998},{"$f":"per_game!S200","v":0.3},{"$f":"per_game!X200","v":3.7},{"$f":"per_game!U200","v":0.3},{"$f":"per_game!T200","v":0},"G"]
[null,null,{"$f":"Roster!C201","v":"F"},7.6999999999999993,{"$f":"per_game!B201 & \"-\" & D201","v":"D.J. Augustin-7.7"},{"$f":"per_game!R201","v":1.1000000000000001},{"$f":"per_game!S201","v":2.4},{"$f":"per_game!X201","v":3.5},{"$f":"per_game!U201","v":0.1},{"$f":"per_game!T201","v":0.6},"G"]
[null,null,{"$f":"Roster!C202","v":"G"},3.2,{"$f":"per_game!B202 & \"-\" & D202","v":"Ben Hansbrough-3.2"},{"$f":"per_game!R202","v":0.3},{"$f":"per_game!S202","v":1.3},{"$f":"per_game!X202","v":1.3},{"$f":"per_game!U202","v":0},{"$f":"per_game!T202","v":0.3},"F"]
[null,null,{"$f":"Roster!C203","v":"F"},3.1,{"$f":"per_game!B203 & \"-\" & D203","v":"Miles Plumlee-3.1"},{"$f":"per_game!R203","v":1.3},{"$f":"per_game!S203","v":0.3},{"$f":"per_game!X203","v":1},{"$f":"per_game!U203","v":0.5},{"$f":"per_game!T203","v":0},"G"]
[null,null,{"$f":"Roster!C204","v":"F"},0.5,null,{"$f":"per_game!R204","v":0.5},{"$f":"per_game!S204","v":0},{"$f":"per_game!X204","v":0},{"$f":"per_game!U204","v":0},{"$f":"per_game!T204","v":0}]
[null,null,{"$f":"Roster!C205","v":0},0,null,{"$f":"per_game!R205","v":0},{"$f":"per_game!S205","v":0},{"$f":"per_game!X205","v":0},{"$f":"per_game!U205","v":0},{"$f":"per_game!T205","v":0},"LAC"]
[null,null,{"$f":"Roster!C206","v":0},0,null,{"$f":"per_game!R206","v":0},{"$f":"per_game!S206","v":0},{"$f":"per_game!X206","v":0},{"$f":"per_game!U206","v":0},{"$f":"per_game!T206","v":0},"Rk"]
[null,null,{"$f":"Roster!C207","v":"Pos"},null,{"$f":"per_game!B207 & \"-\" & D207","v":"Player-"},{"$f":"per_game!R207","v":"TRB"},{"$f":"per_game!S207","v":"AST"},{"$f":"per_game!X207","v":"PTS"},{"$f":"per_game!U207","v":"BLK"},{"$f":"per_game!T207","v":"STL"},"G"]
[null,null,{"$f":"Roster!C208","v":"F"},22.300000000000004,{"$f":"per_game!B208 & \"-\" & D208","v":"Jamal Crawford-22.3"},{"$f":"per_game!R208","v":1.8},{"$f":"per_game!S208","v":1.7},{"$f":"per_game!X208","v":17.600000000000001},{"$f":"per_game!U208","v":0.1},{"$f":"per_game!T208","v":1.1000000000000001},"F"]
[null,null,{"$f":"Roster!C209","v":"G"},31.3,{"$f":"per_game!B209 & \"-\" & D209","v":"Blake Griffin-31.3"},{"$f":"per_game!R209","v":8.9},{"$f":"per_game!S209","v":3.1},{"$f":"per_game!X209","v":17.5},{"$f":"per_game!U209","v":0.6},{"$f":"per_game!T209","v":1.2},"G"]
[null,null,{"$f":"Roster!C210","v":"G"},31.700000000000003,{"$f":"per_game!B210 & \"-\" & D210","v":"Chris Paul-31.7"},{"$f":"per_game!R210","v":3.6},{"$f":"per_game!S210","v":9.3000000000000007},{"$f":"per_game!X210","v":16.2},{"$f":"per_game!U210","v":0},{"$f":"per_game!T210","v":2.6},"C"]
[null,null,{"$f":"Roster!C211","v":"F"},20,{"$f":"per_game!B211 & \"-\" & D211","v":"DeAndre Jordan-20"},{"$f":"per_game!R211","v":6.8},{"$f":"per_game!S211","v":0.3},{"$f":"per_game!X211","v":10.1},{"$f":"per_game!U211","v":2},{"$f":"per_game!T211","v":0.8},"F"]
[null,null,{"$f":"Roster!C212","v":"G"},17.2,{"$f":"per_game!B212 & \"-\" & D212","v":"Eric Bledsoe-17.2"},{"$f":"per_game!R212","v":2.7},{"$f":"per_game!S212","v":2.6},{"$f":"per_game!X212","v":9.9},{"$f":"per_game!U212","v":0.6},{"$f":"per_game!T212","v":1.4},"G"]
[null,null,{"$f":"Roster!C213","v":"G"},13.9,{"$f":"per_game!B213 & \"-\" & D213","v":"Caron Butler-13.9"},{"$f":"per_game!R213","v":2.4},{"$f":"per_game!S213","v":1},{"$f":"per_game!X213","v":9.6999999999999993},{"$f":"per_game!U213","v":0.3},{"$f":"per_game!T213","v":0.5},"F"]
[null,null,{"$f":"Roster!C214","v":"F"},16.900000000000002,{"$f":"per_game!B214 & \"-\" & D214","v":"Matt Barnes-16.9"},{"$f":"per_game!R214","v":5.3},{"$f":"per_game!S214","v":1.2},{"$f":"per_game!X214","v":8.3000000000000007},{"$f":"per_game!U214","v":0.8},{"$f":"per_game!T214","v":1.3},"G"]
[null,null,{"$f":"Roster!C215","v":"C"},11.299999999999999,{"$f":"per_game!B215 & \"-\" & D215","v":"Chauncey Billups-11.3"},{"$f":"per_game!R215","v":1},{"$f":"per_game!S215","v":2.2999999999999998},{"$f":"per_game!X215","v":7.3},{"$f":"per_game!U215","v":0},{"$f":"per_game!T215","v":0.7},"G"]
[null,null,{"$f":"Roster!C216","v":"C"},9.6000000000000014,{"$f":"per_game!B216 & \"-\" & D216","v":"Willie Green-9.6"},{"$f":"per_game!R216","v":1.4},{"$f":"per_game!S216","v":1.1000000000000001},{"$f":"per_game!X216","v":6.4},{"$f":"per_game!U216","v":0.4},{"$f":"per_game!T216","v":0.3},"C"]
[null,null,{"$f":"Roster!C217","v":"F"},6.3999999999999995,{"$f":"per_game!B217 & \"-\" & D217","v":"Ryan Hollins-6.4"},{"$f":"per_game!R217","v":2.4},{"$f":"per_game!S217","v":0.1},{"$f":"per_game!X217","v":2.8},{"$f":"per_game!U217","v":0.8},{"$f":"per_game!T217","v":0.3},"F"]
[null,null,{"$f":"Roster!C218","v":"G"},7.5,{"$f":"per_game!B218 & \"-\" & D218","v":"Lamar Odom-7.5"},{"$f":"per_game!R218","v":3.3},{"$f":"per_game!S218","v":1},{"$f":"per_game!X218","v":2.2000000000000002},{"$f":"per_game!U218","v":0.4},{"$f":"per_game!T218","v":0.6},"F"]
[null,null,{"$f":"Roster!C219","v":"F"},5.3,null,{"$f":"per_game!R219","v":2.1},{"$f":"per_game!S219","v":0.5},{"$f":"per_game!X219","v":1.5},{"$f":"per_game!U219","v":0.7},{"$f":"per_game!T219","v":0.5}]
[null,null,{"$f":"Roster!C220","v":0},0,null,{"$f":"per_game!R220","v":0},{"$f":"per_game!S220","v":0},{"$f":"per_game!X220","v":0},{"$f":"per_game!U220","v":0},{"$f":"per_game!T220","v":0},"LAL"]
[null,null,{"$f":"Roster!C221","v":0},0,null,{"$f":"per_game!R221","v":0},{"$f":"per_game!S221","v":0},{"$f":"per_game!X221","v":0},{"$f":"per_game!U221","v":0},{"$f":"per_game!T221","v":0},"Rk"]
[null,null,{"$f":"Roster!C222","v":"Pos"},null,{"$f":"per_game!B222 & \"-\" & D222","v":"Player-"},{"$f":"per_game!R222","v":"TRB"},{"$f":"per_game!S222","v":"AST"},{"$f":"per_game!X222","v":"PTS"},{"$f":"per_game!U222","v":"BLK"},{"$f":"per_game!T222","v":"STL"},"G"]
[null,null,{"$f":"Roster!C223","v":"G"},39.1,{"$f":"per_game!B223 & \"-\" & D223","v":"Kobe Bryant-39.1"},{"$f":"per_game!R223","v":5.2},{"$f":"per_game!S223","v":5.0999999999999996},{"$f":"per_game!X223","v":27.3},{"$f":"per_game!U223","v":0},{"$f":"per_game!T223","v":1.5},"C-F"]
[null,null,{"$f":"Roster!C224","v":"G"},35.5,{"$f":"per_game!B224 & \"-\" & D224","v":"Dwight Howard-35.5"},{"$f":"per_game!R224","v":11.3},{"$f":"per_game!S224","v":1.7},{"$f":"per_game!X224","v":18.7},{"$f":"per_game!U224","v":2.6},{"$f":"per_game!T224","v":1.2},"F"]
[null,null,{"$f":"Roster!C225","v":"F"},22.8,{"$f":"per_game!B225 & \"-\" & D225","v":"Metta World Peace-22.8"},{"$f":"per_game!R225","v":5.4},{"$f":"per_game!S225","v":2.2999999999999998},{"$f":"per_game!X225","v":13.2},{"$f":"per_game!U225","v":0.3},{"$f":"per_game!T225","v":1.6},"F-C"]
[null,null,{"$f":"Roster!C226","v":"G"},26.599999999999998,{"$f":"per_game!B226 & \"-\" & D226","v":"Pau Gasol-26.6"},{"$f":"per_game!R226","v":8.8000000000000007},{"$f":"per_game!S226","v":3.5},{"$f":"per_game!X226","v":12.6},{"$f":"per_game!U226","v":1.2},{"$f":"per_game!T226","v":0.5},"G"]
[null,null,{"$f":"Roster!C227","v":"F"},13.5,{"$f":"per_game!B227 & \"-\" & D227","v":"Antawn Jamison-13.5"},{"$f":"per_game!R227","v":4.5999999999999996},{"$f":"per_game!S227","v":0.6},{"$f":"per_game!X227","v":7.4},{"$f":"per_game!U227","v":0.4},{"$f":"per_game!T227","v":0.5},"F"]
[null,null,{"$f":"Roster!C228","v":"F-C"},11.100000000000001,{"$f":"per_game!B228 & \"-\" & D228","v":"Darius Morris-11.1"},{"$f":"per_game!R228","v":1.7},{"$f":"per_game!S228","v":2.5},{"$f":"per_game!X228","v":5.9},{"$f":"per_game!U228","v":0.1},{"$f":"per_game!T228","v":0.9},"F"]
[null,null,{"$f":"Roster!C229","v":"F"},11.200000000000001,{"$f":"per_game!B229 & \"-\" & D229","v":"Jordan Hill-11.2"},{"$f":"per_game!R229","v":4.5999999999999996},{"$f":"per_game!S229","v":0.4},{"$f":"per_game!X229","v":5.5},{"$f":"per_game!U229","v":0.4},{"$f":"per_game!T229","v":0.3},"G"]
[null,null,{"$f":"Roster!C230","v":"C-F"},7.9,{"$f":"per_game!B230 & \"-\" & D230","v":"Jodie Meeks-7.9"},{"$f":"per_game!R230","v":1.3},{"$f":"per_game!S230","v":0.9},{"$f":"per_game!X230","v":5.4},{"$f":"per_game!U230","v":0},{"$f":"per_game!T230","v":0.3},"G"]
[null,null,{"$f":"Roster!C231","v":"F"},12.2,{"$f":"per_game!B231 & \"-\" & D231","v":"Steve Blake-12.2"},{"$f":"per_game!R231","v":2.4},{"$f":"per_game!S231","v":3.4},{"$f":"per_game!X231","v":5.0999999999999996},{"$f":"per_game!U231","v":0},{"$f":"per_game!T231","v":1.3},"G"]
[null,null,{"$f":"Roster!C232","v":"G"},12.5,{"$f":"per_game!B232 & \"-\" & D232","v":"Steve Nash-12.5"},{"$f":"per_game!R232","v":3},{"$f":"per_game!S232","v":4},{"$f":"per_game!X232","v":4.5},{"$f":"per_game!U232","v":0.5},{"$f":"per_game!T232","v":0.5},"F"]
[null,null,{"$f":"Roster!C233","v":"G"},6.2,{"$f":"per_game!B233 & \"-\" & D233","v":"Devin Ebanks-6.2"},{"$f":"per_game!R233","v":2},{"$f":"per_game!S233","v":0.8},{"$f":"per_game!X233","v":3.2},{"$f":"per_game!U233","v":0.2},{"$f":"per_game!T233","v":0},"G"]
[null,null,{"$f":"Roster!C234","v":"G"},7.6999999999999993,{"$f":"per_game!B234 & \"-\" & D234","v":"Chris Duhon-7.7"},{"$f":"per_game!R234","v":1.4},{"$f":"per_game!S234","v":2.8},{"$f":"per_game!X234","v":3},{"$f":"per_game!U234","v":0},{"$f":"per_game!T234","v":0.5},"F"]
[null,null,{"$f":"Roster!C235","v":"G"},1.6,{"$f":"per_game!B235 & \"-\" & D235","v":"Earl Clark-1.6"},{"$f":"per_game!R235","v":0.5},{"$f":"per_game!S235","v":0},{"$f":"per_game!X235","v":0.8},{"$f":"per_game!U235","v":0.3},{"$f":"per_game!T235","v":0},"C"]
[null,null,{"$f":"Roster!C236","v":"C"},1,{"$f":"per_game!B236 & \"-\" & D236","v":"Robert Sacre-1"},{"$f":"per_game!R236","v":0.3},{"$f":"per_game!S236","v":0.1},{"$f":"per_game!X236","v":0.3},{"$f":"per_game!U236","v":0.3},{"$f":"per_game!T236","v":0},"G"]
[null,null,{"$f":"Roster!C237","v":"F"},1.3,null,{"$f":"per_game!R237","v":1},{"$f":"per_game!S237","v":0.3},{"$f":"per_game!X237","v":0},{"$f":"per_game!U237","v":0},{"$f":"per_game!T237","v":0}]
[null,null,{"$f":"Roster!C238","v":0},0,null,{"$f":"per_game!R238","v":0},{"$f":"per_game!S238","v":0},{"$f":"per_game!X238","v":0},{"$f":"per_game!U238","v":0},{"$f":"per_game!T238","v":0},"MEM"]
[null,null,{"$f":"Roster!C239","v":0},0,null,{"$f":"per_game!R239","v":0},{"$f":"per_game!S239","v":0},{"$f":"per_game!X239","v":0},{"$f":"per_game!U239","v":0},{"$f":"per_game!T239","v":0},"Rk"]
[null,null,{"$f":"Roster!C240","v":"Pos"},null,{"$f":"per_game!B240 & \"-\" & D240","v":"Player-"},{"$f":"per_game!R240","v":"TRB"},{"$f":"per_game!S240","v":"AST"},{"$f":"per_game!X240","v":"PTS"},{"$f":"per_game!U240","v":"BLK"},{"$f":"per_game!T240","v":"STL"},"F"]
[null,null,{"$f":"Roster!C241","v":"G"},29.399999999999995,{"$f":"per_game!B241 & \"-\" & D241","v":"Rudy Gay-29.4"},{"$f":"per_game!R241","v":5.9},{"$f":"per_game!S241","v":2.2999999999999998},{"$f":"per_game!X241","v":18.899999999999999},{"$f":"per_game!U241","v":0.9},{"$f":"per_game!T241","v":1.4},"F"]
[null,null,{"$f":"Roster!C242","v":"F"},31.7,{"$f":"per_game!B242 & \"-\" & D242","v":"Zach Randolph-31.7"},{"$f":"per_game!R242","v":12.7},{"$f":"per_game!S242","v":1.5},{"$f":"per_game!X242","v":16.3},{"$f":"per_game!U242","v":0.5},{"$f":"per_game!T242","v":0.7},"C"]
[null,null,{"$f":"Roster!C243","v":"G"},29.499999999999996,{"$f":"per_game!B243 & \"-\" & D243","v":"Marc Gasol-29.5"},{"$f":"per_game!R243","v":7.1},{"$f":"per_game!S243","v":4.4000000000000004},{"$f":"per_game!X243","v":15.9},{"$f":"per_game!U243","v":1.4},{"$f":"per_game!T243","v":0.7},"G"]
[null,null,{"$f":"Roster!C244","v":"G"},27.700000000000003,{"$f":"per_game!B244 & \"-\" & D244","v":"Mike Conley-27.7"},{"$f":"per_game!R244","v":2.8},{"$f":"per_game!S244","v":6.7},{"$f":"per_game!X244","v":15.3},{"$f":"per_game!U244","v":0.3},{"$f":"per_game!T244","v":2.6},"G"]
[null,null,{"$f":"Roster!C245","v":"G"},14.7,{"$f":"per_game!B245 & \"-\" & D245","v":"Tony Allen-14.7"},{"$f":"per_game!R245","v":3.5},{"$f":"per_game!S245","v":0.6},{"$f":"per_game!X245","v":8},{"$f":"per_game!U245","v":0.6},{"$f":"per_game!T245","v":2},"F"]
[null,null,{"$f":"Roster!C246","v":"C"},13,{"$f":"per_game!B246 & \"-\" & D246","v":"Jerryd Bayless-13"},{"$f":"per_game!R246","v":1.4},{"$f":"per_game!S246","v":3.1},{"$f":"per_game!X246","v":7.1},{"$f":"per_game!U246","v":0.5},{"$f":"per_game!T246","v":0.9},"G"]
[null,null,{"$f":"Roster!C247","v":"F"},13.8,{"$f":"per_game!B247 & \"-\" & D247","v":"Marreese Speights-13.8"},{"$f":"per_game!R247","v":5.3},{"$f":"per_game!S247","v":0.6},{"$f":"per_game!X247","v":6.7},{"$f":"per_game!U247","v":0.9},{"$f":"per_game!T247","v":0.3},"G-F"]
[null,null,{"$f":"Roster!C248","v":"C"},9.1,{"$f":"per_game!B248 & \"-\" & D248","v":"Darrell Arthur-9.1"},{"$f":"per_game!R248","v":1.8},{"$f":"per_game!S248","v":0.5},{"$f":"per_game!X248","v":6.3},{"$f":"per_game!U248","v":0.5},{"$f":"per_game!T248","v":0},"G"]
[null,null,{"$f":"Roster!C249","v":"G-F"},10.3,{"$f":"per_game!B249 & \"-\" & D249","v":"Quincy Pondexter-10.3"},{"$f":"per_game!R249","v":1.9},{"$f":"per_game!S249","v":1.5},{"$f":"per_game!X249","v":5.9},{"$f":"per_game!U249","v":0.1},{"$f":"per_game!T249","v":0.9},"F"]
[null,null,{"$f":"Roster!C250","v":"F"},7.8000000000000007,{"$f":"per_game!B250 & \"-\" & D250","v":"Wayne Ellington-7.8"},{"$f":"per_game!R250","v":1.2},{"$f":"per_game!S250","v":1.2},{"$f":"per_game!X250","v":4.9000000000000004},{"$f":"per_game!U250","v":0.1},{"$f":"per_game!T250","v":0.4},"C"]
[null,null,{"$f":"Roster!C251","v":"G"},1,{"$f":"per_game!B251 & \"-\" & D251","v":"Hamed Haddadi-1"},{"$f":"per_game!R251","v":0},{"$f":"per_game!S251","v":0},{"$f":"per_game!X251","v":1},{"$f":"per_game!U251","v":0},{"$f":"per_game!T251","v":0},"G"]
[null,null,{"$f":"Roster!C252","v":"F"},0.8,{"$f":"per_game!B252 & \"-\" & D252","v":"Josh Selby-0.8"},{"$f":"per_game!R252","v":0.2},{"$f":"per_game!S252","v":0.4},{"$f":"per_game!X252","v":0},{"$f":"per_game!U252","v":0},{"$f":"per_game!T252","v":0.2},"G"]
[null,null,{"$f":"Roster!C253","v":"G"},0.6,null,{"$f":"per_game!R253","v":0.3},{"$f":"per_game!S253","v":0},{"$f":"per_game!X253","v":0},{"$f":"per_game!U253","v":0},{"$f":"per_game!T253","v":0.3}]
[null,null,{"$f":"Roster!C254","v":0},0,null,{"$f":"per_game!R254","v":0},{"$f":"per_game!S254","v":0},{"$f":"per_game!X254","v":0},{"$f":"per_game!U254","v":0},{"$f":"per_game!T254","v":0},"MIA"]
[null,null,{"$f":"Roster!C255","v":0},0,null,{"$f":"per_game!R255","v":0},{"$f":"per_game!S255","v":0},{"$f":"per_game!X255","v":0},{"$f":"per_game!U255","v":0},{"$f":"per_game!T255","v":0},"Rk"]
[null,null,{"$f":"Roster!C256","v":"Pos"},null,{"$f":"per_game!B256 & \"-\" & D256","v":"Player-"},{"$f":"per_game!R256","v":"TRB"},{"$f":"per_game!S256","v":"AST"},{"$f":"per_game!X256","v":"PTS"},{"$f":"per_game!U256","v":"BLK"},{"$f":"per_game!T256","v":"STL"},"F-G"]
[null,null,{"$f":"Roster!C257","v":"G"},42.1,{"$f":"per_game!B257 & \"-\" & D257","v":"LeBron James-42.1"},{"$f":"per_game!R257","v":8.9},{"$f":"per_game!S257","v":6.5},{"$f":"per_game!X257","v":24.7},{"$f":"per_game!U257","v":0.9},{"$f":"per_game!T257","v":1.1000000000000001},"F-C"]
[null,null,{"$f":"Roster!C258","v":"C"},30.6,{"$f":"per_game!B258 & \"-\" & D258","v":"Dwyane Wade-30.6"},{"$f":"per_game!R258","v":4.0999999999999996},{"$f":"per_game!S258","v":4.9000000000000004},{"$f":"per_game!X258","v":19.5},{"$f":"per_game!U258","v":0.8},{"$f":"per_game!T258","v":1.3},"G"]
[null,null,{"$f":"Roster!C259","v":"F"},30.599999999999998,{"$f":"per_game!B259 & \"-\" & D259","v":"Chris Bosh-30.6"},{"$f":"per_game!R259","v":7.9},{"$f":"per_game!S259","v":1.3},{"$f":"per_game!X259","v":19.3},{"$f":"per_game!U259","v":1.4},{"$f":"per_game!T259","v":0.7},"G"]
[null,null,{"$f":"Roster!C260","v":"F-C"},{"$f":"F260*$B$2+G260*$B$3+H260*$B$1+I260*$B$4+J260*$B$5","v":19.600000000000001},{"$f":"per_game!B260 & \"-\" & D260","v":"Ray Allen-19.6"},{"$f":"per_game!R260","v":3},{"$f":"per_game!S260","v":2.1},{"$f":"per_game!X260","v":13.3},{"$f":"per_game!U260","v":0.1},{"$f":"per_game!T260","v":1.1000000000000001},"F"]
[null,null,{"$f":"Roster!C261","v":"G"},11.9,{"$f":"per_game!B261 & \"-\" & D261","v":"Shane Battier-11.9"},{"$f":"per_game!R261","v":2.5},{"$f":"per_game!S261","v":0.8},{"$f":"per_game!X261","v":7},{"$f":"per_game!U261","v":1},{"$f":"per_game!T261","v":0.6},"G"]
[null,null,{"$f":"Roster!C262","v":"G"},15.899999999999999,{"$f":"per_game!B262 & \"-\" & D262","v":"Mario Chalmers-15.9"},{"$f":"per_game!R262","v":2.8},{"$f":"per_game!S262","v":4.3},{"$f":"per_game!X262","v":6.8},{"$f":"per_game!U262","v":0.2},{"$f":"per_game!T262","v":1.8},"F"]
[null,null,{"$f":"Roster!C263","v":"C"},9.6,{"$f":"per_game!B263 & \"-\" & D263","v":"Rashard Lewis-9.6"},{"$f":"per_game!R263","v":2},{"$f":"per_game!S263","v":0.5},{"$f":"per_game!X263","v":6.5},{"$f":"per_game!U263","v":0.1},{"$f":"per_game!T263","v":0.5},"G"]
[null,null,{"$f":"Roster!C264","v":"G"},9.4999999999999982,{"$f":"per_game!B264 & \"-\" & D264","v":"Norris Cole-9.5"},{"$f":"per_game!R264","v":1.4},{"$f":"per_game!S264","v":2.2999999999999998},{"$f":"per_game!X264","v":5.0999999999999996},{"$f":"per_game!U264","v":0.1},{"$f":"per_game!T264","v":0.6},"F"]
[null,null,{"$f":"Roster!C265","v":"F"},9.6,{"$f":"per_game!B265 & \"-\" & D265","v":"Udonis Haslem-9.6"},{"$f":"per_game!R265","v":5.0999999999999996},{"$f":"per_game!S265","v":0.4},{"$f":"per_game!X265","v":3.7},{"$f":"per_game!U265","v":0.1},{"$f":"per_game!T265","v":0.3},"F"]
[null,null,{"$f":"Roster!C266","v":"F-G"},7.6,{"$f":"per_game!B266 & \"-\" & D266","v":"Mike Miller-7.6"},{"$f":"per_game!R266","v":2.2999999999999998},{"$f":"per_game!S266","v":1.5},{"$f":"per_game!X266","v":3.4},{"$f":"per_game!U266","v":0},{"$f":"per_game!T266","v":0.4},"F"]
[null,null,{"$f":"Roster!C267","v":"F"},2,{"$f":"per_game!B267 & \"-\" & D267","v":"James Jones-2"},{"$f":"per_game!R267","v":0},{"$f":"per_game!S267","v":0},{"$f":"per_game!X267","v":2},{"$f":"per_game!U267","v":0},{"$f":"per_game!T267","v":0},"G"]
[null,null,{"$f":"Roster!C268","v":"F"},3.6999999999999997,{"$f":"per_game!B268 & \"-\" & D268","v":"Josh Harrellson-3.7"},{"$f":"per_game!R268","v":1.7},{"$f":"per_game!S268","v":0},{"$f":"per_game!X268","v":1.7},{"$f":"per_game!U268","v":0},{"$f":"per_game!T268","v":0.3},"C"]
[null,null,{"$f":"Roster!C269","v":"F"},2.2999999999999998,{"$f":"per_game!B269 & \"-\" & D269","v":"Terrel Harris-2.3"},{"$f":"per_game!R269","v":1},{"$f":"per_game!S269","v":0},{"$f":"per_game!X269","v":1.3},{"$f":"per_game!U269","v":0},{"$f":"per_game!T269","v":0},"C"]
[null,null,{"$f":"Roster!C270","v":"C"},1.6,null,{"$f":"per_game!R270","v":0.5},{"$f":"per_game!S270","v":0.1},{"$f":"per_game!X270","v":0.5},{"$f":"per_game!U270","v":0.5},{"$f":"per_game!T270","v":0}]
[null,null,{"$f":"Roster!C271","v":"G"},0,null,{"$f":"per_game!R271","v":0},{"$f":"per_game!S271","v":0},{"$f":"per_game!X271","v":0},{"$f":"per_game!U271","v":0},{"$f":"per_game!T271","v":0},"MIL"]
[null,null,{"$f":"Roster!C272","v":0},0,null,{"$f":"per_game!R272","v":0},{"$f":"per_game!S272","v":0},{"$f":"per_game!X272","v":0},{"$f":"per_game!U272","v":0},{"$f":"per_game!T272","v":0},"Rk"]
[null,null,{"$f":"Roster!C273","v":0},0,{"$f":"per_game!B273 & \"-\" & D273","v":"-0"},{"$f":"per_game!R273","v":0},{"$f":"per_game!S273","v":0},{"$f":"per_game!X273","v":0},{"$f":"per_game!U273","v":0},{"$f":"per_game!T273","v":0},"G"]
[null,null,{"$f":"Roster!C274","v":"Pos"},null,{"$f":"per_game!B274 & \"-\" & D274","v":"Player-"},{"$f":"per_game!R274","v":"TRB"},{"$f":"per_game!S274","v":"AST"},{"$f":"per_game!X274","v":"PTS"},{"$f":"per_game!U274","v":"BLK"},{"$f":"per_game!T274","v":"STL"},"G"]
[null,null,{"$f":"Roster!C275","v":"C"},28.8,{"$f":"per_game!B275 & \"-\" & D275","v":"Monta Ellis-28.8"},{"$f":"per_game!R275","v":3.1},{"$f":"per_game!S275","v":5.0999999999999996},{"$f":"per_game!X275","v":18.600000000000001},{"$f":"per_game!U275","v":0.6},{"$f":"per_game!T275","v":1.4},"F-G"]
[null,null,{"$f":"Roster!C276","v":"G-F"},29.5,{"$f":"per_game!B276 & \"-\" & D276","v":"Brandon Jennings-29.5"},{"$f":"per_game!R276","v":3.4},{"$f":"per_game!S276","v":6.3},{"$f":"per_game!X276","v":17},{"$f":"per_game!U276","v":0.3},{"$f":"per_game!T276","v":2.5},"G"]
[null,null,{"$f":"Roster!C277","v":"F-G"},19.399999999999999,{"$f":"per_game!B277 & \"-\" & D277","v":"Mike Dunleavy-19.4"},{"$f":"per_game!R277","v":5.0999999999999996},{"$f":"per_game!S277","v":2.4},{"$f":"per_game!X277","v":10.8},{"$f":"per_game!U277","v":0.4},{"$f":"per_game!T277","v":0.7},"F"]
[null,null,{"$f":"Roster!C278","v":"G"},15.4,{"$f":"per_game!B278 & \"-\" & D278","v":"Beno Udrih-15.4"},{"$f":"per_game!R278","v":2.8},{"$f":"per_game!S278","v":3.3},{"$f":"per_game!X278","v":8.3000000000000007},{"$f":"per_game!U278","v":0.2},{"$f":"per_game!T278","v":0.8},"F"]
[null,null,{"$f":"Roster!C279","v":"F"},20.100000000000001,{"$f":"per_game!B279 & \"-\" & D279","v":"Larry Sanders-20.1"},{"$f":"per_game!R279","v":7.6},{"$f":"per_game!S279","v":0.8},{"$f":"per_game!X279","v":8.1},{"$f":"per_game!U279","v":3},{"$f":"per_game!T279","v":0.6},"F"]
[null,null,{"$f":"Roster!C280","v":"F"},16.5,{"$f":"per_game!B280 & \"-\" & D280","v":"Luc Mbah a Moute-16.5"},{"$f":"per_game!R280","v":7},{"$f":"per_game!S280","v":2},{"$f":"per_game!X280","v":7.5},{"$f":"per_game!U280","v":0},{"$f":"per_game!T280","v":0},"C"]
[null,null,{"$f":"Roster!C281","v":"F"},11.400000000000002,{"$f":"per_game!B281 & \"-\" & D281","v":"Tobias Harris-11.4"},{"$f":"per_game!R281","v":3},{"$f":"per_game!S281","v":0.7},{"$f":"per_game!X281","v":7.1},{"$f":"per_game!U281","v":0.3},{"$f":"per_game!T281","v":0.3},"F"]
[null,null,{"$f":"Roster!C282","v":"G"},13.800000000000002,{"$f":"per_game!B282 & \"-\" & D282","v":"Ersan Ilyasova-13.8"},{"$f":"per_game!R282","v":4.7},{"$f":"per_game!S282","v":1.5},{"$f":"per_game!X282","v":6.9},{"$f":"per_game!U282","v":0.3},{"$f":"per_game!T282","v":0.4},"G-F"]
[null,null,{"$f":"Roster!C283","v":"G"},12.899999999999999,{"$f":"per_game!B283 & \"-\" & D283","v":"Samuel Dalembert-12.9"},{"$f":"per_game!R283","v":4.8},{"$f":"per_game!S283","v":0.7},{"$f":"per_game!X283","v":6.2},{"$f":"per_game!U283","v":1},{"$f":"per_game!T283","v":0.2},"F"]
[null,null,{"$f":"Roster!C284","v":"F"},11.1,{"$f":"per_game!B284 & \"-\" & D284","v":"John Henson-11.1"},{"$f":"per_game!R284","v":3.7},{"$f":"per_game!S284","v":0.5},{"$f":"per_game!X284","v":6},{"$f":"per_game!U284","v":0.6},{"$f":"per_game!T284","v":0.3},"G"]
[null,null,{"$f":"Roster!C285","v":"C"},9.8000000000000007,{"$f":"per_game!B285 & \"-\" & D285","v":"Marquis Daniels-9.8"},{"$f":"per_game!R285","v":1.6},{"$f":"per_game!S285","v":1.3},{"$f":"per_game!X285","v":5.6},{"$f":"per_game!U285","v":0.3},{"$f":"per_game!T285","v":1},"C"]
[null,null,{"$f":"Roster!C286","v":"F"},12,null,{"$f":"per_game!R286","v":3.8},{"$f":"per_game!S286","v":0.9},{"$f":"per_game!X286","v":5.6},{"$f":"per_game!U286","v":1.1000000000000001},{"$f":"per_game!T286","v":0.6}]
[null,null,{"$f":"Roster!C287","v":"F"},5,null,{"$f":"per_game!R287","v":0.4},{"$f":"per_game!S287","v":0.9},{"$f":"per_game!X287","v":3.6},{"$f":"per_game!U287","v":0},{"$f":"per_game!T287","v":0.1},"MIN"]
[null,null,{"$f":"Roster!C288","v":"G"},3.2,null,{"$f":"per_game!R288","v":2},{"$f":"per_game!S288","v":0.5},{"$f":"per_game!X288","v":0.3},{"$f":"per_game!U288","v":0.2},{"$f":"per_game!T288","v":0.2},"Rk"]
[null,null,{"$f":"Roster!C289","v":0},0,{"$f":"per_game!B289 & \"-\" & D289","v":"-0"},{"$f":"per_game!R289","v":0},{"$f":"per_game!S289","v":0},{"$f":"per_game!X289","v":0},{"$f":"per_game!U289","v":0},{"$f":"per_game!T289","v":0},"F"]
[null,null,{"$f":"Roster!C290","v":0},0,{"$f":"per_game!B290 & \"-\" & D290","v":"-0"},{"$f":"per_game!R290","v":0},{"$f":"per_game!S290","v":0},{"$f":"per_game!X290","v":0},{"$f":"per_game!U290","v":0},{"$f":"per_game!T290","v":0},"C-F"]
[null,null,{"$f":"Roster!C291","v":"Pos"},null,{"$f":"per_game!B291 & \"-\" & D291","v":"Player-"},{"$f":"per_game!R291","v":"TRB"},{"$f":"per_game!S291","v":"AST"},{"$f":"per_game!X291","v":"PTS"},{"$f":"per_game!U291","v":"BLK"},{"$f":"per_game!T291","v":"STL"},"F"]
[null,null,{"$f":"Roster!C292","v":"F"},40.5,{"$f":"per_game!B292 & \"-\" & D292","v":"Kevin Love-40.5"},{"$f":"per_game!R292","v":15.3},{"$f":"per_game!S292","v":1.7},{"$f":"per_game!X292","v":21.7},{"$f":"per_game!U292","v":0.5},{"$f":"per_game!T292","v":1.3},"F"]
[null,null,{"$f":"Roster!C293","v":"G"},25.400000000000002,{"$f":"per_game!B293 & \"-\" & D293","v":"Nikola Pekovic-25.4"},{"$f":"per_game!R293","v":7.6},{"$f":"per_game!S293","v":1.2},{"$f":"per_game!X293","v":14.8},{"$f":"per_game!U293","v":1},{"$f":"per_game!T293","v":0.8},"G"]
[null,null,{"$f":"Roster!C294","v":"F"},27.400000000000002,{"$f":"per_game!B294 & \"-\" & D294","v":"Andrei Kirilenko-27.4"},{"$f":"per_game!R294","v":7.8},{"$f":"per_game!S294","v":3.3},{"$f":"per_game!X294","v":13},{"$f":"per_game!U294","v":1.8},{"$f":"per_game!T294","v":1.5},"G"]
[null,null,{"$f":"Roster!C295","v":"G"},18.3,{"$f":"per_game!B295 & \"-\" & D295","v":"Chase Budinger-18.3"},{"$f":"per_game!R295","v":3.5},{"$f":"per_game!S295","v":1.5},{"$f":"per_game!X295","v":11.8},{"$f":"per_game!U295","v":0.5},{"$f":"per_game!T295","v":1},"F"]
[null,null,{"$f":"Roster!C296","v":"F"},20.5,{"$f":"per_game!B296 & \"-\" & D296","v":"Luke Ridnour-20.5"},{"$f":"per_game!R296","v":2.9},{"$f":"per_game!S296","v":4.4000000000000004},{"$f":"per_game!X296","v":11.6},{"$f":"per_game!U296","v":0.3},{"$f":"per_game!T296","v":1.3},"F"]
[null,null,{"$f":"Roster!C297","v":"F-G"},17.800000000000004,{"$f":"per_game!B297 & \"-\" & D297","v":"Alexey Shved-17.8"},{"$f":"per_game!R297","v":2.6},{"$f":"per_game!S297","v":3.7},{"$f":"per_game!X297","v":10.4},{"$f":"per_game!U297","v":0.5},{"$f":"per_game!T297","v":0.6},"G"]
[null,null,{"$f":"Roster!C298","v":"F"},17,{"$f":"per_game!B298 & \"-\" & D298","v":"Derrick Williams-17"},{"$f":"per_game!R298","v":5.5},{"$f":"per_game!S298","v":0.7},{"$f":"per_game!X298","v":9.5},{"$f":"per_game!U298","v":1},{"$f":"per_game!T298","v":0.3},"G"]
[null,null,{"$f":"Roster!C299","v":"G"},16.7,{"$f":"per_game!B299 & \"-\" & D299","v":"Jose Barea-16.7"},{"$f":"per_game!R299","v":3.2},{"$f":"per_game!S299","v":4.4000000000000004},{"$f":"per_game!X299","v":8.6},{"$f":"per_game!U299","v":0},{"$f":"per_game!T299","v":0.5},"F-G"]
[null,null,{"$f":"Roster!C300","v":"F"},14.799999999999997,{"$f":"per_game!B300 & \"-\" & D300","v":"Dante Cunningham-14.8"},{"$f":"per_game!R300","v":5},{"$f":"per_game!S300","v":0.6},{"$f":"per_game!X300","v":7.8},{"$f":"per_game!U300","v":0.7},{"$f":"per_game!T300","v":0.7},"G"]
[null,null,{"$f":"Roster!C301","v":"C-F"},10.6,{"$f":"per_game!B301 & \"-\" & D301","v":"Josh Howard-10.6"},{"$f":"per_game!R301","v":3},{"$f":"per_game!S301","v":0.6},{"$f":"per_game!X301","v":5.9},{"$f":"per_game!U301","v":0.4},{"$f":"per_game!T301","v":0.7},"C"]
[null,null,{"$f":"Roster!C302","v":"G"},13.799999999999999,{"$f":"per_game!B302 & \"-\" & D302","v":"Brandon Roy-13.8"},{"$f":"per_game!R302","v":2.8},{"$f":"per_game!S302","v":4.5999999999999996},{"$f":"per_game!X302","v":5.8},{"$f":"per_game!U302","v":0},{"$f":"per_game!T302","v":0.6},"F"]
[null,null,{"$f":"Roster!C303","v":"G"},9.1,{"$f":"per_game!B303 & \"-\" & D303","v":"Malcolm Lee-9.1"},{"$f":"per_game!R303","v":2.2000000000000002},{"$f":"per_game!S303","v":1.3},{"$f":"per_game!X303","v":4.7},{"$f":"per_game!U303","v":0.3},{"$f":"per_game!T303","v":0.6},"G"]
[null,null,{"$f":"Roster!C304","v":"G"},7.3,null,{"$f":"per_game!R304","v":2.2999999999999998},{"$f":"per_game!S304","v":0.4},{"$f":"per_game!X304","v":3.3},{"$f":"per_game!U304","v":1.1000000000000001},{"$f":"per_game!T304","v":0.2}]
[null,null,{"$f":"Roster!C305","v":"C"},4.5999999999999996,null,{"$f":"per_game!R305","v":2.4},{"$f":"per_game!S305","v":0.1},{"$f":"per_game!X305","v":0.9},{"$f":"per_game!U305","v":0.6},{"$f":"per_game!T305","v":0.6},"NOH"]
[null,null,{"$f":"Roster!C306","v":"F"},0.6,null,{"$f":"per_game!R306","v":0.3},{"$f":"per_game!S306","v":0},{"$f":"per_game!X306","v":0.3},{"$f":"per_game!U306","v":0},{"$f":"per_game!T306","v":0},"Rk"]
[null,null,{"$f":"Roster!C307","v":0},0,{"$f":"per_game!B307 & \"-\" & D307","v":"-0"},{"$f":"per_game!R307","v":0},{"$f":"per_game!S307","v":0},{"$f":"per_game!X307","v":0},{"$f":"per_game!U307","v":0},{"$f":"per_game!T307","v":0},"F"]
[null,null,{"$f":"Roster!C308","v":0},0,{"$f":"per_game!B308 & \"-\" & D308","v":"-0"},{"$f":"per_game!R308","v":0},{"$f":"per_game!S308","v":0},{"$f":"per_game!X308","v":0},{"$f":"per_game!U308","v":0},{"$f":"per_game!T308","v":0},"F-C"]
[null,null,{"$f":"Roster!C309","v":"Pos"},null,{"$f":"per_game!B309 & \"-\" & D309","v":"Player-"},{"$f":"per_game!R309","v":"TRB"},{"$f":"per_game!S309","v":"AST"},{"$f":"per_game!X309","v":"PTS"},{"$f":"per_game!U309","v":"BLK"},{"$f":"per_game!T309","v":"STL"},"G"]
[null,null,{"$f":"Roster!C310","v":"F"},27.5,{"$f":"per_game!B310 & \"-\" & D310","v":"Ryan Anderson-27.5"},{"$f":"per_game!R310","v":7.9},{"$f":"per_game!S310","v":1.4},{"$f":"per_game!X310","v":17.5},{"$f":"per_game!U310","v":0.3},{"$f":"per_game!T310","v":0.4},"C"]
[null,null,{"$f":"Roster!C311","v":"F"},28.3,{"$f":"per_game!B311 & \"-\" & D311","v":"Anthony Davis-28.3"},{"$f":"per_game!R311","v":8.3000000000000007},{"$f":"per_game!S311","v":0.8},{"$f":"per_game!X311","v":16},{"$f":"per_game!U311","v":2.2000000000000002},{"$f":"per_game!T311","v":1},"F"]
[null,null,{"$f":"Roster!C312","v":"F-C"},25.9,{"$f":"per_game!B312 & \"-\" & D312","v":"Greivis Vasquez-25.9"},{"$f":"per_game!R312","v":3.7},{"$f":"per_game!S312","v":8.6999999999999993},{"$f":"per_game!X312","v":13},{"$f":"per_game!U312","v":0.1},{"$f":"per_game!T312","v":0.4},"F"]
[null,null,{"$f":"Roster!C313","v":"G"},21.2,{"$f":"per_game!B313 & \"-\" & D313","v":"Robin Lopez-21.2"},{"$f":"per_game!R313","v":5.6},{"$f":"per_game!S313","v":1.1000000000000001},{"$f":"per_game!X313","v":11.8},{"$f":"per_game!U313","v":1.9},{"$f":"per_game!T313","v":0.8},"G"]
[null,null,{"$f":"Roster!C314","v":"C"},21.5,{"$f":"per_game!B314 & \"-\" & D314","v":"Al-Farouq Aminu-21.5"},{"$f":"per_game!R314","v":7.2},{"$f":"per_game!S314","v":2},{"$f":"per_game!X314","v":10.1},{"$f":"per_game!U314","v":0.6},{"$f":"per_game!T314","v":1.6},"G"]
[null,null,{"$f":"Roster!C315","v":"G"},13.700000000000001,{"$f":"per_game!B315 & \"-\" & D315","v":"Jason Smith-13.7"},{"$f":"per_game!R315","v":3.6},{"$f":"per_game!S315","v":0.6},{"$f":"per_game!X315","v":8.3000000000000007},{"$f":"per_game!U315","v":0.9},{"$f":"per_game!T315","v":0.3},"G"]
[null,null,{"$f":"Roster!C316","v":"F"},11.6,{"$f":"per_game!B316 & \"-\" & D316","v":"Brian Roberts-11.6"},{"$f":"per_game!R316","v":0.9},{"$f":"per_game!S316","v":2.4},{"$f":"per_game!X316","v":7.9},{"$f":"per_game!U316","v":0.1},{"$f":"per_game!T316","v":0.3},10]
[null,null,{"$f":"Roster!C317","v":"G"},12.7,{"$f":"per_game!B317 & \"-\" & D317","v":"Austin Rivers-12.7"},{"$f":"per_game!R317","v":2.4},{"$f":"per_game!S317","v":3},{"$f":"per_game!X317","v":6.4},{"$f":"per_game!U317","v":0.2},{"$f":"per_game!T317","v":0.7},"F"]
[null,null,{"$f":"Roster!C318","v":"G"},9.6000000000000014,{"$f":"per_game!B318 & \"-\" & D318","v":"Roger Mason-9.6"},{"$f":"per_game!R318","v":2.1},{"$f":"per_game!S318","v":1.3},{"$f":"per_game!X318","v":5.7},{"$f":"per_game!U318","v":0.1},{"$f":"per_game!T318","v":0.4},"G"]
[null,null,{"$f":"Roster!C319","v":"F"},7.5,{"$f":"per_game!B319 & \"-\" & D319","v":"Lance Thomas-7.5"},{"$f":"per_game!R319","v":2.5},{"$f":"per_game!S319","v":0.1},{"$f":"per_game!X319","v":4.4000000000000004},{"$f":"per_game!U319","v":0.2},{"$f":"per_game!T319","v":0.3},"F"]
[null,null,{"$f":"Roster!C320","v":"F"},5,null,{"$f":"per_game!R320","v":0},{"$f":"per_game!S320","v":0},{"$f":"per_game!X320","v":4},{"$f":"per_game!U320","v":0},{"$f":"per_game!T320","v":1}]
[null,null,{"$f":"Roster!C321","v":"G"},5.3999999999999995,null,{"$f":"per_game!R321","v":1.7},{"$f":"per_game!S321","v":0.2},{"$f":"per_game!X321","v":3.2},{"$f":"per_game!U321","v":0},{"$f":"per_game!T321","v":0.3},"NYK"]
[null,null,{"$f":"Roster!C322","v":"F"},5.6,null,{"$f":"per_game!R322","v":1.7},{"$f":"per_game!S322","v":1.1000000000000001},{"$f":"per_game!X322","v":2.2000000000000002},{"$f":"per_game!U322","v":0.1},{"$f":"per_game!T322","v":0.5},"Rk"]
[null,null,{"$f":"Roster!C323","v":0},0,{"$f":"per_game!B323 & \"-\" & D323","v":"-0"},{"$f":"per_game!R323","v":0},{"$f":"per_game!S323","v":0},{"$f":"per_game!X323","v":0},{"$f":"per_game!U323","v":0},{"$f":"per_game!T323","v":0},"F"]
[null,null,{"$f":"Roster!C324","v":0},{"$f":"F324*$B$2+G324*$B$3+H324*$B$1+I324*$B$4+J324*$B$5","v":0},{"$f":"per_game!B324 & \"-\" & D324","v":"-0"},{"$f":"per_game!R324","v":0},{"$f":"per_game!S324","v":0},{"$f":"per_game!X324","v":0},{"$f":"per_game!U324","v":0},{"$f":"per_game!T324","v":0},"G"]
[null,null,{"$f":"Roster!C325","v":"Pos"},null,{"$f":"per_game!B325 & \"-\" & D325","v":"Player-"},{"$f":"per_game!R325","v":"TRB"},{"$f":"per_game!S325","v":"AST"},{"$f":"per_game!X325","v":"PTS"},{"$f":"per_game!U325","v":"BLK"},{"$f":"per_game!T325","v":"STL"},"G"]
[null,null,{"$f":"Roster!C326","v":"F"},37,{"$f":"per_game!B326 & \"-\" & D326","v":"Carmelo Anthony-37"},{"$f":"per_game!R326","v":6.9},{"$f":"per_game!S326","v":2.1},{"$f":"per_game!X326","v":26.6},{"$f":"per_game!U326","v":0.6},{"$f":"per_game!T326","v":0.8},"C"]
[null,null,{"$f":"Roster!C327","v":"G-F"},26,{"$f":"per_game!B327 & \"-\" & D327","v":"Raymond Felton-26"},{"$f":"per_game!R327","v":2.6},{"$f":"per_game!S327","v":6.8},{"$f":"per_game!X327","v":15.1},{"$f":"per_game!U327","v":0.1},{"$f":"per_game!T327","v":1.4},"G"]
[null,null,{"$f":"Roster!C328","v":"C-F"},23.2,{"$f":"per_game!B328 & \"-\" & D328","v":"J.R. Smith-23.2"},{"$f":"per_game!R328","v":5.0999999999999996},{"$f":"per_game!S328","v":2.8},{"$f":"per_game!X328","v":13.6},{"$f":"per_game!U328","v":0.4},{"$f":"per_game!T328","v":1.3},"F"]
[null,null,{"$f":"Roster!C329","v":"C"},22.900000000000002,{"$f":"per_game!B329 & \"-\" & D329","v":"Tyson Chandler-22.9"},{"$f":"per_game!R329","v":8.9},{"$f":"per_game!S329","v":0.5},{"$f":"per_game!X329","v":12.2},{"$f":"per_game!U329","v":0.7},{"$f":"per_game!T329","v":0.6},"F-C"]
[null,null,{"$f":"Roster!C330","v":"F"},11.200000000000001,{"$f":"per_game!B330 & \"-\" & D330","v":"Steve Novak-11.2"},{"$f":"per_game!R330","v":1.8},{"$f":"per_game!S330","v":0.4},{"$f":"per_game!X330","v":8.1},{"$f":"per_game!U330","v":0.3},{"$f":"per_game!T330","v":0.6},"G-F"]
[null,null,{"$f":"Roster!C331","v":"G"},17.3,{"$f":"per_game!B331 & \"-\" & D331","v":"Jason Kidd-17.3"},{"$f":"per_game!R331","v":3.3},{"$f":"per_game!S331","v":3.4},{"$f":"per_game!X331","v":8},{"$f":"per_game!U331","v":0.5},{"$f":"per_game!T331","v":2.1},"G"]
[null,null,{"$f":"Roster!C332","v":"G"},12.899999999999999,{"$f":"per_game!B332 & \"-\" & D332","v":"Rasheed Wallace-12.9"},{"$f":"per_game!R332","v":4.0999999999999996},{"$f":"per_game!S332","v":0.3},{"$f":"per_game!X332","v":7.2},{"$f":"per_game!U332","v":0.7},{"$f":"per_game!T332","v":0.6},"F"]
[null,null,{"$f":"Roster!C333","v":"F"},13.299999999999999,{"$f":"per_game!B333 & \"-\" & D333","v":"Ronnie Brewer-13.3"},{"$f":"per_game!R333","v":3.6},{"$f":"per_game!S333","v":1.4},{"$f":"per_game!X333","v":7.1},{"$f":"per_game!U333","v":0.1},{"$f":"per_game!T333","v":1.1000000000000001},"F"]
[null,null,{"$f":"Roster!C334","v":"G"},4.8999999999999995,{"$f":"per_game!B334 & \"-\" & D334","v":"Chris Copeland-4.9"},{"$f":"per_game!R334","v":0.6},{"$f":"per_game!S334","v":0.4},{"$f":"per_game!X334","v":3.6},{"$f":"per_game!U334","v":0.1},{"$f":"per_game!T334","v":0.2},"G-F"]
[null,null,{"$f":"Roster!C335","v":"G"},8.3999999999999986,{"$f":"per_game!B335 & \"-\" & D335","v":"Pablo Prigioni-8.4"},{"$f":"per_game!R335","v":1.2},{"$f":"per_game!S335","v":2.9},{"$f":"per_game!X335","v":3.3},{"$f":"per_game!U335","v":0},{"$f":"per_game!T335","v":1},"C-F"]
[null,null,{"$f":"Roster!C336","v":"F"},2.6,null,{"$f":"per_game!R336","v":0.7},{"$f":"per_game!S336","v":0.2},{"$f":"per_game!X336","v":1.5},{"$f":"per_game!U336","v":0},{"$f":"per_game!T336","v":0.2}]
[null,null,{"$f":"Roster!C337","v":"F-C"},4.9000000000000004,null,{"$f":"per_game!R337","v":2.7},{"$f":"per_game!S337","v":0.4},{"$f":"per_game!X337","v":1.3},{"$f":"per_game!U337","v":0.4},{"$f":"per_game!T337","v":0.1},"OKC"]
[null,null,{"$f":"Roster!C338","v":"G-F"},3.3999999999999995,null,{"$f":"per_game!R338","v":2.5},{"$f":"per_game!S338","v":0.3},{"$f":"per_game!X338","v":0.3},{"$f":"per_game!U338","v":0.3},{"$f":"per_game!T338","v":0},"Rk"]
[null,null,{"$f":"Roster!C339","v":0},0,{"$f":"per_game!B339 & \"-\" & D339","v":"-0"},{"$f":"per_game!R339","v":0},{"$f":"per_game!S339","v":0},{"$f":"per_game!X339","v":0},{"$f":"per_game!U339","v":0},{"$f":"per_game!T339","v":0},"F"]
[null,null,{"$f":"Roster!C340","v":0},0,{"$f":"per_game!B340 & \"-\" & D340","v":"-0"},{"$f":"per_game!R340","v":0},{"$f":"per_game!S340","v":0},{"$f":"per_game!X340","v":0},{"$f":"per_game!U340","v":0},{"$f":"per_game!T340","v":0},"G"]
[null,null,{"$f":"Roster!C341","v":"Pos"},null,{"$f":"per_game!B341 & \"-\" & D341","v":"Player-"},{"$f":"per_game!R341","v":"TRB"},{"$f":"per_game!S341","v":"AST"},{"$f":"per_game!X341","v":"PTS"},{"$f":"per_game!U341","v":"BLK"},{"$f":"per_game!T341","v":"STL"},"G"]
[null,null,{"$f":"Roster!C342","v":"F"},42.400000000000006,{"$f":"per_game!B342 & \"-\" & D342","v":"Kevin Durant-42.4"},{"$f":"per_game!R342","v":8.6999999999999993},{"$f":"per_game!S342","v":4.3},{"$f":"per_game!X342","v":26.2},{"$f":"per_game!U342","v":1.6},{"$f":"per_game!T342","v":1.6},"F"]
[null,null,{"$f":"Roster!C343","v":"F"},36.9,{"$f":"per_game!B343 & \"-\" & D343","v":"Russell Westbrook-36.9"},{"$f":"per_game!R343","v":5.0999999999999996},{"$f":"per_game!S343","v":8.6999999999999993},{"$f":"per_game!X343","v":20.7},{"$f":"per_game!U343","v":0.3},{"$f":"per_game!T343","v":2.1},"G"]
[null,null,{"$f":"Roster!C344","v":"F"},21.6,{"$f":"per_game!B344 & \"-\" & D344","v":"Kevin Martin-21.6"},{"$f":"per_game!R344","v":2.4},{"$f":"per_game!S344","v":1.7},{"$f":"per_game!X344","v":16.100000000000001},{"$f":"per_game!U344","v":0.2},{"$f":"per_game!T344","v":1.2},"F"]
[null,null,{"$f":"Roster!C345","v":"G"},25.7,{"$f":"per_game!B345 & \"-\" & D345","v":"Serge Ibaka-25.7"},{"$f":"per_game!R345","v":7.6},{"$f":"per_game!S345","v":0.3},{"$f":"per_game!X345","v":14.3},{"$f":"per_game!U345","v":3.3},{"$f":"per_game!T345","v":0.2},"C"]
[null,null,{"$f":"Roster!C346","v":"F"},14.600000000000001,{"$f":"per_game!B346 & \"-\" & D346","v":"Thabo Sefolosha-14.6"},{"$f":"per_game!R346","v":4.4000000000000004},{"$f":"per_game!S346","v":1.9},{"$f":"per_game!X346","v":7.1},{"$f":"per_game!U346","v":0.4},{"$f":"per_game!T346","v":0.8},"G"]
[null,null,{"$f":"Roster!C347","v":"G-F"},11.700000000000001,{"$f":"per_game!B347 & \"-\" & D347","v":"Nick Collison-11.7"},{"$f":"per_game!R347","v":3.7},{"$f":"per_game!S347","v":1.2},{"$f":"per_game!X347","v":5.9},{"$f":"per_game!U347","v":0.3},{"$f":"per_game!T347","v":0.6},"C"]
[null,null,{"$f":"Roster!C348","v":"G"},13.200000000000001,{"$f":"per_game!B348 & \"-\" & D348","v":"Kendrick Perkins-13.2"},{"$f":"per_game!R348","v":5},{"$f":"per_game!S348","v":1.7},{"$f":"per_game!X348","v":5.0999999999999996},{"$f":"per_game!U348","v":0.9},{"$f":"per_game!T348","v":0.5},"G-F"]
[null,null,{"$f":"Roster!C349","v":"G"},6.9,{"$f":"per_game!B349 & \"-\" & D349","v":"Eric Maynor-6.9"},{"$f":"per_game!R349","v":0.8},{"$f":"per_game!S349","v":2.1},{"$f":"per_game!X349","v":3.8},{"$f":"per_game!U349","v":0},{"$f":"per_game!T349","v":0.2},"F"]
[null,null,{"$f":"Roster!C350","v":"G"},8.8000000000000007,{"$f":"per_game!B350 & \"-\" & D350","v":"Hasheem Thabeet-8.8"},{"$f":"per_game!R350","v":3.8},{"$f":"per_game!S350","v":0.1},{"$f":"per_game!X350","v":3.5},{"$f":"per_game!U350","v":0.9},{"$f":"per_game!T350","v":0.5},"G"]
[null,null,{"$f":"Roster!C351","v":"F"},2.8,{"$f":"per_game!B351 & \"-\" & D351","v":"Jeremy Lamb-2.8"},{"$f":"per_game!R351","v":0.4},{"$f":"per_game!S351","v":0.3},{"$f":"per_game!X351","v":2.1},{"$f":"per_game!U351","v":0},{"$f":"per_game!T351","v":0},"F"]
[null,null,{"$f":"Roster!C352","v":"C"},3,{"$f":"per_game!B352 & \"-\" & D352","v":"Daniel Orton-3"},{"$f":"per_game!R352","v":0},{"$f":"per_game!S352","v":0},{"$f":"per_game!X352","v":2},{"$f":"per_game!U352","v":1},{"$f":"per_game!T352","v":0},"G"]
[null,null,{"$f":"Roster!C353","v":"G"},3.5,null,{"$f":"per_game!R353","v":1},{"$f":"per_game!S353","v":0.7},{"$f":"per_game!X353","v":1.8},{"$f":"per_game!U353","v":0},{"$f":"per_game!T353","v":0}]
[null,null,{"$f":"Roster!C354","v":"C"},3.3000000000000003,null,{"$f":"per_game!R354","v":1.4},{"$f":"per_game!S354","v":0.4},{"$f":"per_game!X354","v":1.2},{"$f":"per_game!U354","v":0.2},{"$f":"per_game!T354","v":0.1},"ORL"]
[null,null,{"$f":"Roster!C355","v":"G"},2.1999999999999997,null,{"$f":"per_game!R355","v":1.4},{"$f":"per_game!S355","v":0.2},{"$f":"per_game!X355","v":0.6},{"$f":"per_game!U355","v":0},{"$f":"per_game!T355","v":0},"Rk"]
[null,null,{"$f":"Roster!C356","v":0},0,{"$f":"per_game!B356 & \"-\" & D356","v":"-0"},{"$f":"per_game!R356","v":0},{"$f":"per_game!S356","v":0},{"$f":"per_game!X356","v":0},{"$f":"per_game!U356","v":0},{"$f":"per_game!T356","v":0},"G"]
[null,null,{"$f":"Roster!C357","v":0},0,{"$f":"per_game!B357 & \"-\" & D357","v":"-0"},{"$f":"per_game!R357","v":0},{"$f":"per_game!S357","v":0},{"$f":"per_game!X357","v":0},{"$f":"per_game!U357","v":0},{"$f":"per_game!T357","v":0},"F"]
[null,null,{"$f":"Roster!C358","v":"Pos"},null,{"$f":"per_game!B358 & \"-\" & D358","v":"Player-"},{"$f":"per_game!R358","v":"TRB"},{"$f":"per_game!S358","v":"AST"},{"$f":"per_game!X358","v":"PTS"},{"$f":"per_game!U358","v":"BLK"},{"$f":"per_game!T358","v":"STL"},"G"]
[null,null,{"$f":"Roster!C359","v":"G"},23.500000000000004,{"$f":"per_game!B359 & \"-\" & D359","v":"Arron Afflalo-23.5"},{"$f":"per_game!R359","v":3.8},{"$f":"per_game!S359","v":2.5},{"$f":"per_game!X359","v":16.100000000000001},{"$f":"per_game!U359","v":0.3},{"$f":"per_game!T359","v":0.8},"G"]
[null,null,{"$f":"Roster!C360","v":"C"},27.5,{"$f":"per_game!B360 & \"-\" & D360","v":"Glen Davis-27.5"},{"$f":"per_game!R360","v":8.1999999999999993},{"$f":"per_game!S360","v":2.1},{"$f":"per_game!X360","v":15.8},{"$f":"per_game!U360","v":0.5},{"$f":"per_game!T360","v":0.9},"F"]
[null,null,{"$f":"Roster!C361","v":"F"},21.6,{"$f":"per_game!B361 & \"-\" & D361","v":"J.J. Redick-21.6"},{"$f":"per_game!R361","v":2.1},{"$f":"per_game!S361","v":5.0999999999999996},{"$f":"per_game!X361","v":13.9},{"$f":"per_game!U361","v":0.1},{"$f":"per_game!T361","v":0.4},"F"]
[null,null,{"$f":"Roster!C362","v":"G-F"},25.900000000000002,{"$f":"per_game!B362 & \"-\" & D362","v":"Jameer Nelson-25.9"},{"$f":"per_game!R362","v":4.5},{"$f":"per_game!S362","v":6.7},{"$f":"per_game!X362","v":13},{"$f":"per_game!U362","v":0.1},{"$f":"per_game!T362","v":1.6},"F"]
[null,null,{"$f":"Roster!C363","v":"F"},22.5,{"$f":"per_game!B363 & \"-\" & D363","v":"Nikola Vucevic-22.5"},{"$f":"per_game!R363","v":8.6},{"$f":"per_game!S363","v":1.6},{"$f":"per_game!X363","v":10.199999999999999},{"$f":"per_game!U363","v":1.3},{"$f":"per_game!T363","v":0.8},"F"]
[null,null,{"$f":"Roster!C364","v":"F"},16.5,{"$f":"per_game!B364 & \"-\" & D364","v":"E'Twaun Moore-16.5"},{"$f":"per_game!R364","v":2.6},{"$f":"per_game!S364","v":3.2},{"$f":"per_game!X364","v":10},{"$f":"per_game!U364","v":0.3},{"$f":"per_game!T364","v":0.4},"G-F"]
[null,null,{"$f":"Roster!C365","v":"F"},9.7999999999999989,{"$f":"per_game!B365 & \"-\" & D365","v":"Andrew Nicholson-9.8"},{"$f":"per_game!R365","v":2.2999999999999998},{"$f":"per_game!S365","v":0.4},{"$f":"per_game!X365","v":6.6},{"$f":"per_game!U365","v":0.4},{"$f":"per_game!T365","v":0.1},"F"]
[null,null,{"$f":"Roster!C366","v":"G"},11,{"$f":"per_game!B366 & \"-\" & D366","v":"Hedo Turkoglu-11"},{"$f":"per_game!R366","v":2},{"$f":"per_game!S366","v":1},{"$f":"per_game!X366","v":6},{"$f":"per_game!U366","v":0},{"$f":"per_game!T366","v":2},"F"]
[null,null,{"$f":"Roster!C367","v":"F"},10.8,{"$f":"per_game!B367 & \"-\" & D367","v":"Maurice Harkless-10.8"},{"$f":"per_game!R367","v":4.3},{"$f":"per_game!S367","v":0.6},{"$f":"per_game!X367","v":4.4000000000000004},{"$f":"per_game!U367","v":0.9},{"$f":"per_game!T367","v":0.6},"C"]
[null,null,{"$f":"Roster!C368","v":"C"},9.7000000000000011,{"$f":"per_game!B368 & \"-\" & D368","v":"Josh McRoberts-9.7"},{"$f":"per_game!R368","v":3.8},{"$f":"per_game!S368","v":1.3},{"$f":"per_game!X368","v":3.9},{"$f":"per_game!U368","v":0.4},{"$f":"per_game!T368","v":0.3},"C"]
[null,null,{"$f":"Roster!C369","v":"G"},5.5,{"$f":"per_game!B369 & \"-\" & D369","v":"DeQuan Jones-5.5"},{"$f":"per_game!R369","v":1.9},{"$f":"per_game!S369","v":0.1},{"$f":"per_game!X369","v":3},{"$f":"per_game!U369","v":0.3},{"$f":"per_game!T369","v":0.2},"G"]
[null,null,{"$f":"Roster!C370","v":"G"},7.1,null,{"$f":"per_game!R370","v":2.9},{"$f":"per_game!S370","v":0.9},{"$f":"per_game!X370","v":3},{"$f":"per_game!U370","v":0.1},{"$f":"per_game!T370","v":0.2}]
[null,null,{"$f":"Roster!C371","v":"F"},6.3999999999999995,null,{"$f":"per_game!R371","v":2.4},{"$f":"per_game!S371","v":0.7},{"$f":"per_game!X371","v":2.4},{"$f":"per_game!U371","v":0.8},{"$f":"per_game!T371","v":0.1},"PHI"]
[null,null,{"$f":"Roster!C372","v":"F"},4.4000000000000004,null,{"$f":"per_game!R372","v":1.5},{"$f":"per_game!S372","v":1.5},{"$f":"per_game!X372","v":0.9},{"$f":"per_game!U372","v":0.1},{"$f":"per_game!T372","v":0.4},"Rk"]
[null,null,{"$f":"Roster!C373","v":0},0,{"$f":"per_game!B373 & \"-\" & D373","v":"-0"},{"$f":"per_game!R373","v":0},{"$f":"per_game!S373","v":0},{"$f":"per_game!X373","v":0},{"$f":"per_game!U373","v":0},{"$f":"per_game!T373","v":0},"G"]
[null,null,{"$f":"Roster!C374","v":0},0,{"$f":"per_game!B374 & \"-\" & D374","v":"-0"},{"$f":"per_game!R374","v":0},{"$f":"per_game!S374","v":0},{"$f":"per_game!X374","v":0},{"$f":"per_game!U374","v":0},{"$f":"per_game!T374","v":0},"F"]
[null,null,{"$f":"Roster!C375","v":"Pos"},null,{"$f":"per_game!B375 & \"-\" & D375","v":"Player-"},{"$f":"per_game!R375","v":"TRB"},{"$f":"per_game!S375","v":"AST"},{"$f":"per_game!X375","v":"PTS"},{"$f":"per_game!U375","v":"BLK"},{"$f":"per_game!T375","v":"STL"},"G"]
[null,null,{"$f":"Roster!C376","v":"F"},33.200000000000003,{"$f":"per_game!B376 & \"-\" & D376","v":"Jrue Holiday-33.2"},{"$f":"per_game!R376","v":3.5},{"$f":"per_game!S376","v":9.3000000000000007},{"$f":"per_game!X376","v":18.5},{"$f":"per_game!U376","v":0.5},{"$f":"per_game!T376","v":1.4},"G"]
[null,null,{"$f":"Roster!C377","v":"F"},26.1,{"$f":"per_game!B377 & \"-\" & D377","v":"Thaddeus Young-26.1"},{"$f":"per_game!R377","v":7.7},{"$f":"per_game!S377","v":1.4},{"$f":"per_game!X377","v":14.5},{"$f":"per_game!U377","v":0.9},{"$f":"per_game!T377","v":1.6},"G"]
[null,null,{"$f":"Roster!C378","v":"C"},26.499999999999996,{"$f":"per_game!B378 & \"-\" & D378","v":"Evan Turner-26.5"},{"$f":"per_game!R378","v":7.1},{"$f":"per_game!S378","v":4.0999999999999996},{"$f":"per_game!X378","v":14.1},{"$f":"per_game!U378","v":0.3},{"$f":"per_game!T378","v":0.9},"G-F"]
[null,null,{"$f":"Roster!C379","v":"G"},20.5,{"$f":"per_game!B379 & \"-\" & D379","v":"Jason Richardson-20.5"},{"$f":"per_game!R379","v":4.2},{"$f":"per_game!S379","v":1.2},{"$f":"per_game!X379","v":12.7},{"$f":"per_game!U379","v":0.7},{"$f":"per_game!T379","v":1.7},"C"]
[null,null,{"$f":"Roster!C380","v":"G"},13.7,{"$f":"per_game!B380 & \"-\" & D380","v":"Nick Young-13.7"},{"$f":"per_game!R380","v":1.8},{"$f":"per_game!S380","v":1.3},{"$f":"per_game!X380","v":9.6},{"$f":"per_game!U380","v":0.4},{"$f":"per_game!T380","v":0.6},"F"]
[null,null,{"$f":"Roster!C381","v":"F"},14.9,{"$f":"per_game!B381 & \"-\" & D381","v":"Dorell Wright-14.9"},{"$f":"per_game!R381","v":4.4000000000000004},{"$f":"per_game!S381","v":0.9},{"$f":"per_game!X381","v":7.9},{"$f":"per_game!U381","v":0.5},{"$f":"per_game!T381","v":1.2},"G"]
[null,null,{"$f":"Roster!C382","v":"G"},15.3,{"$f":"per_game!B382 & \"-\" & D382","v":"Spencer Hawes-15.3"},{"$f":"per_game!R382","v":5.2},{"$f":"per_game!S382","v":1.4},{"$f":"per_game!X382","v":7.2},{"$f":"per_game!U382","v":1.2},{"$f":"per_game!T382","v":0.3},"F"]
[null,null,{"$f":"Roster!C383","v":"G"},13.199999999999998,{"$f":"per_game!B383 & \"-\" & D383","v":"Lavoy Allen-13.2"},{"$f":"per_game!R383","v":4.5999999999999996},{"$f":"per_game!S383","v":1.1000000000000001},{"$f":"per_game!X383","v":6.2},{"$f":"per_game!U383","v":1.2},{"$f":"per_game!T383","v":0.1},"G"]
[null,null,{"$f":"Roster!C384","v":"G"},6.2999999999999989,{"$f":"per_game!B384 & \"-\" & D384","v":"Royal Ivey-6.3"},{"$f":"per_game!R384","v":1.6},{"$f":"per_game!S384","v":0.7},{"$f":"per_game!X384","v":3.3},{"$f":"per_game!U384","v":0.1},{"$f":"per_game!T384","v":0.6},"F"]
[null,null,{"$f":"Roster!C385","v":"F"},3.2,{"$f":"per_game!B385 & \"-\" & D385","v":"Maalik Wayns-3.2"},{"$f":"per_game!R385","v":0.1},{"$f":"per_game!S385","v":0.5},{"$f":"per_game!X385","v":2.6},{"$f":"per_game!U385","v":0},{"$f":"per_game!T385","v":0},"F"]
[null,null,{"$f":"Roster!C386","v":"G-F"},6.3,null,{"$f":"per_game!R386","v":2.7},{"$f":"per_game!S386","v":0.5},{"$f":"per_game!X386","v":2.4},{"$f":"per_game!U386","v":0.4},{"$f":"per_game!T386","v":0.3}]
[null,null,{"$f":"Roster!C387","v":"G"},1.9000000000000001,null,{"$f":"per_game!R387","v":0.6},{"$f":"per_game!S387","v":0.1},{"$f":"per_game!X387","v":1},{"$f":"per_game!U387","v":0.1},{"$f":"per_game!T387","v":0.1},"PHO"]
[null,null,{"$f":"Roster!C388","v":"F"},{"$f":"F388*$B$2+G388*$B$3+H388*$B$1+I388*$B$4+J388*$B$5","v":2.2000000000000002},null,{"$f":"per_game!R388","v":1.2},{"$f":"per_game!S388","v":0},{"$f":"per_game!X388","v":0.8},{"$f":"per_game!U388","v":0},{"$f":"per_game!T388","v":0.2},"Rk"]
[null,null,{"$f":"Roster!C389","v":0},0,{"$f":"per_game!B389 & \"-\" & D389","v":"-0"},{"$f":"per_game!R389","v":0},{"$f":"per_game!S389","v":0},{"$f":"per_game!X389","v":0},{"$f":"per_game!U389","v":0},{"$f":"per_game!T389","v":0},"G"]
[null,null,{"$f":"Roster!C390","v":0},0,{"$f":"per_game!B390 & \"-\" & D390","v":"-0"},{"$f":"per_game!R390","v":0},{"$f":"per_game!S390","v":0},{"$f":"per_game!X390","v":0},{"$f":"per_game!U390","v":0},{"$f":"per_game!T390","v":0},"F"]
[null,null,{"$f":"Roster!C391","v":"Pos"},null,{"$f":"per_game!B391 & \"-\" & D391","v":"Player-"},{"$f":"per_game!R391","v":"TRB"},{"$f":"per_game!S391","v":"AST"},{"$f":"per_game!X391","v":"PTS"},{"$f":"per_game!U391","v":"BLK"},{"$f":"per_game!T391","v":"STL"},"F"]
[null,null,{"$f":"Roster!C392","v":"F"},27.2,{"$f":"per_game!B392 & \"-\" & D392","v":"Goran Dragic-27.2"},{"$f":"per_game!R392","v":3.1},{"$f":"per_game!S392","v":6.6},{"$f":"per_game!X392","v":15.3},{"$f":"per_game!U392","v":0.3},{"$f":"per_game!T392","v":1.9},"G"]
[null,null,{"$f":"Roster!C393","v":"G"},22.3,{"$f":"per_game!B393 & \"-\" & D393","v":"Luis Scola-22.3"},{"$f":"per_game!R393","v":6.8},{"$f":"per_game!S393","v":1.6},{"$f":"per_game!X393","v":12.5},{"$f":"per_game!U393","v":0.6},{"$f":"per_game!T393","v":0.8},"C-F"]
[null,null,{"$f":"Roster!C394","v":"G"},17.599999999999998,{"$f":"per_game!B394 & \"-\" & D394","v":"Shannon Brown-17.6"},{"$f":"per_game!R394","v":2.6},{"$f":"per_game!S394","v":2.1},{"$f":"per_game!X394","v":12},{"$f":"per_game!U394","v":0.2},{"$f":"per_game!T394","v":0.7},"F"]
[null,null,{"$f":"Roster!C395","v":"F"},19.7,{"$f":"per_game!B395 & \"-\" & D395","v":"Michael Beasley-19.7"},{"$f":"per_game!R395","v":4.2},{"$f":"per_game!S395","v":2.5},{"$f":"per_game!X395","v":11.8},{"$f":"per_game!U395","v":0.7},{"$f":"per_game!T395","v":0.5},"F"]
[null,null,{"$f":"Roster!C396","v":"G"},23.8,{"$f":"per_game!B396 & \"-\" & D396","v":"Marcin Gortat-23.8"},{"$f":"per_game!R396","v":8.3000000000000007},{"$f":"per_game!S396","v":1},{"$f":"per_game!X396","v":11.7},{"$f":"per_game!U396","v":2.1},{"$f":"per_game!T396","v":0.7},"F-C"]
[null,null,{"$f":"Roster!C397","v":"C-F"},16.099999999999998,{"$f":"per_game!B397 & \"-\" & D397","v":"Markieff Morris-16.1"},{"$f":"per_game!R397","v":4.5999999999999996},{"$f":"per_game!S397","v":1.3},{"$f":"per_game!X397","v":9},{"$f":"per_game!U397","v":0.3},{"$f":"per_game!T397","v":0.9},"G"]
[null,null,{"$f":"Roster!C398","v":"F"},13.799999999999999,{"$f":"per_game!B398 & \"-\" & D398","v":"Jared Dudley-13.8"},{"$f":"per_game!R398","v":2.4},{"$f":"per_game!S398","v":1.7},{"$f":"per_game!X398","v":8.6},{"$f":"per_game!U398","v":0.1},{"$f":"per_game!T398","v":1},"F"]
[null,null,{"$f":"Roster!C399","v":"G"},15.5,{"$f":"per_game!B399 & \"-\" & D399","v":"Jermaine O'Neal-15.5"},{"$f":"per_game!R399","v":5.2},{"$f":"per_game!S399","v":0.3},{"$f":"per_game!X399","v":7.8},{"$f":"per_game!U399","v":1.7},{"$f":"per_game!T399","v":0.5},"C"]
[null,null,{"$f":"Roster!C400","v":"F"},11.700000000000001,{"$f":"per_game!B400 & \"-\" & D400","v":"Sebastian Telfair-11.7"},{"$f":"per_game!R400","v":1.8},{"$f":"per_game!S400","v":2.7},{"$f":"per_game!X400","v":6.1},{"$f":"per_game!U400","v":0.3},{"$f":"per_game!T400","v":0.8},"G"]
[null,null,{"$f":"Roster!C401","v":"F-C"},10.200000000000001,{"$f":"per_game!B401 & \"-\" & D401","v":"P.J. Tucker-10.2"},{"$f":"per_game!R401","v":3.6},{"$f":"per_game!S401","v":1.1000000000000001},{"$f":"per_game!X401","v":4.5999999999999996},{"$f":"per_game!U401","v":0.3},{"$f":"per_game!T401","v":0.6},"F"]
[null,null,{"$f":"Roster!C402","v":"F"},3,{"$f":"per_game!B402 & \"-\" & D402","v":"Luke Zeller-3"},{"$f":"per_game!R402","v":0.8},{"$f":"per_game!S402","v":0},{"$f":"per_game!X402","v":2.2000000000000002},{"$f":"per_game!U402","v":0},{"$f":"per_game!T402","v":0},"G"]
[null,null,{"$f":"Roster!C403","v":"G"},5,null,{"$f":"per_game!R403","v":0},{"$f":"per_game!S403","v":2},{"$f":"per_game!X403","v":2},{"$f":"per_game!U403","v":0},{"$f":"per_game!T403","v":1}]
[null,null,{"$f":"Roster!C404","v":"F"},3.6,null,{"$f":"per_game!R404","v":1.1000000000000001},{"$f":"per_game!S404","v":0.6},{"$f":"per_game!X404","v":1.8},{"$f":"per_game!U404","v":0.1},{"$f":"per_game!T404","v":0},"POR"]
[null,null,{"$f":"Roster!C405","v":"C"},2.2000000000000002,null,{"$f":"per_game!R405","v":0},{"$f":"per_game!S405","v":0.8},{"$f":"per_game!X405","v":1.2},{"$f":"per_game!U405","v":0},{"$f":"per_game!T405","v":0.2},"Rk"]
[null,null,{"$f":"Roster!C406","v":0},0,{"$f":"per_game!B406 & \"-\" & D406","v":"-0"},{"$f":"per_game!R406","v":0},{"$f":"per_game!S406","v":0},{"$f":"per_game!X406","v":0},{"$f":"per_game!U406","v":0},{"$f":"per_game!T406","v":0},"F"]
[null,null,{"$f":"Roster!C407","v":0},0,{"$f":"per_game!B407 & \"-\" & D407","v":"-0"},{"$f":"per_game!R407","v":0},{"$f":"per_game!S407","v":0},{"$f":"per_game!X407","v":0},{"$f":"per_game!U407","v":0},{"$f":"per_game!T407","v":0},"G"]
[null,null,{"$f":"Roster!C408","v":"Pos"},null,{"$f":"per_game!B408 & \"-\" & D408","v":"Player-"},{"$f":"per_game!R408","v":"TRB"},{"$f":"per_game!S408","v":"AST"},{"$f":"per_game!X408","v":"PTS"},{"$f":"per_game!U408","v":"BLK"},{"$f":"per_game!T408","v":"STL"},"F"]
[null,null,{"$f":"Roster!C409","v":"F"},33.5,{"$f":"per_game!B409 & \"-\" & D409","v":"LaMarcus Aldridge-33.5"},{"$f":"per_game!R409","v":7.9},{"$f":"per_game!S409","v":2.8},{"$f":"per_game!X409","v":20.8},{"$f":"per_game!U409","v":1.2},{"$f":"per_game!T409","v":0.8},"G"]
[null,null,{"$f":"Roster!C410","v":"F"},30.200000000000003,{"$f":"per_game!B410 & \"-\" & D410","v":"Damian Lillard-30.2"},{"$f":"per_game!R410","v":3.3},{"$f":"per_game!S410","v":6.3},{"$f":"per_game!X410","v":19.100000000000001},{"$f":"per_game!U410","v":0.2},{"$f":"per_game!T410","v":1.3},"F"]
[null,null,{"$f":"Roster!C411","v":"G"},29.900000000000002,{"$f":"per_game!B411 & \"-\" & D411","v":"Nicolas Batum-29.9"},{"$f":"per_game!R411","v":6.3},{"$f":"per_game!S411","v":3.2},{"$f":"per_game!X411","v":17.600000000000001},{"$f":"per_game!U411","v":1.1000000000000001},{"$f":"per_game!T411","v":1.7},"C"]
[null,null,{"$f":"Roster!C412","v":"F"},24,{"$f":"per_game!B412 & \"-\" & D412","v":"Wesley Matthews-24"},{"$f":"per_game!R412","v":3.2},{"$f":"per_game!S412","v":2.7},{"$f":"per_game!X412","v":15.9},{"$f":"per_game!U412","v":0.3},{"$f":"per_game!T412","v":1.9},"G"]
[null,null,{"$f":"Roster!C413","v":"F"},22.500000000000004,{"$f":"per_game!B413 & \"-\" & D413","v":"J.J. Hickson-22.5"},{"$f":"per_game!R413","v":9.6},{"$f":"per_game!S413","v":0.9},{"$f":"per_game!X413","v":10.8},{"$f":"per_game!U413","v":0.6},{"$f":"per_game!T413","v":0.6},"G"]
[null,null,{"$f":"Roster!C414","v":"F-C"},10.5,{"$f":"per_game!B414 & \"-\" & D414","v":"Meyers Leonard-10.5"},{"$f":"per_game!R414","v":3.8},{"$f":"per_game!S414","v":0.2},{"$f":"per_game!X414","v":5.0999999999999996},{"$f":"per_game!U414","v":1},{"$f":"per_game!T414","v":0.4},"G"]
[null,null,{"$f":"Roster!C415","v":"F"},6.8999999999999995,{"$f":"per_game!B415 & \"-\" & D415","v":"Ronnie Price-6.9"},{"$f":"per_game!R415","v":1.4},{"$f":"per_game!S415","v":1.9},{"$f":"per_game!X415","v":3},{"$f":"per_game!U415","v":0},{"$f":"per_game!T415","v":0.6},"G-F"]
[null,null,{"$f":"Roster!C416","v":"F"},5.2999999999999989,{"$f":"per_game!B416 & \"-\" & D416","v":"Will Barton-5.3"},{"$f":"per_game!R416","v":1.4},{"$f":"per_game!S416","v":0.5},{"$f":"per_game!X416","v":2.8},{"$f":"per_game!U416","v":0.1},{"$f":"per_game!T416","v":0.5},"F"]
[null,null,{"$f":"Roster!C417","v":"C"},5.0999999999999996,{"$f":"per_game!B417 & \"-\" & D417","v":"Luke Babbitt-5.1"},{"$f":"per_game!R417","v":1.5},{"$f":"per_game!S417","v":0.5},{"$f":"per_game!X417","v":2.6},{"$f":"per_game!U417","v":0.2},{"$f":"per_game!T417","v":0.3},"F"]
[null,null,{"$f":"Roster!C418","v":"G"},5.3,{"$f":"per_game!B418 & \"-\" & D418","v":"Joel Freeland-5.3"},{"$f":"per_game!R418","v":2},{"$f":"per_game!S418","v":0.2},{"$f":"per_game!X418","v":2.4},{"$f":"per_game!U418","v":0.3},{"$f":"per_game!T418","v":0.4},"F-C"]
[null,null,{"$f":"Roster!C419","v":"G"},3.5,{"$f":"per_game!B419 & \"-\" & D419","v":"Nolan Smith-3.5"},{"$f":"per_game!R419","v":0.5},{"$f":"per_game!S419","v":0.9},{"$f":"per_game!X419","v":2.1},{"$f":"per_game!U419","v":0},{"$f":"per_game!T419","v":0},"F"]
[null,null,{"$f":"Roster!C420","v":"G-F"},4.0999999999999996,null,{"$f":"per_game!R420","v":1.1000000000000001},{"$f":"per_game!S420","v":0.5},{"$f":"per_game!X420","v":1.7},{"$f":"per_game!U420","v":0.1},{"$f":"per_game!T420","v":0.7}]
[null,null,{"$f":"Roster!C421","v":"G"},2.8000000000000003,null,{"$f":"per_game!R421","v":1.1000000000000001},{"$f":"per_game!S421","v":0.4},{"$f":"per_game!X421","v":1.1000000000000001},{"$f":"per_game!U421","v":0.1},{"$f":"per_game!T421","v":0.1},"SAC"]
[null,null,{"$f":"Roster!C422","v":"G"},1.6,null,{"$f":"per_game!R422","v":1},{"$f":"per_game!S422","v":0.3},{"$f":"per_game!X422","v":0.3},{"$f":"per_game!U422","v":0},{"$f":"per_game!T422","v":0},"Rk"]
[null,null,{"$f":"Roster!C423","v":0},0,{"$f":"per_game!B423 & \"-\" & D423","v":"-0"},{"$f":"per_game!R423","v":0},{"$f":"per_game!S423","v":0},{"$f":"per_game!X423","v":0},{"$f":"per_game!U423","v":0},{"$f":"per_game!T423","v":0},"F"]
[null,null,{"$f":"Roster!C424","v":0},0,{"$f":"per_game!B424 & \"-\" & D424","v":"-0"},{"$f":"per_game!R424","v":0},{"$f":"per_game!S424","v":0},{"$f":"per_game!X424","v":0},{"$f":"per_game!U424","v":0},{"$f":"per_game!T424","v":0},"G"]
[null,null,{"$f":"Roster!C425","v":"Pos"},null,{"$f":"per_game!B425 & \"-\" & D425","v":"Player-"},{"$f":"per_game!R425","v":"TRB"},{"$f":"per_game!S425","v":"AST"},{"$f":"per_game!X425","v":"PTS"},{"$f":"per_game!U425","v":"BLK"},{"$f":"per_game!T425","v":"STL"},"G"]
[null,null,{"$f":"Roster!C426","v":"G"},29.6,{"$f":"per_game!B426 & \"-\" & D426","v":"DeMarcus Cousins-29.6"},{"$f":"per_game!R426","v":9.5},{"$f":"per_game!S426","v":2.1},{"$f":"per_game!X426","v":16},{"$f":"per_game!U426","v":0.6},{"$f":"per_game!T426","v":1.4},"F"]
[null,null,{"$f":"Roster!C427","v":"F"},20.2,{"$f":"per_game!B427 & \"-\" & D427","v":"Marcus Thornton-20.2"},{"$f":"per_game!R427","v":2.9},{"$f":"per_game!S427","v":1.5},{"$f":"per_game!X427","v":15.1},{"$f":"per_game!U427","v":0},{"$f":"per_game!T427","v":0.7},"G"]
[null,null,{"$f":"Roster!C428","v":"G"},25.700000000000003,{"$f":"per_game!B428 & \"-\" & D428","v":"Tyreke Evans-25.7"},{"$f":"per_game!R428","v":5.0999999999999996},{"$f":"per_game!S428","v":3.7},{"$f":"per_game!X428","v":14.9},{"$f":"per_game!U428","v":0.6},{"$f":"per_game!T428","v":1.4},"G"]
[null,null,{"$f":"Roster!C429","v":"G"},20.7,{"$f":"per_game!B429 & \"-\" & D429","v":"Jason Thompson-20.7"},{"$f":"per_game!R429","v":7.1},{"$f":"per_game!S429","v":1.1000000000000001},{"$f":"per_game!X429","v":10.9},{"$f":"per_game!U429","v":1.2},{"$f":"per_game!T429","v":0.4},"G"]
[null,null,{"$f":"Roster!C430","v":"F-G"},12,{"$f":"per_game!B430 & \"-\" & D430","v":"Isaiah Thomas-12"},{"$f":"per_game!R430","v":1.2},{"$f":"per_game!S430","v":1.8},{"$f":"per_game!X430","v":8.5},{"$f":"per_game!U430","v":0},{"$f":"per_game!T430","v":0.5},"G"]
[null,null,{"$f":"Roster!C431","v":"F"},12.2,{"$f":"per_game!B431 & \"-\" & D431","v":"Aaron Brooks-12.2"},{"$f":"per_game!R431","v":1.8},{"$f":"per_game!S431","v":2.1},{"$f":"per_game!X431","v":7.6},{"$f":"per_game!U431","v":0.1},{"$f":"per_game!T431","v":0.6},"F"]
[null,null,{"$f":"Roster!C432","v":"F"},12.8,{"$f":"per_game!B432 & \"-\" & D432","v":"John Salmons-12.8"},{"$f":"per_game!R432","v":2.9},{"$f":"per_game!S432","v":2},{"$f":"per_game!X432","v":6.9},{"$f":"per_game!U432","v":0.2},{"$f":"per_game!T432","v":0.8},"F"]
[null,null,{"$f":"Roster!C433","v":"F"},8.4999999999999982,{"$f":"per_game!B433 & \"-\" & D433","v":"Jimmer Fredette-8.5"},{"$f":"per_game!R433","v":0.5},{"$f":"per_game!S433","v":1.4},{"$f":"per_game!X433","v":6.3},{"$f":"per_game!U433","v":0.1},{"$f":"per_game!T433","v":0.2},"F"]
[null,null,{"$f":"Roster!C434","v":"F"},10.6,{"$f":"per_game!B434 & \"-\" & D434","v":"Thomas Robinson-10.6"},{"$f":"per_game!R434","v":3.8},{"$f":"per_game!S434","v":0.7},{"$f":"per_game!X434","v":5},{"$f":"per_game!U434","v":0.4},{"$f":"per_game!T434","v":0.7},"F"]
[null,null,{"$f":"Roster!C435","v":"G"},10,{"$f":"per_game!B435 & \"-\" & D435","v":"James Johnson-10"},{"$f":"per_game!R435","v":2.2999999999999998},{"$f":"per_game!S435","v":1.1000000000000001},{"$f":"per_game!X435","v":4.7},{"$f":"per_game!U435","v":0.6},{"$f":"per_game!T435","v":1.3},"F-G"]
[null,null,{"$f":"Roster!C436","v":"G"},7.6,null,{"$f":"per_game!R436","v":1.8},{"$f":"per_game!S436","v":1},{"$f":"per_game!X436","v":3.8},{"$f":"per_game!U436","v":0.6},{"$f":"per_game!T436","v":0.4}]
[null,null,{"$f":"Roster!C437","v":"F"},11.999999999999998,null,{"$f":"per_game!R437","v":5.0999999999999996},{"$f":"per_game!S437","v":2.2999999999999998},{"$f":"per_game!X437","v":3.4},{"$f":"per_game!U437","v":0.6},{"$f":"per_game!T437","v":0.6},"SAS"]
[null,null,{"$f":"Roster!C438","v":"G"},5.2,null,{"$f":"per_game!R438","v":0.7},{"$f":"per_game!S438","v":0.3},{"$f":"per_game!X438","v":3.4},{"$f":"per_game!U438","v":0.1},{"$f":"per_game!T438","v":0.7},"Rk"]
[null,null,{"$f":"Roster!C439","v":0},0,{"$f":"per_game!B439 & \"-\" & D439","v":"-0"},{"$f":"per_game!R439","v":0},{"$f":"per_game!S439","v":0},{"$f":"per_game!X439","v":0},{"$f":"per_game!U439","v":0},{"$f":"per_game!T439","v":0},"F-C"]
[null,null,{"$f":"Roster!C440","v":0},0,{"$f":"per_game!B440 & \"-\" & D440","v":"-0"},{"$f":"per_game!R440","v":0},{"$f":"per_game!S440","v":0},{"$f":"per_game!X440","v":0},{"$f":"per_game!U440","v":0},{"$f":"per_game!T440","v":0},"G"]
[null,null,{"$f":"Roster!C441","v":"Pos"},null,{"$f":"per_game!B441 & \"-\" & D441","v":"Player-"},{"$f":"per_game!R441","v":"TRB"},{"$f":"per_game!S441","v":"AST"},{"$f":"per_game!X441","v":"PTS"},{"$f":"per_game!U441","v":"BLK"},{"$f":"per_game!T441","v":"STL"},"G"]
[null,null,{"$f":"Roster!C442","v":"G"},34.9,{"$f":"per_game!B442 & \"-\" & D442","v":"Tim Duncan-34.9"},{"$f":"per_game!R442","v":10.1},{"$f":"per_game!S442","v":2.6},{"$f":"per_game!X442","v":18.899999999999999},{"$f":"per_game!U442","v":2.4},{"$f":"per_game!T442","v":0.9},"G"]
[null,null,{"$f":"Roster!C443","v":"F"},29.1,{"$f":"per_game!B443 & \"-\" & D443","v":"Tony Parker-29.1"},{"$f":"per_game!R443","v":3.1},{"$f":"per_game!S443","v":7.1},{"$f":"per_game!X443","v":18.100000000000001},{"$f":"per_game!U443","v":0.1},{"$f":"per_game!T443","v":0.7},"F"]
[null,null,{"$f":"Roster!C444","v":"F"},20.8,{"$f":"per_game!B444 & \"-\" & D444","v":"Manu Ginobili-20.8"},{"$f":"per_game!R444","v":3.1},{"$f":"per_game!S444","v":4.3},{"$f":"per_game!X444","v":11.7},{"$f":"per_game!U444","v":0.3},{"$f":"per_game!T444","v":1.4},"F"]
[null,null,{"$f":"Roster!C445","v":"G"},16.900000000000002,{"$f":"per_game!B445 & \"-\" & D445","v":"Gary Neal-16.9"},{"$f":"per_game!R445","v":3.2},{"$f":"per_game!S445","v":2},{"$f":"per_game!X445","v":11.1},{"$f":"per_game!U445","v":0},{"$f":"per_game!T445","v":0.6},"F"]
[null,null,{"$f":"Roster!C446","v":"F-C"},19.5,{"$f":"per_game!B446 & \"-\" & D446","v":"Kawhi Leonard-19.5"},{"$f":"per_game!R446","v":5.4},{"$f":"per_game!S446","v":1.3},{"$f":"per_game!X446","v":10.6},{"$f":"per_game!U446","v":0.2},{"$f":"per_game!T446","v":2},"F"]
[null,null,{"$f":"Roster!C447","v":"F-C"},16.3,{"$f":"per_game!B447 & \"-\" & D447","v":"Danny Green-16.3"},{"$f":"per_game!R447","v":3.5},{"$f":"per_game!S447","v":1.4},{"$f":"per_game!X447","v":9.8000000000000007},{"$f":"per_game!U447","v":0.7},{"$f":"per_game!T447","v":0.9},"F"]
[null,null,{"$f":"Roster!C448","v":"G"},15.6,{"$f":"per_game!B448 & \"-\" & D448","v":"Tiago Splitter-15.6"},{"$f":"per_game!R448","v":4.5},{"$f":"per_game!S448","v":1.2},{"$f":"per_game!X448","v":8.6},{"$f":"per_game!U448","v":0.7},{"$f":"per_game!T448","v":0.6},"F-C"]
[null,null,{"$f":"Roster!C449","v":"F"},14.7,{"$f":"per_game!B449 & \"-\" & D449","v":"Stephen Jackson-14.7"},{"$f":"per_game!R449","v":4.3},{"$f":"per_game!S449","v":1.5},{"$f":"per_game!X449","v":7.7},{"$f":"per_game!U449","v":0.2},{"$f":"per_game!T449","v":1},"G"]
[null,null,{"$f":"Roster!C450","v":"F"},13.3,{"$f":"per_game!B450 & \"-\" & D450","v":"DeJuan Blair-13.3"},{"$f":"per_game!R450","v":4.7},{"$f":"per_game!S450","v":1.1000000000000001},{"$f":"per_game!X450","v":6.4},{"$f":"per_game!U450","v":0.2},{"$f":"per_game!T450","v":0.9},"G"]
[null,null,{"$f":"Roster!C451","v":"G"},12.399999999999999,{"$f":"per_game!B451 & \"-\" & D451","v":"Boris Diaw-12.4"},{"$f":"per_game!R451","v":3.4},{"$f":"per_game!S451","v":2.5},{"$f":"per_game!X451","v":5.8},{"$f":"per_game!U451","v":0.2},{"$f":"per_game!T451","v":0.5},"F"]
[null,null,{"$f":"Roster!C452","v":"F"},{"$f":"F452*$B$2+G452*$B$3+H452*$B$1+I452*$B$4+J452*$B$5","v":7.7},{"$f":"per_game!B452 & \"-\" & D452","v":"Patrick Mills-7.7"},{"$f":"per_game!R452","v":1.1000000000000001},{"$f":"per_game!S452","v":1.1000000000000001},{"$f":"per_game!X452","v":4.9000000000000004},{"$f":"per_game!U452","v":0.1},{"$f":"per_game!T452","v":0.5},"G"]
[null,null,{"$f":"Roster!C453","v":"G"},6.5,{"$f":"per_game!B453 & \"-\" & D453","v":"Matt Bonner-6.5"},{"$f":"per_game!R453","v":1.6},{"$f":"per_game!S453","v":0.4},{"$f":"per_game!X453","v":4.2},{"$f":"per_game!U453","v":0.1},{"$f":"per_game!T453","v":0.2},"G"]
[null,null,{"$f":"Roster!C454","v":"G"},5.8999999999999995,null,{"$f":"per_game!R454","v":1.3},{"$f":"per_game!S454","v":0.8},{"$f":"per_game!X454","v":3.5},{"$f":"per_game!U454","v":0.3},{"$f":"per_game!T454","v":0}]
[null,null,{"$f":"Roster!C455","v":"G"},5.5,null,{"$f":"per_game!R455","v":1.2},{"$f":"per_game!S455","v":1.4},{"$f":"per_game!X455","v":2.5},{"$f":"per_game!U455","v":0},{"$f":"per_game!T455","v":0.4},"TOR"]
[null,null,{"$f":"Roster!C456","v":"F"},4.3999999999999995,null,{"$f":"per_game!R456","v":0.8},{"$f":"per_game!S456","v":1.5},{"$f":"per_game!X456","v":1.8},{"$f":"per_game!U456","v":0},{"$f":"per_game!T456","v":0.3},"Rk"]
[null,null,{"$f":"Roster!C457","v":0},0,{"$f":"per_game!B457 & \"-\" & D457","v":"-0"},{"$f":"per_game!R457","v":0},{"$f":"per_game!S457","v":0},{"$f":"per_game!X457","v":0},{"$f":"per_game!U457","v":0},{"$f":"per_game!T457","v":0},"G"]
[null,null,{"$f":"Roster!C458","v":0},0,{"$f":"per_game!B458 & \"-\" & D458","v":"-0"},{"$f":"per_game!R458","v":0},{"$f":"per_game!S458","v":0},{"$f":"per_game!X458","v":0},{"$f":"per_game!U458","v":0},{"$f":"per_game!T458","v":0},"F"]
[null,null,{"$f":"Roster!C459","v":"Pos"},null,{"$f":"per_game!B459 & \"-\" & D459","v":"Player-"},{"$f":"per_game!R459","v":"TRB"},{"$f":"per_game!S459","v":"AST"},{"$f":"per_game!X459","v":"PTS"},{"$f":"per_game!U459","v":"BLK"},{"$f":"per_game!T459","v":"STL"},"G"]
[null,null,{"$f":"Roster!C460","v":"F"},26.599999999999998,{"$f":"per_game!B460 & \"-\" & D460","v":"DeMar DeRozan-26.6"},{"$f":"per_game!R460","v":5},{"$f":"per_game!S460","v":1.9},{"$f":"per_game!X460","v":18.399999999999999},{"$f":"per_game!U460","v":0.2},{"$f":"per_game!T460","v":1.1000000000000001},"G"]
[null,null,{"$f":"Roster!C461","v":"G-F"},24.599999999999998,{"$f":"per_game!B461 & \"-\" & D461","v":"Andrea Bargnani-24.6"},{"$f":"per_game!R461","v":4.5},{"$f":"per_game!S461","v":1.4},{"$f":"per_game!X461","v":17.399999999999999},{"$f":"per_game!U461","v":0.6},{"$f":"per_game!T461","v":0.7},"C"]
[null,null,{"$f":"Roster!C462","v":"F"},30.9,{"$f":"per_game!B462 & \"-\" & D462","v":"Kyle Lowry-30.9"},{"$f":"per_game!R462","v":5.8},{"$f":"per_game!S462","v":5.6},{"$f":"per_game!X462","v":17},{"$f":"per_game!U462","v":0.8},{"$f":"per_game!T462","v":1.7},"G-F"]
[null,null,{"$f":"Roster!C463","v":"G"},20.299999999999997,{"$f":"per_game!B463 & \"-\" & D463","v":"Jose Calderon-20.3"},{"$f":"per_game!R463","v":1.9},{"$f":"per_game!S463","v":7.3},{"$f":"per_game!X463","v":10.199999999999999},{"$f":"per_game!U463","v":0.2},{"$f":"per_game!T463","v":0.7},"F"]
[null,null,{"$f":"Roster!C464","v":"F"},17.700000000000003,{"$f":"per_game!B464 & \"-\" & D464","v":"Jonas Valanciunas-17.7"},{"$f":"per_game!R464","v":5.7},{"$f":"per_game!S464","v":1.3},{"$f":"per_game!X464","v":9.1},{"$f":"per_game!U464","v":1.3},{"$f":"per_game!T464","v":0.3},"F"]
[null,null,{"$f":"Roster!C465","v":"G"},10.7,{"$f":"per_game!B465 & \"-\" & D465","v":"Alan Anderson-10.7"},{"$f":"per_game!R465","v":1.3},{"$f":"per_game!S465","v":1.2},{"$f":"per_game!X465","v":7.3},{"$f":"per_game!U465","v":0.2},{"$f":"per_game!T465","v":0.7},"F"]
[null,null,{"$f":"Roster!C466","v":"F"},14.9,{"$f":"per_game!B466 & \"-\" & D466","v":"Amir Johnson-14.9"},{"$f":"per_game!R466","v":5.2},{"$f":"per_game!S466","v":1.2},{"$f":"per_game!X466","v":7.1},{"$f":"per_game!U466","v":0.6},{"$f":"per_game!T466","v":0.8},"G"]
[null,null,{"$f":"Roster!C467","v":"C"},10.7,{"$f":"per_game!B467 & \"-\" & D467","v":"Linas Kleiza-10.7"},{"$f":"per_game!R467","v":2.7},{"$f":"per_game!S467","v":0.7},{"$f":"per_game!X467","v":7},{"$f":"per_game!U467","v":0.1},{"$f":"per_game!T467","v":0.2},"G"]
[null,null,{"$f":"Roster!C468","v":"F"},9.4999999999999982,{"$f":"per_game!B468 & \"-\" & D468","v":"Terrence Ross-9.5"},{"$f":"per_game!R468","v":2},{"$f":"per_game!S468","v":0.6},{"$f":"per_game!X468","v":6.1},{"$f":"per_game!U468","v":0.1},{"$f":"per_game!T468","v":0.7},"F"]
[null,null,{"$f":"Roster!C469","v":"F"},13.1,{"$f":"per_game!B469 & \"-\" & D469","v":"Ed Davis-13.1"},{"$f":"per_game!R469","v":5.4},{"$f":"per_game!S469","v":0.7},{"$f":"per_game!X469","v":5.8},{"$f":"per_game!U469","v":0.7},{"$f":"per_game!T469","v":0.5},"F"]
[null,null,{"$f":"Roster!C470","v":"G"},7,{"$f":"per_game!B470 & \"-\" & D470","v":"Mickael Pietrus-7"},{"$f":"per_game!R470","v":1},{"$f":"per_game!S470","v":0},{"$f":"per_game!X470","v":4.5},{"$f":"per_game!U470","v":0.5},{"$f":"per_game!T470","v":1},"F"]
[null,null,{"$f":"Roster!C471","v":"G"},5.7000000000000011,{"$f":"per_game!B471 & \"-\" & D471","v":"John Lucas-5.7"},{"$f":"per_game!R471","v":0.9},{"$f":"per_game!S471","v":1.3},{"$f":"per_game!X471","v":3.1},{"$f":"per_game!U471","v":0},{"$f":"per_game!T471","v":0.4},"C"]
[null,null,{"$f":"Roster!C472","v":"F"},7.8000000000000007,null,{"$f":"per_game!R472","v":3.2},{"$f":"per_game!S472","v":1.6},{"$f":"per_game!X472","v":2.4},{"$f":"per_game!U472","v":0},{"$f":"per_game!T472","v":0.6}]
[null,null,{"$f":"Roster!C473","v":"G-F"},5.3,null,{"$f":"per_game!R473","v":2},{"$f":"per_game!S473","v":0},{"$f":"per_game!X473","v":2.2999999999999998},{"$f":"per_game!U473","v":0.3},{"$f":"per_game!T473","v":0.7},"UTA"]
[null,null,{"$f":"Roster!C474","v":"G"},6.8,null,{"$f":"per_game!R474","v":3.2},{"$f":"per_game!S474","v":0.7},{"$f":"per_game!X474","v":2.1},{"$f":"per_game!U474","v":0.5},{"$f":"per_game!T474","v":0.3},"Rk"]
[null,null,{"$f":"Roster!C475","v":"C"},4.4000000000000004,{"$f":"per_game!B475 & \"-\" & D475","v":"Aaron Gray-4.4"},{"$f":"per_game!R475","v":1.8},{"$f":"per_game!S475","v":0.4},{"$f":"per_game!X475","v":1.8},{"$f":"per_game!U475","v":0},{"$f":"per_game!T475","v":0.4},"F"]
[null,null,{"$f":"Roster!C476","v":0},0,{"$f":"per_game!B476 & \"-\" & D476","v":"-0"},{"$f":"per_game!R476","v":0},{"$f":"per_game!S476","v":0},{"$f":"per_game!X476","v":0},{"$f":"per_game!U476","v":0},{"$f":"per_game!T476","v":0},"F"]
[null,null,{"$f":"Roster!C477","v":0},0,{"$f":"per_game!B477 & \"-\" & D477","v":"-0"},{"$f":"per_game!R477","v":0},{"$f":"per_game!S477","v":0},{"$f":"per_game!X477","v":0},{"$f":"per_game!U477","v":0},{"$f":"per_game!T477","v":0},"G"]
[null,null,{"$f":"Roster!C478","v":"Pos"},null,{"$f":"per_game!B478 & \"-\" & D478","v":"Player-"},{"$f":"per_game!R478","v":"TRB"},{"$f":"per_game!S478","v":"AST"},{"$f":"per_game!X478","v":"PTS"},{"$f":"per_game!U478","v":"BLK"},{"$f":"per_game!T478","v":"STL"},"F"]
[null,null,{"$f":"Roster!C479","v":"G"},31.400000000000002,{"$f":"per_game!B479 & \"-\" & D479","v":"Al Jefferson-31.4"},{"$f":"per_game!R479","v":10.5},{"$f":"per_game!S479","v":1.9},{"$f":"per_game!X479","v":16.7},{"$f":"per_game!U479","v":1.2},{"$f":"per_game!T479","v":1.1000000000000001},"G"]
[null,null,{"$f":"Roster!C480","v":"F"},24.700000000000003,{"$f":"per_game!B480 & \"-\" & D480","v":"Mo Williams-24.7"},{"$f":"per_game!R480","v":2},{"$f":"per_game!S480","v":6.9},{"$f":"per_game!X480","v":14.3},{"$f":"per_game!U480","v":0.5},{"$f":"per_game!T480","v":1},"F"]
[null,null,{"$f":"Roster!C481","v":"F"},20.3,{"$f":"per_game!B481 & \"-\" & D481","v":"Gordon Hayward-20.3"},{"$f":"per_game!R481","v":3},{"$f":"per_game!S481","v":2},{"$f":"per_game!X481","v":13.9},{"$f":"per_game!U481","v":0.6},{"$f":"per_game!T481","v":0.8},"F"]
[null,null,{"$f":"Roster!C482","v":"F"},26.599999999999998,{"$f":"per_game!B482 & \"-\" & D482","v":"Paul Millsap-26.6"},{"$f":"per_game!R482","v":8.4},{"$f":"per_game!S482","v":2.5},{"$f":"per_game!X482","v":13.9},{"$f":"per_game!U482","v":0.9},{"$f":"per_game!T482","v":0.9},"F"]
[null,null,{"$f":"Roster!C483","v":"G"},16.100000000000001,{"$f":"per_game!B483 & \"-\" & D483","v":"Randy Foye-16.1"},{"$f":"per_game!R483","v":1.3},{"$f":"per_game!S483","v":1.9},{"$f":"per_game!X483","v":11.8},{"$f":"per_game!U483","v":0.4},{"$f":"per_game!T483","v":0.7},"F"]
[null,null,{"$f":"Roster!C484","v":"F"},16.5,{"$f":"per_game!B484 & \"-\" & D484","v":"Marvin Williams-16.5"},{"$f":"per_game!R484","v":3.8},{"$f":"per_game!S484","v":1.1000000000000001},{"$f":"per_game!X484","v":10.4},{"$f":"per_game!U484","v":0.6},{"$f":"per_game!T484","v":0.6},"G"]
[null,null,{"$f":"Roster!C485","v":"F"},20.099999999999998,{"$f":"per_game!B485 & \"-\" & D485","v":"Derrick Favors-20.1"},{"$f":"per_game!R485","v":7.5},{"$f":"per_game!S485","v":0.5},{"$f":"per_game!X485","v":9.3000000000000007},{"$f":"per_game!U485","v":1.9},{"$f":"per_game!T485","v":0.9},"G"]
[null,null,{"$f":"Roster!C486","v":"F"},11.3,{"$f":"per_game!B486 & \"-\" & D486","v":"DeMarre Carroll-11.3"},{"$f":"per_game!R486","v":3.4},{"$f":"per_game!S486","v":0.6},{"$f":"per_game!X486","v":5.8},{"$f":"per_game!U486","v":0.6},{"$f":"per_game!T486","v":0.9},"G"]
[null,null,{"$f":"Roster!C487","v":"F"},10.600000000000001,{"$f":"per_game!B487 & \"-\" & D487","v":"Enes Kanter-10.6"},{"$f":"per_game!R487","v":3.8},{"$f":"per_game!S487","v":0.4},{"$f":"per_game!X487","v":5.6},{"$f":"per_game!U487","v":0.5},{"$f":"per_game!T487","v":0.3},"G"]
[null,null,{"$f":"Roster!C488","v":"G"},11.2,{"$f":"per_game!B488 & \"-\" & D488","v":"Jamaal Tinsley-11.2"},{"$f":"per_game!R488","v":1.9},{"$f":"per_game!S488","v":5.6},{"$f":"per_game!X488","v":2.7},{"$f":"per_game!U488","v":0.2},{"$f":"per_game!T488","v":0.8},"F"]
[null,null,{"$f":"Roster!C489","v":"G"},4.7,null,{"$f":"per_game!R489","v":1.5},{"$f":"per_game!S489","v":0.2},{"$f":"per_game!X489","v":2.2999999999999998},{"$f":"per_game!U489","v":0.5},{"$f":"per_game!T489","v":0.2}]
[null,null,{"$f":"Roster!C490","v":"G"},4.0999999999999996,null,{"$f":"per_game!R490","v":1},{"$f":"per_game!S490","v":0.4},{"$f":"per_game!X490","v":2.2999999999999998},{"$f":"per_game!U490","v":0.2},{"$f":"per_game!T490","v":0.2},"WAS"]
[null,null,{"$f":"Roster!C491","v":"F"},8.2999999999999989,null,{"$f":"per_game!R491","v":1},{"$f":"per_game!S491","v":4.0999999999999996},{"$f":"per_game!X491","v":2.1},{"$f":"per_game!U491","v":0},{"$f":"per_game!T491","v":1.1000000000000001},"Rk"]
[null,null,{"$f":"Roster!C492","v":"G"},1.6,{"$f":"per_game!B492 & \"-\" & D492","v":"Kevin Murphy-1.6"},{"$f":"per_game!R492","v":0},{"$f":"per_game!S492","v":0},{"$f":"per_game!X492","v":1.3},{"$f":"per_game!U492","v":0},{"$f":"per_game!T492","v":0.3},"G"]
[null,null,{"$f":"Roster!C493","v":0},0,{"$f":"per_game!B493 & \"-\" & D493","v":"-0"},{"$f":"per_game!R493","v":0},{"$f":"per_game!S493","v":0},{"$f":"per_game!X493","v":0},{"$f":"per_game!U493","v":0},{"$f":"per_game!T493","v":0},"F-C"]
[null,null,{"$f":"Roster!C494","v":0},0,{"$f":"per_game!B494 & \"-\" & D494","v":"-0"},{"$f":"per_game!R494","v":0},{"$f":"per_game!S494","v":0},{"$f":"per_game!X494","v":0},{"$f":"per_game!U494","v":0},{"$f":"per_game!T494","v":0},"F"]
[null,null,{"$f":"Roster!C495","v":"Pos"},null,{"$f":"per_game!B495 & \"-\" & D495","v":"Player-"},{"$f":"per_game!R495","v":"TRB"},{"$f":"per_game!S495","v":"AST"},{"$f":"per_game!X495","v":"PTS"},{"$f":"per_game!U495","v":"BLK"},{"$f":"per_game!T495","v":"STL"},"G"]
[null,null,{"$f":"Roster!C496","v":"F"},20.100000000000001,{"$f":"per_game!B496 & \"-\" & D496","v":"Jordan Crawford-20.1"},{"$f":"per_game!R496","v":3.2},{"$f":"per_game!S496","v":3.4},{"$f":"per_game!X496","v":13.1},{"$f":"per_game!U496","v":0.1},{"$f":"per_game!T496","v":0.3},"G"]
[null,null,{"$f":"Roster!C497","v":"C"},19.200000000000003,{"$f":"per_game!B497 & \"-\" & D497","v":"Nene Hilario-19.2"},{"$f":"per_game!R497","v":4.8},{"$f":"per_game!S497","v":1.3},{"$f":"per_game!X497","v":11.5},{"$f":"per_game!U497","v":0.3},{"$f":"per_game!T497","v":1.3},"G-F"]
[null,null,{"$f":"Roster!C498","v":"G"},19.599999999999998,{"$f":"per_game!B498 & \"-\" & D498","v":"Kevin Seraphin-19.6"},{"$f":"per_game!R498","v":5.5},{"$f":"per_game!S498","v":1.2},{"$f":"per_game!X498","v":11.5},{"$f":"per_game!U498","v":0.9},{"$f":"per_game!T498","v":0.5},"F"]
[null,null,{"$f":"Roster!C499","v":"F"},17.3,{"$f":"per_game!B499 & \"-\" & D499","v":"Bradley Beal-17.3"},{"$f":"per_game!R499","v":3.3},{"$f":"per_game!S499","v":1.7},{"$f":"per_game!X499","v":11},{"$f":"per_game!U499","v":0.5},{"$f":"per_game!T499","v":0.8},"C-F"]
[null,null,{"$f":"Roster!C500","v":"G"},17.900000000000002,{"$f":"per_game!B500 & \"-\" & D500","v":"A.J. Price-17.9"},{"$f":"per_game!R500","v":3.2},{"$f":"per_game!S500","v":5.2},{"$f":"per_game!X500","v":8.9},{"$f":"per_game!U500","v":0},{"$f":"per_game!T500","v":0.6},"F"]
[null,null,{"$f":"Roster!C501","v":"F-C"},14.200000000000001,{"$f":"per_game!B501 & \"-\" & D501","v":"Martell Webster-14.2"},{"$f":"per_game!R501","v":3.5},{"$f":"per_game!S501","v":1.2},{"$f":"per_game!X501","v":8.6},{"$f":"per_game!U501","v":0.4},{"$f":"per_game!T501","v":0.5},"G"]
[null,null,{"$f":"Roster!C502","v":"G"},17.7,{"$f":"per_game!B502 & \"-\" & D502","v":"Trevor Ariza-17.7"},{"$f":"per_game!R502","v":5.0999999999999996},{"$f":"per_game!S502","v":1.9},{"$f":"per_game!X502","v":8.4},{"$f":"per_game!U502","v":0.5},{"$f":"per_game!T502","v":1.8},"F"]
[null,null,{"$f":"Roster!C503","v":"F"},16.399999999999999,{"$f":"per_game!B503 & \"-\" & D503","v":"Emeka Okafor-16.4"},{"$f":"per_game!R503","v":5.9},{"$f":"per_game!S503","v":0.9},{"$f":"per_game!X503","v":7.2},{"$f":"per_game!U503","v":1.6},{"$f":"per_game!T503","v":0.8},"F"]
[null,null,{"$f":"Roster!C504","v":"C-F"},15.6,{"$f":"per_game!B504 & \"-\" & D504","v":"Trevor Booker-15.6"},{"$f":"per_game!R504","v":5.6},{"$f":"per_game!S504","v":1.4},{"$f":"per_game!X504","v":6.8},{"$f":"per_game!U504","v":0.6},{"$f":"per_game!T504","v":1.2},"C"]
[null,null,{"$f":"Roster!C505","v":"G"},9.7999999999999989,{"$f":"per_game!B505 & \"-\" & D505","v":"Shaun Livingston-9.8"},{"$f":"per_game!R505","v":2},{"$f":"per_game!S505","v":1.8},{"$f":"per_game!X505","v":5.3},{"$f":"per_game!U505","v":0.2},{"$f":"per_game!T505","v":0.5},"G"]
[null,null,{"$f":"Roster!C506","v":"G"},10.199999999999999,{"$f":"per_game!B506 & \"-\" & D506","v":"Chris Singleton-10.2"},{"$f":"per_game!R506","v":3.6},{"$f":"per_game!S506","v":0.6},{"$f":"per_game!X506","v":5},{"$f":"per_game!U506","v":0.1},{"$f":"per_game!T506","v":0.9}]
[null,null,{"$f":"Roster!C507","v":"F"},6.3,{"$f":"per_game!B507","v":"Cartier Martin"},{"$f":"per_game!R507","v":1.3},{"$f":"per_game!S507","v":0.1},{"$f":"per_game!X507","v":4.3},{"$f":"per_game!U507","v":0},{"$f":"per_game!T507","v":0.6}]
[null,null,{"$f":"Roster!C508","v":"F"},7.8,{"$f":"per_game!B508","v":"Earl Barron"},{"$f":"per_game!R508","v":3.3},{"$f":"per_game!S508","v":0.3},{"$f":"per_game!X508","v":3.5},{"$f":"per_game!U508","v":0.2},{"$f":"per_game!T508","v":0.5}]
[null,null,{"$f":"Roster!C509","v":"F"},6,{"$f":"per_game!B509","v":"Jannero Pargo"},{"$f":"per_game!R509","v":0.9},{"$f":"per_game!S509","v":2},{"$f":"per_game!X509","v":3},{"$f":"per_game!U509","v":0.1},{"$f":"per_game!T509","v":0}]
[null,null,{"$f":"Roster!C510","v":"G-F"},0,{"$f":"per_game!B510","v":"Jan Vesely"}]

{"sheet":"8","index":7,"n_rows":512,"n_cols":14,"rows_kept":512,"cut":false,"hidden":true,"merged":[]}
["Points",{"$f":"'Create Team'!B24","v":1}]
["Rebounds",{"$f":"'Create Team'!B25","v":1},null,null,null,"FG%","3P%","FT%","TRB","AST","STL","BLK","PTS"]
["Assists",{"$f":"'Create Team'!B26","v":1},{"$f":"Roster!C3","v":"G"},{"$f":"F3*$B$6+G3*$B$8+H3*$B$7+I3*$B$2+J3*$B$3+K3*$B$5+L3*$B$4+M3*$B$1","v":32.478999999999999},{"$f":"per_game!B3 & \"-\" & D3","v":"Josh Smith-32.479"},{"$f":"per_game!I3","v":0.44400000000000001},{"$f":"per_game!L3","v":0.35699999999999998},{"$f":"per_game!O3","v":0.47799999999999998},{"$f":"per_game!R3","v":7.6},{"$f":"per_game!S3","v":3.7},{"$f":"per_game!T3","v":1.4},{"$f":"per_game!U3","v":2.4},{"$f":"per_game!X3","v":16.100000000000001},"F"]
["Blocks",{"$f":"'Create Team'!B27","v":1},{"$f":"Roster!C4","v":"C"},31.558,{"$f":"per_game!B4 & \"-\" & D4","v":"Al Horford-31.558"},{"$f":"per_game!I4","v":0.53500000000000003},{"$f":"per_game!L4","v":0},{"$f":"per_game!O4","v":0.52300000000000002},{"$f":"per_game!R4","v":9.5},{"$f":"per_game!S4","v":3.5},{"$f":"per_game!T4","v":0.5},{"$f":"per_game!U4","v":1.1000000000000001},{"$f":"per_game!X4","v":15.9},"F"]
["Steals",{"$f":"'Create Team'!B28","v":1},{"$f":"Roster!C5","v":"G"},22.213999999999999,{"$f":"per_game!B5 & \"-\" & D5","v":"Louis Williams-22.214"},{"$f":"per_game!I5","v":0.42299999999999999},{"$f":"per_game!L5","v":0.318},{"$f":"per_game!O5","v":0.873},{"$f":"per_game!R5","v":2},{"$f":"per_game!S5","v":3.3},{"$f":"per_game!T5","v":1.1000000000000001},{"$f":"per_game!U5","v":0.3},{"$f":"per_game!X5","v":13.9},"G"]
["FG %",{"$f":"'Create Team'!B29","v":1},{"$f":"Roster!C6","v":"F"},27.088000000000001,{"$f":"per_game!B6 & \"-\" & D6","v":"Jeff Teague-27.088"},{"$f":"per_game!I6","v":0.46600000000000003},{"$f":"per_game!L6","v":0.45500000000000002},{"$f":"per_game!O6","v":0.86699999999999999},{"$f":"per_game!R6","v":2.4},{"$f":"per_game!S6","v":7.1},{"$f":"per_game!T6","v":1.8},{"$f":"per_game!U6","v":0.4},{"$f":"per_game!X6","v":13.6},"G"]
["FT %",{"$f":"'Create Team'!B30","v":1},{"$f":"Roster!C7","v":"F"},19.204000000000001,{"$f":"per_game!B7 & \"-\" & D7","v":"Kyle Korver-19.204"},{"$f":"per_game!I7","v":0.42699999999999999},{"$f":"per_game!L7","v":0.42},{"$f":"per_game!O7","v":0.85699999999999998},{"$f":"per_game!R7","v":3.7},{"$f":"per_game!S7","v":1.6},{"$f":"per_game!T7","v":1},{"$f":"per_game!U7","v":0.4},{"$f":"per_game!X7","v":10.8},"F"]
["3 pt %",{"$f":"'Create Team'!B31","v":1},{"$f":"Roster!C8","v":"G"},18.027000000000001,{"$f":"per_game!B8 & \"-\" & D8","v":"Zaza Pachulia-18.027"},{"$f":"per_game!I8","v":0.5},{"$f":"per_game!L8","v":0},{"$f":"per_game!O8","v":0.72699999999999998},{"$f":"per_game!R8","v":7.1},{"$f":"per_game!S8","v":1.6},{"$f":"per_game!T8","v":0.8},{"$f":"per_game!U8","v":0.4},{"$f":"per_game!X8","v":6.9},"F"]
[null,null,{"$f":"Roster!C9","v":"C"},13.672000000000001,{"$f":"per_game!B9 & \"-\" & D9","v":"Devin Harris-13.672"},{"$f":"per_game!I9","v":0.41099999999999998},{"$f":"per_game!L9","v":0.314},{"$f":"per_game!O9","v":0.64700000000000002},{"$f":"per_game!R9","v":1.6},{"$f":"per_game!S9","v":2.5},{"$f":"per_game!T9","v":1},{"$f":"per_game!U9","v":0.4},{"$f":"per_game!X9","v":6.8},"G"]
[null,null,{"$f":"Roster!C10","v":"C"},12.2,{"$f":"per_game!B10 & \"-\" & D10","v":"DeShawn Stevenson-12.2"},{"$f":"per_game!I10","v":0.4},{"$f":"per_game!L10","v":0.4},{"$f":"per_game!O10","v":0.4},{"$f":"per_game!R10","v":2.7},{"$f":"per_game!S10","v":1.1000000000000001},{"$f":"per_game!T10","v":0.5},{"$f":"per_game!U10","v":0.3},{"$f":"per_game!X10","v":6.4},"G"]
[null,null,{"$f":"Roster!C11","v":"F"},9.088000000000001,{"$f":"per_game!B11 & \"-\" & D11","v":"Anthony Morrow-9.088"},{"$f":"per_game!I11","v":0.48},{"$f":"per_game!L11","v":0.53300000000000003},{"$f":"per_game!O11","v":0.875},{"$f":"per_game!R11","v":0.6},{"$f":"per_game!S11","v":0.1},{"$f":"per_game!T11","v":0.7},{"$f":"per_game!U11","v":0.1},{"$f":"per_game!X11","v":5.7},"F"]
[null,null,{"$f":"Roster!C12","v":"F"},10.950999999999999,{"$f":"per_game!B12 & \"-\" & D12","v":"Ivan Johnson-10.951"},{"$f":"per_game!I12","v":0.65100000000000002},{"$f":"per_game!L12","v":0.5},{"$f":"per_game!O12","v":0.4},{"$f":"per_game!R12","v":3.1},{"$f":"per_game!S12","v":0.3},{"$f":"per_game!T12","v":0.8},{"$f":"per_game!U12","v":0.1},{"$f":"per_game!X12","v":5.0999999999999996},"F"]
[null,null,{"$f":"Roster!C13","v":"G"},7.2490000000000006,{"$f":"per_game!B13 & \"-\" & D13","v":"Anthony Tolliver-7.249"},{"$f":"per_game!I13","v":0.27300000000000002},{"$f":"per_game!L13","v":0.17599999999999999},{"$f":"per_game!O13","v":0.8},{"$f":"per_game!R13","v":2.2999999999999998},{"$f":"per_game!S13","v":0.1},{"$f":"per_game!T13","v":0.5},{"$f":"per_game!U13","v":0},{"$f":"per_game!X13","v":3.1},"C"]
[null,null,{"$f":"Roster!C14","v":"G"},3.786,{"$f":"per_game!B14 & \"-\" & D14","v":"John Jenkins-3.786"},{"$f":"per_game!I14","v":0.28599999999999998},{"$f":"per_game!L14","v":0},{"$f":"per_game!O14","v":1},{"$f":"per_game!R14","v":1},{"$f":"per_game!S14","v":0},{"$f":"per_game!T14","v":0},{"$f":"per_game!U14","v":0},{"$f":"per_game!X14","v":1.5},"F"]
[null,null,{"$f":"Roster!C15","v":"C"},1.367,{"$f":"per_game!B15 & \"-\" & D15","v":"Mike Scott-1.367"},{"$f":"per_game!I15","v":0.16700000000000001},{"$f":"per_game!L15","v":0},{"$f":"per_game!O15","v":0},{"$f":"per_game!R15","v":0.8},{"$f":"per_game!S15","v":0},{"$f":"per_game!T15","v":0},{"$f":"per_game!U15","v":0},{"$f":"per_game!X15","v":0.4},"F-C"]
[null,null,{"$f":"Roster!C16","v":"G"},0,{"$f":"per_game!B16 & \"-\" & D16","v":"Johan Petro-0"},{"$f":"per_game!I16","v":0},{"$f":"per_game!L16","v":0},{"$f":"per_game!O16","v":0},{"$f":"per_game!R16","v":0},{"$f":"per_game!S16","v":0},{"$f":"per_game!T16","v":0},{"$f":"per_game!U16","v":0},{"$f":"per_game!X16","v":0}]
[null,null,{"$f":"Roster!C17","v":0},0,null,{"$f":"per_game!I17","v":0},{"$f":"per_game!L17","v":0},{"$f":"per_game!O17","v":0},{"$f":"per_game!R17","v":0},{"$f":"per_game!S17","v":0},{"$f":"per_game!T17","v":0},{"$f":"per_game!U17","v":0},{"$f":"per_game!X17","v":0},"BRK"]
[null,null,{"$f":"Roster!C18","v":0},0,null,{"$f":"per_game!I18","v":0},{"$f":"per_game!L18","v":0},{"$f":"per_game!O18","v":0},{"$f":"per_game!R18","v":0},{"$f":"per_game!S18","v":0},{"$f":"per_game!T18","v":0},{"$f":"per_game!U18","v":0},{"$f":"per_game!X18","v":0},"Rk"]
[null,null,{"$f":"Roster!C19","v":"Pos"},null,null,{"$f":"per_game!I19","v":"FG%"},{"$f":"per_game!L19","v":"3P%"},{"$f":"per_game!O19","v":"FT%"},{"$f":"per_game!R19","v":"TRB"},{"$f":"per_game!S19","v":"AST"},{"$f":"per_game!T19","v":"STL"},{"$f":"per_game!U19","v":"BLK"},{"$f":"per_game!X19","v":"PTS"},"G"]
[null,null,{"$f":"Roster!C20","v":"G"},31.548999999999999,{"$f":"per_game!B20 & \"-\" & D20","v":"Paul Pierce-31.549"},{"$f":"per_game!I20","v":0.41799999999999998},{"$f":"per_game!L20","v":0.39500000000000002},{"$f":"per_game!O20","v":0.83599999999999997},{"$f":"per_game!R20","v":5.7},{"$f":"per_game!S20","v":3.2},{"$f":"per_game!T20","v":1.5},{"$f":"per_game!U20","v":0.3},{"$f":"per_game!X20","v":19.2},"C"]
[null,null,{"$f":"Roster!C21","v":"F"},27.825000000000003,{"$f":"per_game!B21 & \"-\" & D21","v":"Kevin Garnett-27.825"},{"$f":"per_game!I21","v":0.52200000000000002},{"$f":"per_game!L21","v":0},{"$f":"per_game!O21","v":0.80300000000000005},{"$f":"per_game!R21","v":7.4},{"$f":"per_game!S21","v":1.9},{"$f":"per_game!T21","v":0.8},{"$f":"per_game!U21","v":0.8},{"$f":"per_game!X21","v":15.6},"G"]
[null,null,{"$f":"Roster!C22","v":"C"},33.734999999999999,{"$f":"per_game!B22 & \"-\" & D22","v":"Rajon Rondo-33.735"},{"$f":"per_game!I22","v":0.50600000000000001},{"$f":"per_game!L22","v":0.316},{"$f":"per_game!O22","v":0.61299999999999999},{"$f":"per_game!R22","v":4.5999999999999996},{"$f":"per_game!S22","v":12.9},{"$f":"per_game!T22","v":1.9},{"$f":"per_game!U22","v":0},{"$f":"per_game!X22","v":12.9},"F"]
[null,null,{"$f":"Roster!C23","v":"F"},18.739999999999998,{"$f":"per_game!B23 & \"-\" & D23","v":"Jason Terry-18.74"},{"$f":"per_game!I23","v":0.48299999999999998},{"$f":"per_game!L23","v":0.38200000000000001},{"$f":"per_game!O23","v":0.875},{"$f":"per_game!R23","v":1.8},{"$f":"per_game!S23","v":2.2999999999999998},{"$f":"per_game!T23","v":1.1000000000000001},{"$f":"per_game!U23","v":0.1},{"$f":"per_game!X23","v":11.7},"F"]
[null,null,{"$f":"Roster!C24","v":"F"},18.425000000000001,{"$f":"per_game!B24 & \"-\" & D24","v":"Brandon Bass-18.425"},{"$f":"per_game!I24","v":0.443},{"$f":"per_game!L24","v":0},{"$f":"per_game!O24","v":0.88200000000000001},{"$f":"per_game!R24","v":5.4},{"$f":"per_game!S24","v":0.9},{"$f":"per_game!T24","v":0.5},{"$f":"per_game!U24","v":0.8},{"$f":"per_game!X24","v":9.5},"G-F"]
[null,null,{"$f":"Roster!C25","v":"F"},15.023,{"$f":"per_game!B25 & \"-\" & D25","v":"Jeff Green-15.023"},{"$f":"per_game!I25","v":0.434},{"$f":"per_game!L25","v":0.33300000000000002},{"$f":"per_game!O25","v":0.75600000000000001},{"$f":"per_game!R25","v":2.8},{"$f":"per_game!S25","v":0.7},{"$f":"per_game!T25","v":0.6},{"$f":"per_game!U25","v":0.5},{"$f":"per_game!X25","v":8.9},"G"]
[null,null,{"$f":"Roster!C26","v":"G"},11.1,{"$f":"per_game!B26 & \"-\" & D26","v":"Leandro Barbosa-11.1"},{"$f":"per_game!I26","v":0.44400000000000001},{"$f":"per_game!L26","v":0.41699999999999998},{"$f":"per_game!O26","v":0.73899999999999999},{"$f":"per_game!R26","v":0.9},{"$f":"per_game!S26","v":1.5},{"$f":"per_game!T26","v":0.5},{"$f":"per_game!U26","v":0.3},{"$f":"per_game!X26","v":6.3},"F"]
[null,null,{"$f":"Roster!C27","v":"F-C"},12.602,{"$f":"per_game!B27 & \"-\" & D27","v":"Courtney Lee-12.602"},{"$f":"per_game!I27","v":0.46200000000000002},{"$f":"per_game!L27","v":0.24},{"$f":"per_game!O27","v":1},{"$f":"per_game!R27","v":2.5},{"$f":"per_game!S27","v":1.5},{"$f":"per_game!T27","v":0.9},{"$f":"per_game!U27","v":0.1},{"$f":"per_game!X27","v":5.9},"G-F"]
[null,null,{"$f":"Roster!C28","v":"F"},14.029,{"$f":"per_game!B28 & \"-\" & D28","v":"Jared Sullinger-14.029"},{"$f":"per_game!I28","v":0.50600000000000001},{"$f":"per_game!L28","v":1},{"$f":"per_game!O28","v":0.92300000000000004},{"$f":"per_game!R28","v":4.5999999999999996},{"$f":"per_game!S28","v":0.6},{"$f":"per_game!T28","v":0.4},{"$f":"per_game!U28","v":0.5},{"$f":"per_game!X28","v":5.5},"F"]
[null,null,{"$f":"Roster!C29","v":"G"},8.7650000000000006,{"$f":"per_game!B29 & \"-\" & D29","v":"Chris Wilcox-8.765"},{"$f":"per_game!I29","v":0.70299999999999996},{"$f":"per_game!L29","v":0},{"$f":"per_game!O29","v":0.76200000000000001},{"$f":"per_game!R29","v":2.1},{"$f":"per_game!S29","v":0.3},{"$f":"per_game!T29","v":0.3},{"$f":"per_game!U29","v":0.3},{"$f":"per_game!X29","v":4.3},"G-F"]
[null,null,{"$f":"Roster!C30","v":"F"},3,{"$f":"per_game!B30 & \"-\" & D30","v":"Kris Joseph-3"},{"$f":"per_game!I30","v":0},{"$f":"per_game!L30","v":0},{"$f":"per_game!O30","v":1},{"$f":"per_game!R30","v":0.5},{"$f":"per_game!S30","v":0.5},{"$f":"per_game!T30","v":0},{"$f":"per_game!U30","v":0},{"$f":"per_game!X30","v":1},"F"]
[null,null,{"$f":"Roster!C31","v":"G"},3.8499999999999996,{"$f":"per_game!B31 & \"-\" & D31","v":"Jason Collins-3.85"},{"$f":"per_game!I31","v":0.25},{"$f":"per_game!L31","v":0},{"$f":"per_game!O31","v":0},{"$f":"per_game!R31","v":2.2999999999999998},{"$f":"per_game!S31","v":0},{"$f":"per_game!T31","v":0.5},{"$f":"per_game!U31","v":0.3},{"$f":"per_game!X31","v":0.5},"F"]
[null,null,{"$f":"Roster!C32","v":"F"},1,{"$f":"per_game!B32 & \"-\" & D32","v":"Darko Milicic-1"},{"$f":"per_game!I32","v":0},{"$f":"per_game!L32","v":0},{"$f":"per_game!O32","v":0},{"$f":"per_game!R32","v":1},{"$f":"per_game!S32","v":0},{"$f":"per_game!T32","v":0},{"$f":"per_game!U32","v":0},{"$f":"per_game!X32","v":0},"G"]
[null,null,{"$f":"Roster!C33","v":0},0,null,{"$f":"per_game!I33","v":0},{"$f":"per_game!L33","v":0},{"$f":"per_game!O33","v":0},{"$f":"per_game!R33","v":0},{"$f":"per_game!S33","v":0},{"$f":"per_game!T33","v":0},{"$f":"per_game!U33","v":0},{"$f":"per_game!X33","v":0},"G-F"]
[null,null,{"$f":"Roster!C34","v":0},0,null,{"$f":"per_game!I34","v":0},{"$f":"per_game!L34","v":0},{"$f":"per_game!O34","v":0},{"$f":"per_game!R34","v":0},{"$f":"per_game!S34","v":0},{"$f":"per_game!T34","v":0},{"$f":"per_game!U34","v":0},{"$f":"per_game!X34","v":0}]
[null,null,{"$f":"Roster!C35","v":"Pos"},null,null,{"$f":"per_game!I35","v":"FG%"},{"$f":"per_game!L35","v":"3P%"},{"$f":"per_game!O35","v":"FT%"},{"$f":"per_game!R35","v":"TRB"},{"$f":"per_game!S35","v":"AST"},{"$f":"per_game!T35","v":"STL"},{"$f":"per_game!U35","v":"BLK"},{"$f":"per_game!X35","v":"PTS"},"CHA"]
[null,null,{"$f":"Roster!C36","v":"F"},30.271999999999998,{"$f":"per_game!B36 & \"-\" & D36","v":"Brook Lopez-30.272"},{"$f":"per_game!I36","v":0.53400000000000003},{"$f":"per_game!L36","v":0},{"$f":"per_game!O36","v":0.63800000000000001},{"$f":"per_game!R36","v":6.8},{"$f":"per_game!S36","v":0.8},{"$f":"per_game!T36","v":0.5},{"$f":"per_game!U36","v":2.5},{"$f":"per_game!X36","v":18.5},"Rk"]
[null,null,{"$f":"Roster!C37","v":"G-F"},24.552,{"$f":"per_game!B37 & \"-\" & D37","v":"Joe Johnson-24.552"},{"$f":"per_game!I37","v":0.40899999999999997},{"$f":"per_game!L37","v":0.36299999999999999},{"$f":"per_game!O37","v":0.78},{"$f":"per_game!R37","v":2.8},{"$f":"per_game!S37","v":3.8},{"$f":"per_game!T37","v":0.6},{"$f":"per_game!U37","v":0.2},{"$f":"per_game!X37","v":15.6},"G"]
[null,null,{"$f":"Roster!C38","v":"G-F"},30.488,{"$f":"per_game!B38 & \"-\" & D38","v":"Deron Williams-30.488"},{"$f":"per_game!I38","v":0.38200000000000001},{"$f":"per_game!L38","v":0.26800000000000002},{"$f":"per_game!O38","v":0.83799999999999997},{"$f":"per_game!R38","v":3},{"$f":"per_game!S38","v":8.9},{"$f":"per_game!T38","v":1.1000000000000001},{"$f":"per_game!U38","v":0.6},{"$f":"per_game!X38","v":15.4},"G"]
[null,null,{"$f":"Roster!C39","v":"G-F"},19.317,{"$f":"per_game!B39 & \"-\" & D39","v":"Andray Blatche-19.317"},{"$f":"per_game!I39","v":0.46700000000000003},{"$f":"per_game!L39","v":0},{"$f":"per_game!O39","v":0.75},{"$f":"per_game!R39","v":5.8},{"$f":"per_game!S39","v":1.1000000000000001},{"$f":"per_game!T39","v":0.5},{"$f":"per_game!U39","v":0.6},{"$f":"per_game!X39","v":10.1},"G"]
[null,null,{"$f":"Roster!C40","v":"F"},19.759999999999998,{"$f":"per_game!B40 & \"-\" & D40","v":"Gerald Wallace-19.76"},{"$f":"per_game!I40","v":0.42699999999999999},{"$f":"per_game!L40","v":0.33300000000000002},{"$f":"per_game!O40","v":0.5},{"$f":"per_game!R40","v":4.0999999999999996},{"$f":"per_game!S40","v":2.4},{"$f":"per_game!T40","v":1.9},{"$f":"per_game!U40","v":0.7},{"$f":"per_game!X40","v":9.4},"G"]
[null,null,{"$f":"Roster!C41","v":"F"},19.308,{"$f":"per_game!B41 & \"-\" & D41","v":"Kris Humphries-19.308"},{"$f":"per_game!I41","v":0.47599999999999998},{"$f":"per_game!L41","v":0},{"$f":"per_game!O41","v":0.73199999999999998},{"$f":"per_game!R41","v":8.1},{"$f":"per_game!S41","v":0.6},{"$f":"per_game!T41","v":0.4},{"$f":"per_game!U41","v":0.9},{"$f":"per_game!X41","v":8.1},"C"]
[null,null,{"$f":"Roster!C42","v":"G"},12.116999999999999,{"$f":"per_game!B42 & \"-\" & D42","v":"Jerry Stackhouse-12.117"},{"$f":"per_game!I42","v":0.49099999999999999},{"$f":"per_game!L42","v":0.46899999999999997},{"$f":"per_game!O42","v":0.85699999999999998},{"$f":"per_game!R42","v":1.4},{"$f":"per_game!S42","v":0.8},{"$f":"per_game!T42","v":0.6},{"$f":"per_game!U42","v":0.2},{"$f":"per_game!X42","v":7.3},"F"]
[null,null,{"$f":"Roster!C43","v":"C"},13.044,{"$f":"per_game!B43 & \"-\" & D43","v":"C.J. Watson-13.044"},{"$f":"per_game!I43","v":0.379},{"$f":"per_game!L43","v":0.33900000000000002},{"$f":"per_game!O43","v":0.82599999999999996},{"$f":"per_game!R43","v":1.4},{"$f":"per_game!S43","v":1.8},{"$f":"per_game!T43","v":0.8},{"$f":"per_game!U43","v":0.2},{"$f":"per_game!X43","v":7.3},"C"]
[null,null,{"$f":"Roster!C44","v":"F"},12.302,{"$f":"per_game!B44 & \"-\" & D44","v":"MarShon Brooks-12.302"},{"$f":"per_game!I44","v":0.56799999999999995},{"$f":"per_game!L44","v":0.66700000000000004},{"$f":"per_game!O44","v":0.66700000000000004},{"$f":"per_game!R44","v":1.7},{"$f":"per_game!S44","v":0.9},{"$f":"per_game!T44","v":0.6},{"$f":"per_game!U44","v":0.1},{"$f":"per_game!X44","v":7.1},"F"]
[null,null,{"$f":"Roster!C45","v":"G-F"},14.170999999999998,{"$f":"per_game!B45 & \"-\" & D45","v":"Reggie Evans-14.171"},{"$f":"per_game!I45","v":0.57699999999999996},{"$f":"per_game!L45","v":0},{"$f":"per_game!O45","v":0.59399999999999997},{"$f":"per_game!R45","v":8.4},{"$f":"per_game!S45","v":0.7},{"$f":"per_game!T45","v":0.7},{"$f":"per_game!U45","v":0.1},{"$f":"per_game!X45","v":3.1},"F"]
[null,null,{"$f":"Roster!C46","v":"G"},6.8949999999999996,{"$f":"per_game!B46 & \"-\" & D46","v":"Keith Bogans-6.895"},{"$f":"per_game!I46","v":0.34799999999999998},{"$f":"per_game!L46","v":0.314},{"$f":"per_game!O46","v":0.33300000000000002},{"$f":"per_game!R46","v":1.4},{"$f":"per_game!S46","v":1.1000000000000001},{"$f":"per_game!T46","v":0.3},{"$f":"per_game!U46","v":0},{"$f":"per_game!X46","v":3.1},"F"]
[null,null,{"$f":"Roster!C47","v":"F"},5.7679999999999998,{"$f":"per_game!B47 & \"-\" & D47","v":"Mirza Teletovic-5.768"},{"$f":"per_game!I47","v":0.318},{"$f":"per_game!L47","v":0.25},{"$f":"per_game!O47","v":0},{"$f":"per_game!R47","v":1.2},{"$f":"per_game!S47","v":0.7},{"$f":"per_game!T47","v":0.3},{"$f":"per_game!U47","v":0},{"$f":"per_game!X47","v":3},"F"]
[null,null,{"$f":"Roster!C48","v":"F"},4.9000000000000004,{"$f":"per_game!B48 & \"-\" & D48","v":"Tornike Shengelia-4.9"},{"$f":"per_game!I48","v":1},{"$f":"per_game!L48","v":1},{"$f":"per_game!O48","v":0.6},{"$f":"per_game!R48","v":0.3},{"$f":"per_game!S48","v":0},{"$f":"per_game!T48","v":0},{"$f":"per_game!U48","v":0},{"$f":"per_game!X48","v":2},"C"]
[null,null,{"$f":"Roster!C49","v":"G"},5.0530000000000008,{"$f":"per_game!B49 & \"-\" & D49","v":"Josh Childress-5.053"},{"$f":"per_game!I49","v":0.35299999999999998},{"$f":"per_game!L49","v":0.5},{"$f":"per_game!O49","v":0.5},{"$f":"per_game!R49","v":1.4},{"$f":"per_game!S49","v":0.5},{"$f":"per_game!T49","v":0.2},{"$f":"per_game!U49","v":0.2},{"$f":"per_game!X49","v":1.4},"G"]
[null,null,{"$f":"Roster!C50","v":"G"},2.3330000000000002,{"$f":"per_game!B50 & \"-\" & D50","v":"Tyshawn Taylor-2.333"},{"$f":"per_game!I50","v":0.33300000000000002},{"$f":"per_game!L50","v":0},{"$f":"per_game!O50","v":0.5},{"$f":"per_game!R50","v":0},{"$f":"per_game!S50","v":0.2},{"$f":"per_game!T50","v":0.3},{"$f":"per_game!U50","v":0},{"$f":"per_game!X50","v":1},"G"]
[null,null,{"$f":"Roster!C51","v":0},0,null,{"$f":"per_game!I51","v":0},{"$f":"per_game!L51","v":0},{"$f":"per_game!O51","v":0},{"$f":"per_game!R51","v":0},{"$f":"per_game!S51","v":0},{"$f":"per_game!T51","v":0},{"$f":"per_game!U51","v":0},{"$f":"per_game!X51","v":0}]
[null,null,{"$f":"Roster!C52","v":0},0,null,{"$f":"per_game!I52","v":0},{"$f":"per_game!L52","v":0},{"$f":"per_game!O52","v":0},{"$f":"per_game!R52","v":0},{"$f":"per_game!S52","v":0},{"$f":"per_game!T52","v":0},{"$f":"per_game!U52","v":0},{"$f":"per_game!X52","v":0},"CHI"]
[null,null,{"$f":"Roster!C53","v":"Pos"},null,null,{"$f":"per_game!I53","v":"FG%"},{"$f":"per_game!L53","v":"3P%"},{"$f":"per_game!O53","v":"FT%"},{"$f":"per_game!R53","v":"TRB"},{"$f":"per_game!S53","v":"AST"},{"$f":"per_game!T53","v":"STL"},{"$f":"per_game!U53","v":"BLK"},{"$f":"per_game!X53","v":"PTS"},"Rk"]
[null,null,{"$f":"Roster!C54","v":"F"},30.463000000000001,{"$f":"per_game!B54 & \"-\" & D54","v":"Kemba Walker-30.463"},{"$f":"per_game!I54","v":0.40100000000000002},{"$f":"per_game!L54","v":0.26500000000000001},{"$f":"per_game!O54","v":0.79700000000000004},{"$f":"per_game!R54","v":3.9},{"$f":"per_game!S54","v":5.9},{"$f":"per_game!T54","v":2.1},{"$f":"per_game!U54","v":0.5},{"$f":"per_game!X54","v":16.600000000000001},"F"]
[null,null,{"$f":"Roster!C55","v":"G"},26.396999999999998,{"$f":"per_game!B55 & \"-\" & D55","v":"Ramon Sessions-26.397"},{"$f":"per_game!I55","v":0.38},{"$f":"per_game!L55","v":0.2},{"$f":"per_game!O55","v":0.81699999999999995},{"$f":"per_game!R55","v":3.8},{"$f":"per_game!S55","v":4.7},{"$f":"per_game!T55","v":0.9},{"$f":"per_game!U55","v":0},{"$f":"per_game!X55","v":15.6},"C"]
[null,null,{"$f":"Roster!C56","v":"C"},22.990000000000002,{"$f":"per_game!B56 & \"-\" & D56","v":"Ben Gordon-22.99"},{"$f":"per_game!I56","v":0.45100000000000001},{"$f":"per_game!L56","v":0.48599999999999999},{"$f":"per_game!O56","v":0.85299999999999998},{"$f":"per_game!R56","v":2.2999999999999998},{"$f":"per_game!S56","v":2.9},{"$f":"per_game!T56","v":0.6},{"$f":"per_game!U56","v":0.4},{"$f":"per_game!X56","v":15},"F-C"]
[null,null,{"$f":"Roster!C57","v":"G"},25.817,{"$f":"per_game!B57 & \"-\" & D57","v":"Byron Mullens-25.817"},{"$f":"per_game!I57","v":0.374},{"$f":"per_game!L57","v":0.28599999999999998},{"$f":"per_game!O57","v":0.75700000000000001},{"$f":"per_game!R57","v":8.4},{"$f":"per_game!S57","v":1.2},{"$f":"per_game!T57","v":1.1000000000000001},{"$f":"per_game!U57","v":0.8},{"$f":"per_game!X57","v":12.9},"G-F"]
[null,null,{"$f":"Roster!C58","v":"C"},22.932000000000002,{"$f":"per_game!B58 & \"-\" & D58","v":"Michael Kidd-Gilchrist-22.932"},{"$f":"per_game!I58","v":0.45800000000000002},{"$f":"per_game!L58","v":0.5},{"$f":"per_game!O58","v":0.77400000000000002},{"$f":"per_game!R58","v":6.3},{"$f":"per_game!S58","v":1.6},{"$f":"per_game!T58","v":1.1000000000000001},{"$f":"per_game!U58","v":1.4},{"$f":"per_game!X58","v":10.8},"G"]
[null,null,{"$f":"Roster!C59","v":"G"},17.844999999999999,{"$f":"per_game!B59 & \"-\" & D59","v":"Gerald Henderson-17.845"},{"$f":"per_game!I59","v":0.37},{"$f":"per_game!L59","v":0.5},{"$f":"per_game!O59","v":0.875},{"$f":"per_game!R59","v":1.7},{"$f":"per_game!S59","v":1.7},{"$f":"per_game!T59","v":2},{"$f":"per_game!U59","v":0.7},{"$f":"per_game!X59","v":10},"F"]
[null,null,{"$f":"Roster!C60","v":"G"},14.696000000000002,{"$f":"per_game!B60 & \"-\" & D60","v":"Jeff Taylor-14.696"},{"$f":"per_game!I60","v":0.438},{"$f":"per_game!L60","v":0.38500000000000001},{"$f":"per_game!O60","v":0.77300000000000002},{"$f":"per_game!R60","v":2.4},{"$f":"per_game!S60","v":0.9},{"$f":"per_game!T60","v":1.2},{"$f":"per_game!U60","v":0.3},{"$f":"per_game!X60","v":8.3000000000000007},"G"]
[null,null,{"$f":"Roster!C61","v":"F"},13.79,{"$f":"per_game!B61 & \"-\" & D61","v":"Tyrus Thomas-13.79"},{"$f":"per_game!I61","v":0.34},{"$f":"per_game!L61","v":0},{"$f":"per_game!O61","v":0.85},{"$f":"per_game!R61","v":3.1},{"$f":"per_game!S61","v":1},{"$f":"per_game!T61","v":0.5},{"$f":"per_game!U61","v":1.4},{"$f":"per_game!X61","v":6.6},"G"]
[null,null,{"$f":"Roster!C62","v":"C"},16.348999999999997,{"$f":"per_game!B62 & \"-\" & D62","v":"Brendan Haywood-16.349"},{"$f":"per_game!I62","v":0.54900000000000004},{"$f":"per_game!L62","v":0},{"$f":"per_game!O62","v":0.5},{"$f":"per_game!R62","v":6.9},{"$f":"per_game!S62","v":0.7},{"$f":"per_game!T62","v":0.1},{"$f":"per_game!U62","v":1.1000000000000001},{"$f":"per_game!X62","v":6.5},"F"]
[null,null,{"$f":"Roster!C63","v":"G"},12.609,{"$f":"per_game!B63 & \"-\" & D63","v":"Bismack Biyombo-12.609"},{"$f":"per_game!I63","v":0.55300000000000005},{"$f":"per_game!L63","v":0},{"$f":"per_game!O63","v":0.55600000000000005},{"$f":"per_game!R63","v":5.0999999999999996},{"$f":"per_game!S63","v":0.1},{"$f":"per_game!T63","v":0.3},{"$f":"per_game!U63","v":1.6},{"$f":"per_game!X63","v":4.4000000000000004},"G"]
[null,null,{"$f":"Roster!C64","v":"F"},8.3119999999999994,{"$f":"per_game!B64 & \"-\" & D64","v":"Reggie Williams-8.312"},{"$f":"per_game!I64","v":0.46200000000000002},{"$f":"per_game!L64","v":0.35},{"$f":"per_game!O64","v":1},{"$f":"per_game!R64","v":1.2},{"$f":"per_game!S64","v":0.5},{"$f":"per_game!T64","v":0.7},{"$f":"per_game!U64","v":0},{"$f":"per_game!X64","v":4.0999999999999996},"F"]
[null,null,{"$f":"Roster!C65","v":"F"},5.5830000000000002,{"$f":"per_game!B65 & \"-\" & D65","v":"Hakim Warrick-5.583"},{"$f":"per_game!I65","v":0.13300000000000001},{"$f":"per_game!L65","v":0},{"$f":"per_game!O65","v":0.75},{"$f":"per_game!R65","v":1.8},{"$f":"per_game!S65","v":0.2},{"$f":"per_game!T65","v":0.2},{"$f":"per_game!U65","v":0.3},{"$f":"per_game!X65","v":2.2000000000000002},"C"]
[null,null,{"$f":"Roster!C66","v":"G"},3.4809999999999999,{"$f":"per_game!B66 & \"-\" & D66","v":"Cory Higgins-3.481"},{"$f":"per_game!I66","v":0.23100000000000001},{"$f":"per_game!L66","v":0.25},{"$f":"per_game!O66","v":0},{"$f":"per_game!R66","v":0.4},{"$f":"per_game!S66","v":0.8},{"$f":"per_game!T66","v":0.4},{"$f":"per_game!U66","v":0},{"$f":"per_game!X66","v":1.4}]
[null,null,{"$f":"Roster!C67","v":"F"},{"$f":"F67*$B$6+G67*$B$8+H67*$B$7+I67*$B$2+J67*$B$3+K67*$B$5+L67*$B$4+M67*$B$1","v":2.9999999999999996},{"$f":"per_game!B67 & \"-\" & D67","v":"DeSagana Diop-3"},{"$f":"per_game!I67","v":0},{"$f":"per_game!L67","v":0},{"$f":"per_game!O67","v":0},{"$f":"per_game!R67","v":1.9},{"$f":"per_game!S67","v":0.3},{"$f":"per_game!T67","v":0.3},{"$f":"per_game!U67","v":0.5},{"$f":"per_game!X67","v":0},"CLE"]
[null,null,{"$f":"Roster!C68","v":"F"},1,{"$f":"per_game!B68 & \"-\" & D68","v":"Matt Carroll-1"},{"$f":"per_game!I68","v":0},{"$f":"per_game!L68","v":0},{"$f":"per_game!O68","v":0},{"$f":"per_game!R68","v":0},{"$f":"per_game!S68","v":1},{"$f":"per_game!T68","v":0},{"$f":"per_game!U68","v":0},{"$f":"per_game!X68","v":0},"Rk"]
[null,null,{"$f":"Roster!C69","v":0},0,null,{"$f":"per_game!I69","v":0},{"$f":"per_game!L69","v":0},{"$f":"per_game!O69","v":0},{"$f":"per_game!R69","v":0},{"$f":"per_game!S69","v":0},{"$f":"per_game!T69","v":0},{"$f":"per_game!U69","v":0},{"$f":"per_game!X69","v":0},"G"]
[null,null,{"$f":"Roster!C70","v":0},0,null,{"$f":"per_game!I70","v":0},{"$f":"per_game!L70","v":0},{"$f":"per_game!O70","v":0},{"$f":"per_game!R70","v":0},{"$f":"per_game!S70","v":0},{"$f":"per_game!T70","v":0},{"$f":"per_game!U70","v":0},{"$f":"per_game!X70","v":0},"F-C"]
[null,null,{"$f":"Roster!C71","v":"Pos"},null,null,{"$f":"per_game!I71","v":"FG%"},{"$f":"per_game!L71","v":"3P%"},{"$f":"per_game!O71","v":"FT%"},{"$f":"per_game!R71","v":"TRB"},{"$f":"per_game!S71","v":"AST"},{"$f":"per_game!T71","v":"STL"},{"$f":"per_game!U71","v":"BLK"},{"$f":"per_game!X71","v":"PTS"},"G"]
[null,null,{"$f":"Roster!C72","v":"G"},30.977000000000004,{"$f":"per_game!B72 & \"-\" & D72","v":"Luol Deng-30.977"},{"$f":"per_game!I72","v":0.46200000000000002},{"$f":"per_game!L72","v":0.29799999999999999},{"$f":"per_game!O72","v":0.81699999999999995},{"$f":"per_game!R72","v":7.4},{"$f":"per_game!S72","v":2.7},{"$f":"per_game!T72","v":0.9},{"$f":"per_game!U72","v":0.3},{"$f":"per_game!X72","v":18.100000000000001},"G"]
[null,null,{"$f":"Roster!C73","v":"F-C"},21.16,{"$f":"per_game!B73 & \"-\" & D73","v":"Richard Hamilton-21.16"},{"$f":"per_game!I73","v":0.45500000000000002},{"$f":"per_game!L73","v":0.375},{"$f":"per_game!O73","v":0.93},{"$f":"per_game!R73","v":2.2999999999999998},{"$f":"per_game!S73","v":2.2999999999999998},{"$f":"per_game!T73","v":0.8},{"$f":"per_game!U73","v":0.1},{"$f":"per_game!X73","v":13.9},"F"]
[null,null,{"$f":"Roster!C74","v":"F"},27.561,{"$f":"per_game!B74 & \"-\" & D74","v":"Carlos Boozer-27.561"},{"$f":"per_game!I74","v":0.45400000000000001},{"$f":"per_game!L74","v":0},{"$f":"per_game!O74","v":0.70699999999999996},{"$f":"per_game!R74","v":9.6999999999999993},{"$f":"per_game!S74","v":1.9},{"$f":"per_game!T74","v":0.7},{"$f":"per_game!U74","v":0.4},{"$f":"per_game!X74","v":13.7},"G"]
[null,null,{"$f":"Roster!C75","v":"F"},32.349999999999994,{"$f":"per_game!B75 & \"-\" & D75","v":"Joakim Noah-32.35"},{"$f":"per_game!I75","v":0.47199999999999998},{"$f":"per_game!L75","v":0},{"$f":"per_game!O75","v":0.77800000000000002},{"$f":"per_game!R75","v":9.9},{"$f":"per_game!S75","v":4.3},{"$f":"per_game!T75","v":1.4},{"$f":"per_game!U75","v":2.2000000000000002},{"$f":"per_game!X75","v":13.3},"F-C"]
[null,null,{"$f":"Roster!C76","v":"F"},19.446999999999999,{"$f":"per_game!B76 & \"-\" & D76","v":"Nate Robinson-19.447"},{"$f":"per_game!I76","v":0.46800000000000003},{"$f":"per_game!L76","v":0.36399999999999999},{"$f":"per_game!O76","v":0.81499999999999995},{"$f":"per_game!R76","v":2.1},{"$f":"per_game!S76","v":3.6},{"$f":"per_game!T76","v":0.9},{"$f":"per_game!U76","v":0},{"$f":"per_game!X76","v":11.2},"G"]
[null,null,{"$f":"Roster!C77","v":"G-F"},15.921000000000001,{"$f":"per_game!B77 & \"-\" & D77","v":"Taj Gibson-15.921"},{"$f":"per_game!I77","v":0.44},{"$f":"per_game!L77","v":0},{"$f":"per_game!O77","v":0.78100000000000003},{"$f":"per_game!R77","v":4.9000000000000004},{"$f":"per_game!S77","v":0.9},{"$f":"per_game!T77","v":0.6},{"$f":"per_game!U77","v":1.3},{"$f":"per_game!X77","v":7},"F"]
[null,null,{"$f":"Roster!C78","v":"G"},16.837,{"$f":"per_game!B78 & \"-\" & D78","v":"Kirk Hinrich-16.837"},{"$f":"per_game!I78","v":0.32200000000000001},{"$f":"per_game!L78","v":0.28999999999999998},{"$f":"per_game!O78","v":0.625},{"$f":"per_game!R78","v":2.6},{"$f":"per_game!S78","v":5.6},{"$f":"per_game!T78","v":0.9},{"$f":"per_game!U78","v":0.3},{"$f":"per_game!X78","v":6.2},"F"]
[null,null,{"$f":"Roster!C79","v":"C"},10.811,{"$f":"per_game!B79 & \"-\" & D79","v":"Jimmy Butler-10.811"},{"$f":"per_game!I79","v":0.52900000000000003},{"$f":"per_game!L79","v":0.14299999999999999},{"$f":"per_game!O79","v":0.83899999999999997},{"$f":"per_game!R79","v":2.5},{"$f":"per_game!S79","v":0.7},{"$f":"per_game!T79","v":0.5},{"$f":"per_game!U79","v":0.2},{"$f":"per_game!X79","v":5.4},"F"]
[null,null,{"$f":"Roster!C80","v":"C"},8.77,{"$f":"per_game!B80 & \"-\" & D80","v":"Marco Belinelli-8.77"},{"$f":"per_game!I80","v":0.36799999999999999},{"$f":"per_game!L80","v":0.40699999999999997},{"$f":"per_game!O80","v":0.89500000000000002},{"$f":"per_game!R80","v":0.9},{"$f":"per_game!S80","v":0.7},{"$f":"per_game!T80","v":0.4},{"$f":"per_game!U80","v":0.1},{"$f":"per_game!X80","v":5},"G"]
[null,null,{"$f":"Roster!C81","v":"F"},2.5419999999999998,{"$f":"per_game!B81 & \"-\" & D81","v":"Vladimir Radmanovic-2.542"},{"$f":"per_game!I81","v":0.375},{"$f":"per_game!L81","v":0.16700000000000001},{"$f":"per_game!O81","v":0},{"$f":"per_game!R81","v":0.4},{"$f":"per_game!S81","v":0.2},{"$f":"per_game!T81","v":0},{"$f":"per_game!U81","v":0},{"$f":"per_game!X81","v":1.4},"G"]
[null,null,{"$f":"Roster!C82","v":"G"},4.0999999999999996,{"$f":"per_game!B82 & \"-\" & D82","v":"Marquis Teague-4.1"},{"$f":"per_game!I82","v":0.25},{"$f":"per_game!L82","v":0},{"$f":"per_game!O82","v":0.75},{"$f":"per_game!R82","v":0.7},{"$f":"per_game!S82","v":1.2},{"$f":"per_game!T82","v":0},{"$f":"per_game!U82","v":0},{"$f":"per_game!X82","v":1.2},"F"]
[null,null,{"$f":"Roster!C83","v":"G"},4.218,{"$f":"per_game!B83 & \"-\" & D83","v":"Nazr Mohammed-4.218"},{"$f":"per_game!I83","v":0.11799999999999999},{"$f":"per_game!L83","v":0},{"$f":"per_game!O83","v":0.5},{"$f":"per_game!R83","v":1.9},{"$f":"per_game!S83","v":0.3},{"$f":"per_game!T83","v":0.2},{"$f":"per_game!U83","v":0.5},{"$f":"per_game!X83","v":0.7}]
[null,null,{"$f":"Roster!C84","v":0},0,null,{"$f":"per_game!I84","v":0},{"$f":"per_game!L84","v":0},{"$f":"per_game!O84","v":0},{"$f":"per_game!R84","v":0},{"$f":"per_game!S84","v":0},{"$f":"per_game!T84","v":0},{"$f":"per_game!U84","v":0},{"$f":"per_game!X84","v":0},"DAL"]
[null,null,{"$f":"Roster!C85","v":0},0,null,{"$f":"per_game!I85","v":0},{"$f":"per_game!L85","v":0},{"$f":"per_game!O85","v":0},{"$f":"per_game!R85","v":0},{"$f":"per_game!S85","v":0},{"$f":"per_game!T85","v":0},{"$f":"per_game!U85","v":0},{"$f":"per_game!X85","v":0},"Rk"]
[null,null,{"$f":"Roster!C86","v":"Pos"},null,null,{"$f":"per_game!I86","v":"FG%"},{"$f":"per_game!L86","v":"3P%"},{"$f":"per_game!O86","v":"FT%"},{"$f":"per_game!R86","v":"TRB"},{"$f":"per_game!S86","v":"AST"},{"$f":"per_game!T86","v":"STL"},{"$f":"per_game!U86","v":"BLK"},{"$f":"per_game!X86","v":"PTS"},"G"]
[null,null,{"$f":"Roster!C87","v":"F"},35.278999999999996,{"$f":"per_game!B87 & \"-\" & D87","v":"Kyrie Irving-35.279"},{"$f":"per_game!I87","v":0.46300000000000002},{"$f":"per_game!L87","v":0.39100000000000001},{"$f":"per_game!O87","v":0.82499999999999996},{"$f":"per_game!R87","v":3.7},{"$f":"per_game!S87","v":5.6},{"$f":"per_game!T87","v":1.1000000000000001},{"$f":"per_game!U87","v":0.3},{"$f":"per_game!X87","v":22.9},"C"]
[null,null,{"$f":"Roster!C88","v":"G"},23.797999999999998,{"$f":"per_game!B88 & \"-\" & D88","v":"Dion Waiters-23.798"},{"$f":"per_game!I88","v":0.36299999999999999},{"$f":"per_game!L88","v":0.35499999999999998},{"$f":"per_game!O88","v":0.78},{"$f":"per_game!R88","v":2.2999999999999998},{"$f":"per_game!S88","v":3.4},{"$f":"per_game!T88","v":1.2},{"$f":"per_game!U88","v":0.2},{"$f":"per_game!X88","v":15.2},"G"]
[null,null,{"$f":"Roster!C89","v":"G"},37,{"$f":"per_game!B89 & \"-\" & D89","v":"Anderson Varejao-37"},{"$f":"per_game!I89","v":0.52200000000000002},{"$f":"per_game!L89","v":0},{"$f":"per_game!O89","v":0.77800000000000002},{"$f":"per_game!R89","v":15.4},{"$f":"per_game!S89","v":3.2},{"$f":"per_game!T89","v":1.5},{"$f":"per_game!U89","v":0.4},{"$f":"per_game!X89","v":15.2},"G-F"]
[null,null,{"$f":"Roster!C90","v":"G"},21.540999999999997,{"$f":"per_game!B90 & \"-\" & D90","v":"Alonzo Gee-21.541"},{"$f":"per_game!I90","v":0.39800000000000002},{"$f":"per_game!L90","v":0.29799999999999999},{"$f":"per_game!O90","v":0.84499999999999997},{"$f":"per_game!R90","v":3.7},{"$f":"per_game!S90","v":2.1},{"$f":"per_game!T90","v":1.7},{"$f":"per_game!U90","v":0.4},{"$f":"per_game!X90","v":12.1},"F"]
[null,null,{"$f":"Roster!C91","v":"F"},19.728999999999999,{"$f":"per_game!B91 & \"-\" & D91","v":"Jeremy Pargo-19.729"},{"$f":"per_game!I91","v":0.42099999999999999},{"$f":"per_game!L91","v":0.4},{"$f":"per_game!O91","v":0.70799999999999996},{"$f":"per_game!R91","v":1.9},{"$f":"per_game!S91","v":3.8},{"$f":"per_game!T91","v":0.8},{"$f":"per_game!U91","v":0},{"$f":"per_game!X91","v":11.7},"F"]
[null,null,{"$f":"Roster!C92","v":"G"},20.632999999999999,{"$f":"per_game!B92 & \"-\" & D92","v":"Tristan Thompson-20.633"},{"$f":"per_game!I92","v":0.44500000000000001},{"$f":"per_game!L92","v":0},{"$f":"per_game!O92","v":0.58799999999999997},{"$f":"per_game!R92","v":8.1},{"$f":"per_game!S92","v":1.2},{"$f":"per_game!T92","v":0.8},{"$f":"per_game!U92","v":0.6},{"$f":"per_game!X92","v":8.9},"F"]
[null,null,{"$f":"Roster!C93","v":"G"},14.959,{"$f":"per_game!B93 & \"-\" & D93","v":"Daniel Gibson-14.959"},{"$f":"per_game!I93","v":0.38900000000000001},{"$f":"per_game!L93","v":0.39200000000000002},{"$f":"per_game!O93","v":0.77800000000000002},{"$f":"per_game!R93","v":1.7},{"$f":"per_game!S93","v":2.1},{"$f":"per_game!T93","v":1},{"$f":"per_game!U93","v":0.1},{"$f":"per_game!X93","v":8.5},"F"]
[null,null,{"$f":"Roster!C94","v":"F"},14.295,{"$f":"per_game!B94 & \"-\" & D94","v":"Tyler Zeller-14.295"},{"$f":"per_game!I94","v":0.44700000000000001},{"$f":"per_game!L94","v":0},{"$f":"per_game!O94","v":0.54800000000000004},{"$f":"per_game!R94","v":4.8},{"$f":"per_game!S94","v":0.9},{"$f":"per_game!T94","v":0.4},{"$f":"per_game!U94","v":0.6},{"$f":"per_game!X94","v":6.6},"G"]
[null,null,{"$f":"Roster!C95","v":"G"},11.777999999999999,{"$f":"per_game!B95 & \"-\" & D95","v":"Omri Casspi-11.778"},{"$f":"per_game!I95","v":0.44600000000000001},{"$f":"per_game!L95","v":0.5},{"$f":"per_game!O95","v":0.63200000000000001},{"$f":"per_game!R95","v":2.5},{"$f":"per_game!S95","v":0.4},{"$f":"per_game!T95","v":0.6},{"$f":"per_game!U95","v":0.4},{"$f":"per_game!X95","v":6.3},"C"]
[null,null,{"$f":"Roster!C96","v":"F"},10.658999999999999,{"$f":"per_game!B96 & \"-\" & D96","v":"C.J. Miles-10.659"},{"$f":"per_game!I96","v":0.30299999999999999},{"$f":"per_game!L96","v":0.25600000000000001},{"$f":"per_game!O96","v":1},{"$f":"per_game!R96","v":2.1},{"$f":"per_game!S96","v":0.7},{"$f":"per_game!T96","v":0.4},{"$f":"per_game!U96","v":0.1},{"$f":"per_game!X96","v":5.8},"F"]
[null,null,{"$f":"Roster!C97","v":"F-C"},8.0889999999999986,{"$f":"per_game!B97 & \"-\" & D97","v":"Donald Sloan-8.089"},{"$f":"per_game!I97","v":0.36599999999999999},{"$f":"per_game!L97","v":0.27300000000000002},{"$f":"per_game!O97","v":0.75},{"$f":"per_game!R97","v":1.1000000000000001},{"$f":"per_game!S97","v":2},{"$f":"per_game!T97","v":0.1},{"$f":"per_game!U97","v":0},{"$f":"per_game!X97","v":3.5},"C"]
[null,null,{"$f":"Roster!C98","v":"G"},6.8599999999999994,{"$f":"per_game!B98 & \"-\" & D98","v":"Samardo Samuels-6.86"},{"$f":"per_game!I98","v":0.38900000000000001},{"$f":"per_game!L98","v":0},{"$f":"per_game!O98","v":0.57099999999999995},{"$f":"per_game!R98","v":1.7},{"$f":"per_game!S98","v":0.4},{"$f":"per_game!T98","v":0.2},{"$f":"per_game!U98","v":0.3},{"$f":"per_game!X98","v":3.3},"G"]
[null,null,{"$f":"Roster!C99","v":"F"},6.6660000000000004,{"$f":"per_game!B99 & \"-\" & D99","v":"Jon Leuer-6.666"},{"$f":"per_game!I99","v":0.33300000000000002},{"$f":"per_game!L99","v":0},{"$f":"per_game!O99","v":0.33300000000000002},{"$f":"per_game!R99","v":2},{"$f":"per_game!S99","v":0.6},{"$f":"per_game!T99","v":0.2},{"$f":"per_game!U99","v":0},{"$f":"per_game!X99","v":3.2},"G"]
[null,null,{"$f":"Roster!C100","v":"F-C"},1.9430000000000001,{"$f":"per_game!B100 & \"-\" & D100","v":"Luke Walton-1.943"},{"$f":"per_game!I100","v":0.14299999999999999},{"$f":"per_game!L100","v":0},{"$f":"per_game!O100","v":0},{"$f":"per_game!R100","v":0.6},{"$f":"per_game!S100","v":0.4},{"$f":"per_game!T100","v":0.4},{"$f":"per_game!U100","v":0},{"$f":"per_game!X100","v":0.4},"G"]
[null,null,{"$f":"Roster!C101","v":0},0,null,{"$f":"per_game!I101","v":0},{"$f":"per_game!L101","v":0},{"$f":"per_game!O101","v":0},{"$f":"per_game!R101","v":0},{"$f":"per_game!S101","v":0},{"$f":"per_game!T101","v":0},{"$f":"per_game!U101","v":0},{"$f":"per_game!X101","v":0}]
[null,null,{"$f":"Roster!C102","v":0},0,null,{"$f":"per_game!I102","v":0},{"$f":"per_game!L102","v":0},{"$f":"per_game!O102","v":0},{"$f":"per_game!R102","v":0},{"$f":"per_game!S102","v":0},{"$f":"per_game!T102","v":0},{"$f":"per_game!U102","v":0},{"$f":"per_game!X102","v":0},"DEN"]
[null,null,{"$f":"Roster!C103","v":"Pos"},null,null,{"$f":"per_game!I103","v":"FG%"},{"$f":"per_game!L103","v":"3P%"},{"$f":"per_game!O103","v":"FT%"},{"$f":"per_game!R103","v":"TRB"},{"$f":"per_game!S103","v":"AST"},{"$f":"per_game!T103","v":"STL"},{"$f":"per_game!U103","v":"BLK"},{"$f":"per_game!X103","v":"PTS"},"Rk"]
[null,null,{"$f":"Roster!C104","v":"G"},29.650999999999996,{"$f":"per_game!B104 & \"-\" & D104","v":"O.J. Mayo-29.651"},{"$f":"per_game!I104","v":0.47599999999999998},{"$f":"per_game!L104","v":0.52700000000000002},{"$f":"per_game!O104","v":0.84799999999999998},{"$f":"per_game!R104","v":3.5},{"$f":"per_game!S104","v":3.2},{"$f":"per_game!T104","v":0.7},{"$f":"per_game!U104","v":0.2},{"$f":"per_game!X104","v":20.2},"G-F"]
[null,null,{"$f":"Roster!C105","v":"F"},24.128999999999998,{"$f":"per_game!B105 & \"-\" & D105","v":"Chris Kaman-24.129"},{"$f":"per_game!I105","v":0.51800000000000002},{"$f":"per_game!L105","v":0},{"$f":"per_game!O105","v":0.81100000000000005},{"$f":"per_game!R105","v":6.9},{"$f":"per_game!S105","v":1},{"$f":"per_game!T105","v":0.2},{"$f":"per_game!U105","v":1.1000000000000001},{"$f":"per_game!X105","v":13.6},"F"]
[null,null,{"$f":"Roster!C106","v":"G-F"},20.8,{"$f":"per_game!B106 & \"-\" & D106","v":"Vince Carter-20.8"},{"$f":"per_game!I106","v":0.42599999999999999},{"$f":"per_game!L106","v":0.42399999999999999},{"$f":"per_game!O106","v":0.75},{"$f":"per_game!R106","v":3.1},{"$f":"per_game!S106","v":1.7},{"$f":"per_game!T106","v":0.8},{"$f":"per_game!U106","v":0.5},{"$f":"per_game!X106","v":13.1},"F"]
[null,null,{"$f":"Roster!C107","v":"G"},24.155999999999999,{"$f":"per_game!B107 & \"-\" & D107","v":"Darren Collison-24.156"},{"$f":"per_game!I107","v":0.436},{"$f":"per_game!L107","v":0.33300000000000002},{"$f":"per_game!O107","v":0.88700000000000001},{"$f":"per_game!R107","v":2.2999999999999998},{"$f":"per_game!S107","v":6.4},{"$f":"per_game!T107","v":1.4},{"$f":"per_game!U107","v":0},{"$f":"per_game!X107","v":12.4},"G"]
[null,null,{"$f":"Roster!C108","v":"F"},22.651,{"$f":"per_game!B108 & \"-\" & D108","v":"Shawn Marion-22.651"},{"$f":"per_game!I108","v":0.48399999999999999},{"$f":"per_game!L108","v":0.38500000000000001},{"$f":"per_game!O108","v":0.88200000000000001},{"$f":"per_game!R108","v":7.4},{"$f":"per_game!S108","v":2.8},{"$f":"per_game!T108","v":0.8},{"$f":"per_game!U108","v":0.7},{"$f":"per_game!X108","v":9.1999999999999993},"C"]
[null,null,{"$f":"Roster!C109","v":"G"},15.283000000000001,{"$f":"per_game!B109 & \"-\" & D109","v":"Brandan Wright-15.283"},{"$f":"per_game!I109","v":0.64700000000000002},{"$f":"per_game!L109","v":0},{"$f":"per_game!O109","v":0.63600000000000001},{"$f":"per_game!R109","v":3.3},{"$f":"per_game!S109","v":0.8},{"$f":"per_game!T109","v":0.5},{"$f":"per_game!U109","v":0.9},{"$f":"per_game!X109","v":8.5},"G"]
[null,null,{"$f":"Roster!C110","v":"C"},18.29,{"$f":"per_game!B110 & \"-\" & D110","v":"Elton Brand-18.29"},{"$f":"per_game!I110","v":0.39},{"$f":"per_game!L110","v":0},{"$f":"per_game!O110","v":0.8},{"$f":"per_game!R110","v":6.4},{"$f":"per_game!S110","v":1.6},{"$f":"per_game!T110","v":0.8},{"$f":"per_game!U110","v":1.4},{"$f":"per_game!X110","v":6.9},"F"]
[null,null,{"$f":"Roster!C111","v":"G"},13.321,{"$f":"per_game!B111 & \"-\" & D111","v":"Jae Crowder-13.321"},{"$f":"per_game!I111","v":0.42299999999999999},{"$f":"per_game!L111","v":0.32700000000000001},{"$f":"per_game!O111","v":0.47099999999999997},{"$f":"per_game!R111","v":2.7},{"$f":"per_game!S111","v":1.2},{"$f":"per_game!T111","v":1.1000000000000001},{"$f":"per_game!U111","v":0.3},{"$f":"per_game!X111","v":6.8},"C"]
[null,null,{"$f":"Roster!C112","v":"C"},11.283999999999999,{"$f":"per_game!B112 & \"-\" & D112","v":"Troy Murphy-11.284"},{"$f":"per_game!I112","v":0.36099999999999999},{"$f":"per_game!L112","v":0.314},{"$f":"per_game!O112","v":0.90900000000000003},{"$f":"per_game!R112","v":3.5},{"$f":"per_game!S112","v":0.5},{"$f":"per_game!T112","v":0.7},{"$f":"per_game!U112","v":0.4},{"$f":"per_game!X112","v":4.5999999999999996},"F"]
[null,null,{"$f":"Roster!C113","v":"G"},7.25,{"$f":"per_game!B113 & \"-\" & D113","v":"Eddy Curry-7.25"},{"$f":"per_game!I113","v":0.5},{"$f":"per_game!L113","v":0},{"$f":"per_game!O113","v":0.25},{"$f":"per_game!R113","v":2},{"$f":"per_game!S113","v":0},{"$f":"per_game!T113","v":0},{"$f":"per_game!U113","v":0},{"$f":"per_game!X113","v":4.5},"G-F"]
[null,null,{"$f":"Roster!C114","v":"G"},11.177,{"$f":"per_game!B114 & \"-\" & D114","v":"Rodrigue Beaubois-11.177"},{"$f":"per_game!I114","v":0.314},{"$f":"per_game!L114","v":0.26300000000000001},{"$f":"per_game!O114","v":0.8},{"$f":"per_game!R114","v":1.8},{"$f":"per_game!S114","v":2.7},{"$f":"per_game!T114","v":0.7},{"$f":"per_game!U114","v":0.1},{"$f":"per_game!X114","v":4.5},"G-F"]
[null,null,{"$f":"Roster!C115","v":"C"},10.282,{"$f":"per_game!B115 & \"-\" & D115","v":"Bernard James-10.282"},{"$f":"per_game!I115","v":0.5},{"$f":"per_game!L115","v":0},{"$f":"per_game!O115","v":0.68200000000000005},{"$f":"per_game!R115","v":3.8},{"$f":"per_game!S115","v":0},{"$f":"per_game!T115","v":0.2},{"$f":"per_game!U115","v":0.9},{"$f":"per_game!X115","v":4.2},"C"]
[null,null,{"$f":"Roster!C116","v":"F"},11.632999999999999,{"$f":"per_game!B116 & \"-\" & D116","v":"Dominique Jones-11.633"},{"$f":"per_game!I116","v":0.33300000000000002},{"$f":"per_game!L116","v":0},{"$f":"per_game!O116","v":0.5},{"$f":"per_game!R116","v":2.1},{"$f":"per_game!S116","v":3.6},{"$f":"per_game!T116","v":0.8},{"$f":"per_game!U116","v":0.1},{"$f":"per_game!X116","v":4.2},"F"]
[null,null,{"$f":"Roster!C117","v":"G"},6.4219999999999997,{"$f":"per_game!B117 & \"-\" & D117","v":"Dahntay Jones-6.422"},{"$f":"per_game!I117","v":0.316},{"$f":"per_game!L117","v":0.27300000000000002},{"$f":"per_game!O117","v":0.83299999999999996},{"$f":"per_game!R117","v":1.5},{"$f":"per_game!S117","v":0.4},{"$f":"per_game!T117","v":0.2},{"$f":"per_game!U117","v":0.1},{"$f":"per_game!X117","v":2.8}]
[null,null,{"$f":"Roster!C118","v":"F"},9.125,{"$f":"per_game!B118 & \"-\" & D118","v":"Derek Fisher-9.125"},{"$f":"per_game!I118","v":0.125},{"$f":"per_game!L118","v":0},{"$f":"per_game!O118","v":0},{"$f":"per_game!R118","v":2},{"$f":"per_game!S118","v":3},{"$f":"per_game!T118","v":2},{"$f":"per_game!U118","v":0},{"$f":"per_game!X118","v":2},"DET"]
[null,null,{"$f":"Roster!C119","v":"F"},3.431,null,{"$f":"per_game!I119","v":0.36399999999999999},{"$f":"per_game!L119","v":0.66700000000000004},{"$f":"per_game!O119","v":0},{"$f":"per_game!R119","v":0.3},{"$f":"per_game!S119","v":0.2},{"$f":"per_game!T119","v":0.2},{"$f":"per_game!U119","v":0},{"$f":"per_game!X119","v":1.7},"Rk"]
[null,null,{"$f":"Roster!C120","v":0},0,null,{"$f":"per_game!I120","v":0},{"$f":"per_game!L120","v":0},{"$f":"per_game!O120","v":0},{"$f":"per_game!R120","v":0},{"$f":"per_game!S120","v":0},{"$f":"per_game!T120","v":0},{"$f":"per_game!U120","v":0},{"$f":"per_game!X120","v":0},"F-C"]
[null,null,{"$f":"Roster!C121","v":0},0,null,{"$f":"per_game!I121","v":0},{"$f":"per_game!L121","v":0},{"$f":"per_game!O121","v":0},{"$f":"per_game!R121","v":0},{"$f":"per_game!S121","v":0},{"$f":"per_game!T121","v":0},{"$f":"per_game!U121","v":0},{"$f":"per_game!X121","v":0},"F"]
[null,null,{"$f":"Roster!C122","v":"Pos"},null,{"$f":"per_game!B122 & \"-\" & D122","v":"Player-"},{"$f":"per_game!I122","v":"FG%"},{"$f":"per_game!L122","v":"3P%"},{"$f":"per_game!O122","v":"FT%"},{"$f":"per_game!R122","v":"TRB"},{"$f":"per_game!S122","v":"AST"},{"$f":"per_game!T122","v":"STL"},{"$f":"per_game!U122","v":"BLK"},{"$f":"per_game!X122","v":"PTS"},"G"]
[null,null,{"$f":"Roster!C123","v":"F"},26.661999999999999,{"$f":"per_game!B123 & \"-\" & D123","v":"Danilo Gallinari-26.662"},{"$f":"per_game!I123","v":0.38500000000000001},{"$f":"per_game!L123","v":0.28999999999999998},{"$f":"per_game!O123","v":0.78700000000000003},{"$f":"per_game!R123","v":6.1},{"$f":"per_game!S123","v":2.4},{"$f":"per_game!T123","v":0.6},{"$f":"per_game!U123","v":0.6},{"$f":"per_game!X123","v":15.5},"G"]
[null,null,{"$f":"Roster!C124","v":"F"},27.529,{"$f":"per_game!B124 & \"-\" & D124","v":"Andre Iguodala-27.529"},{"$f":"per_game!I124","v":0.45700000000000002},{"$f":"per_game!L124","v":0.38800000000000001},{"$f":"per_game!O124","v":0.68400000000000005},{"$f":"per_game!R124","v":5.5},{"$f":"per_game!S124","v":3.8},{"$f":"per_game!T124","v":1.1000000000000001},{"$f":"per_game!U124","v":0.7},{"$f":"per_game!X124","v":14.9},"F"]
[null,null,{"$f":"Roster!C125","v":"F"},26.576000000000001,{"$f":"per_game!B125 & \"-\" & D125","v":"Ty Lawson-26.576"},{"$f":"per_game!I125","v":0.40300000000000002},{"$f":"per_game!L125","v":0.28000000000000003},{"$f":"per_game!O125","v":0.59299999999999997},{"$f":"per_game!R125","v":2.7},{"$f":"per_game!S125","v":7.2},{"$f":"per_game!T125","v":1.9},{"$f":"per_game!U125","v":0.1},{"$f":"per_game!X125","v":13.4},"F"]
[null,null,{"$f":"Roster!C126","v":"G-F"},27.542999999999999,{"$f":"per_game!B126 & \"-\" & D126","v":"Kenneth Faried-27.543"},{"$f":"per_game!I126","v":0.56100000000000005},{"$f":"per_game!L126","v":0},{"$f":"per_game!O126","v":0.58199999999999996},{"$f":"per_game!R126","v":10.5},{"$f":"per_game!S126","v":0.7},{"$f":"per_game!T126","v":0.9},{"$f":"per_game!U126","v":1.1000000000000001},{"$f":"per_game!X126","v":13.2},"F"]
[null,null,{"$f":"Roster!C127","v":"F"},20.282,{"$f":"per_game!B127 & \"-\" & D127","v":"JaVale McGee-20.282"},{"$f":"per_game!I127","v":0.55500000000000005},{"$f":"per_game!L127","v":0},{"$f":"per_game!O127","v":0.627},{"$f":"per_game!R127","v":5.7},{"$f":"per_game!S127","v":0.6},{"$f":"per_game!T127","v":0.2},{"$f":"per_game!U127","v":1.8},{"$f":"per_game!X127","v":10.8},"F"]
[null,null,{"$f":"Roster!C128","v":"G-F"},17.483000000000001,{"$f":"per_game!B128 & \"-\" & D128","v":"Corey Brewer-17.483"},{"$f":"per_game!I128","v":0.41299999999999998},{"$f":"per_game!L128","v":0.38},{"$f":"per_game!O128","v":0.69},{"$f":"per_game!R128","v":3.1},{"$f":"per_game!S128","v":0.7},{"$f":"per_game!T128","v":1.4},{"$f":"per_game!U128","v":0.3},{"$f":"per_game!X128","v":10.5},"G"]
[null,null,{"$f":"Roster!C129","v":"G-F"},18.891999999999999,{"$f":"per_game!B129 & \"-\" & D129","v":"Andre Miller-18.892"},{"$f":"per_game!I129","v":0.47099999999999997},{"$f":"per_game!L129","v":0.26700000000000002},{"$f":"per_game!O129","v":0.85399999999999998},{"$f":"per_game!R129","v":2.8},{"$f":"per_game!S129","v":5.0999999999999996},{"$f":"per_game!T129","v":0.8},{"$f":"per_game!U129","v":0.2},{"$f":"per_game!X129","v":8.4},"C"]
[null,null,{"$f":"Roster!C130","v":"C"},12.172000000000001,{"$f":"per_game!B130 & \"-\" & D130","v":"Jordan Hamilton-12.172"},{"$f":"per_game!I130","v":0.42899999999999999},{"$f":"per_game!L130","v":0.40699999999999997},{"$f":"per_game!O130","v":0.63600000000000001},{"$f":"per_game!R130","v":2.9},{"$f":"per_game!S130","v":0.8},{"$f":"per_game!T130","v":0.3},{"$f":"per_game!U130","v":0.2},{"$f":"per_game!X130","v":6.5},"F"]
[null,null,{"$f":"Roster!C131","v":"G"},{"$f":"F131*$B$6+G131*$B$8+H131*$B$7+I131*$B$2+J131*$B$3+K131*$B$5+L131*$B$4+M131*$B$1","v":12.863},{"$f":"per_game!B131 & \"-\" & D131","v":"Wilson Chandler-12.863"},{"$f":"per_game!I131","v":0.313},{"$f":"per_game!L131","v":0.25},{"$f":"per_game!O131","v":0.5},{"$f":"per_game!R131","v":5},{"$f":"per_game!S131","v":0},{"$f":"per_game!T131","v":0},{"$f":"per_game!U131","v":0.3},{"$f":"per_game!X131","v":6.5},"G"]
[null,null,{"$f":"Roster!C132","v":"C"},15.959,{"$f":"per_game!B132 & \"-\" & D132","v":"Kosta Koufos-15.959"},{"$f":"per_game!I132","v":0.52100000000000002},{"$f":"per_game!L132","v":0},{"$f":"per_game!O132","v":0.53800000000000003},{"$f":"per_game!R132","v":5.9},{"$f":"per_game!S132","v":0.5},{"$f":"per_game!T132","v":0.6},{"$f":"per_game!U132","v":1.6},{"$f":"per_game!X132","v":6.3},"F"]
[null,null,{"$f":"Roster!C133","v":"G"},5.9989999999999997,{"$f":"per_game!B133 & \"-\" & D133","v":"Evan Fournier-5.999"},{"$f":"per_game!I133","v":0.52600000000000002},{"$f":"per_game!L133","v":0.27300000000000002},{"$f":"per_game!O133","v":0.5},{"$f":"per_game!R133","v":0.4},{"$f":"per_game!S133","v":0.9},{"$f":"per_game!T133","v":0},{"$f":"per_game!U133","v":0},{"$f":"per_game!X133","v":3.4},"F"]
[null,null,{"$f":"Roster!C134","v":"C"},9.1999999999999993,{"$f":"per_game!B134 & \"-\" & D134","v":"Timofey Mozgov-9.2"},{"$f":"per_game!I134","v":0.6},{"$f":"per_game!L134","v":0},{"$f":"per_game!O134","v":1},{"$f":"per_game!R134","v":3.3},{"$f":"per_game!S134","v":0.3},{"$f":"per_game!T134","v":0.3},{"$f":"per_game!U134","v":0.6},{"$f":"per_game!X134","v":3.1}]
[null,null,{"$f":"Roster!C135","v":"F"},3.3330000000000002,null,{"$f":"per_game!I135","v":0.33300000000000002},{"$f":"per_game!L135","v":0},{"$f":"per_game!O135","v":0},{"$f":"per_game!R135","v":1},{"$f":"per_game!S135","v":1},{"$f":"per_game!T135","v":0},{"$f":"per_game!U135","v":0.3},{"$f":"per_game!X135","v":0.7},"GSW"]
[null,null,{"$f":"Roster!C136","v":0},0,null,{"$f":"per_game!I136","v":0},{"$f":"per_game!L136","v":0},{"$f":"per_game!O136","v":0},{"$f":"per_game!R136","v":0},{"$f":"per_game!S136","v":0},{"$f":"per_game!T136","v":0},{"$f":"per_game!U136","v":0},{"$f":"per_game!X136","v":0},"Rk"]
[null,null,{"$f":"Roster!C137","v":0},0,null,{"$f":"per_game!I137","v":0},{"$f":"per_game!L137","v":0},{"$f":"per_game!O137","v":0},{"$f":"per_game!R137","v":0},{"$f":"per_game!S137","v":0},{"$f":"per_game!T137","v":0},{"$f":"per_game!U137","v":0},{"$f":"per_game!X137","v":0},"G"]
[null,null,{"$f":"Roster!C138","v":"Pos"},null,{"$f":"per_game!B138 & \"-\" & D138","v":"Player-"},{"$f":"per_game!I138","v":"FG%"},{"$f":"per_game!L138","v":"3P%"},{"$f":"per_game!O138","v":"FT%"},{"$f":"per_game!R138","v":"TRB"},{"$f":"per_game!S138","v":"AST"},{"$f":"per_game!T138","v":"STL"},{"$f":"per_game!U138","v":"BLK"},{"$f":"per_game!X138","v":"PTS"},"G"]
[null,null,{"$f":"Roster!C139","v":"G"},32.760999999999996,{"$f":"per_game!B139 & \"-\" & D139","v":"Greg Monroe-32.761"},{"$f":"per_game!I139","v":0.46300000000000002},{"$f":"per_game!L139","v":0},{"$f":"per_game!O139","v":0.69799999999999995},{"$f":"per_game!R139","v":9.9},{"$f":"per_game!S139","v":3.5},{"$f":"per_game!T139","v":1.7},{"$f":"per_game!U139","v":0.8},{"$f":"per_game!X139","v":15.7},"F"]
[null,null,{"$f":"Roster!C140","v":"F"},24.621000000000002,{"$f":"per_game!B140 & \"-\" & D140","v":"Brandon Knight-24.621"},{"$f":"per_game!I140","v":0.42199999999999999},{"$f":"per_game!L140","v":0.40799999999999997},{"$f":"per_game!O140","v":0.79100000000000004},{"$f":"per_game!R140","v":3.6},{"$f":"per_game!S140","v":5.3},{"$f":"per_game!T140","v":0.5},{"$f":"per_game!U140","v":0.1},{"$f":"per_game!X140","v":13.5},"F"]
[null,null,{"$f":"Roster!C141","v":"C"},21.398000000000003,{"$f":"per_game!B141 & \"-\" & D141","v":"Tayshaun Prince-21.398"},{"$f":"per_game!I141","v":0.45900000000000002},{"$f":"per_game!L141","v":0.42899999999999999},{"$f":"per_game!O141","v":0.81},{"$f":"per_game!R141","v":4.2},{"$f":"per_game!S141","v":2.4},{"$f":"per_game!T141","v":0.5},{"$f":"per_game!U141","v":0.3},{"$f":"per_game!X141","v":12.3},"F"]
[null,null,{"$f":"Roster!C142","v":"G"},17.728000000000002,{"$f":"per_game!B142 & \"-\" & D142","v":"Kyle Singler-17.728"},{"$f":"per_game!I142","v":0.504},{"$f":"per_game!L142","v":0.44900000000000001},{"$f":"per_game!O142","v":0.77500000000000002},{"$f":"per_game!R142","v":3.6},{"$f":"per_game!S142","v":1},{"$f":"per_game!T142","v":0.5},{"$f":"per_game!U142","v":0.6},{"$f":"per_game!X142","v":10.3},"G"]
[null,null,{"$f":"Roster!C143","v":"F"},18.244,{"$f":"per_game!B143 & \"-\" & D143","v":"Rodney Stuckey-18.244"},{"$f":"per_game!I143","v":0.34699999999999998},{"$f":"per_game!L143","v":0.2},{"$f":"per_game!O143","v":0.79700000000000004},{"$f":"per_game!R143","v":3},{"$f":"per_game!S143","v":3.7},{"$f":"per_game!T143","v":0.3},{"$f":"per_game!U143","v":0.3},{"$f":"per_game!X143","v":9.6},"F"]
[null,null,{"$f":"Roster!C144","v":"G"},19.3,{"$f":"per_game!B144 & \"-\" & D144","v":"Jason Maxiell-19.3"},{"$f":"per_game!I144","v":0.51100000000000001},{"$f":"per_game!L144","v":0},{"$f":"per_game!O144","v":0.68899999999999995},{"$f":"per_game!R144","v":6.5},{"$f":"per_game!S144","v":0.7},{"$f":"per_game!T144","v":0.4},{"$f":"per_game!U144","v":1.6},{"$f":"per_game!X144","v":8.9},"C"]
[null,null,{"$f":"Roster!C145","v":"F"},11.89,{"$f":"per_game!B145 & \"-\" & D145","v":"Charlie Villanueva-11.89"},{"$f":"per_game!I145","v":0.40400000000000003},{"$f":"per_game!L145","v":0.36399999999999999},{"$f":"per_game!O145","v":0.222},{"$f":"per_game!R145","v":2.6},{"$f":"per_game!S145","v":0.9},{"$f":"per_game!T145","v":0.4},{"$f":"per_game!U145","v":0.3},{"$f":"per_game!X145","v":6.7},"C"]
[null,null,{"$f":"Roster!C146","v":"F"},16.133000000000003,{"$f":"per_game!B146 & \"-\" & D146","v":"Andre Drummond-16.133"},{"$f":"per_game!I146","v":0.55100000000000005},{"$f":"per_game!L146","v":0.5},{"$f":"per_game!O146","v":0.38200000000000001},{"$f":"per_game!R146","v":6.2},{"$f":"per_game!S146","v":0.5},{"$f":"per_game!T146","v":0.8},{"$f":"per_game!U146","v":1.3},{"$f":"per_game!X146","v":5.9},"F"]
[null,null,{"$f":"Roster!C147","v":"F"},11.596,{"$f":"per_game!B147 & \"-\" & D147","v":"Jonas Jerebko-11.596"},{"$f":"per_game!I147","v":0.35899999999999999},{"$f":"per_game!L147","v":0.2},{"$f":"per_game!O147","v":0.73699999999999999},{"$f":"per_game!R147","v":2.9},{"$f":"per_game!S147","v":0.5},{"$f":"per_game!T147","v":0.9},{"$f":"per_game!U147","v":0.2},{"$f":"per_game!X147","v":5.8},"C"]
[null,null,{"$f":"Roster!C148","v":"F-C"},11.178999999999998,{"$f":"per_game!B148 & \"-\" & D148","v":"Will Bynum-11.179"},{"$f":"per_game!I148","v":0.374},{"$f":"per_game!L148","v":0.2},{"$f":"per_game!O148","v":0.90500000000000003},{"$f":"per_game!R148","v":0.9},{"$f":"per_game!S148","v":2.5},{"$f":"per_game!T148","v":0.6},{"$f":"per_game!U148","v":0.1},{"$f":"per_game!X148","v":5.6},"G"]
[null,null,{"$f":"Roster!C149","v":"F"},9.9659999999999993,{"$f":"per_game!B149 & \"-\" & D149","v":"Corey Maggette-9.966"},{"$f":"per_game!I149","v":0.38300000000000001},{"$f":"per_game!L149","v":0.35699999999999998},{"$f":"per_game!O149","v":0.82599999999999996},{"$f":"per_game!R149","v":1},{"$f":"per_game!S149","v":1.4},{"$f":"per_game!T149","v":0.4},{"$f":"per_game!U149","v":0.1},{"$f":"per_game!X149","v":5.5},"F"]
[null,null,{"$f":"Roster!C150","v":"F"},6.7789999999999999,{"$f":"per_game!B150 & \"-\" & D150","v":"Kim English-6.779"},{"$f":"per_game!I150","v":0.379},{"$f":"per_game!L150","v":0.5},{"$f":"per_game!O150","v":1},{"$f":"per_game!R150","v":0.5},{"$f":"per_game!S150","v":0.7},{"$f":"per_game!T150","v":0.3},{"$f":"per_game!U150","v":0.2},{"$f":"per_game!X150","v":3.2},"C"]
[null,null,{"$f":"Roster!C151","v":"G"},5.0229999999999997,{"$f":"per_game!B151 & \"-\" & D151","v":"Austin Daye-5.023"},{"$f":"per_game!I151","v":0.55600000000000005},{"$f":"per_game!L151","v":0.66700000000000004},{"$f":"per_game!O151","v":0},{"$f":"per_game!R151","v":1},{"$f":"per_game!S151","v":0.4},{"$f":"per_game!T151","v":0},{"$f":"per_game!U151","v":0},{"$f":"per_game!X151","v":2.4},"G"]
[null,null,{"$f":"Roster!C152","v":"F"},3.7,null,{"$f":"per_game!I152","v":0.33300000000000002},{"$f":"per_game!L152","v":0},{"$f":"per_game!O152","v":0.66700000000000004},{"$f":"per_game!R152","v":0},{"$f":"per_game!S152","v":0.7},{"$f":"per_game!T152","v":0.7},{"$f":"per_game!U152","v":0},{"$f":"per_game!X152","v":1.3}]
[null,null,{"$f":"Roster!C153","v":0},0,null,{"$f":"per_game!I153","v":0},{"$f":"per_game!L153","v":0},{"$f":"per_game!O153","v":0},{"$f":"per_game!R153","v":0},{"$f":"per_game!S153","v":0},{"$f":"per_game!T153","v":0},{"$f":"per_game!U153","v":0},{"$f":"per_game!X153","v":0},"HOU"]
[null,null,{"$f":"Roster!C154","v":0},0,null,{"$f":"per_game!I154","v":0},{"$f":"per_game!L154","v":0},{"$f":"per_game!O154","v":0},{"$f":"per_game!R154","v":0},{"$f":"per_game!S154","v":0},{"$f":"per_game!T154","v":0},{"$f":"per_game!U154","v":0},{"$f":"per_game!X154","v":0},"Rk"]
[null,null,{"$f":"Roster!C155","v":"Pos"},null,{"$f":"per_game!B155 & \"-\" & D155","v":"Player-"},{"$f":"per_game!I155","v":"FG%"},{"$f":"per_game!L155","v":"3P%"},{"$f":"per_game!O155","v":"FT%"},{"$f":"per_game!R155","v":"TRB"},{"$f":"per_game!S155","v":"AST"},{"$f":"per_game!T155","v":"STL"},{"$f":"per_game!U155","v":"BLK"},{"$f":"per_game!X155","v":"PTS"},"G"]
[null,null,{"$f":"Roster!C156","v":"F"},32.625,{"$f":"per_game!B156 & \"-\" & D156","v":"Stephen Curry-32.625"},{"$f":"per_game!I156","v":0.41799999999999998},{"$f":"per_game!L156","v":0.41299999999999998},{"$f":"per_game!O156","v":0.89400000000000002},{"$f":"per_game!R156","v":3.9},{"$f":"per_game!S156","v":6.4},{"$f":"per_game!T156","v":1.6},{"$f":"per_game!U156","v":0.1},{"$f":"per_game!X156","v":18.899999999999999},"F"]
[null,null,{"$f":"Roster!C157","v":"G"},34.558999999999997,{"$f":"per_game!B157 & \"-\" & D157","v":"David Lee-34.559"},{"$f":"per_game!I157","v":0.49},{"$f":"per_game!L157","v":0},{"$f":"per_game!O157","v":0.76900000000000002},{"$f":"per_game!R157","v":10.7},{"$f":"per_game!S157","v":3.8},{"$f":"per_game!T157","v":1.1000000000000001},{"$f":"per_game!U157","v":0.3},{"$f":"per_game!X157","v":17.399999999999999},"G"]
[null,null,{"$f":"Roster!C158","v":"C"},23.997,{"$f":"per_game!B158 & \"-\" & D158","v":"Klay Thompson-23.997"},{"$f":"per_game!I158","v":0.375},{"$f":"per_game!L158","v":0.32200000000000001},{"$f":"per_game!O158","v":0.8},{"$f":"per_game!R158","v":4.0999999999999996},{"$f":"per_game!S158","v":2.2000000000000002},{"$f":"per_game!T158","v":0.4},{"$f":"per_game!U158","v":0.4},{"$f":"per_game!X158","v":15.4},"C"]
[null,null,{"$f":"Roster!C159","v":"C"},24.365000000000002,{"$f":"per_game!B159 & \"-\" & D159","v":"Carl Landry-24.365"},{"$f":"per_game!I159","v":0.56999999999999995},{"$f":"per_game!L159","v":0},{"$f":"per_game!O159","v":0.79500000000000004},{"$f":"per_game!R159","v":7.1},{"$f":"per_game!S159","v":1.1000000000000001},{"$f":"per_game!T159","v":0.3},{"$f":"per_game!U159","v":0.5},{"$f":"per_game!X159","v":14},"F"]
[null,null,{"$f":"Roster!C160","v":"G"},20.027000000000001,{"$f":"per_game!B160 & \"-\" & D160","v":"Jarrett Jack-20.027"},{"$f":"per_game!I160","v":0.48499999999999999},{"$f":"per_game!L160","v":0.375},{"$f":"per_game!O160","v":0.86699999999999999},{"$f":"per_game!R160","v":3},{"$f":"per_game!S160","v":4.5},{"$f":"per_game!T160","v":0.8},{"$f":"per_game!U160","v":0},{"$f":"per_game!X160","v":10},"F"]
[null,null,{"$f":"Roster!C161","v":"C"},18.271999999999998,{"$f":"per_game!B161 & \"-\" & D161","v":"Harrison Barnes-18.272"},{"$f":"per_game!I161","v":0.46},{"$f":"per_game!L161","v":0.35299999999999998},{"$f":"per_game!O161","v":0.65900000000000003},{"$f":"per_game!R161","v":4.8},{"$f":"per_game!S161","v":1.4},{"$f":"per_game!T161","v":0.6},{"$f":"per_game!U161","v":0.2},{"$f":"per_game!X161","v":9.8000000000000007},"G"]
[null,null,{"$f":"Roster!C162","v":"F"},9.8339999999999996,{"$f":"per_game!B162 & \"-\" & D162","v":"Brandon Rush-9.834"},{"$f":"per_game!I162","v":0.66700000000000004},{"$f":"per_game!L162","v":0},{"$f":"per_game!O162","v":0.66700000000000004},{"$f":"per_game!R162","v":0.5},{"$f":"per_game!S162","v":1},{"$f":"per_game!T162","v":0},{"$f":"per_game!U162","v":0},{"$f":"per_game!X162","v":7},"C"]
[null,null,{"$f":"Roster!C163","v":"G"},14.149999999999999,{"$f":"per_game!B163 & \"-\" & D163","v":"Andrew Bogut-14.15"},{"$f":"per_game!I163","v":0.55000000000000004},{"$f":"per_game!L163","v":0},{"$f":"per_game!O163","v":0.5},{"$f":"per_game!R163","v":3.8},{"$f":"per_game!S163","v":2},{"$f":"per_game!T163","v":0.3},{"$f":"per_game!U163","v":1},{"$f":"per_game!X163","v":6},"G"]
[null,null,{"$f":"Roster!C164","v":"F"},8.85,{"$f":"per_game!B164 & \"-\" & D164","v":"Richard Jefferson-8.85"},{"$f":"per_game!I164","v":0.33300000000000002},{"$f":"per_game!L164","v":0.16700000000000001},{"$f":"per_game!O164","v":0.75},{"$f":"per_game!R164","v":1.4},{"$f":"per_game!S164","v":1.2},{"$f":"per_game!T164","v":0.5},{"$f":"per_game!U164","v":0.3},{"$f":"per_game!X164","v":4.2},"C"]
[null,null,{"$f":"Roster!C165","v":"G"},10.56,{"$f":"per_game!B165 & \"-\" & D165","v":"Festus Ezeli-10.56"},{"$f":"per_game!I165","v":0.49},{"$f":"per_game!L165","v":0},{"$f":"per_game!O165","v":0.37},{"$f":"per_game!R165","v":4.5999999999999996},{"$f":"per_game!S165","v":0.2},{"$f":"per_game!T165","v":0.4},{"$f":"per_game!U165","v":1},{"$f":"per_game!X165","v":3.5},"F"]
[null,null,{"$f":"Roster!C166","v":"F"},7.1749999999999998,{"$f":"per_game!B166 & \"-\" & D166","v":"Draymond Green-7.175"},{"$f":"per_game!I166","v":0.32500000000000001},{"$f":"per_game!L166","v":0.25},{"$f":"per_game!O166","v":0.8},{"$f":"per_game!R166","v":2.6},{"$f":"per_game!S166","v":0.4},{"$f":"per_game!T166","v":0.5},{"$f":"per_game!U166","v":0.1},{"$f":"per_game!X166","v":2.2000000000000002},"F"]
[null,null,{"$f":"Roster!C167","v":"F"},3.9359999999999999,{"$f":"per_game!B167 & \"-\" & D167","v":"Charles Jenkins-3.936"},{"$f":"per_game!I167","v":0.61099999999999999},{"$f":"per_game!L167","v":0},{"$f":"per_game!O167","v":0.625},{"$f":"per_game!R167","v":0.4},{"$f":"per_game!S167","v":0.3},{"$f":"per_game!T167","v":0.1},{"$f":"per_game!U167","v":0},{"$f":"per_game!X167","v":1.9},"G"]
[null,null,{"$f":"Roster!C168","v":"F"},3.6,{"$f":"per_game!B168 & \"-\" & D168","v":"Jeremy Tyler-3.6"},{"$f":"per_game!I168","v":0.6},{"$f":"per_game!L168","v":0},{"$f":"per_game!O168","v":1},{"$f":"per_game!R168","v":0.2},{"$f":"per_game!S168","v":0},{"$f":"per_game!T168","v":0.2},{"$f":"per_game!U168","v":0},{"$f":"per_game!X168","v":1.6}]
[null,null,{"$f":"Roster!C169","v":"G"},5.3079999999999998,{"$f":"per_game!B169 & \"-\" & D169","v":"Andris Biedrins-5.308"},{"$f":"per_game!I169","v":0.375},{"$f":"per_game!L169","v":0},{"$f":"per_game!O169","v":0.33300000000000002},{"$f":"per_game!R169","v":2.7},{"$f":"per_game!S169","v":0.4},{"$f":"per_game!T169","v":0.4},{"$f":"per_game!U169","v":0.5},{"$f":"per_game!X169","v":0.6},"IND"]
[null,null,{"$f":"Roster!C170","v":"C"},1,null,{"$f":"per_game!I170","v":0},{"$f":"per_game!L170","v":0},{"$f":"per_game!O170","v":0},{"$f":"per_game!R170","v":0.3},{"$f":"per_game!S170","v":0.1},{"$f":"per_game!T170","v":0.3},{"$f":"per_game!U170","v":0.3},{"$f":"per_game!X170","v":0},"Rk"]
[null,null,{"$f":"Roster!C171","v":0},0,null,{"$f":"per_game!I171","v":0},{"$f":"per_game!L171","v":0},{"$f":"per_game!O171","v":0},{"$f":"per_game!R171","v":0},{"$f":"per_game!S171","v":0},{"$f":"per_game!T171","v":0},{"$f":"per_game!U171","v":0},{"$f":"per_game!X171","v":0},"F"]
[null,null,{"$f":"Roster!C172","v":0},0,null,{"$f":"per_game!I172","v":0},{"$f":"per_game!L172","v":0},{"$f":"per_game!O172","v":0},{"$f":"per_game!R172","v":0},{"$f":"per_game!S172","v":0},{"$f":"per_game!T172","v":0},{"$f":"per_game!U172","v":0},{"$f":"per_game!X172","v":0},"G"]
[null,null,{"$f":"Roster!C173","v":"Pos"},null,{"$f":"per_game!B173 & \"-\" & D173","v":"Player-"},{"$f":"per_game!I173","v":"FG%"},{"$f":"per_game!L173","v":"3P%"},{"$f":"per_game!O173","v":"FT%"},{"$f":"per_game!R173","v":"TRB"},{"$f":"per_game!S173","v":"AST"},{"$f":"per_game!T173","v":"STL"},{"$f":"per_game!U173","v":"BLK"},{"$f":"per_game!X173","v":"PTS"},"F"]
[null,null,{"$f":"Roster!C174","v":"C"},37.502000000000002,{"$f":"per_game!B174 & \"-\" & D174","v":"James Harden-37.502"},{"$f":"per_game!I174","v":0.42699999999999999},{"$f":"per_game!L174","v":0.34100000000000003},{"$f":"per_game!O174","v":0.83399999999999996},{"$f":"per_game!R174","v":4.0999999999999996},{"$f":"per_game!S174","v":5.4},{"$f":"per_game!T174","v":1.7},{"$f":"per_game!U174","v":0.6},{"$f":"per_game!X174","v":24.1},"F"]
[null,null,{"$f":"Roster!C175","v":"C"},29.084,{"$f":"per_game!B175 & \"-\" & D175","v":"Chandler Parsons-29.084"},{"$f":"per_game!I175","v":0.48399999999999999},{"$f":"per_game!L175","v":0.42899999999999999},{"$f":"per_game!O175","v":0.77100000000000002},{"$f":"per_game!R175","v":6.7},{"$f":"per_game!S175","v":3.5},{"$f":"per_game!T175","v":1.1000000000000001},{"$f":"per_game!U175","v":0.2},{"$f":"per_game!X175","v":15.9},"F"]
[null,null,{"$f":"Roster!C176","v":"G"},23.759,{"$f":"per_game!B176 & \"-\" & D176","v":"Patrick Patterson-23.759"},{"$f":"per_game!I176","v":0.51100000000000001},{"$f":"per_game!L176","v":0.375},{"$f":"per_game!O176","v":0.77300000000000002},{"$f":"per_game!R176","v":5.3},{"$f":"per_game!S176","v":1},{"$f":"per_game!T176","v":0.6},{"$f":"per_game!U176","v":0.6},{"$f":"per_game!X176","v":14.6},"C"]
[null,null,{"$f":"Roster!C177","v":"G"},27.779000000000003,{"$f":"per_game!B177 & \"-\" & D177","v":"Omer Asik-27.779"},{"$f":"per_game!I177","v":0.496},{"$f":"per_game!L177","v":0},{"$f":"per_game!O177","v":0.58299999999999996},{"$f":"per_game!R177","v":12.3},{"$f":"per_game!S177","v":1.3},{"$f":"per_game!T177","v":0.8},{"$f":"per_game!U177","v":1.3},{"$f":"per_game!X177","v":11},"G"]
[null,null,{"$f":"Roster!C178","v":"G"},25.771000000000001,{"$f":"per_game!B178 & \"-\" & D178","v":"Jeremy Lin-25.771"},{"$f":"per_game!I178","v":0.39300000000000002},{"$f":"per_game!L178","v":0.26200000000000001},{"$f":"per_game!O178","v":0.81599999999999995},{"$f":"per_game!R178","v":4.4000000000000004},{"$f":"per_game!S178","v":6.6},{"$f":"per_game!T178","v":2},{"$f":"per_game!U178","v":0.4},{"$f":"per_game!X178","v":10.9},"C"]
[null,null,{"$f":"Roster!C179","v":"G"},16.137999999999998,{"$f":"per_game!B179 & \"-\" & D179","v":"Marcus Morris-16.138"},{"$f":"per_game!I179","v":0.45},{"$f":"per_game!L179","v":0.38800000000000001},{"$f":"per_game!O179","v":0.6},{"$f":"per_game!R179","v":4.2},{"$f":"per_game!S179","v":0.8},{"$f":"per_game!T179","v":0.5},{"$f":"per_game!U179","v":0.5},{"$f":"per_game!X179","v":8.6999999999999993},"F"]
[null,null,{"$f":"Roster!C180","v":"F"},17.265999999999998,{"$f":"per_game!B180 & \"-\" & D180","v":"Carlos Delfino-17.266"},{"$f":"per_game!I180","v":0.37},{"$f":"per_game!L180","v":0.34599999999999997},{"$f":"per_game!O180","v":0.75},{"$f":"per_game!R180","v":4},{"$f":"per_game!S180","v":2},{"$f":"per_game!T180","v":1},{"$f":"per_game!U180","v":0.1},{"$f":"per_game!X180","v":8.6999999999999993},"G"]
[null,null,{"$f":"Roster!C181","v":"G"},12.079000000000001,{"$f":"per_game!B181 & \"-\" & D181","v":"Greg Smith-12.079"},{"$f":"per_game!I181","v":0.57899999999999996},{"$f":"per_game!L181","v":0},{"$f":"per_game!O181","v":0.8},{"$f":"per_game!R181","v":3.5},{"$f":"per_game!S181","v":0.7},{"$f":"per_game!T181","v":0.3},{"$f":"per_game!U181","v":0.4},{"$f":"per_game!X181","v":5.8},"F"]
[null,null,{"$f":"Roster!C182","v":"G"},11.137,{"$f":"per_game!B182 & \"-\" & D182","v":"Toney Douglas-11.137"},{"$f":"per_game!I182","v":0.30399999999999999},{"$f":"per_game!L182","v":0.33300000000000002},{"$f":"per_game!O182","v":1},{"$f":"per_game!R182","v":1.2},{"$f":"per_game!S182","v":1.7},{"$f":"per_game!T182","v":0.9},{"$f":"per_game!U182","v":0},{"$f":"per_game!X182","v":5.7},"F"]
[null,null,{"$f":"Roster!C183","v":"F"},9.9719999999999995,{"$f":"per_game!B183 & \"-\" & D183","v":"Daequan Cook-9.972"},{"$f":"per_game!I183","v":0.38100000000000001},{"$f":"per_game!L183","v":0.39100000000000001},{"$f":"per_game!O183","v":0.5},{"$f":"per_game!R183","v":1.6},{"$f":"per_game!S183","v":1},{"$f":"per_game!T183","v":0.5},{"$f":"per_game!U183","v":0.3},{"$f":"per_game!X183","v":5.3},"G"]
[null,null,{"$f":"Roster!C184","v":"F"},8.5329999999999995,{"$f":"per_game!B184 & \"-\" & D184","v":"Terrence Jones-8.533"},{"$f":"per_game!I184","v":0.33300000000000002},{"$f":"per_game!L184","v":0.2},{"$f":"per_game!O184","v":1},{"$f":"per_game!R184","v":2},{"$f":"per_game!S184","v":0.4},{"$f":"per_game!T184","v":0.4},{"$f":"per_game!U184","v":0.6},{"$f":"per_game!X184","v":3.6},"G"]
[null,null,{"$f":"Roster!C185","v":"F"},6.9909999999999997,{"$f":"per_game!B185 & \"-\" & D185","v":"Cole Aldrich-6.991"},{"$f":"per_game!I185","v":0.52400000000000002},{"$f":"per_game!L185","v":0},{"$f":"per_game!O185","v":0.66700000000000004},{"$f":"per_game!R185","v":2.1},{"$f":"per_game!S185","v":0.3},{"$f":"per_game!T185","v":0.1},{"$f":"per_game!U185","v":0.3},{"$f":"per_game!X185","v":3}]
[null,null,{"$f":"Roster!C186","v":"F"},4,{"$f":"per_game!B186 & \"-\" & D186","v":"Scott Machado-4"},{"$f":"per_game!I186","v":0},{"$f":"per_game!L186","v":0},{"$f":"per_game!O186","v":1},{"$f":"per_game!R186","v":0},{"$f":"per_game!S186","v":1},{"$f":"per_game!T186","v":0},{"$f":"per_game!U186","v":0},{"$f":"per_game!X186","v":2},"LAC"]
[null,null,{"$f":"Roster!C187","v":"C"},2.2999999999999998,null,{"$f":"per_game!I187","v":0.5},{"$f":"per_game!L187","v":0},{"$f":"per_game!O187","v":0.5},{"$f":"per_game!R187","v":0.3},{"$f":"per_game!S187","v":0},{"$f":"per_game!T187","v":0},{"$f":"per_game!U187","v":0},{"$f":"per_game!X187","v":1},"Rk"]
[null,null,{"$f":"Roster!C188","v":0},0,null,{"$f":"per_game!I188","v":0},{"$f":"per_game!L188","v":0},{"$f":"per_game!O188","v":0},{"$f":"per_game!R188","v":0},{"$f":"per_game!S188","v":0},{"$f":"per_game!T188","v":0},{"$f":"per_game!U188","v":0},{"$f":"per_game!X188","v":0},"G"]
[null,null,{"$f":"Roster!C189","v":0},0,null,{"$f":"per_game!I189","v":0},{"$f":"per_game!L189","v":0},{"$f":"per_game!O189","v":0},{"$f":"per_game!R189","v":0},{"$f":"per_game!S189","v":0},{"$f":"per_game!T189","v":0},{"$f":"per_game!U189","v":0},{"$f":"per_game!X189","v":0},"G"]
[null,null,{"$f":"Roster!C190","v":"Pos"},null,{"$f":"per_game!B190 & \"-\" & D190","v":"Player-"},{"$f":"per_game!I190","v":"FG%"},{"$f":"per_game!L190","v":"3P%"},{"$f":"per_game!O190","v":"FT%"},{"$f":"per_game!R190","v":"TRB"},{"$f":"per_game!S190","v":"AST"},{"$f":"per_game!T190","v":"STL"},{"$f":"per_game!U190","v":"BLK"},{"$f":"per_game!X190","v":"PTS"},"F"]
[null,null,{"$f":"Roster!C191","v":"G"},31.649000000000001,{"$f":"per_game!B191 & \"-\" & D191","v":"David West-31.649"},{"$f":"per_game!I191","v":0.49199999999999999},{"$f":"per_game!L191","v":0},{"$f":"per_game!O191","v":0.75700000000000001},{"$f":"per_game!R191","v":8.3000000000000007},{"$f":"per_game!S191","v":2.5},{"$f":"per_game!T191","v":0.6},{"$f":"per_game!U191","v":1.2},{"$f":"per_game!X191","v":17.8},"F"]
[null,null,{"$f":"Roster!C192","v":"F"},27.091000000000001,{"$f":"per_game!B192 & \"-\" & D192","v":"George Hill-27.091"},{"$f":"per_game!I192","v":0.42399999999999999},{"$f":"per_game!L192","v":0.32500000000000001},{"$f":"per_game!O192","v":0.84199999999999997},{"$f":"per_game!R192","v":4.0999999999999996},{"$f":"per_game!S192","v":5.3},{"$f":"per_game!T192","v":0.9},{"$f":"per_game!U192","v":0.4},{"$f":"per_game!X192","v":14.8},"C"]
[null,null,{"$f":"Roster!C193","v":"F"},26.74,{"$f":"per_game!B193 & \"-\" & D193","v":"Paul George-26.74"},{"$f":"per_game!I193","v":0.38500000000000001},{"$f":"per_game!L193","v":0.36699999999999999},{"$f":"per_game!O193","v":0.78800000000000003},{"$f":"per_game!R193","v":6.5},{"$f":"per_game!S193","v":3.4},{"$f":"per_game!T193","v":1.2},{"$f":"per_game!U193","v":0.6},{"$f":"per_game!X193","v":13.5},"G"]
[null,null,{"$f":"Roster!C194","v":"G"},24.064999999999998,{"$f":"per_game!B194 & \"-\" & D194","v":"Roy Hibbert-24.065"},{"$f":"per_game!I194","v":0.39},{"$f":"per_game!L194","v":0},{"$f":"per_game!O194","v":0.57499999999999996},{"$f":"per_game!R194","v":8.1999999999999993},{"$f":"per_game!S194","v":1.4},{"$f":"per_game!T194","v":0.7},{"$f":"per_game!U194","v":3.1},{"$f":"per_game!X194","v":9.6999999999999993},"G"]
[null,null,{"$f":"Roster!C195","v":"F"},{"$f":"F195*$B$6+G195*$B$8+H195*$B$7+I195*$B$2+J195*$B$3+K195*$B$5+L195*$B$4+M195*$B$1","v":14.478999999999999},{"$f":"per_game!B195 & \"-\" & D195","v":"Gerald Green-14.479"},{"$f":"per_game!I195","v":0.375},{"$f":"per_game!L195","v":0.36499999999999999},{"$f":"per_game!O195","v":0.73899999999999999},{"$f":"per_game!R195","v":4.0999999999999996},{"$f":"per_game!S195","v":0.5},{"$f":"per_game!T195","v":0.2},{"$f":"per_game!U195","v":0.4},{"$f":"per_game!X195","v":7.8},"F"]
[null,null,{"$f":"Roster!C196","v":"C"},14.940999999999999,{"$f":"per_game!B196 & \"-\" & D196","v":"Lance Stephenson-14.941"},{"$f":"per_game!I196","v":0.48099999999999998},{"$f":"per_game!L196","v":0.41},{"$f":"per_game!O196","v":0.75},{"$f":"per_game!R196","v":2.9},{"$f":"per_game!S196","v":2.5},{"$f":"per_game!T196","v":0.6},{"$f":"per_game!U196","v":0.1},{"$f":"per_game!X196","v":7.2},"C"]
[null,null,{"$f":"Roster!C197","v":"G"},13.104000000000001,{"$f":"per_game!B197 & \"-\" & D197","v":"Tyler Hansbrough-13.104"},{"$f":"per_game!I197","v":0.38400000000000001},{"$f":"per_game!L197","v":0},{"$f":"per_game!O197","v":0.72},{"$f":"per_game!R197","v":4.7},{"$f":"per_game!S197","v":0.2},{"$f":"per_game!T197","v":0.4},{"$f":"per_game!U197","v":0.2},{"$f":"per_game!X197","v":6.5},"F"]
[null,null,{"$f":"Roster!C198","v":"G"},11.086,{"$f":"per_game!B198 & \"-\" & D198","v":"Sam Young-11.086"},{"$f":"per_game!I198","v":0.40500000000000003},{"$f":"per_game!L198","v":0.28100000000000003},{"$f":"per_game!O198","v":0.4},{"$f":"per_game!R198","v":3.5},{"$f":"per_game!S198","v":0.9},{"$f":"per_game!T198","v":0.5},{"$f":"per_game!U198","v":0.1},{"$f":"per_game!X198","v":5},"F"]
[null,null,{"$f":"Roster!C199","v":"C"},10.96,{"$f":"per_game!B199 & \"-\" & D199","v":"Ian Mahinmi-10.96"},{"$f":"per_game!I199","v":0.39300000000000002},{"$f":"per_game!L199","v":0},{"$f":"per_game!O199","v":0.66700000000000004},{"$f":"per_game!R199","v":3.6},{"$f":"per_game!S199","v":0.2},{"$f":"per_game!T199","v":0.3},{"$f":"per_game!U199","v":1.1000000000000001},{"$f":"per_game!X199","v":4.7}]
[null,null,{"$f":"Roster!C200","v":"F"},8.3140000000000001,{"$f":"per_game!B200 & \"-\" & D200","v":"Jeff Pendergraph-8.314"},{"$f":"per_game!I200","v":0.71399999999999997},{"$f":"per_game!L200","v":0},{"$f":"per_game!O200","v":1},{"$f":"per_game!R200","v":2.2999999999999998},{"$f":"per_game!S200","v":0.3},{"$f":"per_game!T200","v":0},{"$f":"per_game!U200","v":0.3},{"$f":"per_game!X200","v":3.7},"LAL"]
[null,null,{"$f":"Roster!C201","v":"F"},9.0090000000000003,{"$f":"per_game!B201 & \"-\" & D201","v":"D.J. Augustin-9.009"},{"$f":"per_game!I201","v":0.27100000000000002},{"$f":"per_game!L201","v":0.23799999999999999},{"$f":"per_game!O201","v":0.8},{"$f":"per_game!R201","v":1.1000000000000001},{"$f":"per_game!S201","v":2.4},{"$f":"per_game!T201","v":0.6},{"$f":"per_game!U201","v":0.1},{"$f":"per_game!X201","v":3.5},"Rk"]
[null,null,{"$f":"Roster!C202","v":"G"},3.867,{"$f":"per_game!B202 & \"-\" & D202","v":"Ben Hansbrough-3.867"},{"$f":"per_game!I202","v":0.66700000000000004},{"$f":"per_game!L202","v":0},{"$f":"per_game!O202","v":0},{"$f":"per_game!R202","v":0.3},{"$f":"per_game!S202","v":1.3},{"$f":"per_game!T202","v":0.3},{"$f":"per_game!U202","v":0},{"$f":"per_game!X202","v":1.3},"G"]
[null,null,{"$f":"Roster!C203","v":"F"},4.3,{"$f":"per_game!B203 & \"-\" & D203","v":"Miles Plumlee-4.3"},{"$f":"per_game!I203","v":0.2},{"$f":"per_game!L203","v":0},{"$f":"per_game!O203","v":1},{"$f":"per_game!R203","v":1.3},{"$f":"per_game!S203","v":0.3},{"$f":"per_game!T203","v":0},{"$f":"per_game!U203","v":0.5},{"$f":"per_game!X203","v":1},"C-F"]
[null,null,{"$f":"Roster!C204","v":"F"},0.5,null,{"$f":"per_game!I204","v":0},{"$f":"per_game!L204","v":0},{"$f":"per_game!O204","v":0},{"$f":"per_game!R204","v":0.5},{"$f":"per_game!S204","v":0},{"$f":"per_game!T204","v":0},{"$f":"per_game!U204","v":0},{"$f":"per_game!X204","v":0},"F-C"]
[null,null,{"$f":"Roster!C205","v":0},0,null,{"$f":"per_game!I205","v":0},{"$f":"per_game!L205","v":0},{"$f":"per_game!O205","v":0},{"$f":"per_game!R205","v":0},{"$f":"per_game!S205","v":0},{"$f":"per_game!T205","v":0},{"$f":"per_game!U205","v":0},{"$f":"per_game!X205","v":0},"F"]
[null,null,{"$f":"Roster!C206","v":0},0,null,{"$f":"per_game!I206","v":0},{"$f":"per_game!L206","v":0},{"$f":"per_game!O206","v":0},{"$f":"per_game!R206","v":0},{"$f":"per_game!S206","v":0},{"$f":"per_game!T206","v":0},{"$f":"per_game!U206","v":0},{"$f":"per_game!X206","v":0},"F"]
[null,null,{"$f":"Roster!C207","v":"Pos"},null,{"$f":"per_game!B207 & \"-\" & D207","v":"Player-"},{"$f":"per_game!I207","v":"FG%"},{"$f":"per_game!L207","v":"3P%"},{"$f":"per_game!O207","v":"FT%"},{"$f":"per_game!R207","v":"TRB"},{"$f":"per_game!S207","v":"AST"},{"$f":"per_game!T207","v":"STL"},{"$f":"per_game!U207","v":"BLK"},{"$f":"per_game!X207","v":"PTS"},"G"]
[null,null,{"$f":"Roster!C208","v":"F"},24.088000000000001,{"$f":"per_game!B208 & \"-\" & D208","v":"Jamal Crawford-24.088"},{"$f":"per_game!I208","v":0.44500000000000001},{"$f":"per_game!L208","v":0.39800000000000002},{"$f":"per_game!O208","v":0.94499999999999995},{"$f":"per_game!R208","v":1.8},{"$f":"per_game!S208","v":1.7},{"$f":"per_game!T208","v":1.1000000000000001},{"$f":"per_game!U208","v":0.1},{"$f":"per_game!X208","v":17.600000000000001},"G"]
[null,null,{"$f":"Roster!C209","v":"G"},32.436999999999998,{"$f":"per_game!B209 & \"-\" & D209","v":"Blake Griffin-32.437"},{"$f":"per_game!I209","v":0.51300000000000001},{"$f":"per_game!L209","v":0},{"$f":"per_game!O209","v":0.624},{"$f":"per_game!R209","v":8.9},{"$f":"per_game!S209","v":3.1},{"$f":"per_game!T209","v":1.2},{"$f":"per_game!U209","v":0.6},{"$f":"per_game!X209","v":17.5},"G"]
[null,null,{"$f":"Roster!C210","v":"G"},33.394999999999996,{"$f":"per_game!B210 & \"-\" & D210","v":"Chris Paul-33.395"},{"$f":"per_game!I210","v":0.48299999999999998},{"$f":"per_game!L210","v":0.32},{"$f":"per_game!O210","v":0.89200000000000002},{"$f":"per_game!R210","v":3.6},{"$f":"per_game!S210","v":9.3000000000000007},{"$f":"per_game!T210","v":2.6},{"$f":"per_game!U210","v":0},{"$f":"per_game!X210","v":16.2},"F"]
[null,null,{"$f":"Roster!C211","v":"F"},21.042999999999999,{"$f":"per_game!B211 & \"-\" & D211","v":"DeAndre Jordan-21.043"},{"$f":"per_game!I211","v":0.59199999999999997},{"$f":"per_game!L211","v":0},{"$f":"per_game!O211","v":0.45100000000000001},{"$f":"per_game!R211","v":6.8},{"$f":"per_game!S211","v":0.3},{"$f":"per_game!T211","v":0.8},{"$f":"per_game!U211","v":2},{"$f":"per_game!X211","v":10.1},"F"]
[null,null,{"$f":"Roster!C212","v":"G"},18.844000000000001,{"$f":"per_game!B212 & \"-\" & D212","v":"Eric Bledsoe-18.844"},{"$f":"per_game!I212","v":0.496},{"$f":"per_game!L212","v":0.35299999999999998},{"$f":"per_game!O212","v":0.79500000000000004},{"$f":"per_game!R212","v":2.7},{"$f":"per_game!S212","v":2.6},{"$f":"per_game!T212","v":1.4},{"$f":"per_game!U212","v":0.6},{"$f":"per_game!X212","v":9.9},"G"]
[null,null,{"$f":"Roster!C213","v":"G"},15.457999999999998,{"$f":"per_game!B213 & \"-\" & D213","v":"Caron Butler-15.458"},{"$f":"per_game!I213","v":0.42},{"$f":"per_game!L213","v":0.438},{"$f":"per_game!O213","v":0.7},{"$f":"per_game!R213","v":2.4},{"$f":"per_game!S213","v":1},{"$f":"per_game!T213","v":0.5},{"$f":"per_game!U213","v":0.3},{"$f":"per_game!X213","v":9.6999999999999993},"G"]
[null,null,{"$f":"Roster!C214","v":"F"},18.343000000000004,{"$f":"per_game!B214 & \"-\" & D214","v":"Matt Barnes-18.343"},{"$f":"per_game!I214","v":0.442},{"$f":"per_game!L214","v":0.26},{"$f":"per_game!O214","v":0.74099999999999999},{"$f":"per_game!R214","v":5.3},{"$f":"per_game!S214","v":1.2},{"$f":"per_game!T214","v":1.3},{"$f":"per_game!U214","v":0.8},{"$f":"per_game!X214","v":8.3000000000000007},"F"]
[null,null,{"$f":"Roster!C215","v":"C"},12.885999999999999,{"$f":"per_game!B215 & \"-\" & D215","v":"Chauncey Billups-12.886"},{"$f":"per_game!I215","v":0.33300000000000002},{"$f":"per_game!L215","v":0.36399999999999999},{"$f":"per_game!O215","v":0.88900000000000001},{"$f":"per_game!R215","v":1},{"$f":"per_game!S215","v":2.2999999999999998},{"$f":"per_game!T215","v":0.7},{"$f":"per_game!U215","v":0},{"$f":"per_game!X215","v":7.3},"C"]
[null,null,{"$f":"Roster!C216","v":"C"},11.187000000000001,{"$f":"per_game!B216 & \"-\" & D216","v":"Willie Green-11.187"},{"$f":"per_game!I216","v":0.47899999999999998},{"$f":"per_game!L216","v":0.441},{"$f":"per_game!O216","v":0.66700000000000004},{"$f":"per_game!R216","v":1.4},{"$f":"per_game!S216","v":1.1000000000000001},{"$f":"per_game!T216","v":0.3},{"$f":"per_game!U216","v":0.4},{"$f":"per_game!X216","v":6.4},"G"]
[null,null,{"$f":"Roster!C217","v":"F"},7.8780000000000001,{"$f":"per_game!B217 & \"-\" & D217","v":"Ryan Hollins-7.878"},{"$f":"per_game!I217","v":0.63600000000000001},{"$f":"per_game!L217","v":0},{"$f":"per_game!O217","v":0.84199999999999997},{"$f":"per_game!R217","v":2.4},{"$f":"per_game!S217","v":0.1},{"$f":"per_game!T217","v":0.3},{"$f":"per_game!U217","v":0.8},{"$f":"per_game!X217","v":2.8}]
[null,null,{"$f":"Roster!C218","v":"G"},8.2560000000000002,{"$f":"per_game!B218 & \"-\" & D218","v":"Lamar Odom-8.256"},{"$f":"per_game!I218","v":0.29799999999999999},{"$f":"per_game!L218","v":0.125},{"$f":"per_game!O218","v":0.33300000000000002},{"$f":"per_game!R218","v":3.3},{"$f":"per_game!S218","v":1},{"$f":"per_game!T218","v":0.6},{"$f":"per_game!U218","v":0.4},{"$f":"per_game!X218","v":2.2000000000000002},"MEM"]
[null,null,{"$f":"Roster!C219","v":"F"},6.7770000000000001,null,{"$f":"per_game!I219","v":0.72699999999999998},{"$f":"per_game!L219","v":0},{"$f":"per_game!O219","v":0.75},{"$f":"per_game!R219","v":2.1},{"$f":"per_game!S219","v":0.5},{"$f":"per_game!T219","v":0.5},{"$f":"per_game!U219","v":0.7},{"$f":"per_game!X219","v":1.5},"Rk"]
[null,null,{"$f":"Roster!C220","v":0},0,null,{"$f":"per_game!I220","v":0},{"$f":"per_game!L220","v":0},{"$f":"per_game!O220","v":0},{"$f":"per_game!R220","v":0},{"$f":"per_game!S220","v":0},{"$f":"per_game!T220","v":0},{"$f":"per_game!U220","v":0},{"$f":"per_game!X220","v":0},"F"]
[null,null,{"$f":"Roster!C221","v":0},0,null,{"$f":"per_game!I221","v":0},{"$f":"per_game!L221","v":0},{"$f":"per_game!O221","v":0},{"$f":"per_game!R221","v":0},{"$f":"per_game!S221","v":0},{"$f":"per_game!T221","v":0},{"$f":"per_game!U221","v":0},{"$f":"per_game!X221","v":0},"F"]
[null,null,{"$f":"Roster!C222","v":"Pos"},null,{"$f":"per_game!B222 & \"-\" & D222","v":"Player-"},{"$f":"per_game!I222","v":"FG%"},{"$f":"per_game!L222","v":"3P%"},{"$f":"per_game!O222","v":"FT%"},{"$f":"per_game!R222","v":"TRB"},{"$f":"per_game!S222","v":"AST"},{"$f":"per_game!T222","v":"STL"},{"$f":"per_game!U222","v":"BLK"},{"$f":"per_game!X222","v":"PTS"},"C"]
[null,null,{"$f":"Roster!C223","v":"G"},40.862000000000002,{"$f":"per_game!B223 & \"-\" & D223","v":"Kobe Bryant-40.862"},{"$f":"per_game!I223","v":0.48899999999999999},{"$f":"per_game!L223","v":0.39500000000000002},{"$f":"per_game!O223","v":0.878},{"$f":"per_game!R223","v":5.2},{"$f":"per_game!S223","v":5.0999999999999996},{"$f":"per_game!T223","v":1.5},{"$f":"per_game!U223","v":0},{"$f":"per_game!X223","v":27.3},"G"]
[null,null,{"$f":"Roster!C224","v":"G"},37.564,{"$f":"per_game!B224 & \"-\" & D224","v":"Dwight Howard-37.564"},{"$f":"per_game!I224","v":0.59899999999999998},{"$f":"per_game!L224","v":1},{"$f":"per_game!O224","v":0.46500000000000002},{"$f":"per_game!R224","v":11.3},{"$f":"per_game!S224","v":1.7},{"$f":"per_game!T224","v":1.2},{"$f":"per_game!U224","v":2.6},{"$f":"per_game!X224","v":18.7},"G"]
[null,null,{"$f":"Roster!C225","v":"F"},24.360999999999997,{"$f":"per_game!B225 & \"-\" & D225","v":"Metta World Peace-24.361"},{"$f":"per_game!I225","v":0.40899999999999997},{"$f":"per_game!L225","v":0.38100000000000001},{"$f":"per_game!O225","v":0.77100000000000002},{"$f":"per_game!R225","v":5.4},{"$f":"per_game!S225","v":2.2999999999999998},{"$f":"per_game!T225","v":1.6},{"$f":"per_game!U225","v":0.3},{"$f":"per_game!X225","v":13.2},"G-F"]
[null,null,{"$f":"Roster!C226","v":"G"},28.064999999999998,{"$f":"per_game!B226 & \"-\" & D226","v":"Pau Gasol-28.065"},{"$f":"per_game!I226","v":0.42},{"$f":"per_game!L226","v":0.28599999999999998},{"$f":"per_game!O226","v":0.75900000000000001},{"$f":"per_game!R226","v":8.8000000000000007},{"$f":"per_game!S226","v":3.5},{"$f":"per_game!T226","v":0.5},{"$f":"per_game!U226","v":1.2},{"$f":"per_game!X226","v":12.6},"G"]
[null,null,{"$f":"Roster!C227","v":"F"},14.968,{"$f":"per_game!B227 & \"-\" & D227","v":"Antawn Jamison-14.968"},{"$f":"per_game!I227","v":0.48},{"$f":"per_game!L227","v":0.30599999999999999},{"$f":"per_game!O227","v":0.68200000000000005},{"$f":"per_game!R227","v":4.5999999999999996},{"$f":"per_game!S227","v":0.6},{"$f":"per_game!T227","v":0.5},{"$f":"per_game!U227","v":0.4},{"$f":"per_game!X227","v":7.4},"F"]
[null,null,{"$f":"Roster!C228","v":"F-C"},12.416,{"$f":"per_game!B228 & \"-\" & D228","v":"Darius Morris-12.416"},{"$f":"per_game!I228","v":0.372},{"$f":"per_game!L228","v":0.379},{"$f":"per_game!O228","v":0.56499999999999995},{"$f":"per_game!R228","v":1.7},{"$f":"per_game!S228","v":2.5},{"$f":"per_game!T228","v":0.9},{"$f":"per_game!U228","v":0.1},{"$f":"per_game!X228","v":5.9},"G"]
[null,null,{"$f":"Roster!C229","v":"F"},12.266,{"$f":"per_game!B229 & \"-\" & D229","v":"Jordan Hill-12.266"},{"$f":"per_game!I229","v":0.45100000000000001},{"$f":"per_game!L229","v":0},{"$f":"per_game!O229","v":0.61499999999999999},{"$f":"per_game!R229","v":4.5999999999999996},{"$f":"per_game!S229","v":0.4},{"$f":"per_game!T229","v":0.3},{"$f":"per_game!U229","v":0.4},{"$f":"per_game!X229","v":5.5},"C"]
[null,null,{"$f":"Roster!C230","v":"C-F"},9.7149999999999999,{"$f":"per_game!B230 & \"-\" & D230","v":"Jodie Meeks-9.715"},{"$f":"per_game!I230","v":0.40300000000000002},{"$f":"per_game!L230","v":0.41199999999999998},{"$f":"per_game!O230","v":1},{"$f":"per_game!R230","v":1.3},{"$f":"per_game!S230","v":0.9},{"$f":"per_game!T230","v":0.3},{"$f":"per_game!U230","v":0},{"$f":"per_game!X230","v":5.4},"G"]
[null,null,{"$f":"Roster!C231","v":"F"},13.953000000000001,{"$f":"per_game!B231 & \"-\" & D231","v":"Steve Blake-13.953"},{"$f":"per_game!I231","v":0.35299999999999998},{"$f":"per_game!L231","v":0.4},{"$f":"per_game!O231","v":1},{"$f":"per_game!R231","v":2.4},{"$f":"per_game!S231","v":3.4},{"$f":"per_game!T231","v":1.3},{"$f":"per_game!U231","v":0},{"$f":"per_game!X231","v":5.0999999999999996},"G"]
[null,null,{"$f":"Roster!C232","v":"G"},13.032999999999999,{"$f":"per_game!B232 & \"-\" & D232","v":"Steve Nash-13.033"},{"$f":"per_game!I232","v":0.33300000000000002},{"$f":"per_game!L232","v":0.2},{"$f":"per_game!O232","v":0},{"$f":"per_game!R232","v":3},{"$f":"per_game!S232","v":4},{"$f":"per_game!T232","v":0.5},{"$f":"per_game!U232","v":0.5},{"$f":"per_game!X232","v":4.5}]
[null,null,{"$f":"Roster!C233","v":"G"},7.569,{"$f":"per_game!B233 & \"-\" & D233","v":"Devin Ebanks-7.569"},{"$f":"per_game!I233","v":0.33300000000000002},{"$f":"per_game!L233","v":0.28599999999999998},{"$f":"per_game!O233","v":0.75},{"$f":"per_game!R233","v":2},{"$f":"per_game!S233","v":0.8},{"$f":"per_game!T233","v":0},{"$f":"per_game!U233","v":0.2},{"$f":"per_game!X233","v":3.2},"MIA"]
[null,null,{"$f":"Roster!C234","v":"G"},9.0329999999999995,{"$f":"per_game!B234 & \"-\" & D234","v":"Chris Duhon-9.033"},{"$f":"per_game!I234","v":0.42399999999999999},{"$f":"per_game!L234","v":0.40899999999999997},{"$f":"per_game!O234","v":0.5},{"$f":"per_game!R234","v":1.4},{"$f":"per_game!S234","v":2.8},{"$f":"per_game!T234","v":0.5},{"$f":"per_game!U234","v":0},{"$f":"per_game!X234","v":3},"Rk"]
[null,null,{"$f":"Roster!C235","v":"G"},2.4329999999999998,{"$f":"per_game!B235 & \"-\" & D235","v":"Earl Clark-2.433"},{"$f":"per_game!I235","v":0.33300000000000002},{"$f":"per_game!L235","v":0},{"$f":"per_game!O235","v":0.5},{"$f":"per_game!R235","v":0.5},{"$f":"per_game!S235","v":0},{"$f":"per_game!T235","v":0},{"$f":"per_game!U235","v":0.3},{"$f":"per_game!X235","v":0.8},"F-G"]
[null,null,{"$f":"Roster!C236","v":"C"},1.25,{"$f":"per_game!B236 & \"-\" & D236","v":"Robert Sacre-1.25"},{"$f":"per_game!I236","v":0.25},{"$f":"per_game!L236","v":0},{"$f":"per_game!O236","v":0},{"$f":"per_game!R236","v":0.3},{"$f":"per_game!S236","v":0.1},{"$f":"per_game!T236","v":0},{"$f":"per_game!U236","v":0.3},{"$f":"per_game!X236","v":0.3},"F-C"]
[null,null,{"$f":"Roster!C237","v":"F"},1.3,null,{"$f":"per_game!I237","v":0},{"$f":"per_game!L237","v":0},{"$f":"per_game!O237","v":0},{"$f":"per_game!R237","v":1},{"$f":"per_game!S237","v":0.3},{"$f":"per_game!T237","v":0},{"$f":"per_game!U237","v":0},{"$f":"per_game!X237","v":0},"G"]
[null,null,{"$f":"Roster!C238","v":0},0,null,{"$f":"per_game!I238","v":0},{"$f":"per_game!L238","v":0},{"$f":"per_game!O238","v":0},{"$f":"per_game!R238","v":0},{"$f":"per_game!S238","v":0},{"$f":"per_game!T238","v":0},{"$f":"per_game!U238","v":0},{"$f":"per_game!X238","v":0},"G"]
[null,null,{"$f":"Roster!C239","v":0},0,null,{"$f":"per_game!I239","v":0},{"$f":"per_game!L239","v":0},{"$f":"per_game!O239","v":0},{"$f":"per_game!R239","v":0},{"$f":"per_game!S239","v":0},{"$f":"per_game!T239","v":0},{"$f":"per_game!U239","v":0},{"$f":"per_game!X239","v":0},"F"]
[null,null,{"$f":"Roster!C240","v":"Pos"},null,{"$f":"per_game!B240 & \"-\" & D240","v":"Player-"},{"$f":"per_game!I240","v":"FG%"},{"$f":"per_game!L240","v":"3P%"},{"$f":"per_game!O240","v":"FT%"},{"$f":"per_game!R240","v":"TRB"},{"$f":"per_game!S240","v":"AST"},{"$f":"per_game!T240","v":"STL"},{"$f":"per_game!U240","v":"BLK"},{"$f":"per_game!X240","v":"PTS"},"F"]
[null,null,{"$f":"Roster!C241","v":"G"},31.004999999999999,{"$f":"per_game!B241 & \"-\" & D241","v":"Rudy Gay-31.005"},{"$f":"per_game!I241","v":0.42199999999999999},{"$f":"per_game!L241","v":0.39600000000000002},{"$f":"per_game!O241","v":0.78700000000000003},{"$f":"per_game!R241","v":5.9},{"$f":"per_game!S241","v":2.2999999999999998},{"$f":"per_game!T241","v":1.4},{"$f":"per_game!U241","v":0.9},{"$f":"per_game!X241","v":18.899999999999999},"G"]
[null,null,{"$f":"Roster!C242","v":"F"},32.918999999999997,{"$f":"per_game!B242 & \"-\" & D242","v":"Zach Randolph-32.919"},{"$f":"per_game!I242","v":0.46600000000000003},{"$f":"per_game!L242","v":0},{"$f":"per_game!O242","v":0.753},{"$f":"per_game!R242","v":12.7},{"$f":"per_game!S242","v":1.5},{"$f":"per_game!T242","v":0.7},{"$f":"per_game!U242","v":0.5},{"$f":"per_game!X242","v":16.3},"G"]
[null,null,{"$f":"Roster!C243","v":"G"},30.9,{"$f":"per_game!B243 & \"-\" & D243","v":"Marc Gasol-30.9"},{"$f":"per_game!I243","v":0.503},{"$f":"per_game!L243","v":0},{"$f":"per_game!O243","v":0.89700000000000002},{"$f":"per_game!R243","v":7.1},{"$f":"per_game!S243","v":4.4000000000000004},{"$f":"per_game!T243","v":0.7},{"$f":"per_game!U243","v":1.4},{"$f":"per_game!X243","v":15.9},"F"]
[null,null,{"$f":"Roster!C244","v":"G"},29.490000000000002,{"$f":"per_game!B244 & \"-\" & D244","v":"Mike Conley-29.49"},{"$f":"per_game!I244","v":0.497},{"$f":"per_game!L244","v":0.46300000000000002},{"$f":"per_game!O244","v":0.83},{"$f":"per_game!R244","v":2.8},{"$f":"per_game!S244","v":6.7},{"$f":"per_game!T244","v":2.6},{"$f":"per_game!U244","v":0.3},{"$f":"per_game!X244","v":15.3},"F"]
[null,null,{"$f":"Roster!C245","v":"G"},15.927999999999999,{"$f":"per_game!B245 & \"-\" & D245","v":"Tony Allen-15.928"},{"$f":"per_game!I245","v":0.38},{"$f":"per_game!L245","v":0},{"$f":"per_game!O245","v":0.84799999999999998},{"$f":"per_game!R245","v":3.5},{"$f":"per_game!S245","v":0.6},{"$f":"per_game!T245","v":2},{"$f":"per_game!U245","v":0.6},{"$f":"per_game!X245","v":8},"F"]
[null,null,{"$f":"Roster!C246","v":"C"},14.558,{"$f":"per_game!B246 & \"-\" & D246","v":"Jerryd Bayless-14.558"},{"$f":"per_game!I246","v":0.42399999999999999},{"$f":"per_game!L246","v":0.32400000000000001},{"$f":"per_game!O246","v":0.81},{"$f":"per_game!R246","v":1.4},{"$f":"per_game!S246","v":3.1},{"$f":"per_game!T246","v":0.9},{"$f":"per_game!U246","v":0.5},{"$f":"per_game!X246","v":7.1},"G"]
[null,null,{"$f":"Roster!C247","v":"F"},15.970000000000002,{"$f":"per_game!B247 & \"-\" & D247","v":"Marreese Speights-15.97"},{"$f":"per_game!I247","v":0.39600000000000002},{"$f":"per_game!L247","v":1},{"$f":"per_game!O247","v":0.77400000000000002},{"$f":"per_game!R247","v":5.3},{"$f":"per_game!S247","v":0.6},{"$f":"per_game!T247","v":0.3},{"$f":"per_game!U247","v":0.9},{"$f":"per_game!X247","v":6.7},"C"]
[null,null,{"$f":"Roster!C248","v":"C"},10.645,{"$f":"per_game!B248 & \"-\" & D248","v":"Darrell Arthur-10.645"},{"$f":"per_game!I248","v":0.54500000000000004},{"$f":"per_game!L248","v":0},{"$f":"per_game!O248","v":1},{"$f":"per_game!R248","v":1.8},{"$f":"per_game!S248","v":0.5},{"$f":"per_game!T248","v":0},{"$f":"per_game!U248","v":0.5},{"$f":"per_game!X248","v":6.3},"C"]
[null,null,{"$f":"Roster!C249","v":"G-F"},11.753,{"$f":"per_game!B249 & \"-\" & D249","v":"Quincy Pondexter-11.753"},{"$f":"per_game!I249","v":0.40500000000000003},{"$f":"per_game!L249","v":0.38100000000000001},{"$f":"per_game!O249","v":0.66700000000000004},{"$f":"per_game!R249","v":1.9},{"$f":"per_game!S249","v":1.5},{"$f":"per_game!T249","v":0.9},{"$f":"per_game!U249","v":0.1},{"$f":"per_game!X249","v":5.9}]
[null,null,{"$f":"Roster!C250","v":"F"},9.3339999999999996,{"$f":"per_game!B250 & \"-\" & D250","v":"Wayne Ellington-9.334"},{"$f":"per_game!I250","v":0.36799999999999999},{"$f":"per_game!L250","v":0.33300000000000002},{"$f":"per_game!O250","v":0.83299999999999996},{"$f":"per_game!R250","v":1.2},{"$f":"per_game!S250","v":1.2},{"$f":"per_game!T250","v":0.4},{"$f":"per_game!U250","v":0.1},{"$f":"per_game!X250","v":4.9000000000000004},"MIL"]
[null,null,{"$f":"Roster!C251","v":"G"},1.5,{"$f":"per_game!B251 & \"-\" & D251","v":"Hamed Haddadi-1.5"},{"$f":"per_game!I251","v":0.5},{"$f":"per_game!L251","v":0},{"$f":"per_game!O251","v":0},{"$f":"per_game!R251","v":0},{"$f":"per_game!S251","v":0},{"$f":"per_game!T251","v":0},{"$f":"per_game!U251","v":0},{"$f":"per_game!X251","v":1},"Rk"]
[null,null,{"$f":"Roster!C252","v":"F"},0.8,{"$f":"per_game!B252 & \"-\" & D252","v":"Josh Selby-0.8"},{"$f":"per_game!I252","v":0},{"$f":"per_game!L252","v":0},{"$f":"per_game!O252","v":0},{"$f":"per_game!R252","v":0.2},{"$f":"per_game!S252","v":0.4},{"$f":"per_game!T252","v":0.2},{"$f":"per_game!U252","v":0},{"$f":"per_game!X252","v":0},"G"]
[null,null,{"$f":"Roster!C253","v":"G"},0.6,null,{"$f":"per_game!I253","v":0},{"$f":"per_game!L253","v":0},{"$f":"per_game!O253","v":0},{"$f":"per_game!R253","v":0.3},{"$f":"per_game!S253","v":0},{"$f":"per_game!T253","v":0.3},{"$f":"per_game!U253","v":0},{"$f":"per_game!X253","v":0},"G"]
[null,null,{"$f":"Roster!C254","v":0},0,null,{"$f":"per_game!I254","v":0},{"$f":"per_game!L254","v":0},{"$f":"per_game!O254","v":0},{"$f":"per_game!R254","v":0},{"$f":"per_game!S254","v":0},{"$f":"per_game!T254","v":0},{"$f":"per_game!U254","v":0},{"$f":"per_game!X254","v":0},"F-G"]
[null,null,{"$f":"Roster!C255","v":0},0,null,{"$f":"per_game!I255","v":0},{"$f":"per_game!L255","v":0},{"$f":"per_game!O255","v":0},{"$f":"per_game!R255","v":0},{"$f":"per_game!S255","v":0},{"$f":"per_game!T255","v":0},{"$f":"per_game!U255","v":0},{"$f":"per_game!X255","v":0},"F"]
[null,null,{"$f":"Roster!C256","v":"Pos"},null,{"$f":"per_game!B256 & \"-\" & D256","v":"Player-"},{"$f":"per_game!I256","v":"FG%"},{"$f":"per_game!L256","v":"3P%"},{"$f":"per_game!O256","v":"FT%"},{"$f":"per_game!R256","v":"TRB"},{"$f":"per_game!S256","v":"AST"},{"$f":"per_game!T256","v":"STL"},{"$f":"per_game!U256","v":"BLK"},{"$f":"per_game!X256","v":"PTS"},"F"]
[null,null,{"$f":"Roster!C257","v":"G"},43.730000000000004,{"$f":"per_game!B257 & \"-\" & D257","v":"LeBron James-43.73"},{"$f":"per_game!I257","v":0.53300000000000003},{"$f":"per_game!L257","v":0.438},{"$f":"per_game!O257","v":0.65900000000000003},{"$f":"per_game!R257","v":8.9},{"$f":"per_game!S257","v":6.5},{"$f":"per_game!T257","v":1.1000000000000001},{"$f":"per_game!U257","v":0.9},{"$f":"per_game!X257","v":24.7},"G"]
[null,null,{"$f":"Roster!C258","v":"C"},32.073,{"$f":"per_game!B258 & \"-\" & D258","v":"Dwyane Wade-32.073"},{"$f":"per_game!I258","v":0.48899999999999999},{"$f":"per_game!L258","v":0.222},{"$f":"per_game!O258","v":0.76200000000000001},{"$f":"per_game!R258","v":4.0999999999999996},{"$f":"per_game!S258","v":4.9000000000000004},{"$f":"per_game!T258","v":1.3},{"$f":"per_game!U258","v":0.8},{"$f":"per_game!X258","v":19.5},"F"]
[null,null,{"$f":"Roster!C259","v":"F"},{"$f":"F259*$B$6+G259*$B$8+H259*$B$7+I259*$B$2+J259*$B$3+K259*$B$5+L259*$B$4+M259*$B$1","v":32.185000000000002},{"$f":"per_game!B259 & \"-\" & D259","v":"Chris Bosh-32.185"},{"$f":"per_game!I259","v":0.55000000000000004},{"$f":"per_game!L259","v":0.16700000000000001},{"$f":"per_game!O259","v":0.86799999999999999},{"$f":"per_game!R259","v":7.9},{"$f":"per_game!S259","v":1.3},{"$f":"per_game!T259","v":0.7},{"$f":"per_game!U259","v":1.4},{"$f":"per_game!X259","v":19.3},"F"]
[null,null,{"$f":"Roster!C260","v":"F-C"},21.493000000000002,{"$f":"per_game!B260 & \"-\" & D260","v":"Ray Allen-21.493"},{"$f":"per_game!I260","v":0.51600000000000001},{"$f":"per_game!L260","v":0.52600000000000002},{"$f":"per_game!O260","v":0.85099999999999998},{"$f":"per_game!R260","v":3},{"$f":"per_game!S260","v":2.1},{"$f":"per_game!T260","v":1.1000000000000001},{"$f":"per_game!U260","v":0.1},{"$f":"per_game!X260","v":13.3},"C"]
[null,null,{"$f":"Roster!C261","v":"G"},13.472999999999999,{"$f":"per_game!B261 & \"-\" & D261","v":"Shane Battier-13.473"},{"$f":"per_game!I261","v":0.44800000000000001},{"$f":"per_game!L261","v":0.45800000000000002},{"$f":"per_game!O261","v":0.66700000000000004},{"$f":"per_game!R261","v":2.5},{"$f":"per_game!S261","v":0.8},{"$f":"per_game!T261","v":0.6},{"$f":"per_game!U261","v":1},{"$f":"per_game!X261","v":7},"G-F"]
[null,null,{"$f":"Roster!C262","v":"G"},17.303999999999998,{"$f":"per_game!B262 & \"-\" & D262","v":"Mario Chalmers-17.304"},{"$f":"per_game!I262","v":0.40400000000000003},{"$f":"per_game!L262","v":0.33300000000000002},{"$f":"per_game!O262","v":0.66700000000000004},{"$f":"per_game!R262","v":2.8},{"$f":"per_game!S262","v":4.3},{"$f":"per_game!T262","v":1.8},{"$f":"per_game!U262","v":0.2},{"$f":"per_game!X262","v":6.8},"F"]
[null,null,{"$f":"Roster!C263","v":"C"},11.116,{"$f":"per_game!B263 & \"-\" & D263","v":"Rashard Lewis-11.116"},{"$f":"per_game!I263","v":0.51600000000000001},{"$f":"per_game!L263","v":0.5},{"$f":"per_game!O263","v":0.5},{"$f":"per_game!R263","v":2},{"$f":"per_game!S263","v":0.5},{"$f":"per_game!T263","v":0.5},{"$f":"per_game!U263","v":0.1},{"$f":"per_game!X263","v":6.5},"C"]
[null,null,{"$f":"Roster!C264","v":"G"},10.903999999999998,{"$f":"per_game!B264 & \"-\" & D264","v":"Norris Cole-10.904"},{"$f":"per_game!I264","v":0.36799999999999999},{"$f":"per_game!L264","v":0.25},{"$f":"per_game!O264","v":0.78600000000000003},{"$f":"per_game!R264","v":1.4},{"$f":"per_game!S264","v":2.2999999999999998},{"$f":"per_game!T264","v":0.6},{"$f":"per_game!U264","v":0.1},{"$f":"per_game!X264","v":5.0999999999999996},"G"]
[null,null,{"$f":"Roster!C265","v":"F"},10.7,{"$f":"per_game!B265 & \"-\" & D265","v":"Udonis Haslem-10.7"},{"$f":"per_game!I265","v":0.5},{"$f":"per_game!L265","v":0},{"$f":"per_game!O265","v":0.6},{"$f":"per_game!R265","v":5.0999999999999996},{"$f":"per_game!S265","v":0.4},{"$f":"per_game!T265","v":0.3},{"$f":"per_game!U265","v":0.1},{"$f":"per_game!X265","v":3.7}]
[null,null,{"$f":"Roster!C266","v":"F-G"},9.4510000000000005,{"$f":"per_game!B266 & \"-\" & D266","v":"Mike Miller-9.451"},{"$f":"per_game!I266","v":0.44400000000000001},{"$f":"per_game!L266","v":0.40699999999999997},{"$f":"per_game!O266","v":1},{"$f":"per_game!R266","v":2.2999999999999998},{"$f":"per_game!S266","v":1.5},{"$f":"per_game!T266","v":0.4},{"$f":"per_game!U266","v":0},{"$f":"per_game!X266","v":3.4},"MIN"]
[null,null,{"$f":"Roster!C267","v":"F"},2.8879999999999999,{"$f":"per_game!B267 & \"-\" & D267","v":"James Jones-2.888"},{"$f":"per_game!I267","v":0.44400000000000001},{"$f":"per_game!L267","v":0.44400000000000001},{"$f":"per_game!O267","v":0},{"$f":"per_game!R267","v":0},{"$f":"per_game!S267","v":0},{"$f":"per_game!T267","v":0},{"$f":"per_game!U267","v":0},{"$f":"per_game!X267","v":2},"Rk"]
[null,null,{"$f":"Roster!C268","v":"F"},5.367,{"$f":"per_game!B268 & \"-\" & D268","v":"Josh Harrellson-5.367"},{"$f":"per_game!I268","v":0.66700000000000004},{"$f":"per_game!L268","v":1},{"$f":"per_game!O268","v":0},{"$f":"per_game!R268","v":1.7},{"$f":"per_game!S268","v":0},{"$f":"per_game!T268","v":0.3},{"$f":"per_game!U268","v":0},{"$f":"per_game!X268","v":1.7},"C-F"]
[null,null,{"$f":"Roster!C269","v":"F"},3.633,{"$f":"per_game!B269 & \"-\" & D269","v":"Terrel Harris-3.633"},{"$f":"per_game!I269","v":0.33300000000000002},{"$f":"per_game!L269","v":0},{"$f":"per_game!O269","v":1},{"$f":"per_game!R269","v":1},{"$f":"per_game!S269","v":0},{"$f":"per_game!T269","v":0},{"$f":"per_game!U269","v":0},{"$f":"per_game!X269","v":1.3},"F"]
[null,null,{"$f":"Roster!C270","v":"C"},2.0289999999999999,null,{"$f":"per_game!I270","v":0.42899999999999999},{"$f":"per_game!L270","v":0},{"$f":"per_game!O270","v":0},{"$f":"per_game!R270","v":0.5},{"$f":"per_game!S270","v":0.1},{"$f":"per_game!T270","v":0},{"$f":"per_game!U270","v":0.5},{"$f":"per_game!X270","v":0.5},"G"]
[null,null,{"$f":"Roster!C271","v":"G"},0,null,{"$f":"per_game!I271","v":0},{"$f":"per_game!L271","v":0},{"$f":"per_game!O271","v":0},{"$f":"per_game!R271","v":0},{"$f":"per_game!S271","v":0},{"$f":"per_game!T271","v":0},{"$f":"per_game!U271","v":0},{"$f":"per_game!X271","v":0},"F"]
[null,null,{"$f":"Roster!C272","v":0},0,null,{"$f":"per_game!I272","v":0},{"$f":"per_game!L272","v":0},{"$f":"per_game!O272","v":0},{"$f":"per_game!R272","v":0},{"$f":"per_game!S272","v":0},{"$f":"per_game!T272","v":0},{"$f":"per_game!U272","v":0},{"$f":"per_game!X272","v":0},"G"]
[null,null,{"$f":"Roster!C273","v":0},0,{"$f":"per_game!B273 & \"-\" & D273","v":"-0"},{"$f":"per_game!I273","v":0},{"$f":"per_game!L273","v":0},{"$f":"per_game!O273","v":0},{"$f":"per_game!R273","v":0},{"$f":"per_game!S273","v":0},{"$f":"per_game!T273","v":0},{"$f":"per_game!U273","v":0},{"$f":"per_game!X273","v":0},"F"]
[null,null,{"$f":"Roster!C274","v":"Pos"},null,{"$f":"per_game!B274 & \"-\" & D274","v":"Player-"},{"$f":"per_game!I274","v":"FG%"},{"$f":"per_game!L274","v":"3P%"},{"$f":"per_game!O274","v":"FT%"},{"$f":"per_game!R274","v":"TRB"},{"$f":"per_game!S274","v":"AST"},{"$f":"per_game!T274","v":"STL"},{"$f":"per_game!U274","v":"BLK"},{"$f":"per_game!X274","v":"PTS"},"G"]
[null,null,{"$f":"Roster!C275","v":"C"},30.265000000000001,{"$f":"per_game!B275 & \"-\" & D275","v":"Monta Ellis-30.265"},{"$f":"per_game!I275","v":0.40100000000000002},{"$f":"per_game!L275","v":0.21099999999999999},{"$f":"per_game!O275","v":0.85299999999999998},{"$f":"per_game!R275","v":3.1},{"$f":"per_game!S275","v":5.0999999999999996},{"$f":"per_game!T275","v":1.4},{"$f":"per_game!U275","v":0.6},{"$f":"per_game!X275","v":18.600000000000001},"F"]
[null,null,{"$f":"Roster!C276","v":"G-F"},31.085000000000001,{"$f":"per_game!B276 & \"-\" & D276","v":"Brandon Jennings-31.085"},{"$f":"per_game!I276","v":0.41499999999999998},{"$f":"per_game!L276","v":0.37},{"$f":"per_game!O276","v":0.8},{"$f":"per_game!R276","v":3.4},{"$f":"per_game!S276","v":6.3},{"$f":"per_game!T276","v":2.5},{"$f":"per_game!U276","v":0.3},{"$f":"per_game!X276","v":17},"G"]
[null,null,{"$f":"Roster!C277","v":"F-G"},20.97,{"$f":"per_game!B277 & \"-\" & D277","v":"Mike Dunleavy-20.97"},{"$f":"per_game!I277","v":0.44900000000000001},{"$f":"per_game!L277","v":0.42399999999999999},{"$f":"per_game!O277","v":0.69699999999999995},{"$f":"per_game!R277","v":5.0999999999999996},{"$f":"per_game!S277","v":2.4},{"$f":"per_game!T277","v":0.7},{"$f":"per_game!U277","v":0.4},{"$f":"per_game!X277","v":10.8},"G"]
[null,null,{"$f":"Roster!C278","v":"G"},16.914999999999999,{"$f":"per_game!B278 & \"-\" & D278","v":"Beno Udrih-16.915"},{"$f":"per_game!I278","v":0.47899999999999998},{"$f":"per_game!L278","v":0.28599999999999998},{"$f":"per_game!O278","v":0.75},{"$f":"per_game!R278","v":2.8},{"$f":"per_game!S278","v":3.3},{"$f":"per_game!T278","v":0.8},{"$f":"per_game!U278","v":0.2},{"$f":"per_game!X278","v":8.3000000000000007},"C"]
[null,null,{"$f":"Roster!C279","v":"F"},21.262999999999998,{"$f":"per_game!B279 & \"-\" & D279","v":"Larry Sanders-21.263"},{"$f":"per_game!I279","v":0.55000000000000004},{"$f":"per_game!L279","v":0},{"$f":"per_game!O279","v":0.61299999999999999},{"$f":"per_game!R279","v":7.6},{"$f":"per_game!S279","v":0.8},{"$f":"per_game!T279","v":0.6},{"$f":"per_game!U279","v":3},{"$f":"per_game!X279","v":8.1},"F"]
[null,null,{"$f":"Roster!C280","v":"F"},17.466999999999999,{"$f":"per_game!B280 & \"-\" & D280","v":"Luc Mbah a Moute-17.467"},{"$f":"per_game!I280","v":0.46700000000000003},{"$f":"per_game!L280","v":0},{"$f":"per_game!O280","v":0.5},{"$f":"per_game!R280","v":7},{"$f":"per_game!S280","v":2},{"$f":"per_game!T280","v":0},{"$f":"per_game!U280","v":0},{"$f":"per_game!X280","v":7.5},"G"]
[null,null,{"$f":"Roster!C281","v":"F"},13.071999999999999,{"$f":"per_game!B281 & \"-\" & D281","v":"Tobias Harris-13.072"},{"$f":"per_game!I281","v":0.50600000000000001},{"$f":"per_game!L281","v":0.33300000000000002},{"$f":"per_game!O281","v":0.83299999999999996},{"$f":"per_game!R281","v":3},{"$f":"per_game!S281","v":0.7},{"$f":"per_game!T281","v":0.3},{"$f":"per_game!U281","v":0.3},{"$f":"per_game!X281","v":7.1}]
[null,null,{"$f":"Roster!C282","v":"G"},14.991000000000001,{"$f":"per_game!B282 & \"-\" & D282","v":"Ersan Ilyasova-14.991"},{"$f":"per_game!I282","v":0.35299999999999998},{"$f":"per_game!L282","v":0.219},{"$f":"per_game!O282","v":0.61899999999999999},{"$f":"per_game!R282","v":4.7},{"$f":"per_game!S282","v":1.5},{"$f":"per_game!T282","v":0.4},{"$f":"per_game!U282","v":0.3},{"$f":"per_game!X282","v":6.9},"NOH"]
[null,null,{"$f":"Roster!C283","v":"G"},15.335999999999999,{"$f":"per_game!B283 & \"-\" & D283","v":"Samuel Dalembert-15.336"},{"$f":"per_game!I283","v":0.60299999999999998},{"$f":"per_game!L283","v":1},{"$f":"per_game!O283","v":0.83299999999999996},{"$f":"per_game!R283","v":4.8},{"$f":"per_game!S283","v":0.7},{"$f":"per_game!T283","v":0.2},{"$f":"per_game!U283","v":1},{"$f":"per_game!X283","v":6.2},"Rk"]
[null,null,{"$f":"Roster!C284","v":"F"},11.995999999999999,{"$f":"per_game!B284 & \"-\" & D284","v":"John Henson-11.996"},{"$f":"per_game!I284","v":0.47499999999999998},{"$f":"per_game!L284","v":0},{"$f":"per_game!O284","v":0.42099999999999999},{"$f":"per_game!R284","v":3.7},{"$f":"per_game!S284","v":0.5},{"$f":"per_game!T284","v":0.3},{"$f":"per_game!U284","v":0.6},{"$f":"per_game!X284","v":6},"F"]
[null,null,{"$f":"Roster!C285","v":"C"},11.186,{"$f":"per_game!B285 & \"-\" & D285","v":"Marquis Daniels-11.186"},{"$f":"per_game!I285","v":0.41399999999999998},{"$f":"per_game!L285","v":8.3000000000000004E-2},{"$f":"per_game!O285","v":0.88900000000000001},{"$f":"per_game!R285","v":1.6},{"$f":"per_game!S285","v":1.3},{"$f":"per_game!T285","v":1},{"$f":"per_game!U285","v":0.3},{"$f":"per_game!X285","v":5.6},"F-C"]
[null,null,{"$f":"Roster!C286","v":"F"},13.292999999999999,null,{"$f":"per_game!I286","v":0.45300000000000001},{"$f":"per_game!L286","v":0},{"$f":"per_game!O286","v":0.84},{"$f":"per_game!R286","v":3.8},{"$f":"per_game!S286","v":0.9},{"$f":"per_game!T286","v":0.6},{"$f":"per_game!U286","v":1.1000000000000001},{"$f":"per_game!X286","v":5.6},"F"]
[null,null,{"$f":"Roster!C287","v":"F"},6.718,null,{"$f":"per_game!I287","v":0.432},{"$f":"per_game!L287","v":0.28599999999999998},{"$f":"per_game!O287","v":1},{"$f":"per_game!R287","v":0.4},{"$f":"per_game!S287","v":0.9},{"$f":"per_game!T287","v":0.1},{"$f":"per_game!U287","v":0},{"$f":"per_game!X287","v":3.6},"G"]
[null,null,{"$f":"Roster!C288","v":"G"},3.5330000000000004,null,{"$f":"per_game!I288","v":0.33300000000000002},{"$f":"per_game!L288","v":0},{"$f":"per_game!O288","v":0},{"$f":"per_game!R288","v":2},{"$f":"per_game!S288","v":0.5},{"$f":"per_game!T288","v":0.2},{"$f":"per_game!U288","v":0.2},{"$f":"per_game!X288","v":0.3},"C"]
[null,null,{"$f":"Roster!C289","v":0},0,{"$f":"per_game!B289 & \"-\" & D289","v":"-0"},{"$f":"per_game!I289","v":0},{"$f":"per_game!L289","v":0},{"$f":"per_game!O289","v":0},{"$f":"per_game!R289","v":0},{"$f":"per_game!S289","v":0},{"$f":"per_game!T289","v":0},{"$f":"per_game!U289","v":0},{"$f":"per_game!X289","v":0},"F"]
[null,null,{"$f":"Roster!C290","v":0},0,{"$f":"per_game!B290 & \"-\" & D290","v":"-0"},{"$f":"per_game!I290","v":0},{"$f":"per_game!L290","v":0},{"$f":"per_game!O290","v":0},{"$f":"per_game!R290","v":0},{"$f":"per_game!S290","v":0},{"$f":"per_game!T290","v":0},{"$f":"per_game!U290","v":0},{"$f":"per_game!X290","v":0},"G"]
[null,null,{"$f":"Roster!C291","v":"Pos"},null,{"$f":"per_game!B291 & \"-\" & D291","v":"Player-"},{"$f":"per_game!I291","v":"FG%"},{"$f":"per_game!L291","v":"3P%"},{"$f":"per_game!O291","v":"FT%"},{"$f":"per_game!R291","v":"TRB"},{"$f":"per_game!S291","v":"AST"},{"$f":"per_game!T291","v":"STL"},{"$f":"per_game!U291","v":"BLK"},{"$f":"per_game!X291","v":"PTS"},"G"]
[null,null,{"$f":"Roster!C292","v":"F"},41.747,{"$f":"per_game!B292 & \"-\" & D292","v":"Kevin Love-41.747"},{"$f":"per_game!I292","v":0.37},{"$f":"per_game!L292","v":0.19400000000000001},{"$f":"per_game!O292","v":0.68300000000000005},{"$f":"per_game!R292","v":15.3},{"$f":"per_game!S292","v":1.7},{"$f":"per_game!T292","v":1.3},{"$f":"per_game!U292","v":0.5},{"$f":"per_game!X292","v":21.7},"F"]
[null,null,{"$f":"Roster!C293","v":"G"},26.621000000000002,{"$f":"per_game!B293 & \"-\" & D293","v":"Nikola Pekovic-26.621"},{"$f":"per_game!I293","v":0.48699999999999999},{"$f":"per_game!L293","v":0},{"$f":"per_game!O293","v":0.73399999999999999},{"$f":"per_game!R293","v":7.6},{"$f":"per_game!S293","v":1.2},{"$f":"per_game!T293","v":0.8},{"$f":"per_game!U293","v":1},{"$f":"per_game!X293","v":14.8},"G"]
[null,null,{"$f":"Roster!C294","v":"F"},28.997,{"$f":"per_game!B294 & \"-\" & D294","v":"Andrei Kirilenko-28.997"},{"$f":"per_game!I294","v":0.50800000000000001},{"$f":"per_game!L294","v":0.375},{"$f":"per_game!O294","v":0.71399999999999997},{"$f":"per_game!R294","v":7.8},{"$f":"per_game!S294","v":3.3},{"$f":"per_game!T294","v":1.5},{"$f":"per_game!U294","v":1.8},{"$f":"per_game!X294","v":13},"G"]
[null,null,{"$f":"Roster!C295","v":"G"},19.884,{"$f":"per_game!B295 & \"-\" & D295","v":"Chase Budinger-19.884"},{"$f":"per_game!I295","v":0.48},{"$f":"per_game!L295","v":0.30399999999999999},{"$f":"per_game!O295","v":0.8},{"$f":"per_game!R295","v":3.5},{"$f":"per_game!S295","v":1.5},{"$f":"per_game!T295","v":1},{"$f":"per_game!U295","v":0.5},{"$f":"per_game!X295","v":11.8},"F"]
[null,null,{"$f":"Roster!C296","v":"F"},22.021000000000001,{"$f":"per_game!B296 & \"-\" & D296","v":"Luke Ridnour-22.021"},{"$f":"per_game!I296","v":0.441},{"$f":"per_game!L296","v":0.318},{"$f":"per_game!O296","v":0.76200000000000001},{"$f":"per_game!R296","v":2.9},{"$f":"per_game!S296","v":4.4000000000000004},{"$f":"per_game!T296","v":1.3},{"$f":"per_game!U296","v":0.3},{"$f":"per_game!X296","v":11.6},"F"]
[null,null,{"$f":"Roster!C297","v":"F-G"},19.37,{"$f":"per_game!B297 & \"-\" & D297","v":"Alexey Shved-19.37"},{"$f":"per_game!I297","v":0.38900000000000001},{"$f":"per_game!L297","v":0.313},{"$f":"per_game!O297","v":0.86799999999999999},{"$f":"per_game!R297","v":2.6},{"$f":"per_game!S297","v":3.7},{"$f":"per_game!T297","v":0.6},{"$f":"per_game!U297","v":0.5},{"$f":"per_game!X297","v":10.4}]
[null,null,{"$f":"Roster!C298","v":"F"},18.457000000000001,{"$f":"per_game!B298 & \"-\" & D298","v":"Derrick Williams-18.457"},{"$f":"per_game!I298","v":0.38100000000000001},{"$f":"per_game!L298","v":0.33300000000000002},{"$f":"per_game!O298","v":0.74299999999999999},{"$f":"per_game!R298","v":5.5},{"$f":"per_game!S298","v":0.7},{"$f":"per_game!T298","v":0.3},{"$f":"per_game!U298","v":1},{"$f":"per_game!X298","v":9.5},"NYK"]
[null,null,{"$f":"Roster!C299","v":"G"},18.271999999999998,{"$f":"per_game!B299 & \"-\" & D299","v":"Jose Barea-18.272"},{"$f":"per_game!I299","v":0.38700000000000001},{"$f":"per_game!L299","v":0.27600000000000002},{"$f":"per_game!O299","v":0.90900000000000003},{"$f":"per_game!R299","v":3.2},{"$f":"per_game!S299","v":4.4000000000000004},{"$f":"per_game!T299","v":0.5},{"$f":"per_game!U299","v":0},{"$f":"per_game!X299","v":8.6},"Rk"]
[null,null,{"$f":"Roster!C300","v":"F"},16.041,{"$f":"per_game!B300 & \"-\" & D300","v":"Dante Cunningham-16.041"},{"$f":"per_game!I300","v":0.49099999999999999},{"$f":"per_game!L300","v":0},{"$f":"per_game!O300","v":0.75},{"$f":"per_game!R300","v":5},{"$f":"per_game!S300","v":0.6},{"$f":"per_game!T300","v":0.7},{"$f":"per_game!U300","v":0.7},{"$f":"per_game!X300","v":7.8},"F"]
[null,null,{"$f":"Roster!C301","v":"C-F"},12.097000000000001,{"$f":"per_game!B301 & \"-\" & D301","v":"Josh Howard-12.097"},{"$f":"per_game!I301","v":0.378},{"$f":"per_game!L301","v":0.28599999999999998},{"$f":"per_game!O301","v":0.83299999999999996},{"$f":"per_game!R301","v":3},{"$f":"per_game!S301","v":0.6},{"$f":"per_game!T301","v":0.7},{"$f":"per_game!U301","v":0.4},{"$f":"per_game!X301","v":5.9},"G"]
[null,null,{"$f":"Roster!C302","v":"G"},14.814,{"$f":"per_game!B302 & \"-\" & D302","v":"Brandon Roy-14.814"},{"$f":"per_game!I302","v":0.314},{"$f":"per_game!L302","v":0},{"$f":"per_game!O302","v":0.7},{"$f":"per_game!R302","v":2.8},{"$f":"per_game!S302","v":4.5999999999999996},{"$f":"per_game!T302","v":0.6},{"$f":"per_game!U302","v":0},{"$f":"per_game!X302","v":5.8},"G"]
[null,null,{"$f":"Roster!C303","v":"G"},10.343999999999999,{"$f":"per_game!B303 & \"-\" & D303","v":"Malcolm Lee-10.344"},{"$f":"per_game!I303","v":0.36699999999999999},{"$f":"per_game!L303","v":0.29399999999999998},{"$f":"per_game!O303","v":0.58299999999999996},{"$f":"per_game!R303","v":2.2000000000000002},{"$f":"per_game!S303","v":1.3},{"$f":"per_game!T303","v":0.6},{"$f":"per_game!U303","v":0.3},{"$f":"per_game!X303","v":4.7},"C"]
[null,null,{"$f":"Roster!C304","v":"G"},8.2970000000000006,null,{"$f":"per_game!I304","v":0.35399999999999998},{"$f":"per_game!L304","v":0},{"$f":"per_game!O304","v":0.64300000000000002},{"$f":"per_game!R304","v":2.2999999999999998},{"$f":"per_game!S304","v":0.4},{"$f":"per_game!T304","v":0.2},{"$f":"per_game!U304","v":1.1000000000000001},{"$f":"per_game!X304","v":3.3},"G-F"]
[null,null,{"$f":"Roster!C305","v":"C"},5.0819999999999999,null,{"$f":"per_game!I305","v":0.182},{"$f":"per_game!L305","v":0},{"$f":"per_game!O305","v":0.3},{"$f":"per_game!R305","v":2.4},{"$f":"per_game!S305","v":0.1},{"$f":"per_game!T305","v":0.6},{"$f":"per_game!U305","v":0.6},{"$f":"per_game!X305","v":0.9},"G"]
[null,null,{"$f":"Roster!C306","v":"F"},1.1000000000000001,null,{"$f":"per_game!I306","v":0},{"$f":"per_game!L306","v":0},{"$f":"per_game!O306","v":0.5},{"$f":"per_game!R306","v":0.3},{"$f":"per_game!S306","v":0},{"$f":"per_game!T306","v":0},{"$f":"per_game!U306","v":0},{"$f":"per_game!X306","v":0.3},"F"]
[null,null,{"$f":"Roster!C307","v":0},0,{"$f":"per_game!B307 & \"-\" & D307","v":"-0"},{"$f":"per_game!I307","v":0},{"$f":"per_game!L307","v":0},{"$f":"per_game!O307","v":0},{"$f":"per_game!R307","v":0},{"$f":"per_game!S307","v":0},{"$f":"per_game!T307","v":0},{"$f":"per_game!U307","v":0},{"$f":"per_game!X307","v":0},"F-C"]
[null,null,{"$f":"Roster!C308","v":0},0,{"$f":"per_game!B308 & \"-\" & D308","v":"-0"},{"$f":"per_game!I308","v":0},{"$f":"per_game!L308","v":0},{"$f":"per_game!O308","v":0},{"$f":"per_game!R308","v":0},{"$f":"per_game!S308","v":0},{"$f":"per_game!T308","v":0},{"$f":"per_game!U308","v":0},{"$f":"per_game!X308","v":0},"G"]
[null,null,{"$f":"Roster!C309","v":"Pos"},null,{"$f":"per_game!B309 & \"-\" & D309","v":"Player-"},{"$f":"per_game!I309","v":"FG%"},{"$f":"per_game!L309","v":"3P%"},{"$f":"per_game!O309","v":"FT%"},{"$f":"per_game!R309","v":"TRB"},{"$f":"per_game!S309","v":"AST"},{"$f":"per_game!T309","v":"STL"},{"$f":"per_game!U309","v":"BLK"},{"$f":"per_game!X309","v":"PTS"},"F"]
[null,null,{"$f":"Roster!C310","v":"F"},29.251000000000001,{"$f":"per_game!B310 & \"-\" & D310","v":"Ryan Anderson-29.251"},{"$f":"per_game!I310","v":0.47099999999999997},{"$f":"per_game!L310","v":0.42299999999999999},{"$f":"per_game!O310","v":0.85699999999999998},{"$f":"per_game!R310","v":7.9},{"$f":"per_game!S310","v":1.4},{"$f":"per_game!T310","v":0.4},{"$f":"per_game!U310","v":0.3},{"$f":"per_game!X310","v":17.5},"F"]
[null,null,{"$f":"Roster!C311","v":"F"},29.632000000000001,{"$f":"per_game!B311 & \"-\" & D311","v":"Anthony Davis-29.632"},{"$f":"per_game!I311","v":0.49299999999999999},{"$f":"per_game!L311","v":0},{"$f":"per_game!O311","v":0.83899999999999997},{"$f":"per_game!R311","v":8.3000000000000007},{"$f":"per_game!S311","v":0.8},{"$f":"per_game!T311","v":1},{"$f":"per_game!U311","v":2.2000000000000002},{"$f":"per_game!X311","v":16},"C-F"]
[null,null,{"$f":"Roster!C312","v":"F-C"},27.495999999999999,{"$f":"per_game!B312 & \"-\" & D312","v":"Greivis Vasquez-27.496"},{"$f":"per_game!I312","v":0.42299999999999999},{"$f":"per_game!L312","v":0.378},{"$f":"per_game!O312","v":0.79500000000000004},{"$f":"per_game!R312","v":3.7},{"$f":"per_game!S312","v":8.6999999999999993},{"$f":"per_game!T312","v":0.4},{"$f":"per_game!U312","v":0.1},{"$f":"per_game!X312","v":13},"G-F"]
[null,null,{"$f":"Roster!C313","v":"G"},22.486000000000001,{"$f":"per_game!B313 & \"-\" & D313","v":"Robin Lopez-22.486"},{"$f":"per_game!I313","v":0.53100000000000003},{"$f":"per_game!L313","v":0},{"$f":"per_game!O313","v":0.755},{"$f":"per_game!R313","v":5.6},{"$f":"per_game!S313","v":1.1000000000000001},{"$f":"per_game!T313","v":0.8},{"$f":"per_game!U313","v":1.9},{"$f":"per_game!X313","v":11.8}]
[null,null,{"$f":"Roster!C314","v":"C"},22.96,{"$f":"per_game!B314 & \"-\" & D314","v":"Al-Farouq Aminu-22.96"},{"$f":"per_game!I314","v":0.48599999999999999},{"$f":"per_game!L314","v":0.25},{"$f":"per_game!O314","v":0.72399999999999998},{"$f":"per_game!R314","v":7.2},{"$f":"per_game!S314","v":2},{"$f":"per_game!T314","v":1.6},{"$f":"per_game!U314","v":0.6},{"$f":"per_game!X314","v":10.1},"OKC"]
[null,null,{"$f":"Roster!C315","v":"G"},15.044,{"$f":"per_game!B315 & \"-\" & D315","v":"Jason Smith-15.044"},{"$f":"per_game!I315","v":0.42699999999999999},{"$f":"per_game!L315","v":0},{"$f":"per_game!O315","v":0.91700000000000004},{"$f":"per_game!R315","v":3.6},{"$f":"per_game!S315","v":0.6},{"$f":"per_game!T315","v":0.3},{"$f":"per_game!U315","v":0.9},{"$f":"per_game!X315","v":8.3000000000000007},"Rk"]
[null,null,{"$f":"Roster!C316","v":"F"},13.419,{"$f":"per_game!B316 & \"-\" & D316","v":"Brian Roberts-13.419"},{"$f":"per_game!I316","v":0.48099999999999998},{"$f":"per_game!L316","v":0.39100000000000001},{"$f":"per_game!O316","v":0.94699999999999995},{"$f":"per_game!R316","v":0.9},{"$f":"per_game!S316","v":2.4},{"$f":"per_game!T316","v":0.3},{"$f":"per_game!U316","v":0.1},{"$f":"per_game!X316","v":7.9},"F"]
[null,null,{"$f":"Roster!C317","v":"G"},13.993,{"$f":"per_game!B317 & \"-\" & D317","v":"Austin Rivers-13.993"},{"$f":"per_game!I317","v":0.29599999999999999},{"$f":"per_game!L317","v":0.32100000000000001},{"$f":"per_game!O317","v":0.67600000000000005},{"$f":"per_game!R317","v":2.4},{"$f":"per_game!S317","v":3},{"$f":"per_game!T317","v":0.7},{"$f":"per_game!U317","v":0.2},{"$f":"per_game!X317","v":6.4},"G"]
[null,null,{"$f":"Roster!C318","v":"G"},11.355,{"$f":"per_game!B318 & \"-\" & D318","v":"Roger Mason-11.355"},{"$f":"per_game!I318","v":0.38500000000000001},{"$f":"per_game!L318","v":0.37},{"$f":"per_game!O318","v":1},{"$f":"per_game!R318","v":2.1},{"$f":"per_game!S318","v":1.3},{"$f":"per_game!T318","v":0.4},{"$f":"per_game!U318","v":0.1},{"$f":"per_game!X318","v":5.7},"G"]
[null,null,{"$f":"Roster!C319","v":"F"},8.6660000000000004,{"$f":"per_game!B319 & \"-\" & D319","v":"Lance Thomas-8.666"},{"$f":"per_game!I319","v":0.45200000000000001},{"$f":"per_game!L319","v":0},{"$f":"per_game!O319","v":0.71399999999999997},{"$f":"per_game!R319","v":2.5},{"$f":"per_game!S319","v":0.1},{"$f":"per_game!T319","v":0.3},{"$f":"per_game!U319","v":0.2},{"$f":"per_game!X319","v":4.4000000000000004},"F"]
[null,null,{"$f":"Roster!C320","v":"F"},6.5,null,{"$f":"per_game!I320","v":0.5},{"$f":"per_game!L320","v":0},{"$f":"per_game!O320","v":1},{"$f":"per_game!R320","v":0},{"$f":"per_game!S320","v":0},{"$f":"per_game!T320","v":1},{"$f":"per_game!U320","v":0},{"$f":"per_game!X320","v":4},"G"]
[null,null,{"$f":"Roster!C321","v":"G"},7.1429999999999998,null,{"$f":"per_game!I321","v":0.34300000000000003},{"$f":"per_game!L321","v":1},{"$f":"per_game!O321","v":0.4},{"$f":"per_game!R321","v":1.7},{"$f":"per_game!S321","v":0.2},{"$f":"per_game!T321","v":0.3},{"$f":"per_game!U321","v":0},{"$f":"per_game!X321","v":3.2},"G"]
[null,null,{"$f":"Roster!C322","v":"F"},7.3999999999999995,null,{"$f":"per_game!I322","v":0.379},{"$f":"per_game!L322","v":0.42099999999999999},{"$f":"per_game!O322","v":1},{"$f":"per_game!R322","v":1.7},{"$f":"per_game!S322","v":1.1000000000000001},{"$f":"per_game!T322","v":0.5},{"$f":"per_game!U322","v":0.1},{"$f":"per_game!X322","v":2.2000000000000002},"C"]
[null,null,{"$f":"Roster!C323","v":0},{"$f":"F323*$B$6+G323*$B$8+H323*$B$7+I323*$B$2+J323*$B$3+K323*$B$5+L323*$B$4+M323*$B$1","v":0},{"$f":"per_game!B323 & \"-\" & D323","v":"-0"},{"$f":"per_game!I323","v":0},{"$f":"per_game!L323","v":0},{"$f":"per_game!O323","v":0},{"$f":"per_game!R323","v":0},{"$f":"per_game!S323","v":0},{"$f":"per_game!T323","v":0},{"$f":"per_game!U323","v":0},{"$f":"per_game!X323","v":0},"F"]
[null,null,{"$f":"Roster!C324","v":0},0,{"$f":"per_game!B324 & \"-\" & D324","v":"-0"},{"$f":"per_game!I324","v":0},{"$f":"per_game!L324","v":0},{"$f":"per_game!O324","v":0},{"$f":"per_game!R324","v":0},{"$f":"per_game!S324","v":0},{"$f":"per_game!T324","v":0},{"$f":"per_game!U324","v":0},{"$f":"per_game!X324","v":0},"C"]
[null,null,{"$f":"Roster!C325","v":"Pos"},null,{"$f":"per_game!B325 & \"-\" & D325","v":"Player-"},{"$f":"per_game!I325","v":"FG%"},{"$f":"per_game!L325","v":"3P%"},{"$f":"per_game!O325","v":"FT%"},{"$f":"per_game!R325","v":"TRB"},{"$f":"per_game!S325","v":"AST"},{"$f":"per_game!T325","v":"STL"},{"$f":"per_game!U325","v":"BLK"},{"$f":"per_game!X325","v":"PTS"},"F"]
[null,null,{"$f":"Roster!C326","v":"F"},38.701999999999998,{"$f":"per_game!B326 & \"-\" & D326","v":"Carmelo Anthony-38.702"},{"$f":"per_game!I326","v":0.46400000000000002},{"$f":"per_game!L326","v":0.435},{"$f":"per_game!O326","v":0.80300000000000005},{"$f":"per_game!R326","v":6.9},{"$f":"per_game!S326","v":2.1},{"$f":"per_game!T326","v":0.8},{"$f":"per_game!U326","v":0.6},{"$f":"per_game!X326","v":26.6},"G-F"]
[null,null,{"$f":"Roster!C327","v":"G-F"},27.509,{"$f":"per_game!B327 & \"-\" & D327","v":"Raymond Felton-27.509"},{"$f":"per_game!I327","v":0.43},{"$f":"per_game!L327","v":0.41199999999999998},{"$f":"per_game!O327","v":0.66700000000000004},{"$f":"per_game!R327","v":2.6},{"$f":"per_game!S327","v":6.8},{"$f":"per_game!T327","v":1.4},{"$f":"per_game!U327","v":0.1},{"$f":"per_game!X327","v":15.1},"G"]
[null,null,{"$f":"Roster!C328","v":"C-F"},24.959,{"$f":"per_game!B328 & \"-\" & D328","v":"J.R. Smith-24.959"},{"$f":"per_game!I328","v":0.41799999999999998},{"$f":"per_game!L328","v":0.45700000000000002},{"$f":"per_game!O328","v":0.88400000000000001},{"$f":"per_game!R328","v":5.0999999999999996},{"$f":"per_game!S328","v":2.8},{"$f":"per_game!T328","v":1.3},{"$f":"per_game!U328","v":0.4},{"$f":"per_game!X328","v":13.6},"F"]
[null,null,{"$f":"Roster!C329","v":"C"},24.397999999999996,{"$f":"per_game!B329 & \"-\" & D329","v":"Tyson Chandler-24.398"},{"$f":"per_game!I329","v":0.71299999999999997},{"$f":"per_game!L329","v":0},{"$f":"per_game!O329","v":0.78500000000000003},{"$f":"per_game!R329","v":8.9},{"$f":"per_game!S329","v":0.5},{"$f":"per_game!T329","v":0.6},{"$f":"per_game!U329","v":0.7},{"$f":"per_game!X329","v":12.2},"G"]
[null,null,{"$f":"Roster!C330","v":"F"},13.041,{"$f":"per_game!B330 & \"-\" & D330","v":"Steve Novak-13.041"},{"$f":"per_game!I330","v":0.41099999999999998},{"$f":"per_game!L330","v":0.43},{"$f":"per_game!O330","v":1},{"$f":"per_game!R330","v":1.8},{"$f":"per_game!S330","v":0.4},{"$f":"per_game!T330","v":0.6},{"$f":"per_game!U330","v":0.3},{"$f":"per_game!X330","v":8.1}]
[null,null,{"$f":"Roster!C331","v":"G"},19.317999999999998,{"$f":"per_game!B331 & \"-\" & D331","v":"Jason Kidd-19.318"},{"$f":"per_game!I331","v":0.51800000000000002},{"$f":"per_game!L331","v":0.5},{"$f":"per_game!O331","v":1},{"$f":"per_game!R331","v":3.3},{"$f":"per_game!S331","v":3.4},{"$f":"per_game!T331","v":2.1},{"$f":"per_game!U331","v":0.5},{"$f":"per_game!X331","v":8},"ORL"]
[null,null,{"$f":"Roster!C332","v":"G"},14.445,{"$f":"per_game!B332 & \"-\" & D332","v":"Rasheed Wallace-14.445"},{"$f":"per_game!I332","v":0.39800000000000002},{"$f":"per_game!L332","v":0.314},{"$f":"per_game!O332","v":0.83299999999999996},{"$f":"per_game!R332","v":4.0999999999999996},{"$f":"per_game!S332","v":0.3},{"$f":"per_game!T332","v":0.6},{"$f":"per_game!U332","v":0.7},{"$f":"per_game!X332","v":7.2},"Rk"]
[null,null,{"$f":"Roster!C333","v":"F"},14.606,{"$f":"per_game!B333 & \"-\" & D333","v":"Ronnie Brewer-14.606"},{"$f":"per_game!I333","v":0.45400000000000001},{"$f":"per_game!L333","v":0.41699999999999998},{"$f":"per_game!O333","v":0.435},{"$f":"per_game!R333","v":3.6},{"$f":"per_game!S333","v":1.4},{"$f":"per_game!T333","v":1.1000000000000001},{"$f":"per_game!U333","v":0.1},{"$f":"per_game!X333","v":7.1},"G"]
[null,null,{"$f":"Roster!C334","v":"G"},6.1970000000000001,{"$f":"per_game!B334 & \"-\" & D334","v":"Chris Copeland-6.197"},{"$f":"per_game!I334","v":0.47199999999999998},{"$f":"per_game!L334","v":0.2},{"$f":"per_game!O334","v":0.625},{"$f":"per_game!R334","v":0.6},{"$f":"per_game!S334","v":0.4},{"$f":"per_game!T334","v":0.2},{"$f":"per_game!U334","v":0.1},{"$f":"per_game!X334","v":3.6},"F"]
[null,null,{"$f":"Roster!C335","v":"G"},10.029,{"$f":"per_game!B335 & \"-\" & D335","v":"Pablo Prigioni-10.029"},{"$f":"per_game!I335","v":0.439},{"$f":"per_game!L335","v":0.33300000000000002},{"$f":"per_game!O335","v":0.85699999999999998},{"$f":"per_game!R335","v":1.2},{"$f":"per_game!S335","v":2.9},{"$f":"per_game!T335","v":1},{"$f":"per_game!U335","v":0},{"$f":"per_game!X335","v":3.3},"G"]
[null,null,{"$f":"Roster!C336","v":"F"},3.9290000000000003,null,{"$f":"per_game!I336","v":0.4},{"$f":"per_game!L336","v":0.42899999999999999},{"$f":"per_game!O336","v":0.5},{"$f":"per_game!R336","v":0.7},{"$f":"per_game!S336","v":0.2},{"$f":"per_game!T336","v":0.2},{"$f":"per_game!U336","v":0},{"$f":"per_game!X336","v":1.5},"F"]
[null,null,{"$f":"Roster!C337","v":"F-C"},5.8450000000000006,null,{"$f":"per_game!I337","v":0.27800000000000002},{"$f":"per_game!L337","v":0},{"$f":"per_game!O337","v":0.66700000000000004},{"$f":"per_game!R337","v":2.7},{"$f":"per_game!S337","v":0.4},{"$f":"per_game!T337","v":0.1},{"$f":"per_game!U337","v":0.4},{"$f":"per_game!X337","v":1.3},"F"]
[null,null,{"$f":"Roster!C338","v":"G-F"},3.8999999999999995,null,{"$f":"per_game!I338","v":0},{"$f":"per_game!L338","v":0},{"$f":"per_game!O338","v":0.5},{"$f":"per_game!R338","v":2.5},{"$f":"per_game!S338","v":0.3},{"$f":"per_game!T338","v":0},{"$f":"per_game!U338","v":0.3},{"$f":"per_game!X338","v":0.3},"G"]
[null,null,{"$f":"Roster!C339","v":0},0,{"$f":"per_game!B339 & \"-\" & D339","v":"-0"},{"$f":"per_game!I339","v":0},{"$f":"per_game!L339","v":0},{"$f":"per_game!O339","v":0},{"$f":"per_game!R339","v":0},{"$f":"per_game!S339","v":0},{"$f":"per_game!T339","v":0},{"$f":"per_game!U339","v":0},{"$f":"per_game!X339","v":0},"F"]
[null,null,{"$f":"Roster!C340","v":0},0,{"$f":"per_game!B340 & \"-\" & D340","v":"-0"},{"$f":"per_game!I340","v":0},{"$f":"per_game!L340","v":0},{"$f":"per_game!O340","v":0},{"$f":"per_game!R340","v":0},{"$f":"per_game!S340","v":0},{"$f":"per_game!T340","v":0},{"$f":"per_game!U340","v":0},{"$f":"per_game!X340","v":0},"F"]
[null,null,{"$f":"Roster!C341","v":"Pos"},null,{"$f":"per_game!B341 & \"-\" & D341","v":"Player-"},{"$f":"per_game!I341","v":"FG%"},{"$f":"per_game!L341","v":"3P%"},{"$f":"per_game!O341","v":"FT%"},{"$f":"per_game!R341","v":"TRB"},{"$f":"per_game!S341","v":"AST"},{"$f":"per_game!T341","v":"STL"},{"$f":"per_game!U341","v":"BLK"},{"$f":"per_game!X341","v":"PTS"},"G-F"]
[null,null,{"$f":"Roster!C342","v":"F"},44.245000000000005,{"$f":"per_game!B342 & \"-\" & D342","v":"Kevin Durant-44.245"},{"$f":"per_game!I342","v":0.51200000000000001},{"$f":"per_game!L342","v":0.438},{"$f":"per_game!O342","v":0.89500000000000002},{"$f":"per_game!R342","v":8.6999999999999993},{"$f":"per_game!S342","v":4.3},{"$f":"per_game!T342","v":1.6},{"$f":"per_game!U342","v":1.6},{"$f":"per_game!X342","v":26.2},"F"]
[null,null,{"$f":"Roster!C343","v":"F"},38.433999999999997,{"$f":"per_game!B343 & \"-\" & D343","v":"Russell Westbrook-38.434"},{"$f":"per_game!I343","v":0.41499999999999998},{"$f":"per_game!L343","v":0.34699999999999998},{"$f":"per_game!O343","v":0.77200000000000002},{"$f":"per_game!R343","v":5.0999999999999996},{"$f":"per_game!S343","v":8.6999999999999993},{"$f":"per_game!T343","v":2.1},{"$f":"per_game!U343","v":0.3},{"$f":"per_game!X343","v":20.7},"F"]
[null,null,{"$f":"Roster!C344","v":"F"},23.467000000000002,{"$f":"per_game!B344 & \"-\" & D344","v":"Kevin Martin-23.467"},{"$f":"per_game!I344","v":0.46200000000000002},{"$f":"per_game!L344","v":0.47699999999999998},{"$f":"per_game!O344","v":0.92800000000000005},{"$f":"per_game!R344","v":2.4},{"$f":"per_game!S344","v":1.7},{"$f":"per_game!T344","v":1.2},{"$f":"per_game!U344","v":0.2},{"$f":"per_game!X344","v":16.100000000000001},"C"]
[null,null,{"$f":"Roster!C345","v":"G"},27.404,{"$f":"per_game!B345 & \"-\" & D345","v":"Serge Ibaka-27.404"},{"$f":"per_game!I345","v":0.59},{"$f":"per_game!L345","v":0.25},{"$f":"per_game!O345","v":0.86399999999999999},{"$f":"per_game!R345","v":7.6},{"$f":"per_game!S345","v":0.3},{"$f":"per_game!T345","v":0.2},{"$f":"per_game!U345","v":3.3},{"$f":"per_game!X345","v":14.3},"C"]
[null,null,{"$f":"Roster!C346","v":"F"},16.402000000000001,{"$f":"per_game!B346 & \"-\" & D346","v":"Thabo Sefolosha-16.402"},{"$f":"per_game!I346","v":0.48399999999999999},{"$f":"per_game!L346","v":0.45100000000000001},{"$f":"per_game!O346","v":0.86699999999999999},{"$f":"per_game!R346","v":4.4000000000000004},{"$f":"per_game!S346","v":1.9},{"$f":"per_game!T346","v":0.8},{"$f":"per_game!U346","v":0.4},{"$f":"per_game!X346","v":7.1},"G"]
[null,null,{"$f":"Roster!C347","v":"G-F"},13.001000000000001,{"$f":"per_game!B347 & \"-\" & D347","v":"Nick Collison-13.001"},{"$f":"per_game!I347","v":0.63400000000000001},{"$f":"per_game!L347","v":0},{"$f":"per_game!O347","v":0.66700000000000004},{"$f":"per_game!R347","v":3.7},{"$f":"per_game!S347","v":1.2},{"$f":"per_game!T347","v":0.6},{"$f":"per_game!U347","v":0.3},{"$f":"per_game!X347","v":5.9}]
[null,null,{"$f":"Roster!C348","v":"G"},14.302,{"$f":"per_game!B348 & \"-\" & D348","v":"Kendrick Perkins-14.302"},{"$f":"per_game!I348","v":0.57999999999999996},{"$f":"per_game!L348","v":0},{"$f":"per_game!O348","v":0.52200000000000002},{"$f":"per_game!R348","v":5},{"$f":"per_game!S348","v":1.7},{"$f":"per_game!T348","v":0.5},{"$f":"per_game!U348","v":0.9},{"$f":"per_game!X348","v":5.0999999999999996},"PHI"]
[null,null,{"$f":"Roster!C349","v":"G"},8.343,{"$f":"per_game!B349 & \"-\" & D349","v":"Eric Maynor-8.343"},{"$f":"per_game!I349","v":0.28599999999999998},{"$f":"per_game!L349","v":0.34399999999999997},{"$f":"per_game!O349","v":0.81299999999999994},{"$f":"per_game!R349","v":0.8},{"$f":"per_game!S349","v":2.1},{"$f":"per_game!T349","v":0.2},{"$f":"per_game!U349","v":0},{"$f":"per_game!X349","v":3.8},"Rk"]
[null,null,{"$f":"Roster!C350","v":"G"},10.289,{"$f":"per_game!B350 & \"-\" & D350","v":"Hasheem Thabeet-10.289"},{"$f":"per_game!I350","v":0.72},{"$f":"per_game!L350","v":0},{"$f":"per_game!O350","v":0.76900000000000002},{"$f":"per_game!R350","v":3.8},{"$f":"per_game!S350","v":0.1},{"$f":"per_game!T350","v":0.5},{"$f":"per_game!U350","v":0.9},{"$f":"per_game!X350","v":3.5},"G"]
[null,null,{"$f":"Roster!C351","v":"F"},4.633,{"$f":"per_game!B351 & \"-\" & D351","v":"Jeremy Lamb-4.633"},{"$f":"per_game!I351","v":0.33300000000000002},{"$f":"per_game!L351","v":0.5},{"$f":"per_game!O351","v":1},{"$f":"per_game!R351","v":0.4},{"$f":"per_game!S351","v":0.3},{"$f":"per_game!T351","v":0},{"$f":"per_game!U351","v":0},{"$f":"per_game!X351","v":2.1},"F"]
[null,null,{"$f":"Roster!C352","v":"C"},4,{"$f":"per_game!B352 & \"-\" & D352","v":"Daniel Orton-4"},{"$f":"per_game!I352","v":1},{"$f":"per_game!L352","v":0},{"$f":"per_game!O352","v":0},{"$f":"per_game!R352","v":0},{"$f":"per_game!S352","v":0},{"$f":"per_game!T352","v":0},{"$f":"per_game!U352","v":1},{"$f":"per_game!X352","v":2},"G-F"]
[null,null,{"$f":"Roster!C353","v":"G"},4.4829999999999997,null,{"$f":"per_game!I353","v":0.41199999999999998},{"$f":"per_game!L353","v":0.57099999999999995},{"$f":"per_game!O353","v":0},{"$f":"per_game!R353","v":1},{"$f":"per_game!S353","v":0.7},{"$f":"per_game!T353","v":0},{"$f":"per_game!U353","v":0},{"$f":"per_game!X353","v":1.8},"G"]
[null,null,{"$f":"Roster!C354","v":"C"},3.6000000000000005,null,{"$f":"per_game!I354","v":0.3},{"$f":"per_game!L354","v":0},{"$f":"per_game!O354","v":0},{"$f":"per_game!R354","v":1.4},{"$f":"per_game!S354","v":0.4},{"$f":"per_game!T354","v":0.1},{"$f":"per_game!U354","v":0.2},{"$f":"per_game!X354","v":1.2},"G"]
[null,null,{"$f":"Roster!C355","v":"G"},4.2,null,{"$f":"per_game!I355","v":1},{"$f":"per_game!L355","v":0},{"$f":"per_game!O355","v":1},{"$f":"per_game!R355","v":1.4},{"$f":"per_game!S355","v":0.2},{"$f":"per_game!T355","v":0},{"$f":"per_game!U355","v":0},{"$f":"per_game!X355","v":0.6},"G"]
[null,null,{"$f":"Roster!C356","v":0},0,{"$f":"per_game!B356 & \"-\" & D356","v":"-0"},{"$f":"per_game!I356","v":0},{"$f":"per_game!L356","v":0},{"$f":"per_game!O356","v":0},{"$f":"per_game!R356","v":0},{"$f":"per_game!S356","v":0},{"$f":"per_game!T356","v":0},{"$f":"per_game!U356","v":0},{"$f":"per_game!X356","v":0},"C"]
[null,null,{"$f":"Roster!C357","v":0},0,{"$f":"per_game!B357 & \"-\" & D357","v":"-0"},{"$f":"per_game!I357","v":0},{"$f":"per_game!L357","v":0},{"$f":"per_game!O357","v":0},{"$f":"per_game!R357","v":0},{"$f":"per_game!S357","v":0},{"$f":"per_game!T357","v":0},{"$f":"per_game!U357","v":0},{"$f":"per_game!X357","v":0},"F"]
[null,null,{"$f":"Roster!C358","v":"Pos"},null,{"$f":"per_game!B358 & \"-\" & D358","v":"Player-"},{"$f":"per_game!I358","v":"FG%"},{"$f":"per_game!L358","v":"3P%"},{"$f":"per_game!O358","v":"FT%"},{"$f":"per_game!R358","v":"TRB"},{"$f":"per_game!S358","v":"AST"},{"$f":"per_game!T358","v":"STL"},{"$f":"per_game!U358","v":"BLK"},{"$f":"per_game!X358","v":"PTS"},"G"]
[null,null,{"$f":"Roster!C359","v":"G"},25.123000000000005,{"$f":"per_game!B359 & \"-\" & D359","v":"Arron Afflalo-25.123"},{"$f":"per_game!I359","v":0.44500000000000001},{"$f":"per_game!L359","v":0.34799999999999998},{"$f":"per_game!O359","v":0.83},{"$f":"per_game!R359","v":3.8},{"$f":"per_game!S359","v":2.5},{"$f":"per_game!T359","v":0.8},{"$f":"per_game!U359","v":0.3},{"$f":"per_game!X359","v":16.100000000000001},"F"]
[null,null,{"$f":"Roster!C360","v":"C"},28.683999999999997,{"$f":"per_game!B360 & \"-\" & D360","v":"Glen Davis-28.684"},{"$f":"per_game!I360","v":0.434},{"$f":"per_game!L360","v":0},{"$f":"per_game!O360","v":0.75},{"$f":"per_game!R360","v":8.1999999999999993},{"$f":"per_game!S360","v":2.1},{"$f":"per_game!T360","v":0.9},{"$f":"per_game!U360","v":0.5},{"$f":"per_game!X360","v":15.8},"F"]
[null,null,{"$f":"Roster!C361","v":"F"},23.320999999999998,{"$f":"per_game!B361 & \"-\" & D361","v":"J.J. Redick-23.321"},{"$f":"per_game!I361","v":0.44500000000000001},{"$f":"per_game!L361","v":0.36099999999999999},{"$f":"per_game!O361","v":0.91500000000000004},{"$f":"per_game!R361","v":2.1},{"$f":"per_game!S361","v":5.0999999999999996},{"$f":"per_game!T361","v":0.4},{"$f":"per_game!U361","v":0.1},{"$f":"per_game!X361","v":13.9},"F"]
[null,null,{"$f":"Roster!C362","v":"G-F"},27.533000000000001,{"$f":"per_game!B362 & \"-\" & D362","v":"Jameer Nelson-27.533"},{"$f":"per_game!I362","v":0.39},{"$f":"per_game!L362","v":0.29599999999999999},{"$f":"per_game!O362","v":0.94699999999999995},{"$f":"per_game!R362","v":4.5},{"$f":"per_game!S362","v":6.7},{"$f":"per_game!T362","v":1.6},{"$f":"per_game!U362","v":0.1},{"$f":"per_game!X362","v":13},"G"]
[null,null,{"$f":"Roster!C363","v":"F"},23.712,{"$f":"per_game!B363 & \"-\" & D363","v":"Nikola Vucevic-23.712"},{"$f":"per_game!I363","v":0.47299999999999998},{"$f":"per_game!L363","v":0},{"$f":"per_game!O363","v":0.73899999999999999},{"$f":"per_game!R363","v":8.6},{"$f":"per_game!S363","v":1.6},{"$f":"per_game!T363","v":0.8},{"$f":"per_game!U363","v":1.3},{"$f":"per_game!X363","v":10.199999999999999}]
[null,null,{"$f":"Roster!C364","v":"F"},18.05,{"$f":"per_game!B364 & \"-\" & D364","v":"E'Twaun Moore-18.05"},{"$f":"per_game!I364","v":0.42899999999999999},{"$f":"per_game!L364","v":0.40699999999999997},{"$f":"per_game!O364","v":0.71399999999999997},{"$f":"per_game!R364","v":2.6},{"$f":"per_game!S364","v":3.2},{"$f":"per_game!T364","v":0.4},{"$f":"per_game!U364","v":0.3},{"$f":"per_game!X364","v":10},"PHO"]
[null,null,{"$f":"Roster!C365","v":"F"},11.157,{"$f":"per_game!B365 & \"-\" & D365","v":"Andrew Nicholson-11.157"},{"$f":"per_game!I365","v":0.52400000000000002},{"$f":"per_game!L365","v":0},{"$f":"per_game!O365","v":0.83299999999999996},{"$f":"per_game!R365","v":2.2999999999999998},{"$f":"per_game!S365","v":0.4},{"$f":"per_game!T365","v":0.1},{"$f":"per_game!U365","v":0.4},{"$f":"per_game!X365","v":6.6},"Rk"]
[null,null,{"$f":"Roster!C366","v":"G"},11.75,{"$f":"per_game!B366 & \"-\" & D366","v":"Hedo Turkoglu-11.75"},{"$f":"per_game!I366","v":0.75},{"$f":"per_game!L366","v":0},{"$f":"per_game!O366","v":0},{"$f":"per_game!R366","v":2},{"$f":"per_game!S366","v":1},{"$f":"per_game!T366","v":2},{"$f":"per_game!U366","v":0},{"$f":"per_game!X366","v":6},"G"]
[null,null,{"$f":"Roster!C367","v":"F"},11.808,{"$f":"per_game!B367 & \"-\" & D367","v":"Maurice Harkless-11.808"},{"$f":"per_game!I367","v":0.5},{"$f":"per_game!L367","v":0.2},{"$f":"per_game!O367","v":0.308},{"$f":"per_game!R367","v":4.3},{"$f":"per_game!S367","v":0.6},{"$f":"per_game!T367","v":0.6},{"$f":"per_game!U367","v":0.9},{"$f":"per_game!X367","v":4.4000000000000004},"F"]
[null,null,{"$f":"Roster!C368","v":"C"},11.276999999999999,{"$f":"per_game!B368 & \"-\" & D368","v":"Josh McRoberts-11.277"},{"$f":"per_game!I368","v":0.46300000000000002},{"$f":"per_game!L368","v":0.36399999999999999},{"$f":"per_game!O368","v":0.75},{"$f":"per_game!R368","v":3.8},{"$f":"per_game!S368","v":1.3},{"$f":"per_game!T368","v":0.3},{"$f":"per_game!U368","v":0.4},{"$f":"per_game!X368","v":3.9},"G"]
[null,null,{"$f":"Roster!C369","v":"G"},6.923,{"$f":"per_game!B369 & \"-\" & D369","v":"DeQuan Jones-6.923"},{"$f":"per_game!I369","v":0.42299999999999999},{"$f":"per_game!L369","v":0.5},{"$f":"per_game!O369","v":0.5},{"$f":"per_game!R369","v":1.9},{"$f":"per_game!S369","v":0.1},{"$f":"per_game!T369","v":0.2},{"$f":"per_game!U369","v":0.3},{"$f":"per_game!X369","v":3},"F"]
[null,null,{"$f":"Roster!C370","v":"G"},8.088000000000001,null,{"$f":"per_game!I370","v":0.48799999999999999},{"$f":"per_game!L370","v":0},{"$f":"per_game!O370","v":0.5},{"$f":"per_game!R370","v":2.9},{"$f":"per_game!S370","v":0.9},{"$f":"per_game!T370","v":0.2},{"$f":"per_game!U370","v":0.1},{"$f":"per_game!X370","v":3},"C-F"]
[null,null,{"$f":"Roster!C371","v":"F"},7.7329999999999988,null,{"$f":"per_game!I371","v":0.33300000000000002},{"$f":"per_game!L371","v":0},{"$f":"per_game!O371","v":1},{"$f":"per_game!R371","v":2.4},{"$f":"per_game!S371","v":0.7},{"$f":"per_game!T371","v":0.1},{"$f":"per_game!U371","v":0.8},{"$f":"per_game!X371","v":2.4},"F"]
[null,null,{"$f":"Roster!C372","v":"F"},4.5670000000000002,null,{"$f":"per_game!I372","v":0.16700000000000001},{"$f":"per_game!L372","v":0},{"$f":"per_game!O372","v":0},{"$f":"per_game!R372","v":1.5},{"$f":"per_game!S372","v":1.5},{"$f":"per_game!T372","v":0.4},{"$f":"per_game!U372","v":0.1},{"$f":"per_game!X372","v":0.9},"F"]
[null,null,{"$f":"Roster!C373","v":0},0,{"$f":"per_game!B373 & \"-\" & D373","v":"-0"},{"$f":"per_game!I373","v":0},{"$f":"per_game!L373","v":0},{"$f":"per_game!O373","v":0},{"$f":"per_game!R373","v":0},{"$f":"per_game!S373","v":0},{"$f":"per_game!T373","v":0},{"$f":"per_game!U373","v":0},{"$f":"per_game!X373","v":0},"G"]
[null,null,{"$f":"Roster!C374","v":0},0,{"$f":"per_game!B374 & \"-\" & D374","v":"-0"},{"$f":"per_game!I374","v":0},{"$f":"per_game!L374","v":0},{"$f":"per_game!O374","v":0},{"$f":"per_game!R374","v":0},{"$f":"per_game!S374","v":0},{"$f":"per_game!T374","v":0},{"$f":"per_game!U374","v":0},{"$f":"per_game!X374","v":0},"F"]
[null,null,{"$f":"Roster!C375","v":"Pos"},null,{"$f":"per_game!B375 & \"-\" & D375","v":"Player-"},{"$f":"per_game!I375","v":"FG%"},{"$f":"per_game!L375","v":"3P%"},{"$f":"per_game!O375","v":"FT%"},{"$f":"per_game!R375","v":"TRB"},{"$f":"per_game!S375","v":"AST"},{"$f":"per_game!T375","v":"STL"},{"$f":"per_game!U375","v":"BLK"},{"$f":"per_game!X375","v":"PTS"},"C"]
[null,null,{"$f":"Roster!C376","v":"F"},34.83,{"$f":"per_game!B376 & \"-\" & D376","v":"Jrue Holiday-34.83"},{"$f":"per_game!I376","v":0.45700000000000002},{"$f":"per_game!L376","v":0.39200000000000002},{"$f":"per_game!O376","v":0.78100000000000003},{"$f":"per_game!R376","v":3.5},{"$f":"per_game!S376","v":9.3000000000000007},{"$f":"per_game!T376","v":1.4},{"$f":"per_game!U376","v":0.5},{"$f":"per_game!X376","v":18.5},"G"]
[null,null,{"$f":"Roster!C377","v":"F"},27.228000000000002,{"$f":"per_game!B377 & \"-\" & D377","v":"Thaddeus Young-27.228"},{"$f":"per_game!I377","v":0.52400000000000002},{"$f":"per_game!L377","v":0},{"$f":"per_game!O377","v":0.60399999999999998},{"$f":"per_game!R377","v":7.7},{"$f":"per_game!S377","v":1.4},{"$f":"per_game!T377","v":1.6},{"$f":"per_game!U377","v":0.9},{"$f":"per_game!X377","v":14.5},"F-C"]
[null,null,{"$f":"Roster!C378","v":"C"},28.195,{"$f":"per_game!B378 & \"-\" & D378","v":"Evan Turner-28.195"},{"$f":"per_game!I378","v":0.441},{"$f":"per_game!L378","v":0.42299999999999999},{"$f":"per_game!O378","v":0.83099999999999996},{"$f":"per_game!R378","v":7.1},{"$f":"per_game!S378","v":4.0999999999999996},{"$f":"per_game!T378","v":0.9},{"$f":"per_game!U378","v":0.3},{"$f":"per_game!X378","v":14.1},"F"]
[null,null,{"$f":"Roster!C379","v":"G"},22.153999999999996,{"$f":"per_game!B379 & \"-\" & D379","v":"Jason Richardson-22.154"},{"$f":"per_game!I379","v":0.42499999999999999},{"$f":"per_game!L379","v":0.42899999999999999},{"$f":"per_game!O379","v":0.8},{"$f":"per_game!R379","v":4.2},{"$f":"per_game!S379","v":1.2},{"$f":"per_game!T379","v":1.7},{"$f":"per_game!U379","v":0.7},{"$f":"per_game!X379","v":12.7},"G"]
[null,null,{"$f":"Roster!C380","v":"G"},15.303000000000001,{"$f":"per_game!B380 & \"-\" & D380","v":"Nick Young-15.303"},{"$f":"per_game!I380","v":0.38100000000000001},{"$f":"per_game!L380","v":0.34},{"$f":"per_game!O380","v":0.88200000000000001},{"$f":"per_game!R380","v":1.8},{"$f":"per_game!S380","v":1.3},{"$f":"per_game!T380","v":0.6},{"$f":"per_game!U380","v":0.4},{"$f":"per_game!X380","v":9.6}]
[null,null,{"$f":"Roster!C381","v":"F"},16.509999999999998,{"$f":"per_game!B381 & \"-\" & D381","v":"Dorell Wright-16.51"},{"$f":"per_game!I381","v":0.33300000000000002},{"$f":"per_game!L381","v":0.371},{"$f":"per_game!O381","v":0.90600000000000003},{"$f":"per_game!R381","v":4.4000000000000004},{"$f":"per_game!S381","v":0.9},{"$f":"per_game!T381","v":1.2},{"$f":"per_game!U381","v":0.5},{"$f":"per_game!X381","v":7.9},"POR"]
[null,null,{"$f":"Roster!C382","v":"G"},16.762,{"$f":"per_game!B382 & \"-\" & D382","v":"Spencer Hawes-16.762"},{"$f":"per_game!I382","v":0.437},{"$f":"per_game!L382","v":0.4},{"$f":"per_game!O382","v":0.625},{"$f":"per_game!R382","v":5.2},{"$f":"per_game!S382","v":1.4},{"$f":"per_game!T382","v":0.3},{"$f":"per_game!U382","v":1.2},{"$f":"per_game!X382","v":7.2},"Rk"]
[null,null,{"$f":"Roster!C383","v":"G"},14.587,{"$f":"per_game!B383 & \"-\" & D383","v":"Lavoy Allen-14.587"},{"$f":"per_game!I383","v":0.44600000000000001},{"$f":"per_game!L383","v":0},{"$f":"per_game!O383","v":0.94099999999999995},{"$f":"per_game!R383","v":4.5999999999999996},{"$f":"per_game!S383","v":1.1000000000000001},{"$f":"per_game!T383","v":0.1},{"$f":"per_game!U383","v":1.2},{"$f":"per_game!X383","v":6.2},"F"]
[null,null,{"$f":"Roster!C384","v":"G"},7.7179999999999991,{"$f":"per_game!B384 & \"-\" & D384","v":"Royal Ivey-7.718"},{"$f":"per_game!I384","v":0.38200000000000001},{"$f":"per_game!L384","v":0.28599999999999998},{"$f":"per_game!O384","v":0.75},{"$f":"per_game!R384","v":1.6},{"$f":"per_game!S384","v":0.7},{"$f":"per_game!T384","v":0.6},{"$f":"per_game!U384","v":0.1},{"$f":"per_game!X384","v":3.3},"F"]
[null,null,{"$f":"Roster!C385","v":"F"},4.7750000000000004,{"$f":"per_game!B385 & \"-\" & D385","v":"Maalik Wayns-4.775"},{"$f":"per_game!I385","v":0.24199999999999999},{"$f":"per_game!L385","v":0.33300000000000002},{"$f":"per_game!O385","v":1},{"$f":"per_game!R385","v":0.1},{"$f":"per_game!S385","v":0.5},{"$f":"per_game!T385","v":0},{"$f":"per_game!U385","v":0},{"$f":"per_game!X385","v":2.6},"G"]
[null,null,{"$f":"Roster!C386","v":"G-F"},7.1609999999999996,null,{"$f":"per_game!I386","v":0.41699999999999998},{"$f":"per_game!L386","v":0},{"$f":"per_game!O386","v":0.44400000000000001},{"$f":"per_game!R386","v":2.7},{"$f":"per_game!S386","v":0.5},{"$f":"per_game!T386","v":0.3},{"$f":"per_game!U386","v":0.4},{"$f":"per_game!X386","v":2.4},"G"]
[null,null,{"$f":"Roster!C387","v":"G"},{"$f":"F387*$B$6+G387*$B$8+H387*$B$7+I387*$B$2+J387*$B$3+K387*$B$5+L387*$B$4+M387*$B$1","v":2.6500000000000004},null,{"$f":"per_game!I387","v":0.25},{"$f":"per_game!L387","v":0},{"$f":"per_game!O387","v":0.5},{"$f":"per_game!R387","v":0.6},{"$f":"per_game!S387","v":0.1},{"$f":"per_game!T387","v":0.1},{"$f":"per_game!U387","v":0.1},{"$f":"per_game!X387","v":1},"F"]
[null,null,{"$f":"Roster!C388","v":"F"},2.95,null,{"$f":"per_game!I388","v":0.25},{"$f":"per_game!L388","v":0},{"$f":"per_game!O388","v":0.5},{"$f":"per_game!R388","v":1.2},{"$f":"per_game!S388","v":0},{"$f":"per_game!T388","v":0.2},{"$f":"per_game!U388","v":0},{"$f":"per_game!X388","v":0.8},"C"]
[null,null,{"$f":"Roster!C389","v":0},0,{"$f":"per_game!B389 & \"-\" & D389","v":"-0"},{"$f":"per_game!I389","v":0},{"$f":"per_game!L389","v":0},{"$f":"per_game!O389","v":0},{"$f":"per_game!R389","v":0},{"$f":"per_game!S389","v":0},{"$f":"per_game!T389","v":0},{"$f":"per_game!U389","v":0},{"$f":"per_game!X389","v":0},"G"]
[null,null,{"$f":"Roster!C390","v":0},0,{"$f":"per_game!B390 & \"-\" & D390","v":"-0"},{"$f":"per_game!I390","v":0},{"$f":"per_game!L390","v":0},{"$f":"per_game!O390","v":0},{"$f":"per_game!R390","v":0},{"$f":"per_game!S390","v":0},{"$f":"per_game!T390","v":0},{"$f":"per_game!U390","v":0},{"$f":"per_game!X390","v":0},"G-F"]
[null,null,{"$f":"Roster!C391","v":"Pos"},null,{"$f":"per_game!B391 & \"-\" & D391","v":"Player-"},{"$f":"per_game!I391","v":"FG%"},{"$f":"per_game!L391","v":"3P%"},{"$f":"per_game!O391","v":"FT%"},{"$f":"per_game!R391","v":"TRB"},{"$f":"per_game!S391","v":"AST"},{"$f":"per_game!T391","v":"STL"},{"$f":"per_game!U391","v":"BLK"},{"$f":"per_game!X391","v":"PTS"},"F"]
[null,null,{"$f":"Roster!C392","v":"F"},28.788000000000004,{"$f":"per_game!B392 & \"-\" & D392","v":"Goran Dragic-28.788"},{"$f":"per_game!I392","v":0.47},{"$f":"per_game!L392","v":0.375},{"$f":"per_game!O392","v":0.74299999999999999},{"$f":"per_game!R392","v":3.1},{"$f":"per_game!S392","v":6.6},{"$f":"per_game!T392","v":1.9},{"$f":"per_game!U392","v":0.3},{"$f":"per_game!X392","v":15.3},"G"]
[null,null,{"$f":"Roster!C393","v":"G"},23.943999999999999,{"$f":"per_game!B393 & \"-\" & D393","v":"Luis Scola-23.944"},{"$f":"per_game!I393","v":0.46100000000000002},{"$f":"per_game!L393","v":0.33300000000000002},{"$f":"per_game!O393","v":0.85},{"$f":"per_game!R393","v":6.8},{"$f":"per_game!S393","v":1.6},{"$f":"per_game!T393","v":0.8},{"$f":"per_game!U393","v":0.6},{"$f":"per_game!X393","v":12.5},"F-C"]
[null,null,{"$f":"Roster!C394","v":"G"},19.130000000000003,{"$f":"per_game!B394 & \"-\" & D394","v":"Shannon Brown-19.13"},{"$f":"per_game!I394","v":0.40600000000000003},{"$f":"per_game!L394","v":0.316},{"$f":"per_game!O394","v":0.80800000000000005},{"$f":"per_game!R394","v":2.6},{"$f":"per_game!S394","v":2.1},{"$f":"per_game!T394","v":0.7},{"$f":"per_game!U394","v":0.2},{"$f":"per_game!X394","v":12},"G"]
[null,null,{"$f":"Roster!C395","v":"F"},21.103999999999999,{"$f":"per_game!B395 & \"-\" & D395","v":"Michael Beasley-21.104"},{"$f":"per_game!I395","v":0.39},{"$f":"per_game!L395","v":0.28899999999999998},{"$f":"per_game!O395","v":0.72499999999999998},{"$f":"per_game!R395","v":4.2},{"$f":"per_game!S395","v":2.5},{"$f":"per_game!T395","v":0.5},{"$f":"per_game!U395","v":0.7},{"$f":"per_game!X395","v":11.8},"F"]
[null,null,{"$f":"Roster!C396","v":"G"},25.009999999999998,{"$f":"per_game!B396 & \"-\" & D396","v":"Marcin Gortat-25.01"},{"$f":"per_game!I396","v":0.53600000000000003},{"$f":"per_game!L396","v":0},{"$f":"per_game!O396","v":0.67400000000000004},{"$f":"per_game!R396","v":8.3000000000000007},{"$f":"per_game!S396","v":1},{"$f":"per_game!T396","v":0.7},{"$f":"per_game!U396","v":2.1},{"$f":"per_game!X396","v":11.7},"F"]
[null,null,{"$f":"Roster!C397","v":"C-F"},17.616,{"$f":"per_game!B397 & \"-\" & D397","v":"Markieff Morris-17.616"},{"$f":"per_game!I397","v":0.42099999999999999},{"$f":"per_game!L397","v":0.34499999999999997},{"$f":"per_game!O397","v":0.75},{"$f":"per_game!R397","v":4.5999999999999996},{"$f":"per_game!S397","v":1.3},{"$f":"per_game!T397","v":0.9},{"$f":"per_game!U397","v":0.3},{"$f":"per_game!X397","v":9}]
[null,null,{"$f":"Roster!C398","v":"F"},15.248999999999999,{"$f":"per_game!B398 & \"-\" & D398","v":"Jared Dudley-15.249"},{"$f":"per_game!I398","v":0.44900000000000001},{"$f":"per_game!L398","v":0.36799999999999999},{"$f":"per_game!O398","v":0.63200000000000001},{"$f":"per_game!R398","v":2.4},{"$f":"per_game!S398","v":1.7},{"$f":"per_game!T398","v":1},{"$f":"per_game!U398","v":0.1},{"$f":"per_game!X398","v":8.6},"SAC"]
[null,null,{"$f":"Roster!C399","v":"G"},16.893999999999998,{"$f":"per_game!B399 & \"-\" & D399","v":"Jermaine O'Neal-16.894"},{"$f":"per_game!I399","v":0.52400000000000002},{"$f":"per_game!L399","v":0},{"$f":"per_game!O399","v":0.87},{"$f":"per_game!R399","v":5.2},{"$f":"per_game!S399","v":0.3},{"$f":"per_game!T399","v":0.5},{"$f":"per_game!U399","v":1.7},{"$f":"per_game!X399","v":7.8},"Rk"]
[null,null,{"$f":"Roster!C400","v":"F"},13.135999999999999,{"$f":"per_game!B400 & \"-\" & D400","v":"Sebastian Telfair-13.136"},{"$f":"per_game!I400","v":0.40799999999999997},{"$f":"per_game!L400","v":0.32400000000000001},{"$f":"per_game!O400","v":0.70399999999999996},{"$f":"per_game!R400","v":1.8},{"$f":"per_game!S400","v":2.7},{"$f":"per_game!T400","v":0.8},{"$f":"per_game!U400","v":0.3},{"$f":"per_game!X400","v":6.1},"F"]
[null,null,{"$f":"Roster!C401","v":"F-C"},11.745999999999999,{"$f":"per_game!B401 & \"-\" & D401","v":"P.J. Tucker-11.746"},{"$f":"per_game!I401","v":0.50800000000000001},{"$f":"per_game!L401","v":0.42899999999999999},{"$f":"per_game!O401","v":0.60899999999999999},{"$f":"per_game!R401","v":3.6},{"$f":"per_game!S401","v":1.1000000000000001},{"$f":"per_game!T401","v":0.6},{"$f":"per_game!U401","v":0.3},{"$f":"per_game!X401","v":4.5999999999999996},"G"]
[null,null,{"$f":"Roster!C402","v":"F"},4,{"$f":"per_game!B402 & \"-\" & D402","v":"Luke Zeller-4"},{"$f":"per_game!I402","v":0.5},{"$f":"per_game!L402","v":0.5},{"$f":"per_game!O402","v":0},{"$f":"per_game!R402","v":0.8},{"$f":"per_game!S402","v":0},{"$f":"per_game!T402","v":0},{"$f":"per_game!U402","v":0},{"$f":"per_game!X402","v":2.2000000000000002},"G"]
[null,null,{"$f":"Roster!C403","v":"G"},6,null,{"$f":"per_game!I403","v":1},{"$f":"per_game!L403","v":0},{"$f":"per_game!O403","v":0},{"$f":"per_game!R403","v":0},{"$f":"per_game!S403","v":2},{"$f":"per_game!T403","v":1},{"$f":"per_game!U403","v":0},{"$f":"per_game!X403","v":2},"G"]
[null,null,{"$f":"Roster!C404","v":"F"},4.1360000000000001,null,{"$f":"per_game!I404","v":0.28599999999999998},{"$f":"per_game!L404","v":0.25},{"$f":"per_game!O404","v":0},{"$f":"per_game!R404","v":1.1000000000000001},{"$f":"per_game!S404","v":0.6},{"$f":"per_game!T404","v":0},{"$f":"per_game!U404","v":0.1},{"$f":"per_game!X404","v":1.8},"F"]
[null,null,{"$f":"Roster!C405","v":"C"},2.7829999999999999,null,{"$f":"per_game!I405","v":0.33300000000000002},{"$f":"per_game!L405","v":0.25},{"$f":"per_game!O405","v":0},{"$f":"per_game!R405","v":0},{"$f":"per_game!S405","v":0.8},{"$f":"per_game!T405","v":0.2},{"$f":"per_game!U405","v":0},{"$f":"per_game!X405","v":1.2},"G"]
[null,null,{"$f":"Roster!C406","v":0},0,{"$f":"per_game!B406 & \"-\" & D406","v":"-0"},{"$f":"per_game!I406","v":0},{"$f":"per_game!L406","v":0},{"$f":"per_game!O406","v":0},{"$f":"per_game!R406","v":0},{"$f":"per_game!S406","v":0},{"$f":"per_game!T406","v":0},{"$f":"per_game!U406","v":0},{"$f":"per_game!X406","v":0},"F"]
[null,null,{"$f":"Roster!C407","v":0},0,{"$f":"per_game!B407 & \"-\" & D407","v":"-0"},{"$f":"per_game!I407","v":0},{"$f":"per_game!L407","v":0},{"$f":"per_game!O407","v":0},{"$f":"per_game!R407","v":0},{"$f":"per_game!S407","v":0},{"$f":"per_game!T407","v":0},{"$f":"per_game!U407","v":0},{"$f":"per_game!X407","v":0},"F"]
[null,null,{"$f":"Roster!C408","v":"Pos"},null,{"$f":"per_game!B408 & \"-\" & D408","v":"Player-"},{"$f":"per_game!I408","v":"FG%"},{"$f":"per_game!L408","v":"3P%"},{"$f":"per_game!O408","v":"FT%"},{"$f":"per_game!R408","v":"TRB"},{"$f":"per_game!S408","v":"AST"},{"$f":"per_game!T408","v":"STL"},{"$f":"per_game!U408","v":"BLK"},{"$f":"per_game!X408","v":"PTS"},"G"]
[null,null,{"$f":"Roster!C409","v":"F"},34.730000000000004,{"$f":"per_game!B409 & \"-\" & D409","v":"LaMarcus Aldridge-34.73"},{"$f":"per_game!I409","v":0.45900000000000002},{"$f":"per_game!L409","v":0},{"$f":"per_game!O409","v":0.77100000000000002},{"$f":"per_game!R409","v":7.9},{"$f":"per_game!S409","v":2.8},{"$f":"per_game!T409","v":0.8},{"$f":"per_game!U409","v":1.2},{"$f":"per_game!X409","v":20.8},"G"]
[null,null,{"$f":"Roster!C410","v":"F"},31.849,{"$f":"per_game!B410 & \"-\" & D410","v":"Damian Lillard-31.849"},{"$f":"per_game!I410","v":0.42699999999999999},{"$f":"per_game!L410","v":0.38900000000000001},{"$f":"per_game!O410","v":0.83299999999999996},{"$f":"per_game!R410","v":3.3},{"$f":"per_game!S410","v":6.3},{"$f":"per_game!T410","v":1.3},{"$f":"per_game!U410","v":0.2},{"$f":"per_game!X410","v":19.100000000000001},"F"]
[null,null,{"$f":"Roster!C411","v":"G"},31.533000000000001,{"$f":"per_game!B411 & \"-\" & D411","v":"Nicolas Batum-31.533"},{"$f":"per_game!I411","v":0.433},{"$f":"per_game!L411","v":0.376},{"$f":"per_game!O411","v":0.82399999999999995},{"$f":"per_game!R411","v":6.3},{"$f":"per_game!S411","v":3.2},{"$f":"per_game!T411","v":1.7},{"$f":"per_game!U411","v":1.1000000000000001},{"$f":"per_game!X411","v":17.600000000000001},"F"]
[null,null,{"$f":"Roster!C412","v":"F"},25.521000000000001,{"$f":"per_game!B412 & \"-\" & D412","v":"Wesley Matthews-25.521"},{"$f":"per_game!I412","v":0.42899999999999999},{"$f":"per_game!L412","v":0.38600000000000001},{"$f":"per_game!O412","v":0.70599999999999996},{"$f":"per_game!R412","v":3.2},{"$f":"per_game!S412","v":2.7},{"$f":"per_game!T412","v":1.9},{"$f":"per_game!U412","v":0.3},{"$f":"per_game!X412","v":15.9},"F-G"]
[null,null,{"$f":"Roster!C413","v":"F"},23.631,{"$f":"per_game!B413 & \"-\" & D413","v":"J.J. Hickson-23.631"},{"$f":"per_game!I413","v":0.52400000000000002},{"$f":"per_game!L413","v":0},{"$f":"per_game!O413","v":0.60699999999999998},{"$f":"per_game!R413","v":9.6},{"$f":"per_game!S413","v":0.9},{"$f":"per_game!T413","v":0.6},{"$f":"per_game!U413","v":0.6},{"$f":"per_game!X413","v":10.8}]
[null,null,{"$f":"Roster!C414","v":"F-C"},11.870000000000001,{"$f":"per_game!B414 & \"-\" & D414","v":"Meyers Leonard-11.87"},{"$f":"per_game!I414","v":0.53},{"$f":"per_game!L414","v":0},{"$f":"per_game!O414","v":0.84},{"$f":"per_game!R414","v":3.8},{"$f":"per_game!S414","v":0.2},{"$f":"per_game!T414","v":0.4},{"$f":"per_game!U414","v":1},{"$f":"per_game!X414","v":5.0999999999999996},"SAS"]
[null,null,{"$f":"Roster!C415","v":"F"},8.2729999999999997,{"$f":"per_game!B415 & \"-\" & D415","v":"Ronnie Price-8.273"},{"$f":"per_game!I415","v":0.34899999999999998},{"$f":"per_game!L415","v":0.35699999999999998},{"$f":"per_game!O415","v":0.66700000000000004},{"$f":"per_game!R415","v":1.4},{"$f":"per_game!S415","v":1.9},{"$f":"per_game!T415","v":0.6},{"$f":"per_game!U415","v":0},{"$f":"per_game!X415","v":3},"Rk"]
[null,null,{"$f":"Roster!C416","v":"F"},6.4209999999999994,{"$f":"per_game!B416 & \"-\" & D416","v":"Will Barton-6.421"},{"$f":"per_game!I416","v":0.35399999999999998},{"$f":"per_game!L416","v":0.26700000000000002},{"$f":"per_game!O416","v":0.5},{"$f":"per_game!R416","v":1.4},{"$f":"per_game!S416","v":0.5},{"$f":"per_game!T416","v":0.5},{"$f":"per_game!U416","v":0.1},{"$f":"per_game!X416","v":2.8},"F-C"]
[null,null,{"$f":"Roster!C417","v":"C"},5.8960000000000008,{"$f":"per_game!B417 & \"-\" & D417","v":"Luke Babbitt-5.896"},{"$f":"per_game!I417","v":0.40699999999999997},{"$f":"per_game!L417","v":0.38900000000000001},{"$f":"per_game!O417","v":0},{"$f":"per_game!R417","v":1.5},{"$f":"per_game!S417","v":0.5},{"$f":"per_game!T417","v":0.3},{"$f":"per_game!U417","v":0.2},{"$f":"per_game!X417","v":2.6},"G"]
[null,null,{"$f":"Roster!C418","v":"G"},6.3599999999999994,{"$f":"per_game!B418 & \"-\" & D418","v":"Joel Freeland-6.36"},{"$f":"per_game!I418","v":0.31},{"$f":"per_game!L418","v":0},{"$f":"per_game!O418","v":0.75},{"$f":"per_game!R418","v":2},{"$f":"per_game!S418","v":0.2},{"$f":"per_game!T418","v":0.4},{"$f":"per_game!U418","v":0.3},{"$f":"per_game!X418","v":2.4},"F"]
[null,null,{"$f":"Roster!C419","v":"G"},4.4820000000000002,{"$f":"per_game!B419 & \"-\" & D419","v":"Nolan Smith-4.482"},{"$f":"per_game!I419","v":0.35699999999999998},{"$f":"per_game!L419","v":0.125},{"$f":"per_game!O419","v":0.5},{"$f":"per_game!R419","v":0.5},{"$f":"per_game!S419","v":0.9},{"$f":"per_game!T419","v":0},{"$f":"per_game!U419","v":0},{"$f":"per_game!X419","v":2.1},"F"]
[null,null,{"$f":"Roster!C420","v":"G-F"},4.8739999999999997,null,{"$f":"per_game!I420","v":0.41699999999999998},{"$f":"per_game!L420","v":0.35699999999999998},{"$f":"per_game!O420","v":0},{"$f":"per_game!R420","v":1.1000000000000001},{"$f":"per_game!S420","v":0.5},{"$f":"per_game!T420","v":0.7},{"$f":"per_game!U420","v":0.1},{"$f":"per_game!X420","v":1.7},"G"]
[null,null,{"$f":"Roster!C421","v":"G"},3.5280000000000005,null,{"$f":"per_game!I421","v":0.27300000000000002},{"$f":"per_game!L421","v":0},{"$f":"per_game!O421","v":0.45500000000000002},{"$f":"per_game!R421","v":1.1000000000000001},{"$f":"per_game!S421","v":0.4},{"$f":"per_game!T421","v":0.1},{"$f":"per_game!U421","v":0.1},{"$f":"per_game!X421","v":1.1000000000000001},"G"]
[null,null,{"$f":"Roster!C422","v":"G"},2.1,null,{"$f":"per_game!I422","v":0},{"$f":"per_game!L422","v":0},{"$f":"per_game!O422","v":0.5},{"$f":"per_game!R422","v":1},{"$f":"per_game!S422","v":0.3},{"$f":"per_game!T422","v":0},{"$f":"per_game!U422","v":0},{"$f":"per_game!X422","v":0.3},"F"]
[null,null,{"$f":"Roster!C423","v":0},0,{"$f":"per_game!B423 & \"-\" & D423","v":"-0"},{"$f":"per_game!I423","v":0},{"$f":"per_game!L423","v":0},{"$f":"per_game!O423","v":0},{"$f":"per_game!R423","v":0},{"$f":"per_game!S423","v":0},{"$f":"per_game!T423","v":0},{"$f":"per_game!U423","v":0},{"$f":"per_game!X423","v":0},"F"]
[null,null,{"$f":"Roster!C424","v":0},0,{"$f":"per_game!B424 & \"-\" & D424","v":"-0"},{"$f":"per_game!I424","v":0},{"$f":"per_game!L424","v":0},{"$f":"per_game!O424","v":0},{"$f":"per_game!R424","v":0},{"$f":"per_game!S424","v":0},{"$f":"per_game!T424","v":0},{"$f":"per_game!U424","v":0},{"$f":"per_game!X424","v":0},"F"]
[null,null,{"$f":"Roster!C425","v":"Pos"},null,{"$f":"per_game!B425 & \"-\" & D425","v":"Player-"},{"$f":"per_game!I425","v":"FG%"},{"$f":"per_game!L425","v":"3P%"},{"$f":"per_game!O425","v":"FT%"},{"$f":"per_game!R425","v":"TRB"},{"$f":"per_game!S425","v":"AST"},{"$f":"per_game!T425","v":"STL"},{"$f":"per_game!U425","v":"BLK"},{"$f":"per_game!X425","v":"PTS"},"G"]
[null,null,{"$f":"Roster!C426","v":"G"},31.234000000000002,{"$f":"per_game!B426 & \"-\" & D426","v":"DeMarcus Cousins-31.234"},{"$f":"per_game!I426","v":0.41699999999999998},{"$f":"per_game!L426","v":0.5},{"$f":"per_game!O426","v":0.71699999999999997},{"$f":"per_game!R426","v":9.5},{"$f":"per_game!S426","v":2.1},{"$f":"per_game!T426","v":1.4},{"$f":"per_game!U426","v":0.6},{"$f":"per_game!X426","v":16},"F-C"]
[null,null,{"$f":"Roster!C427","v":"F"},21.745000000000001,{"$f":"per_game!B427 & \"-\" & D427","v":"Marcus Thornton-21.745"},{"$f":"per_game!I427","v":0.42699999999999999},{"$f":"per_game!L427","v":0.34},{"$f":"per_game!O427","v":0.77800000000000002},{"$f":"per_game!R427","v":2.9},{"$f":"per_game!S427","v":1.5},{"$f":"per_game!T427","v":0.7},{"$f":"per_game!U427","v":0},{"$f":"per_game!X427","v":15.1},"F"]
[null,null,{"$f":"Roster!C428","v":"G"},27.271000000000001,{"$f":"per_game!B428 & \"-\" & D428","v":"Tyreke Evans-27.271"},{"$f":"per_game!I428","v":0.45500000000000002},{"$f":"per_game!L428","v":0.27300000000000002},{"$f":"per_game!O428","v":0.84299999999999997},{"$f":"per_game!R428","v":5.0999999999999996},{"$f":"per_game!S428","v":3.7},{"$f":"per_game!T428","v":1.4},{"$f":"per_game!U428","v":0.6},{"$f":"per_game!X428","v":14.9},"G"]
[null,null,{"$f":"Roster!C429","v":"G"},21.966999999999999,{"$f":"per_game!B429 & \"-\" & D429","v":"Jason Thompson-21.967"},{"$f":"per_game!I429","v":0.50700000000000001},{"$f":"per_game!L429","v":0},{"$f":"per_game!O429","v":0.76},{"$f":"per_game!R429","v":7.1},{"$f":"per_game!S429","v":1.1000000000000001},{"$f":"per_game!T429","v":0.4},{"$f":"per_game!U429","v":1.2},{"$f":"per_game!X429","v":10.9},"G"]
[null,null,{"$f":"Roster!C430","v":"F-G"},13.652999999999999,{"$f":"per_game!B430 & \"-\" & D430","v":"Isaiah Thomas-13.653"},{"$f":"per_game!I430","v":0.432},{"$f":"per_game!L430","v":0.375},{"$f":"per_game!O430","v":0.84599999999999997},{"$f":"per_game!R430","v":1.2},{"$f":"per_game!S430","v":1.8},{"$f":"per_game!T430","v":0.5},{"$f":"per_game!U430","v":0},{"$f":"per_game!X430","v":8.5}]
[null,null,{"$f":"Roster!C431","v":"F"},13.536999999999999,{"$f":"per_game!B431 & \"-\" & D431","v":"Aaron Brooks-13.537"},{"$f":"per_game!I431","v":0.44500000000000001},{"$f":"per_game!L431","v":0.39200000000000002},{"$f":"per_game!O431","v":0.5},{"$f":"per_game!R431","v":1.8},{"$f":"per_game!S431","v":2.1},{"$f":"per_game!T431","v":0.6},{"$f":"per_game!U431","v":0.1},{"$f":"per_game!X431","v":7.6},"TOR"]
[null,null,{"$f":"Roster!C432","v":"F"},14.242000000000001,{"$f":"per_game!B432 & \"-\" & D432","v":"John Salmons-14.242"},{"$f":"per_game!I432","v":0.40799999999999997},{"$f":"per_game!L432","v":0.32},{"$f":"per_game!O432","v":0.71399999999999997},{"$f":"per_game!R432","v":2.9},{"$f":"per_game!S432","v":2},{"$f":"per_game!T432","v":0.8},{"$f":"per_game!U432","v":0.2},{"$f":"per_game!X432","v":6.9},"Rk"]
[null,null,{"$f":"Roster!C433","v":"F"},10.269,{"$f":"per_game!B433 & \"-\" & D433","v":"Jimmer Fredette-10.269"},{"$f":"per_game!I433","v":0.46300000000000002},{"$f":"per_game!L433","v":0.41699999999999998},{"$f":"per_game!O433","v":0.88900000000000001},{"$f":"per_game!R433","v":0.5},{"$f":"per_game!S433","v":1.4},{"$f":"per_game!T433","v":0.2},{"$f":"per_game!U433","v":0.1},{"$f":"per_game!X433","v":6.3},"G"]
[null,null,{"$f":"Roster!C434","v":"F"},11.715,{"$f":"per_game!B434 & \"-\" & D434","v":"Thomas Robinson-11.715"},{"$f":"per_game!I434","v":0.48299999999999998},{"$f":"per_game!L434","v":0},{"$f":"per_game!O434","v":0.63200000000000001},{"$f":"per_game!R434","v":3.8},{"$f":"per_game!S434","v":0.7},{"$f":"per_game!T434","v":0.7},{"$f":"per_game!U434","v":0.4},{"$f":"per_game!X434","v":5},"G"]
[null,null,{"$f":"Roster!C435","v":"G"},10.956,{"$f":"per_game!B435 & \"-\" & D435","v":"James Johnson-10.956"},{"$f":"per_game!I435","v":0.36499999999999999},{"$f":"per_game!L435","v":0},{"$f":"per_game!O435","v":0.59099999999999997},{"$f":"per_game!R435","v":2.2999999999999998},{"$f":"per_game!S435","v":1.1000000000000001},{"$f":"per_game!T435","v":1.3},{"$f":"per_game!U435","v":0.6},{"$f":"per_game!X435","v":4.7},"F"]
[null,null,{"$f":"Roster!C436","v":"G"},8.6,null,{"$f":"per_game!I436","v":0.33300000000000002},{"$f":"per_game!L436","v":0.16700000000000001},{"$f":"per_game!O436","v":0.5},{"$f":"per_game!R436","v":1.8},{"$f":"per_game!S436","v":1},{"$f":"per_game!T436","v":0.4},{"$f":"per_game!U436","v":0.6},{"$f":"per_game!X436","v":3.8},"G"]
[null,null,{"$f":"Roster!C437","v":"F"},12.955,null,{"$f":"per_game!I437","v":0.45500000000000002},{"$f":"per_game!L437","v":0},{"$f":"per_game!O437","v":0.5},{"$f":"per_game!R437","v":5.0999999999999996},{"$f":"per_game!S437","v":2.2999999999999998},{"$f":"per_game!T437","v":0.6},{"$f":"per_game!U437","v":0.6},{"$f":"per_game!X437","v":3.4},"F"]
[null,null,{"$f":"Roster!C438","v":"G"},6.0440000000000005,null,{"$f":"per_game!I438","v":0.4},{"$f":"per_game!L438","v":0.44400000000000001},{"$f":"per_game!O438","v":0},{"$f":"per_game!R438","v":0.7},{"$f":"per_game!S438","v":0.3},{"$f":"per_game!T438","v":0.7},{"$f":"per_game!U438","v":0.1},{"$f":"per_game!X438","v":3.4},"C"]
[null,null,{"$f":"Roster!C439","v":0},0,{"$f":"per_game!B439 & \"-\" & D439","v":"-0"},{"$f":"per_game!I439","v":0},{"$f":"per_game!L439","v":0},{"$f":"per_game!O439","v":0},{"$f":"per_game!R439","v":0},{"$f":"per_game!S439","v":0},{"$f":"per_game!T439","v":0},{"$f":"per_game!U439","v":0},{"$f":"per_game!X439","v":0},"F"]
[null,null,{"$f":"Roster!C440","v":0},0,{"$f":"per_game!B440 & \"-\" & D440","v":"-0"},{"$f":"per_game!I440","v":0},{"$f":"per_game!L440","v":0},{"$f":"per_game!O440","v":0},{"$f":"per_game!R440","v":0},{"$f":"per_game!S440","v":0},{"$f":"per_game!T440","v":0},{"$f":"per_game!U440","v":0},{"$f":"per_game!X440","v":0},"G-F"]
[null,null,{"$f":"Roster!C441","v":"Pos"},null,{"$f":"per_game!B441 & \"-\" & D441","v":"Player-"},{"$f":"per_game!I441","v":"FG%"},{"$f":"per_game!L441","v":"3P%"},{"$f":"per_game!O441","v":"FT%"},{"$f":"per_game!R441","v":"TRB"},{"$f":"per_game!S441","v":"AST"},{"$f":"per_game!T441","v":"STL"},{"$f":"per_game!U441","v":"BLK"},{"$f":"per_game!X441","v":"PTS"},"F"]
[null,null,{"$f":"Roster!C442","v":"G"},36.879999999999995,{"$f":"per_game!B442 & \"-\" & D442","v":"Tim Duncan-36.88"},{"$f":"per_game!I442","v":0.53800000000000003},{"$f":"per_game!L442","v":0.66700000000000004},{"$f":"per_game!O442","v":0.77500000000000002},{"$f":"per_game!R442","v":10.1},{"$f":"per_game!S442","v":2.6},{"$f":"per_game!T442","v":0.9},{"$f":"per_game!U442","v":2.4},{"$f":"per_game!X442","v":18.899999999999999},"G"]
[null,null,{"$f":"Roster!C443","v":"F"},30.666,{"$f":"per_game!B443 & \"-\" & D443","v":"Tony Parker-30.666"},{"$f":"per_game!I443","v":0.48799999999999999},{"$f":"per_game!L443","v":0.33300000000000002},{"$f":"per_game!O443","v":0.745},{"$f":"per_game!R443","v":3.1},{"$f":"per_game!S443","v":7.1},{"$f":"per_game!T443","v":0.7},{"$f":"per_game!U443","v":0.1},{"$f":"per_game!X443","v":18.100000000000001},"F"]
[null,null,{"$f":"Roster!C444","v":"F"},22.301000000000002,{"$f":"per_game!B444 & \"-\" & D444","v":"Manu Ginobili-22.301"},{"$f":"per_game!I444","v":0.4},{"$f":"per_game!L444","v":0.314},{"$f":"per_game!O444","v":0.78700000000000003},{"$f":"per_game!R444","v":3.1},{"$f":"per_game!S444","v":4.3},{"$f":"per_game!T444","v":1.4},{"$f":"per_game!U444","v":0.3},{"$f":"per_game!X444","v":11.7},"C"]
[null,null,{"$f":"Roster!C445","v":"G"},18.545999999999999,{"$f":"per_game!B445 & \"-\" & D445","v":"Gary Neal-18.546"},{"$f":"per_game!I445","v":0.44400000000000001},{"$f":"per_game!L445","v":0.34},{"$f":"per_game!O445","v":0.86199999999999999},{"$f":"per_game!R445","v":3.2},{"$f":"per_game!S445","v":2},{"$f":"per_game!T445","v":0.6},{"$f":"per_game!U445","v":0},{"$f":"per_game!X445","v":11.1},"G"]
[null,null,{"$f":"Roster!C446","v":"F-C"},21.28,{"$f":"per_game!B446 & \"-\" & D446","v":"Kawhi Leonard-21.28"},{"$f":"per_game!I446","v":0.49299999999999999},{"$f":"per_game!L446","v":0.34599999999999997},{"$f":"per_game!O446","v":0.94099999999999995},{"$f":"per_game!R446","v":5.4},{"$f":"per_game!S446","v":1.3},{"$f":"per_game!T446","v":2},{"$f":"per_game!U446","v":0.2},{"$f":"per_game!X446","v":10.6},"F"]
[null,null,{"$f":"Roster!C447","v":"F-C"},17.989000000000001,{"$f":"per_game!B447 & \"-\" & D447","v":"Danny Green-17.989"},{"$f":"per_game!I447","v":0.41599999999999998},{"$f":"per_game!L447","v":0.36399999999999999},{"$f":"per_game!O447","v":0.90900000000000003},{"$f":"per_game!R447","v":3.5},{"$f":"per_game!S447","v":1.4},{"$f":"per_game!T447","v":0.9},{"$f":"per_game!U447","v":0.7},{"$f":"per_game!X447","v":9.8000000000000007},"F"]
[null,null,{"$f":"Roster!C448","v":"G"},16.905999999999999,{"$f":"per_game!B448 & \"-\" & D448","v":"Tiago Splitter-16.906"},{"$f":"per_game!I448","v":0.57299999999999995},{"$f":"per_game!L448","v":0},{"$f":"per_game!O448","v":0.73299999999999998},{"$f":"per_game!R448","v":4.5},{"$f":"per_game!S448","v":1.2},{"$f":"per_game!T448","v":0.6},{"$f":"per_game!U448","v":0.7},{"$f":"per_game!X448","v":8.6}]
[null,null,{"$f":"Roster!C449","v":"F"},16.038999999999998,{"$f":"per_game!B449 & \"-\" & D449","v":"Stephen Jackson-16.039"},{"$f":"per_game!I449","v":0.371},{"$f":"per_game!L449","v":0.28599999999999998},{"$f":"per_game!O449","v":0.68200000000000005},{"$f":"per_game!R449","v":4.3},{"$f":"per_game!S449","v":1.5},{"$f":"per_game!T449","v":1},{"$f":"per_game!U449","v":0.2},{"$f":"per_game!X449","v":7.7},"UTA"]
[null,null,{"$f":"Roster!C450","v":"F"},14.527000000000001,{"$f":"per_game!B450 & \"-\" & D450","v":"DeJuan Blair-14.527"},{"$f":"per_game!I450","v":0.46500000000000002},{"$f":"per_game!L450","v":0},{"$f":"per_game!O450","v":0.76200000000000001},{"$f":"per_game!R450","v":4.7},{"$f":"per_game!S450","v":1.1000000000000001},{"$f":"per_game!T450","v":0.9},{"$f":"per_game!U450","v":0.2},{"$f":"per_game!X450","v":6.4},"Rk"]
[null,null,{"$f":"Roster!C451","v":"G"},{"$f":"F451*$B$6+G451*$B$8+H451*$B$7+I451*$B$2+J451*$B$3+K451*$B$5+L451*$B$4+M451*$B$1","v":14.161999999999999},{"$f":"per_game!B451 & \"-\" & D451","v":"Boris Diaw-14.162"},{"$f":"per_game!I451","v":0.61199999999999999},{"$f":"per_game!L451","v":0.5},{"$f":"per_game!O451","v":0.65},{"$f":"per_game!R451","v":3.4},{"$f":"per_game!S451","v":2.5},{"$f":"per_game!T451","v":0.5},{"$f":"per_game!U451","v":0.2},{"$f":"per_game!X451","v":5.8},"G"]
[null,null,{"$f":"Roster!C452","v":"F"},9.17,{"$f":"per_game!B452 & \"-\" & D452","v":"Patrick Mills-9.17"},{"$f":"per_game!I452","v":0.44800000000000001},{"$f":"per_game!L452","v":0.35499999999999998},{"$f":"per_game!O452","v":0.66700000000000004},{"$f":"per_game!R452","v":1.1000000000000001},{"$f":"per_game!S452","v":1.1000000000000001},{"$f":"per_game!T452","v":0.5},{"$f":"per_game!U452","v":0.1},{"$f":"per_game!X452","v":4.9000000000000004},"F"]
[null,null,{"$f":"Roster!C453","v":"G"},7.593,{"$f":"per_game!B453 & \"-\" & D453","v":"Matt Bonner-7.593"},{"$f":"per_game!I453","v":0.53700000000000003},{"$f":"per_game!L453","v":0.55600000000000005},{"$f":"per_game!O453","v":0},{"$f":"per_game!R453","v":1.6},{"$f":"per_game!S453","v":0.4},{"$f":"per_game!T453","v":0.2},{"$f":"per_game!U453","v":0.1},{"$f":"per_game!X453","v":4.2},"F"]
[null,null,{"$f":"Roster!C454","v":"G"},7.7709999999999999,null,{"$f":"per_game!I454","v":0.57099999999999995},{"$f":"per_game!L454","v":0.5},{"$f":"per_game!O454","v":0.8},{"$f":"per_game!R454","v":1.3},{"$f":"per_game!S454","v":0.8},{"$f":"per_game!T454","v":0},{"$f":"per_game!U454","v":0.3},{"$f":"per_game!X454","v":3.5},"F"]
[null,null,{"$f":"Roster!C455","v":"G"},6.883,null,{"$f":"per_game!I455","v":0.3},{"$f":"per_game!L455","v":0.33300000000000002},{"$f":"per_game!O455","v":0.75},{"$f":"per_game!R455","v":1.2},{"$f":"per_game!S455","v":1.4},{"$f":"per_game!T455","v":0.4},{"$f":"per_game!U455","v":0},{"$f":"per_game!X455","v":2.5},"G"]
[null,null,{"$f":"Roster!C456","v":"F"},4.8999999999999995,null,{"$f":"per_game!I456","v":0.3},{"$f":"per_game!L456","v":0.2},{"$f":"per_game!O456","v":0},{"$f":"per_game!R456","v":0.8},{"$f":"per_game!S456","v":1.5},{"$f":"per_game!T456","v":0.3},{"$f":"per_game!U456","v":0},{"$f":"per_game!X456","v":1.8},"F"]
[null,null,{"$f":"Roster!C457","v":0},0,{"$f":"per_game!B457 & \"-\" & D457","v":"-0"},{"$f":"per_game!I457","v":0},{"$f":"per_game!L457","v":0},{"$f":"per_game!O457","v":0},{"$f":"per_game!R457","v":0},{"$f":"per_game!S457","v":0},{"$f":"per_game!T457","v":0},{"$f":"per_game!U457","v":0},{"$f":"per_game!X457","v":0},"F"]
[null,null,{"$f":"Roster!C458","v":0},0,{"$f":"per_game!B458 & \"-\" & D458","v":"-0"},{"$f":"per_game!I458","v":0},{"$f":"per_game!L458","v":0},{"$f":"per_game!O458","v":0},{"$f":"per_game!R458","v":0},{"$f":"per_game!S458","v":0},{"$f":"per_game!T458","v":0},{"$f":"per_game!U458","v":0},{"$f":"per_game!X458","v":0},"F"]
[null,null,{"$f":"Roster!C459","v":"Pos"},null,{"$f":"per_game!B459 & \"-\" & D459","v":"Player-"},{"$f":"per_game!I459","v":"FG%"},{"$f":"per_game!L459","v":"3P%"},{"$f":"per_game!O459","v":"FT%"},{"$f":"per_game!R459","v":"TRB"},{"$f":"per_game!S459","v":"AST"},{"$f":"per_game!T459","v":"STL"},{"$f":"per_game!U459","v":"BLK"},{"$f":"per_game!X459","v":"PTS"},"F"]
[null,null,{"$f":"Roster!C460","v":"F"},28.156999999999996,{"$f":"per_game!B460 & \"-\" & D460","v":"DeMar DeRozan-28.157"},{"$f":"per_game!I460","v":0.44900000000000001},{"$f":"per_game!L460","v":0.32100000000000001},{"$f":"per_game!O460","v":0.78700000000000003},{"$f":"per_game!R460","v":5},{"$f":"per_game!S460","v":1.9},{"$f":"per_game!T460","v":1.1000000000000001},{"$f":"per_game!U460","v":0.2},{"$f":"per_game!X460","v":18.399999999999999},"G"]
[null,null,{"$f":"Roster!C461","v":"G-F"},26.177999999999997,{"$f":"per_game!B461 & \"-\" & D461","v":"Andrea Bargnani-26.178"},{"$f":"per_game!I461","v":0.40400000000000003},{"$f":"per_game!L461","v":0.34599999999999997},{"$f":"per_game!O461","v":0.82799999999999996},{"$f":"per_game!R461","v":4.5},{"$f":"per_game!S461","v":1.4},{"$f":"per_game!T461","v":0.7},{"$f":"per_game!U461","v":0.6},{"$f":"per_game!X461","v":17.399999999999999},"G"]
[null,null,{"$f":"Roster!C462","v":"F"},32.495999999999995,{"$f":"per_game!B462 & \"-\" & D462","v":"Kyle Lowry-32.496"},{"$f":"per_game!I462","v":0.42399999999999999},{"$f":"per_game!L462","v":0.375},{"$f":"per_game!O462","v":0.79700000000000004},{"$f":"per_game!R462","v":5.8},{"$f":"per_game!S462","v":5.6},{"$f":"per_game!T462","v":1.7},{"$f":"per_game!U462","v":0.8},{"$f":"per_game!X462","v":17},"G"]
[null,null,{"$f":"Roster!C463","v":"G"},22.160999999999998,{"$f":"per_game!B463 & \"-\" & D463","v":"Jose Calderon-22.161"},{"$f":"per_game!I463","v":0.43},{"$f":"per_game!L463","v":0.47899999999999998},{"$f":"per_game!O463","v":0.95199999999999996},{"$f":"per_game!R463","v":1.9},{"$f":"per_game!S463","v":7.3},{"$f":"per_game!T463","v":0.7},{"$f":"per_game!U463","v":0.2},{"$f":"per_game!X463","v":10.199999999999999},"F"]
[null,null,{"$f":"Roster!C464","v":"F"},18.972000000000001,{"$f":"per_game!B464 & \"-\" & D464","v":"Jonas Valanciunas-18.972"},{"$f":"per_game!I464","v":0.51600000000000001},{"$f":"per_game!L464","v":0},{"$f":"per_game!O464","v":0.75600000000000001},{"$f":"per_game!R464","v":5.7},{"$f":"per_game!S464","v":1.3},{"$f":"per_game!T464","v":0.3},{"$f":"per_game!U464","v":1.3},{"$f":"per_game!X464","v":9.1}]
[null,null,{"$f":"Roster!C465","v":"G"},12.202999999999999,{"$f":"per_game!B465 & \"-\" & D465","v":"Alan Anderson-12.203"},{"$f":"per_game!I465","v":0.318},{"$f":"per_game!L465","v":0.29599999999999999},{"$f":"per_game!O465","v":0.88900000000000001},{"$f":"per_game!R465","v":1.3},{"$f":"per_game!S465","v":1.2},{"$f":"per_game!T465","v":0.7},{"$f":"per_game!U465","v":0.2},{"$f":"per_game!X465","v":7.3},"WAS"]
[null,null,{"$f":"Roster!C466","v":"F"},16.411999999999999,{"$f":"per_game!B466 & \"-\" & D466","v":"Amir Johnson-16.412"},{"$f":"per_game!I466","v":0.495},{"$f":"per_game!L466","v":0.33300000000000002},{"$f":"per_game!O466","v":0.68400000000000005},{"$f":"per_game!R466","v":5.2},{"$f":"per_game!S466","v":1.2},{"$f":"per_game!T466","v":0.8},{"$f":"per_game!U466","v":0.6},{"$f":"per_game!X466","v":7.1},"Rk"]
[null,null,{"$f":"Roster!C467","v":"C"},12.123000000000001,{"$f":"per_game!B467 & \"-\" & D467","v":"Linas Kleiza-12.123"},{"$f":"per_game!I467","v":0.34200000000000003},{"$f":"per_game!L467","v":0.23100000000000001},{"$f":"per_game!O467","v":0.85},{"$f":"per_game!R467","v":2.7},{"$f":"per_game!S467","v":0.7},{"$f":"per_game!T467","v":0.2},{"$f":"per_game!U467","v":0.1},{"$f":"per_game!X467","v":7},"G"]
[null,null,{"$f":"Roster!C468","v":"F"},10.625,{"$f":"per_game!B468 & \"-\" & D468","v":"Terrence Ross-10.625"},{"$f":"per_game!I468","v":0.42299999999999999},{"$f":"per_game!L468","v":0.30199999999999999},{"$f":"per_game!O468","v":0.4},{"$f":"per_game!R468","v":2},{"$f":"per_game!S468","v":0.6},{"$f":"per_game!T468","v":0.7},{"$f":"per_game!U468","v":0.1},{"$f":"per_game!X468","v":6.1},"G"]
[null,null,{"$f":"Roster!C469","v":"F"},14.331,{"$f":"per_game!B469 & \"-\" & D469","v":"Ed Davis-14.331"},{"$f":"per_game!I469","v":0.57499999999999996},{"$f":"per_game!L469","v":0},{"$f":"per_game!O469","v":0.65600000000000003},{"$f":"per_game!R469","v":5.4},{"$f":"per_game!S469","v":0.7},{"$f":"per_game!T469","v":0.5},{"$f":"per_game!U469","v":0.7},{"$f":"per_game!X469","v":5.8},"F"]
[null,null,{"$f":"Roster!C470","v":"G"},7.625,{"$f":"per_game!B470 & \"-\" & D470","v":"Mickael Pietrus-7.625"},{"$f":"per_game!I470","v":0.25},{"$f":"per_game!L470","v":0.375},{"$f":"per_game!O470","v":0},{"$f":"per_game!R470","v":1},{"$f":"per_game!S470","v":0},{"$f":"per_game!T470","v":1},{"$f":"per_game!U470","v":0.5},{"$f":"per_game!X470","v":4.5},"G"]
[null,null,{"$f":"Roster!C471","v":"G"},7.0540000000000003,{"$f":"per_game!B471 & \"-\" & D471","v":"John Lucas-7.054"},{"$f":"per_game!I471","v":0.25800000000000001},{"$f":"per_game!L471","v":0.29599999999999999},{"$f":"per_game!O471","v":0.8},{"$f":"per_game!R471","v":0.9},{"$f":"per_game!S471","v":1.3},{"$f":"per_game!T471","v":0.4},{"$f":"per_game!U471","v":0},{"$f":"per_game!X471","v":3.1},"C-F"]
[null,null,{"$f":"Roster!C472","v":"F"},8.6750000000000007,null,{"$f":"per_game!I472","v":0.20799999999999999},{"$f":"per_game!L472","v":0},{"$f":"per_game!O472","v":0.66700000000000004},{"$f":"per_game!R472","v":3.2},{"$f":"per_game!S472","v":1.6},{"$f":"per_game!T472","v":0.6},{"$f":"per_game!U472","v":0},{"$f":"per_game!X472","v":2.4},"F"]
[null,null,{"$f":"Roster!C473","v":"G-F"},6.4659999999999993,null,{"$f":"per_game!I473","v":0.33300000000000002},{"$f":"per_game!L473","v":0},{"$f":"per_game!O473","v":0.83299999999999996},{"$f":"per_game!R473","v":2},{"$f":"per_game!S473","v":0},{"$f":"per_game!T473","v":0.7},{"$f":"per_game!U473","v":0.3},{"$f":"per_game!X473","v":2.2999999999999998},"F"]
[null,null,{"$f":"Roster!C474","v":"G"},7.6020000000000003,null,{"$f":"per_game!I474","v":0.46899999999999997},{"$f":"per_game!L474","v":0},{"$f":"per_game!O474","v":0.33300000000000002},{"$f":"per_game!R474","v":3.2},{"$f":"per_game!S474","v":0.7},{"$f":"per_game!T474","v":0.3},{"$f":"per_game!U474","v":0.5},{"$f":"per_game!X474","v":2.1},"G-F"]
[null,null,{"$f":"Roster!C475","v":"C"},5.5670000000000002,{"$f":"per_game!B475 & \"-\" & D475","v":"Aaron Gray-5.567"},{"$f":"per_game!I475","v":0.66700000000000004},{"$f":"per_game!L475","v":0},{"$f":"per_game!O475","v":0.5},{"$f":"per_game!R475","v":1.8},{"$f":"per_game!S475","v":0.4},{"$f":"per_game!T475","v":0.4},{"$f":"per_game!U475","v":0},{"$f":"per_game!X475","v":1.8},"F"]
[null,null,{"$f":"Roster!C476","v":0},0,{"$f":"per_game!B476 & \"-\" & D476","v":"-0"},{"$f":"per_game!I476","v":0},{"$f":"per_game!L476","v":0},{"$f":"per_game!O476","v":0},{"$f":"per_game!R476","v":0},{"$f":"per_game!S476","v":0},{"$f":"per_game!T476","v":0},{"$f":"per_game!U476","v":0},{"$f":"per_game!X476","v":0},"C"]
[null,null,{"$f":"Roster!C477","v":0},0,{"$f":"per_game!B477 & \"-\" & D477","v":"-0"},{"$f":"per_game!I477","v":0},{"$f":"per_game!L477","v":0},{"$f":"per_game!O477","v":0},{"$f":"per_game!R477","v":0},{"$f":"per_game!S477","v":0},{"$f":"per_game!T477","v":0},{"$f":"per_game!U477","v":0},{"$f":"per_game!X477","v":0},"F"]
[null,null,{"$f":"Roster!C478","v":"Pos"},null,{"$f":"per_game!B478 & \"-\" & D478","v":"Player-"},{"$f":"per_game!I478","v":"FG%"},{"$f":"per_game!L478","v":"3P%"},{"$f":"per_game!O478","v":"FT%"},{"$f":"per_game!R478","v":"TRB"},{"$f":"per_game!S478","v":"AST"},{"$f":"per_game!T478","v":"STL"},{"$f":"per_game!U478","v":"BLK"},{"$f":"per_game!X478","v":"PTS"},"G"]
[null,null,{"$f":"Roster!C479","v":"G"},32.858000000000004,{"$f":"per_game!B479 & \"-\" & D479","v":"Al Jefferson-32.858"},{"$f":"per_game!I479","v":0.47199999999999998},{"$f":"per_game!L479","v":0.2},{"$f":"per_game!O479","v":0.78600000000000003},{"$f":"per_game!R479","v":10.5},{"$f":"per_game!S479","v":1.9},{"$f":"per_game!T479","v":1.1000000000000001},{"$f":"per_game!U479","v":1.2},{"$f":"per_game!X479","v":16.7},"F"]
[null,null,{"$f":"Roster!C480","v":"F"},26.453000000000003,{"$f":"per_game!B480 & \"-\" & D480","v":"Mo Williams-26.453"},{"$f":"per_game!I480","v":0.439},{"$f":"per_game!L480","v":0.35},{"$f":"per_game!O480","v":0.96399999999999997},{"$f":"per_game!R480","v":2},{"$f":"per_game!S480","v":6.9},{"$f":"per_game!T480","v":1},{"$f":"per_game!U480","v":0.5},{"$f":"per_game!X480","v":14.3}]
[null,null,{"$f":"Roster!C481","v":"F"},21.887999999999998,{"$f":"per_game!B481 & \"-\" & D481","v":"Gordon Hayward-21.888"},{"$f":"per_game!I481","v":0.43099999999999999},{"$f":"per_game!L481","v":0.32800000000000001},{"$f":"per_game!O481","v":0.82899999999999996},{"$f":"per_game!R481","v":3},{"$f":"per_game!S481","v":2},{"$f":"per_game!T481","v":0.8},{"$f":"per_game!U481","v":0.6},{"$f":"per_game!X481","v":13.9}]
[null,null,{"$f":"Roster!C482","v":"F"},28.303000000000001,{"$f":"per_game!B482 & \"-\" & D482","v":"Paul Millsap-28.303"},{"$f":"per_game!I482","v":0.45200000000000001},{"$f":"per_game!L482","v":0.52400000000000002},{"$f":"per_game!O482","v":0.72699999999999998},{"$f":"per_game!R482","v":8.4},{"$f":"per_game!S482","v":2.5},{"$f":"per_game!T482","v":0.9},{"$f":"per_game!U482","v":0.9},{"$f":"per_game!X482","v":13.9}]
[null,null,{"$f":"Roster!C483","v":"G"},17.8,{"$f":"per_game!B483 & \"-\" & D483","v":"Randy Foye-17.8"},{"$f":"per_game!I483","v":0.42799999999999999},{"$f":"per_game!L483","v":0.46100000000000002},{"$f":"per_game!O483","v":0.81100000000000005},{"$f":"per_game!R483","v":1.3},{"$f":"per_game!S483","v":1.9},{"$f":"per_game!T483","v":0.7},{"$f":"per_game!U483","v":0.4},{"$f":"per_game!X483","v":11.8}]
[null,null,{"$f":"Roster!C484","v":"F"},18.084,{"$f":"per_game!B484 & \"-\" & D484","v":"Marvin Williams-18.084"},{"$f":"per_game!I484","v":0.45200000000000001},{"$f":"per_game!L484","v":0.35599999999999998},{"$f":"per_game!O484","v":0.77600000000000002},{"$f":"per_game!R484","v":3.8},{"$f":"per_game!S484","v":1.1000000000000001},{"$f":"per_game!T484","v":0.6},{"$f":"per_game!U484","v":0.6},{"$f":"per_game!X484","v":10.4}]
[null,null,{"$f":"Roster!C485","v":"F"},21.256,{"$f":"per_game!B485 & \"-\" & D485","v":"Derrick Favors-21.256"},{"$f":"per_game!I485","v":0.44},{"$f":"per_game!L485","v":0},{"$f":"per_game!O485","v":0.71599999999999997},{"$f":"per_game!R485","v":7.5},{"$f":"per_game!S485","v":0.5},{"$f":"per_game!T485","v":0.9},{"$f":"per_game!U485","v":1.9},{"$f":"per_game!X485","v":9.3000000000000007}]
[null,null,{"$f":"Roster!C486","v":"F"},12.722,{"$f":"per_game!B486 & \"-\" & D486","v":"DeMarre Carroll-12.722"},{"$f":"per_game!I486","v":0.439},{"$f":"per_game!L486","v":0.214},{"$f":"per_game!O486","v":0.76900000000000002},{"$f":"per_game!R486","v":3.4},{"$f":"per_game!S486","v":0.6},{"$f":"per_game!T486","v":0.9},{"$f":"per_game!U486","v":0.6},{"$f":"per_game!X486","v":5.8}]
[null,null,{"$f":"Roster!C487","v":"F"},11.710999999999999,{"$f":"per_game!B487 & \"-\" & D487","v":"Enes Kanter-11.711"},{"$f":"per_game!I487","v":0.54},{"$f":"per_game!L487","v":0},{"$f":"per_game!O487","v":0.57099999999999995},{"$f":"per_game!R487","v":3.8},{"$f":"per_game!S487","v":0.4},{"$f":"per_game!T487","v":0.3},{"$f":"per_game!U487","v":0.5},{"$f":"per_game!X487","v":5.6}]
[null,null,{"$f":"Roster!C488","v":"G"},12.573,{"$f":"per_game!B488 & \"-\" & D488","v":"Jamaal Tinsley-12.573"},{"$f":"per_game!I488","v":0.32700000000000001},{"$f":"per_game!L488","v":0.29599999999999999},{"$f":"per_game!O488","v":0.75},{"$f":"per_game!R488","v":1.9},{"$f":"per_game!S488","v":5.6},{"$f":"per_game!T488","v":0.8},{"$f":"per_game!U488","v":0.2},{"$f":"per_game!X488","v":2.7}]
[null,null,{"$f":"Roster!C489","v":"G"},5.85,{"$f":"per_game!B489 & \"-\" & D489","v":"Jeremy Evans-5.85"},{"$f":"per_game!I489","v":0.75},{"$f":"per_game!L489","v":0},{"$f":"per_game!O489","v":0.4},{"$f":"per_game!R489","v":1.5},{"$f":"per_game!S489","v":0.2},{"$f":"per_game!T489","v":0.2},{"$f":"per_game!U489","v":0.5},{"$f":"per_game!X489","v":2.2999999999999998}]
[null,null,{"$f":"Roster!C490","v":"G"},4.9470000000000001,{"$f":"per_game!B490 & \"-\" & D490","v":"Alec Burks-4.947"},{"$f":"per_game!I490","v":0.25},{"$f":"per_game!L490","v":0.222},{"$f":"per_game!O490","v":0.375},{"$f":"per_game!R490","v":1},{"$f":"per_game!S490","v":0.4},{"$f":"per_game!T490","v":0.2},{"$f":"per_game!U490","v":0.2},{"$f":"per_game!X490","v":2.2999999999999998}]
[null,null,{"$f":"Roster!C491","v":"F"},8.9879999999999995,null,{"$f":"per_game!I491","v":0.438},{"$f":"per_game!L491","v":0.25},{"$f":"per_game!O491","v":0},{"$f":"per_game!R491","v":1},{"$f":"per_game!S491","v":4.0999999999999996},{"$f":"per_game!T491","v":1.1000000000000001},{"$f":"per_game!U491","v":0},{"$f":"per_game!X491","v":2.1}]
[null,null,{"$f":"Roster!C492","v":"G"},1.9330000000000001,{"$f":"per_game!B492 & \"-\" & D492","v":"Kevin Murphy-1.933"},{"$f":"per_game!I492","v":0.33300000000000002},{"$f":"per_game!L492","v":0},{"$f":"per_game!O492","v":0},{"$f":"per_game!R492","v":0},{"$f":"per_game!S492","v":0},{"$f":"per_game!T492","v":0.3},{"$f":"per_game!U492","v":0},{"$f":"per_game!X492","v":1.3}]
[null,null,{"$f":"Roster!C493","v":0},0,{"$f":"per_game!B493 & \"-\" & D493","v":"-0"},{"$f":"per_game!I493","v":0},{"$f":"per_game!L493","v":0},{"$f":"per_game!O493","v":0},{"$f":"per_game!R493","v":0},{"$f":"per_game!S493","v":0},{"$f":"per_game!T493","v":0},{"$f":"per_game!U493","v":0},{"$f":"per_game!X493","v":0}]
[null,null,{"$f":"Roster!C494","v":0},0,{"$f":"per_game!B494 & \"-\" & D494","v":"-0"},{"$f":"per_game!I494","v":0},{"$f":"per_game!L494","v":0},{"$f":"per_game!O494","v":0},{"$f":"per_game!R494","v":0},{"$f":"per_game!S494","v":0},{"$f":"per_game!T494","v":0},{"$f":"per_game!U494","v":0},{"$f":"per_game!X494","v":0}]
[null,null,{"$f":"Roster!C495","v":"Pos"},null,null,{"$f":"per_game!I495","v":"FG%"},{"$f":"per_game!L495","v":"3P%"},{"$f":"per_game!O495","v":"FT%"},{"$f":"per_game!R495","v":"TRB"},{"$f":"per_game!S495","v":"AST"},{"$f":"per_game!T495","v":"STL"},{"$f":"per_game!U495","v":"BLK"},{"$f":"per_game!X495","v":"PTS"}]
[null,null,{"$f":"Roster!C496","v":"F"},21.597000000000001,{"$f":"per_game!B496 & \"-\" & D496","v":"Jordan Crawford-21.597"},{"$f":"per_game!I496","v":0.41199999999999998},{"$f":"per_game!L496","v":0.28000000000000003},{"$f":"per_game!O496","v":0.80500000000000005},{"$f":"per_game!R496","v":3.2},{"$f":"per_game!S496","v":3.4},{"$f":"per_game!T496","v":0.3},{"$f":"per_game!U496","v":0.1},{"$f":"per_game!X496","v":13.1}]
[null,null,{"$f":"Roster!C497","v":"C"},20.444000000000003,{"$f":"per_game!B497 & \"-\" & D497","v":"Nene Hilario-20.444"},{"$f":"per_game!I497","v":0.51700000000000002},{"$f":"per_game!L497","v":0},{"$f":"per_game!O497","v":0.72699999999999998},{"$f":"per_game!R497","v":4.8},{"$f":"per_game!S497","v":1.3},{"$f":"per_game!T497","v":1.3},{"$f":"per_game!U497","v":0.3},{"$f":"per_game!X497","v":11.5}]
[null,null,{"$f":"Roster!C498","v":"G"},20.643999999999998,{"$f":"per_game!B498 & \"-\" & D498","v":"Kevin Seraphin-20.644"},{"$f":"per_game!I498","v":0.46100000000000002},{"$f":"per_game!L498","v":0},{"$f":"per_game!O498","v":0.58299999999999996},{"$f":"per_game!R498","v":5.5},{"$f":"per_game!S498","v":1.2},{"$f":"per_game!T498","v":0.5},{"$f":"per_game!U498","v":0.9},{"$f":"per_game!X498","v":11.5}]
[null,null,{"$f":"Roster!C499","v":"F"},18.832000000000001,{"$f":"per_game!B499 & \"-\" & D499","v":"Bradley Beal-18.832"},{"$f":"per_game!I499","v":0.33600000000000002},{"$f":"per_game!L499","v":0.33900000000000002},{"$f":"per_game!O499","v":0.85699999999999998},{"$f":"per_game!R499","v":3.3},{"$f":"per_game!S499","v":1.7},{"$f":"per_game!T499","v":0.8},{"$f":"per_game!U499","v":0.5},{"$f":"per_game!X499","v":11}]
[null,null,{"$f":"Roster!C500","v":"G"},19.428000000000001,{"$f":"per_game!B500 & \"-\" & D500","v":"A.J. Price-19.428"},{"$f":"per_game!I500","v":0.35399999999999998},{"$f":"per_game!L500","v":0.32800000000000001},{"$f":"per_game!O500","v":0.84599999999999997},{"$f":"per_game!R500","v":3.2},{"$f":"per_game!S500","v":5.2},{"$f":"per_game!T500","v":0.6},{"$f":"per_game!U500","v":0},{"$f":"per_game!X500","v":8.9}]
[null,null,{"$f":"Roster!C501","v":"F-C"},15.956,{"$f":"per_game!B501 & \"-\" & D501","v":"Martell Webster-15.956"},{"$f":"per_game!I501","v":0.45700000000000002},{"$f":"per_game!L501","v":0.41},{"$f":"per_game!O501","v":0.88900000000000001},{"$f":"per_game!R501","v":3.5},{"$f":"per_game!S501","v":1.2},{"$f":"per_game!T501","v":0.5},{"$f":"per_game!U501","v":0.4},{"$f":"per_game!X501","v":8.6}]
[null,null,{"$f":"Roster!C502","v":"G"},19.146000000000001,{"$f":"per_game!B502 & \"-\" & D502","v":"Trevor Ariza-19.146"},{"$f":"per_game!I502","v":0.35},{"$f":"per_game!L502","v":0.25600000000000001},{"$f":"per_game!O502","v":0.84},{"$f":"per_game!R502","v":5.0999999999999996},{"$f":"per_game!S502","v":1.9},{"$f":"per_game!T502","v":1.8},{"$f":"per_game!U502","v":0.5},{"$f":"per_game!X502","v":8.4}]
[null,null,{"$f":"Roster!C503","v":"F"},17.504000000000001,{"$f":"per_game!B503 & \"-\" & D503","v":"Emeka Okafor-17.504"},{"$f":"per_game!I503","v":0.40400000000000003},{"$f":"per_game!L503","v":0},{"$f":"per_game!O503","v":0.7},{"$f":"per_game!R503","v":5.9},{"$f":"per_game!S503","v":0.9},{"$f":"per_game!T503","v":0.8},{"$f":"per_game!U503","v":1.6},{"$f":"per_game!X503","v":7.2}]
[null,null,{"$f":"Roster!C504","v":"C-F"},16.652999999999999,{"$f":"per_game!B504 & \"-\" & D504","v":"Trevor Booker-16.653"},{"$f":"per_game!I504","v":0.45300000000000001},{"$f":"per_game!L504","v":0},{"$f":"per_game!O504","v":0.6},{"$f":"per_game!R504","v":5.6},{"$f":"per_game!S504","v":1.4},{"$f":"per_game!T504","v":1.2},{"$f":"per_game!U504","v":0.6},{"$f":"per_game!X504","v":6.8}]
[null,null,{"$f":"Roster!C505","v":"G"},11.283000000000001,{"$f":"per_game!B505 & \"-\" & D505","v":"Shaun Livingston-11.283"},{"$f":"per_game!I505","v":0.48299999999999998},{"$f":"per_game!L505","v":0},{"$f":"per_game!O505","v":1},{"$f":"per_game!R505","v":2},{"$f":"per_game!S505","v":1.8},{"$f":"per_game!T505","v":0.5},{"$f":"per_game!U505","v":0.2},{"$f":"per_game!X505","v":5.3}]
[null,null,{"$f":"Roster!C506","v":"G"},11.338999999999999,{"$f":"per_game!B506 & \"-\" & D506","v":"Chris Singleton-11.339"},{"$f":"per_game!I506","v":0.45800000000000002},{"$f":"per_game!L506","v":0.125},{"$f":"per_game!O506","v":0.55600000000000005},{"$f":"per_game!R506","v":3.6},{"$f":"per_game!S506","v":0.6},{"$f":"per_game!T506","v":0.9},{"$f":"per_game!U506","v":0.1},{"$f":"per_game!X506","v":5}]
[null,null,{"$f":"Roster!C507","v":"F"},{"$f":"F507*$B$6+G507*$B$8+H507*$B$7+I507*$B$2+J507*$B$3+K507*$B$5+L510*$B$4+M507*$B$1","v":8.2609999999999992},{"$f":"per_game!B507","v":"Cartier Martin"},{"$f":"per_game!I507","v":0.34499999999999997},{"$f":"per_game!L507","v":0.316},{"$f":"per_game!O507","v":1},{"$f":"per_game!R507","v":1.3},{"$f":"per_game!S507","v":0.1},{"$f":"per_game!T507","v":0.6},{"$f":"per_game!U507","v":0},{"$f":"per_game!X507","v":4.3}]
[null,null,{"$f":"Roster!C508","v":"F"},8.6589999999999989,{"$f":"per_game!B508","v":"Earl Barron"},{"$f":"per_game!I508","v":0.52600000000000002},{"$f":"per_game!L508","v":0},{"$f":"per_game!O508","v":0.33300000000000002},{"$f":"per_game!R508","v":3.3},{"$f":"per_game!S508","v":0.3},{"$f":"per_game!T508","v":0.5},{"$f":"per_game!U508","v":0.2},{"$f":"per_game!X508","v":3.5}]
[null,null,{"$f":"Roster!C509","v":"F"},7.3999999999999995,{"$f":"per_game!B509","v":"Jannero Pargo"},{"$f":"per_game!I509","v":0.25},{"$f":"per_game!L509","v":0.15},{"$f":"per_game!O509","v":1},{"$f":"per_game!R509","v":0.9},{"$f":"per_game!S509","v":2},{"$f":"per_game!T509","v":0},{"$f":"per_game!U509","v":0.1},{"$f":"per_game!X509","v":3}]
[null,null,{"$f":"Roster!C510","v":"G-F"},{"$f":"F510*$B$6+G510*$B$8+H510*$B$7+I510*$B$2+J510*$B$3+K510*$B$5+#REF!*$B$4+M510*$B$1","v":{"$error":"#REF!"}},{"$f":"per_game!B510","v":"Jan Vesely"},{"$f":"per_game!I510","v":0.433},{"$f":"per_game!L510","v":0},{"$f":"per_game!O510","v":0.23100000000000001},{"$f":"per_game!R510","v":2.1},{"$f":"per_game!S510","v":0.6},{"$f":"per_game!T510","v":0.4},{"$f":"per_game!U510","v":0.3},{"$f":"per_game!X510","v":2.1}]
[null,null,null,null,null,null,{"$f":"per_game!L511","v":0},null,{"$f":"per_game!R511","v":0}]
[null,null,null,null,null,null,{"$f":"per_game!L512","v":0}]

{"sheet":"9","index":8,"n_rows":513,"n_cols":14,"rows_kept":513,"cut":false,"hidden":true,"merged":[]}
["Points",{"$f":"'Create Team'!B24","v":1}]
["Rebounds",{"$f":"'Create Team'!B25","v":1},null,null,"Player","FG%","3P%","FT%","TRB","AST","STL","BLK","TOV","PTS"]
["Assists",{"$f":"'Create Team'!B26","v":1},{"$f":"Roster!C3","v":"G"},{"$f":"$B$1*N3+$B$2*I3+$B$3*J3+$B$4*L3+$B$5*K3+$B$6*F3+$B$7*H3+$B$8*G3+$B$9*M3","v":29.279},{"$f":"per_game!B3 & \"-\" & D3","v":"Josh Smith-29.279"},{"$f":"per_game!I3","v":0.44400000000000001},{"$f":"per_game!L3","v":0.35699999999999998},{"$f":"per_game!O3","v":0.47799999999999998},{"$f":"per_game!R3","v":7.6},{"$f":"per_game!S3","v":3.7},{"$f":"per_game!T3","v":1.4},{"$f":"per_game!U3","v":2.4},{"$f":"per_game!V3","v":3.2},{"$f":"per_game!X3","v":16.100000000000001}]
["Blocks",{"$f":"'Create Team'!B27","v":1},{"$f":"Roster!C4","v":"C"},{"$f":"$B$1*N4+$B$2*I4+$B$3*J4+$B$4*L4+$B$5*K4+$B$6*F4+$B$7*H4+$B$8*G4+$B$9*M4","v":29.757999999999999},{"$f":"per_game!B4 & \"-\" & D4","v":"Al Horford-29.758"},{"$f":"per_game!I4","v":0.53500000000000003},{"$f":"per_game!L4","v":0},{"$f":"per_game!O4","v":0.52300000000000002},{"$f":"per_game!R4","v":9.5},{"$f":"per_game!S4","v":3.5},{"$f":"per_game!T4","v":0.5},{"$f":"per_game!U4","v":1.1000000000000001},{"$f":"per_game!V4","v":1.8},{"$f":"per_game!X4","v":15.9}]
["Steals",{"$f":"'Create Team'!B28","v":1},{"$f":"Roster!C5","v":"G"},20.814000000000004,{"$f":"per_game!B5 & \"-\" & D5","v":"Louis Williams-20.814"},{"$f":"per_game!I5","v":0.42299999999999999},{"$f":"per_game!L5","v":0.318},{"$f":"per_game!O5","v":0.873},{"$f":"per_game!R5","v":2},{"$f":"per_game!S5","v":3.3},{"$f":"per_game!T5","v":1.1000000000000001},{"$f":"per_game!U5","v":0.3},{"$f":"per_game!V5","v":1.4},{"$f":"per_game!X5","v":13.9}]
["FG %",{"$f":"'Create Team'!B29","v":1},{"$f":"Roster!C6","v":"F"},24.088000000000001,{"$f":"per_game!B6 & \"-\" & D6","v":"Jeff Teague-24.088"},{"$f":"per_game!I6","v":0.46600000000000003},{"$f":"per_game!L6","v":0.45500000000000002},{"$f":"per_game!O6","v":0.86699999999999999},{"$f":"per_game!R6","v":2.4},{"$f":"per_game!S6","v":7.1},{"$f":"per_game!T6","v":1.8},{"$f":"per_game!U6","v":0.4},{"$f":"per_game!V6","v":3},{"$f":"per_game!X6","v":13.6}]
["FT %",{"$f":"'Create Team'!B30","v":1},{"$f":"Roster!C7","v":"F"},18.504000000000001,{"$f":"per_game!B7 & \"-\" & D7","v":"Kyle Korver-18.504"},{"$f":"per_game!I7","v":0.42699999999999999},{"$f":"per_game!L7","v":0.42},{"$f":"per_game!O7","v":0.85699999999999998},{"$f":"per_game!R7","v":3.7},{"$f":"per_game!S7","v":1.6},{"$f":"per_game!T7","v":1},{"$f":"per_game!U7","v":0.4},{"$f":"per_game!V7","v":0.7},{"$f":"per_game!X7","v":10.8}]
["3 pt %",{"$f":"'Create Team'!B31","v":1},{"$f":"Roster!C8","v":"G"},16.327000000000002,{"$f":"per_game!B8 & \"-\" & D8","v":"Zaza Pachulia-16.327"},{"$f":"per_game!I8","v":0.5},{"$f":"per_game!L8","v":0},{"$f":"per_game!O8","v":0.72699999999999998},{"$f":"per_game!R8","v":7.1},{"$f":"per_game!S8","v":1.6},{"$f":"per_game!T8","v":0.8},{"$f":"per_game!U8","v":0.4},{"$f":"per_game!V8","v":1.7},{"$f":"per_game!X8","v":6.9}]
["Turnovers",{"$f":"'Create Team'!B32","v":-1},{"$f":"Roster!C9","v":"C"},12.472000000000001,{"$f":"per_game!B9 & \"-\" & D9","v":"Devin Harris-12.472"},{"$f":"per_game!I9","v":0.41099999999999998},{"$f":"per_game!L9","v":0.314},{"$f":"per_game!O9","v":0.64700000000000002},{"$f":"per_game!R9","v":1.6},{"$f":"per_game!S9","v":2.5},{"$f":"per_game!T9","v":1},{"$f":"per_game!U9","v":0.4},{"$f":"per_game!V9","v":1.2},{"$f":"per_game!X9","v":6.8}]
[null,null,{"$f":"Roster!C10","v":"C"},11.700000000000003,{"$f":"per_game!B10 & \"-\" & D10","v":"DeShawn Stevenson-11.7"},{"$f":"per_game!I10","v":0.4},{"$f":"per_game!L10","v":0.4},{"$f":"per_game!O10","v":0.4},{"$f":"per_game!R10","v":2.7},{"$f":"per_game!S10","v":1.1000000000000001},{"$f":"per_game!T10","v":0.5},{"$f":"per_game!U10","v":0.3},{"$f":"per_game!V10","v":0.5},{"$f":"per_game!X10","v":6.4}]
[null,null,{"$f":"Roster!C11","v":"F"},8.8879999999999999,{"$f":"per_game!B11 & \"-\" & D11","v":"Anthony Morrow-8.888"},{"$f":"per_game!I11","v":0.48},{"$f":"per_game!L11","v":0.53300000000000003},{"$f":"per_game!O11","v":0.875},{"$f":"per_game!R11","v":0.6},{"$f":"per_game!S11","v":0.1},{"$f":"per_game!T11","v":0.7},{"$f":"per_game!U11","v":0.1},{"$f":"per_game!V11","v":0.2},{"$f":"per_game!X11","v":5.7}]
[null,null,{"$f":"Roster!C12","v":"F"},10.051,{"$f":"per_game!B12 & \"-\" & D12","v":"Ivan Johnson-10.051"},{"$f":"per_game!I12","v":0.65100000000000002},{"$f":"per_game!L12","v":0.5},{"$f":"per_game!O12","v":0.4},{"$f":"per_game!R12","v":3.1},{"$f":"per_game!S12","v":0.3},{"$f":"per_game!T12","v":0.8},{"$f":"per_game!U12","v":0.1},{"$f":"per_game!V12","v":0.9},{"$f":"per_game!X12","v":5.0999999999999996}]
[null,null,{"$f":"Roster!C13","v":"G"},6.3489999999999993,{"$f":"per_game!B13 & \"-\" & D13","v":"Anthony Tolliver-6.349"},{"$f":"per_game!I13","v":0.27300000000000002},{"$f":"per_game!L13","v":0.17599999999999999},{"$f":"per_game!O13","v":0.8},{"$f":"per_game!R13","v":2.2999999999999998},{"$f":"per_game!S13","v":0.1},{"$f":"per_game!T13","v":0.5},{"$f":"per_game!U13","v":0},{"$f":"per_game!V13","v":0.9},{"$f":"per_game!X13","v":3.1}]
[null,null,{"$f":"Roster!C14","v":"G"},3.786,{"$f":"per_game!B14 & \"-\" & D14","v":"John Jenkins-3.786"},{"$f":"per_game!I14","v":0.28599999999999998},{"$f":"per_game!L14","v":0},{"$f":"per_game!O14","v":1},{"$f":"per_game!R14","v":1},{"$f":"per_game!S14","v":0},{"$f":"per_game!T14","v":0},{"$f":"per_game!U14","v":0},{"$f":"per_game!V14","v":0},{"$f":"per_game!X14","v":1.5}]
[null,null,{"$f":"Roster!C15","v":"C"},0.76700000000000024,{"$f":"per_game!B15 & \"-\" & D15","v":"Mike Scott-0.767"},{"$f":"per_game!I15","v":0.16700000000000001},{"$f":"per_game!L15","v":0},{"$f":"per_game!O15","v":0},{"$f":"per_game!R15","v":0.8},{"$f":"per_game!S15","v":0},{"$f":"per_game!T15","v":0},{"$f":"per_game!U15","v":0},{"$f":"per_game!V15","v":0.6},{"$f":"per_game!X15","v":0.4}]
[null,null,{"$f":"Roster!C16","v":"G"},-0.5,{"$f":"per_game!B16 & \"-\" & D16","v":"Johan Petro--0.5"},{"$f":"per_game!I16","v":0},{"$f":"per_game!L16","v":0},{"$f":"per_game!O16","v":0},{"$f":"per_game!R16","v":0},{"$f":"per_game!S16","v":0},{"$f":"per_game!T16","v":0},{"$f":"per_game!U16","v":0},{"$f":"per_game!V16","v":0.5},{"$f":"per_game!X16","v":0}]
[null,null,{"$f":"Roster!C17","v":0},0,null,{"$f":"per_game!I17","v":0},{"$f":"per_game!L17","v":0},{"$f":"per_game!O17","v":0},{"$f":"per_game!R17","v":0},{"$f":"per_game!S17","v":0},{"$f":"per_game!T17","v":0},{"$f":"per_game!U17","v":0},{"$f":"per_game!V17","v":0},{"$f":"per_game!X17","v":0}]
[null,null,{"$f":"Roster!C18","v":0},0,null,{"$f":"per_game!I18","v":0},{"$f":"per_game!L18","v":0},{"$f":"per_game!O18","v":0},{"$f":"per_game!R18","v":0},{"$f":"per_game!S18","v":0},{"$f":"per_game!T18","v":0},{"$f":"per_game!U18","v":0},{"$f":"per_game!V18","v":0},{"$f":"per_game!X18","v":0}]
[null,null,{"$f":"Roster!C19","v":"Pos"},null,null,{"$f":"per_game!I19","v":"FG%"},{"$f":"per_game!L19","v":"3P%"},{"$f":"per_game!O19","v":"FT%"},{"$f":"per_game!R19","v":"TRB"},{"$f":"per_game!S19","v":"AST"},{"$f":"per_game!T19","v":"STL"},{"$f":"per_game!U19","v":"BLK"},{"$f":"per_game!V19","v":"TOV"},{"$f":"per_game!X19","v":"PTS"}]
[null,null,{"$f":"Roster!C20","v":"G"},29.048999999999996,{"$f":"per_game!B20 & \"-\" & D20","v":"Paul Pierce-29.049"},{"$f":"per_game!I20","v":0.41799999999999998},{"$f":"per_game!L20","v":0.39500000000000002},{"$f":"per_game!O20","v":0.83599999999999997},{"$f":"per_game!R20","v":5.7},{"$f":"per_game!S20","v":3.2},{"$f":"per_game!T20","v":1.5},{"$f":"per_game!U20","v":0.3},{"$f":"per_game!V20","v":2.5},{"$f":"per_game!X20","v":19.2}]
[null,null,{"$f":"Roster!C21","v":"F"},26.125,{"$f":"per_game!B21 & \"-\" & D21","v":"Kevin Garnett-26.125"},{"$f":"per_game!I21","v":0.52200000000000002},{"$f":"per_game!L21","v":0},{"$f":"per_game!O21","v":0.80300000000000005},{"$f":"per_game!R21","v":7.4},{"$f":"per_game!S21","v":1.9},{"$f":"per_game!T21","v":0.8},{"$f":"per_game!U21","v":0.8},{"$f":"per_game!V21","v":1.7},{"$f":"per_game!X21","v":15.6}]
[null,null,{"$f":"Roster!C22","v":"C"},30.535,{"$f":"per_game!B22 & \"-\" & D22","v":"Rajon Rondo-30.535"},{"$f":"per_game!I22","v":0.50600000000000001},{"$f":"per_game!L22","v":0.316},{"$f":"per_game!O22","v":0.61299999999999999},{"$f":"per_game!R22","v":4.5999999999999996},{"$f":"per_game!S22","v":12.9},{"$f":"per_game!T22","v":1.9},{"$f":"per_game!U22","v":0},{"$f":"per_game!V22","v":3.2},{"$f":"per_game!X22","v":12.9}]
[null,null,{"$f":"Roster!C23","v":"F"},17.540000000000003,{"$f":"per_game!B23 & \"-\" & D23","v":"Jason Terry-17.54"},{"$f":"per_game!I23","v":0.48299999999999998},{"$f":"per_game!L23","v":0.38200000000000001},{"$f":"per_game!O23","v":0.875},{"$f":"per_game!R23","v":1.8},{"$f":"per_game!S23","v":2.2999999999999998},{"$f":"per_game!T23","v":1.1000000000000001},{"$f":"per_game!U23","v":0.1},{"$f":"per_game!V23","v":1.2},{"$f":"per_game!X23","v":11.7}]
[null,null,{"$f":"Roster!C24","v":"F"},17.525000000000006,{"$f":"per_game!B24 & \"-\" & D24","v":"Brandon Bass-17.525"},{"$f":"per_game!I24","v":0.443},{"$f":"per_game!L24","v":0},{"$f":"per_game!O24","v":0.88200000000000001},{"$f":"per_game!R24","v":5.4},{"$f":"per_game!S24","v":0.9},{"$f":"per_game!T24","v":0.5},{"$f":"per_game!U24","v":0.8},{"$f":"per_game!V24","v":0.9},{"$f":"per_game!X24","v":9.5}]
[null,null,{"$f":"Roster!C25","v":"F"},13.522999999999998,{"$f":"per_game!B25 & \"-\" & D25","v":"Jeff Green-13.523"},{"$f":"per_game!I25","v":0.434},{"$f":"per_game!L25","v":0.33300000000000002},{"$f":"per_game!O25","v":0.75600000000000001},{"$f":"per_game!R25","v":2.8},{"$f":"per_game!S25","v":0.7},{"$f":"per_game!T25","v":0.6},{"$f":"per_game!U25","v":0.5},{"$f":"per_game!V25","v":1.5},{"$f":"per_game!X25","v":8.9}]
[null,null,{"$f":"Roster!C26","v":"G"},10.500000000000002,{"$f":"per_game!B26 & \"-\" & D26","v":"Leandro Barbosa-10.5"},{"$f":"per_game!I26","v":0.44400000000000001},{"$f":"per_game!L26","v":0.41699999999999998},{"$f":"per_game!O26","v":0.73899999999999999},{"$f":"per_game!R26","v":0.9},{"$f":"per_game!S26","v":1.5},{"$f":"per_game!T26","v":0.5},{"$f":"per_game!U26","v":0.3},{"$f":"per_game!V26","v":0.6},{"$f":"per_game!X26","v":6.3}]
[null,null,{"$f":"Roster!C27","v":"F-C"},11.102,{"$f":"per_game!B27 & \"-\" & D27","v":"Courtney Lee-11.102"},{"$f":"per_game!I27","v":0.46200000000000002},{"$f":"per_game!L27","v":0.24},{"$f":"per_game!O27","v":1},{"$f":"per_game!R27","v":2.5},{"$f":"per_game!S27","v":1.5},{"$f":"per_game!T27","v":0.9},{"$f":"per_game!U27","v":0.1},{"$f":"per_game!V27","v":1.5},{"$f":"per_game!X27","v":5.9}]
[null,null,{"$f":"Roster!C28","v":"F"},13.429,{"$f":"per_game!B28 & \"-\" & D28","v":"Jared Sullinger-13.429"},{"$f":"per_game!I28","v":0.50600000000000001},{"$f":"per_game!L28","v":1},{"$f":"per_game!O28","v":0.92300000000000004},{"$f":"per_game!R28","v":4.5999999999999996},{"$f":"per_game!S28","v":0.6},{"$f":"per_game!T28","v":0.4},{"$f":"per_game!U28","v":0.5},{"$f":"per_game!V28","v":0.6},{"$f":"per_game!X28","v":5.5}]
[null,null,{"$f":"Roster!C29","v":"G"},8.1650000000000009,{"$f":"per_game!B29 & \"-\" & D29","v":"Chris Wilcox-8.165"},{"$f":"per_game!I29","v":0.70299999999999996},{"$f":"per_game!L29","v":0},{"$f":"per_game!O29","v":0.76200000000000001},{"$f":"per_game!R29","v":2.1},{"$f":"per_game!S29","v":0.3},{"$f":"per_game!T29","v":0.3},{"$f":"per_game!U29","v":0.3},{"$f":"per_game!V29","v":0.6},{"$f":"per_game!X29","v":4.3}]
[null,null,{"$f":"Roster!C30","v":"F"},2.5,{"$f":"per_game!B30 & \"-\" & D30","v":"Kris Joseph-2.5"},{"$f":"per_game!I30","v":0},{"$f":"per_game!L30","v":0},{"$f":"per_game!O30","v":1},{"$f":"per_game!R30","v":0.5},{"$f":"per_game!S30","v":0.5},{"$f":"per_game!T30","v":0},{"$f":"per_game!U30","v":0},{"$f":"per_game!V30","v":0.5},{"$f":"per_game!X30","v":1}]
[null,null,{"$f":"Roster!C31","v":"G"},2.8499999999999996,{"$f":"per_game!B31 & \"-\" & D31","v":"Jason Collins-2.85"},{"$f":"per_game!I31","v":0.25},{"$f":"per_game!L31","v":0},{"$f":"per_game!O31","v":0},{"$f":"per_game!R31","v":2.2999999999999998},{"$f":"per_game!S31","v":0},{"$f":"per_game!T31","v":0.5},{"$f":"per_game!U31","v":0.3},{"$f":"per_game!V31","v":1},{"$f":"per_game!X31","v":0.5}]
[null,null,{"$f":"Roster!C32","v":"F"},-1,{"$f":"per_game!B32 & \"-\" & D32","v":"Darko Milicic--1"},{"$f":"per_game!I32","v":0},{"$f":"per_game!L32","v":0},{"$f":"per_game!O32","v":0},{"$f":"per_game!R32","v":1},{"$f":"per_game!S32","v":0},{"$f":"per_game!T32","v":0},{"$f":"per_game!U32","v":0},{"$f":"per_game!V32","v":2},{"$f":"per_game!X32","v":0}]
[null,null,{"$f":"Roster!C33","v":0},0,null,{"$f":"per_game!I33","v":0},{"$f":"per_game!L33","v":0},{"$f":"per_game!O33","v":0},{"$f":"per_game!R33","v":0},{"$f":"per_game!S33","v":0},{"$f":"per_game!T33","v":0},{"$f":"per_game!U33","v":0},{"$f":"per_game!V33","v":0},{"$f":"per_game!X33","v":0}]
[null,null,{"$f":"Roster!C34","v":0},0,null,{"$f":"per_game!I34","v":0},{"$f":"per_game!L34","v":0},{"$f":"per_game!O34","v":0},{"$f":"per_game!R34","v":0},{"$f":"per_game!S34","v":0},{"$f":"per_game!T34","v":0},{"$f":"per_game!U34","v":0},{"$f":"per_game!V34","v":0},{"$f":"per_game!X34","v":0}]
[null,null,{"$f":"Roster!C35","v":"Pos"},null,null,{"$f":"per_game!I35","v":"FG%"},{"$f":"per_game!L35","v":"3P%"},{"$f":"per_game!O35","v":"FT%"},{"$f":"per_game!R35","v":"TRB"},{"$f":"per_game!S35","v":"AST"},{"$f":"per_game!T35","v":"STL"},{"$f":"per_game!U35","v":"BLK"},{"$f":"per_game!V35","v":"TOV"},{"$f":"per_game!X35","v":"PTS"}]
[null,null,{"$f":"Roster!C36","v":"F"},28.572000000000003,{"$f":"per_game!B36 & \"-\" & D36","v":"Brook Lopez-28.572"},{"$f":"per_game!I36","v":0.53400000000000003},{"$f":"per_game!L36","v":0},{"$f":"per_game!O36","v":0.63800000000000001},{"$f":"per_game!R36","v":6.8},{"$f":"per_game!S36","v":0.8},{"$f":"per_game!T36","v":0.5},{"$f":"per_game!U36","v":2.5},{"$f":"per_game!V36","v":1.7},{"$f":"per_game!X36","v":18.5}]
[null,null,{"$f":"Roster!C37","v":"G-F"},22.751999999999999,{"$f":"per_game!B37 & \"-\" & D37","v":"Joe Johnson-22.752"},{"$f":"per_game!I37","v":0.40899999999999997},{"$f":"per_game!L37","v":0.36299999999999999},{"$f":"per_game!O37","v":0.78},{"$f":"per_game!R37","v":2.8},{"$f":"per_game!S37","v":3.8},{"$f":"per_game!T37","v":0.6},{"$f":"per_game!U37","v":0.2},{"$f":"per_game!V37","v":1.8},{"$f":"per_game!X37","v":15.6}]
[null,null,{"$f":"Roster!C38","v":"G-F"},27.588000000000005,{"$f":"per_game!B38 & \"-\" & D38","v":"Deron Williams-27.588"},{"$f":"per_game!I38","v":0.38200000000000001},{"$f":"per_game!L38","v":0.26800000000000002},{"$f":"per_game!O38","v":0.83799999999999997},{"$f":"per_game!R38","v":3},{"$f":"per_game!S38","v":8.9},{"$f":"per_game!T38","v":1.1000000000000001},{"$f":"per_game!U38","v":0.6},{"$f":"per_game!V38","v":2.9},{"$f":"per_game!X38","v":15.4}]
[null,null,{"$f":"Roster!C39","v":"G-F"},18.016999999999999,{"$f":"per_game!B39 & \"-\" & D39","v":"Andray Blatche-18.017"},{"$f":"per_game!I39","v":0.46700000000000003},{"$f":"per_game!L39","v":0},{"$f":"per_game!O39","v":0.75},{"$f":"per_game!R39","v":5.8},{"$f":"per_game!S39","v":1.1000000000000001},{"$f":"per_game!T39","v":0.5},{"$f":"per_game!U39","v":0.6},{"$f":"per_game!V39","v":1.3},{"$f":"per_game!X39","v":10.1}]
[null,null,{"$f":"Roster!C40","v":"F"},17.959999999999997,{"$f":"per_game!B40 & \"-\" & D40","v":"Gerald Wallace-17.96"},{"$f":"per_game!I40","v":0.42699999999999999},{"$f":"per_game!L40","v":0.33300000000000002},{"$f":"per_game!O40","v":0.5},{"$f":"per_game!R40","v":4.0999999999999996},{"$f":"per_game!S40","v":2.4},{"$f":"per_game!T40","v":1.9},{"$f":"per_game!U40","v":0.7},{"$f":"per_game!V40","v":1.8},{"$f":"per_game!X40","v":9.4}]
[null,null,{"$f":"Roster!C41","v":"F"},18.707999999999995,{"$f":"per_game!B41 & \"-\" & D41","v":"Kris Humphries-18.708"},{"$f":"per_game!I41","v":0.47599999999999998},{"$f":"per_game!L41","v":0},{"$f":"per_game!O41","v":0.73199999999999998},{"$f":"per_game!R41","v":8.1},{"$f":"per_game!S41","v":0.6},{"$f":"per_game!T41","v":0.4},{"$f":"per_game!U41","v":0.9},{"$f":"per_game!V41","v":0.6},{"$f":"per_game!X41","v":8.1}]
[null,null,{"$f":"Roster!C42","v":"G"},11.516999999999998,{"$f":"per_game!B42 & \"-\" & D42","v":"Jerry Stackhouse-11.517"},{"$f":"per_game!I42","v":0.49099999999999999},{"$f":"per_game!L42","v":0.46899999999999997},{"$f":"per_game!O42","v":0.85699999999999998},{"$f":"per_game!R42","v":1.4},{"$f":"per_game!S42","v":0.8},{"$f":"per_game!T42","v":0.6},{"$f":"per_game!U42","v":0.2},{"$f":"per_game!V42","v":0.6},{"$f":"per_game!X42","v":7.3}]
[null,null,{"$f":"Roster!C43","v":"C"},12.144,{"$f":"per_game!B43 & \"-\" & D43","v":"C.J. Watson-12.144"},{"$f":"per_game!I43","v":0.379},{"$f":"per_game!L43","v":0.33900000000000002},{"$f":"per_game!O43","v":0.82599999999999996},{"$f":"per_game!R43","v":1.4},{"$f":"per_game!S43","v":1.8},{"$f":"per_game!T43","v":0.8},{"$f":"per_game!U43","v":0.2},{"$f":"per_game!V43","v":0.9},{"$f":"per_game!X43","v":7.3}]
[null,null,{"$f":"Roster!C44","v":"F"},11.401999999999997,{"$f":"per_game!B44 & \"-\" & D44","v":"MarShon Brooks-11.402"},{"$f":"per_game!I44","v":0.56799999999999995},{"$f":"per_game!L44","v":0.66700000000000004},{"$f":"per_game!O44","v":0.66700000000000004},{"$f":"per_game!R44","v":1.7},{"$f":"per_game!S44","v":0.9},{"$f":"per_game!T44","v":0.6},{"$f":"per_game!U44","v":0.1},{"$f":"per_game!V44","v":0.9},{"$f":"per_game!X44","v":7.1}]
[null,null,{"$f":"Roster!C45","v":"G-F"},13.070999999999998,{"$f":"per_game!B45 & \"-\" & D45","v":"Reggie Evans-13.071"},{"$f":"per_game!I45","v":0.57699999999999996},{"$f":"per_game!L45","v":0},{"$f":"per_game!O45","v":0.59399999999999997},{"$f":"per_game!R45","v":8.4},{"$f":"per_game!S45","v":0.7},{"$f":"per_game!T45","v":0.7},{"$f":"per_game!U45","v":0.1},{"$f":"per_game!V45","v":1.1000000000000001},{"$f":"per_game!X45","v":3.1}]
[null,null,{"$f":"Roster!C46","v":"G"},6.0949999999999998,{"$f":"per_game!B46 & \"-\" & D46","v":"Keith Bogans-6.095"},{"$f":"per_game!I46","v":0.34799999999999998},{"$f":"per_game!L46","v":0.314},{"$f":"per_game!O46","v":0.33300000000000002},{"$f":"per_game!R46","v":1.4},{"$f":"per_game!S46","v":1.1000000000000001},{"$f":"per_game!T46","v":0.3},{"$f":"per_game!U46","v":0},{"$f":"per_game!V46","v":0.8},{"$f":"per_game!X46","v":3.1}]
[null,null,{"$f":"Roster!C47","v":"F"},5.7679999999999998,{"$f":"per_game!B47 & \"-\" & D47","v":"Mirza Teletovic-5.768"},{"$f":"per_game!I47","v":0.318},{"$f":"per_game!L47","v":0.25},{"$f":"per_game!O47","v":0},{"$f":"per_game!R47","v":1.2},{"$f":"per_game!S47","v":0.7},{"$f":"per_game!T47","v":0.3},{"$f":"per_game!U47","v":0},{"$f":"per_game!V47","v":0},{"$f":"per_game!X47","v":3}]
[null,null,{"$f":"Roster!C48","v":"F"},4.4000000000000004,{"$f":"per_game!B48 & \"-\" & D48","v":"Tornike Shengelia-4.4"},{"$f":"per_game!I48","v":1},{"$f":"per_game!L48","v":1},{"$f":"per_game!O48","v":0.6},{"$f":"per_game!R48","v":0.3},{"$f":"per_game!S48","v":0},{"$f":"per_game!T48","v":0},{"$f":"per_game!U48","v":0},{"$f":"per_game!V48","v":0.5},{"$f":"per_game!X48","v":2}]
[null,null,{"$f":"Roster!C49","v":"G"},5.0529999999999999,{"$f":"per_game!B49 & \"-\" & D49","v":"Josh Childress-5.053"},{"$f":"per_game!I49","v":0.35299999999999998},{"$f":"per_game!L49","v":0.5},{"$f":"per_game!O49","v":0.5},{"$f":"per_game!R49","v":1.4},{"$f":"per_game!S49","v":0.5},{"$f":"per_game!T49","v":0.2},{"$f":"per_game!U49","v":0.2},{"$f":"per_game!V49","v":0},{"$f":"per_game!X49","v":1.4}]
[null,null,{"$f":"Roster!C50","v":"G"},2.0330000000000004,{"$f":"per_game!B50 & \"-\" & D50","v":"Tyshawn Taylor-2.033"},{"$f":"per_game!I50","v":0.33300000000000002},{"$f":"per_game!L50","v":0},{"$f":"per_game!O50","v":0.5},{"$f":"per_game!R50","v":0},{"$f":"per_game!S50","v":0.2},{"$f":"per_game!T50","v":0.3},{"$f":"per_game!U50","v":0},{"$f":"per_game!V50","v":0.3},{"$f":"per_game!X50","v":1}]
[null,null,{"$f":"Roster!C51","v":0},0,null,{"$f":"per_game!I51","v":0},{"$f":"per_game!L51","v":0},{"$f":"per_game!O51","v":0},{"$f":"per_game!R51","v":0},{"$f":"per_game!S51","v":0},{"$f":"per_game!T51","v":0},{"$f":"per_game!U51","v":0},{"$f":"per_game!V51","v":0},{"$f":"per_game!X51","v":0}]
[null,null,{"$f":"Roster!C52","v":0},0,null,{"$f":"per_game!I52","v":0},{"$f":"per_game!L52","v":0},{"$f":"per_game!O52","v":0},{"$f":"per_game!R52","v":0},{"$f":"per_game!S52","v":0},{"$f":"per_game!T52","v":0},{"$f":"per_game!U52","v":0},{"$f":"per_game!V52","v":0},{"$f":"per_game!X52","v":0}]
[null,null,{"$f":"Roster!C53","v":"Pos"},null,null,{"$f":"per_game!I53","v":"FG%"},{"$f":"per_game!L53","v":"3P%"},{"$f":"per_game!O53","v":"FT%"},{"$f":"per_game!R53","v":"TRB"},{"$f":"per_game!S53","v":"AST"},{"$f":"per_game!T53","v":"STL"},{"$f":"per_game!U53","v":"BLK"},{"$f":"per_game!V53","v":"TOV"},{"$f":"per_game!X53","v":"PTS"}]
[null,null,{"$f":"Roster!C54","v":"F"},28.063000000000002,{"$f":"per_game!B54 & \"-\" & D54","v":"Kemba Walker-28.063"},{"$f":"per_game!I54","v":0.40100000000000002},{"$f":"per_game!L54","v":0.26500000000000001},{"$f":"per_game!O54","v":0.79700000000000004},{"$f":"per_game!R54","v":3.9},{"$f":"per_game!S54","v":5.9},{"$f":"per_game!T54","v":2.1},{"$f":"per_game!U54","v":0.5},{"$f":"per_game!V54","v":2.4},{"$f":"per_game!X54","v":16.600000000000001}]
[null,null,{"$f":"Roster!C55","v":"G"},24.296999999999993,{"$f":"per_game!B55 & \"-\" & D55","v":"Ramon Sessions-24.297"},{"$f":"per_game!I55","v":0.38},{"$f":"per_game!L55","v":0.2},{"$f":"per_game!O55","v":0.81699999999999995},{"$f":"per_game!R55","v":3.8},{"$f":"per_game!S55","v":4.7},{"$f":"per_game!T55","v":0.9},{"$f":"per_game!U55","v":0},{"$f":"per_game!V55","v":2.1},{"$f":"per_game!X55","v":15.6}]
[null,null,{"$f":"Roster!C56","v":"C"},20.89,{"$f":"per_game!B56 & \"-\" & D56","v":"Ben Gordon-20.89"},{"$f":"per_game!I56","v":0.45100000000000001},{"$f":"per_game!L56","v":0.48599999999999999},{"$f":"per_game!O56","v":0.85299999999999998},{"$f":"per_game!R56","v":2.2999999999999998},{"$f":"per_game!S56","v":2.9},{"$f":"per_game!T56","v":0.6},{"$f":"per_game!U56","v":0.4},{"$f":"per_game!V56","v":2.1},{"$f":"per_game!X56","v":15}]
[null,null,{"$f":"Roster!C57","v":"G"},24.517000000000003,{"$f":"per_game!B57 & \"-\" & D57","v":"Byron Mullens-24.517"},{"$f":"per_game!I57","v":0.374},{"$f":"per_game!L57","v":0.28599999999999998},{"$f":"per_game!O57","v":0.75700000000000001},{"$f":"per_game!R57","v":8.4},{"$f":"per_game!S57","v":1.2},{"$f":"per_game!T57","v":1.1000000000000001},{"$f":"per_game!U57","v":0.8},{"$f":"per_game!V57","v":1.3},{"$f":"per_game!X57","v":12.9}]
[null,null,{"$f":"Roster!C58","v":"C"},21.532000000000004,{"$f":"per_game!B58 & \"-\" & D58","v":"Michael Kidd-Gilchrist-21.532"},{"$f":"per_game!I58","v":0.45800000000000002},{"$f":"per_game!L58","v":0.5},{"$f":"per_game!O58","v":0.77400000000000002},{"$f":"per_game!R58","v":6.3},{"$f":"per_game!S58","v":1.6},{"$f":"per_game!T58","v":1.1000000000000001},{"$f":"per_game!U58","v":1.4},{"$f":"per_game!V58","v":1.4},{"$f":"per_game!X58","v":10.8}]
[null,null,{"$f":"Roster!C59","v":"G"},16.544999999999998,{"$f":"per_game!B59 & \"-\" & D59","v":"Gerald Henderson-16.545"},{"$f":"per_game!I59","v":0.37},{"$f":"per_game!L59","v":0.5},{"$f":"per_game!O59","v":0.875},{"$f":"per_game!R59","v":1.7},{"$f":"per_game!S59","v":1.7},{"$f":"per_game!T59","v":2},{"$f":"per_game!U59","v":0.7},{"$f":"per_game!V59","v":1.3},{"$f":"per_game!X59","v":10}]
[null,null,{"$f":"Roster!C60","v":"G"},13.796000000000001,{"$f":"per_game!B60 & \"-\" & D60","v":"Jeff Taylor-13.796"},{"$f":"per_game!I60","v":0.438},{"$f":"per_game!L60","v":0.38500000000000001},{"$f":"per_game!O60","v":0.77300000000000002},{"$f":"per_game!R60","v":2.4},{"$f":"per_game!S60","v":0.9},{"$f":"per_game!T60","v":1.2},{"$f":"per_game!U60","v":0.3},{"$f":"per_game!V60","v":0.9},{"$f":"per_game!X60","v":8.3000000000000007}]
[null,null,{"$f":"Roster!C61","v":"F"},12.889999999999999,{"$f":"per_game!B61 & \"-\" & D61","v":"Tyrus Thomas-12.89"},{"$f":"per_game!I61","v":0.34},{"$f":"per_game!L61","v":0},{"$f":"per_game!O61","v":0.85},{"$f":"per_game!R61","v":3.1},{"$f":"per_game!S61","v":1},{"$f":"per_game!T61","v":0.5},{"$f":"per_game!U61","v":1.4},{"$f":"per_game!V61","v":0.9},{"$f":"per_game!X61","v":6.6}]
[null,null,{"$f":"Roster!C62","v":"C"},14.948999999999996,{"$f":"per_game!B62 & \"-\" & D62","v":"Brendan Haywood-14.949"},{"$f":"per_game!I62","v":0.54900000000000004},{"$f":"per_game!L62","v":0},{"$f":"per_game!O62","v":0.5},{"$f":"per_game!R62","v":6.9},{"$f":"per_game!S62","v":0.7},{"$f":"per_game!T62","v":0.1},{"$f":"per_game!U62","v":1.1000000000000001},{"$f":"per_game!V62","v":1.4},{"$f":"per_game!X62","v":6.5}]
[null,null,{"$f":"Roster!C63","v":"G"},11.609000000000002,{"$f":"per_game!B63 & \"-\" & D63","v":"Bismack Biyombo-11.609"},{"$f":"per_game!I63","v":0.55300000000000005},{"$f":"per_game!L63","v":0},{"$f":"per_game!O63","v":0.55600000000000005},{"$f":"per_game!R63","v":5.0999999999999996},{"$f":"per_game!S63","v":0.1},{"$f":"per_game!T63","v":0.3},{"$f":"per_game!U63","v":1.6},{"$f":"per_game!V63","v":1},{"$f":"per_game!X63","v":4.4000000000000004}]
[null,null,{"$f":"Roster!C64","v":"F"},7.8119999999999994,{"$f":"per_game!B64 & \"-\" & D64","v":"Reggie Williams-7.812"},{"$f":"per_game!I64","v":0.46200000000000002},{"$f":"per_game!L64","v":0.35},{"$f":"per_game!O64","v":1},{"$f":"per_game!R64","v":1.2},{"$f":"per_game!S64","v":0.5},{"$f":"per_game!T64","v":0.7},{"$f":"per_game!U64","v":0},{"$f":"per_game!V64","v":0.5},{"$f":"per_game!X64","v":4.0999999999999996}]
[null,null,{"$f":"Roster!C65","v":"F"},5.0830000000000002,{"$f":"per_game!B65 & \"-\" & D65","v":"Hakim Warrick-5.083"},{"$f":"per_game!I65","v":0.13300000000000001},{"$f":"per_game!L65","v":0},{"$f":"per_game!O65","v":0.75},{"$f":"per_game!R65","v":1.8},{"$f":"per_game!S65","v":0.2},{"$f":"per_game!T65","v":0.2},{"$f":"per_game!U65","v":0.3},{"$f":"per_game!V65","v":0.5},{"$f":"per_game!X65","v":2.2000000000000002}]
[null,null,{"$f":"Roster!C66","v":"G"},3.4809999999999994,{"$f":"per_game!B66 & \"-\" & D66","v":"Cory Higgins-3.481"},{"$f":"per_game!I66","v":0.23100000000000001},{"$f":"per_game!L66","v":0.25},{"$f":"per_game!O66","v":0},{"$f":"per_game!R66","v":0.4},{"$f":"per_game!S66","v":0.8},{"$f":"per_game!T66","v":0.4},{"$f":"per_game!U66","v":0},{"$f":"per_game!V66","v":0},{"$f":"per_game!X66","v":1.4}]
[null,null,{"$f":"Roster!C67","v":"F"},2.8999999999999995,{"$f":"per_game!B67 & \"-\" & D67","v":"DeSagana Diop-2.9"},{"$f":"per_game!I67","v":0},{"$f":"per_game!L67","v":0},{"$f":"per_game!O67","v":0},{"$f":"per_game!R67","v":1.9},{"$f":"per_game!S67","v":0.3},{"$f":"per_game!T67","v":0.3},{"$f":"per_game!U67","v":0.5},{"$f":"per_game!V67","v":0.1},{"$f":"per_game!X67","v":0}]
[null,null,{"$f":"Roster!C68","v":"F"},{"$f":"$B$1*N68+$B$2*I68+$B$3*J68+$B$4*L68+$B$5*K68+$B$6*F68+$B$7*H68+$B$8*G68+$B$9*M68","v":1},{"$f":"per_game!B68 & \"-\" & D68","v":"Matt Carroll-1"},{"$f":"per_game!I68","v":0},{"$f":"per_game!L68","v":0},{"$f":"per_game!O68","v":0},{"$f":"per_game!R68","v":0},{"$f":"per_game!S68","v":1},{"$f":"per_game!T68","v":0},{"$f":"per_game!U68","v":0},{"$f":"per_game!V68","v":0},{"$f":"per_game!X68","v":0}]
[null,null,{"$f":"Roster!C69","v":0},0,null,{"$f":"per_game!I69","v":0},{"$f":"per_game!L69","v":0},{"$f":"per_game!O69","v":0},{"$f":"per_game!R69","v":0},{"$f":"per_game!S69","v":0},{"$f":"per_game!T69","v":0},{"$f":"per_game!U69","v":0},{"$f":"per_game!V69","v":0},{"$f":"per_game!X69","v":0}]
[null,null,{"$f":"Roster!C70","v":0},0,null,{"$f":"per_game!I70","v":0},{"$f":"per_game!L70","v":0},{"$f":"per_game!O70","v":0},{"$f":"per_game!R70","v":0},{"$f":"per_game!S70","v":0},{"$f":"per_game!T70","v":0},{"$f":"per_game!U70","v":0},{"$f":"per_game!V70","v":0},{"$f":"per_game!X70","v":0}]
[null,null,{"$f":"Roster!C71","v":"Pos"},null,null,{"$f":"per_game!I71","v":"FG%"},{"$f":"per_game!L71","v":"3P%"},{"$f":"per_game!O71","v":"FT%"},{"$f":"per_game!R71","v":"TRB"},{"$f":"per_game!S71","v":"AST"},{"$f":"per_game!T71","v":"STL"},{"$f":"per_game!U71","v":"BLK"},{"$f":"per_game!V71","v":"TOV"},{"$f":"per_game!X71","v":"PTS"}]
[null,null,{"$f":"Roster!C72","v":"G"},28.376999999999995,{"$f":"per_game!B72 & \"-\" & D72","v":"Luol Deng-28.377"},{"$f":"per_game!I72","v":0.46200000000000002},{"$f":"per_game!L72","v":0.29799999999999999},{"$f":"per_game!O72","v":0.81699999999999995},{"$f":"per_game!R72","v":7.4},{"$f":"per_game!S72","v":2.7},{"$f":"per_game!T72","v":0.9},{"$f":"per_game!U72","v":0.3},{"$f":"per_game!V72","v":2.6},{"$f":"per_game!X72","v":18.100000000000001}]
[null,null,{"$f":"Roster!C73","v":"F-C"},18.96,{"$f":"per_game!B73 & \"-\" & D73","v":"Richard Hamilton-18.96"},{"$f":"per_game!I73","v":0.45500000000000002},{"$f":"per_game!L73","v":0.375},{"$f":"per_game!O73","v":0.93},{"$f":"per_game!R73","v":2.2999999999999998},{"$f":"per_game!S73","v":2.2999999999999998},{"$f":"per_game!T73","v":0.8},{"$f":"per_game!U73","v":0.1},{"$f":"per_game!V73","v":2.2000000000000002},{"$f":"per_game!X73","v":13.9}]
[null,null,{"$f":"Roster!C74","v":"F"},25.560999999999996,{"$f":"per_game!B74 & \"-\" & D74","v":"Carlos Boozer-25.561"},{"$f":"per_game!I74","v":0.45400000000000001},{"$f":"per_game!L74","v":0},{"$f":"per_game!O74","v":0.70699999999999996},{"$f":"per_game!R74","v":9.6999999999999993},{"$f":"per_game!S74","v":1.9},{"$f":"per_game!T74","v":0.7},{"$f":"per_game!U74","v":0.4},{"$f":"per_game!V74","v":2},{"$f":"per_game!X74","v":13.7}]
[null,null,{"$f":"Roster!C75","v":"F"},29.85,{"$f":"per_game!B75 & \"-\" & D75","v":"Joakim Noah-29.85"},{"$f":"per_game!I75","v":0.47199999999999998},{"$f":"per_game!L75","v":0},{"$f":"per_game!O75","v":0.77800000000000002},{"$f":"per_game!R75","v":9.9},{"$f":"per_game!S75","v":4.3},{"$f":"per_game!T75","v":1.4},{"$f":"per_game!U75","v":2.2000000000000002},{"$f":"per_game!V75","v":2.5},{"$f":"per_game!X75","v":13.3}]
[null,null,{"$f":"Roster!C76","v":"F"},17.747,{"$f":"per_game!B76 & \"-\" & D76","v":"Nate Robinson-17.747"},{"$f":"per_game!I76","v":0.46800000000000003},{"$f":"per_game!L76","v":0.36399999999999999},{"$f":"per_game!O76","v":0.81499999999999995},{"$f":"per_game!R76","v":2.1},{"$f":"per_game!S76","v":3.6},{"$f":"per_game!T76","v":0.9},{"$f":"per_game!U76","v":0},{"$f":"per_game!V76","v":1.7},{"$f":"per_game!X76","v":11.2}]
[null,null,{"$f":"Roster!C77","v":"G-F"},14.721000000000002,{"$f":"per_game!B77 & \"-\" & D77","v":"Taj Gibson-14.721"},{"$f":"per_game!I77","v":0.44},{"$f":"per_game!L77","v":0},{"$f":"per_game!O77","v":0.78100000000000003},{"$f":"per_game!R77","v":4.9000000000000004},{"$f":"per_game!S77","v":0.9},{"$f":"per_game!T77","v":0.6},{"$f":"per_game!U77","v":1.3},{"$f":"per_game!V77","v":1.2},{"$f":"per_game!X77","v":7}]
[null,null,{"$f":"Roster!C78","v":"G"},14.837,{"$f":"per_game!B78 & \"-\" & D78","v":"Kirk Hinrich-14.837"},{"$f":"per_game!I78","v":0.32200000000000001},{"$f":"per_game!L78","v":0.28999999999999998},{"$f":"per_game!O78","v":0.625},{"$f":"per_game!R78","v":2.6},{"$f":"per_game!S78","v":5.6},{"$f":"per_game!T78","v":0.9},{"$f":"per_game!U78","v":0.3},{"$f":"per_game!V78","v":2},{"$f":"per_game!X78","v":6.2}]
[null,null,{"$f":"Roster!C79","v":"C"},10.510999999999999,{"$f":"per_game!B79 & \"-\" & D79","v":"Jimmy Butler-10.511"},{"$f":"per_game!I79","v":0.52900000000000003},{"$f":"per_game!L79","v":0.14299999999999999},{"$f":"per_game!O79","v":0.83899999999999997},{"$f":"per_game!R79","v":2.5},{"$f":"per_game!S79","v":0.7},{"$f":"per_game!T79","v":0.5},{"$f":"per_game!U79","v":0.2},{"$f":"per_game!V79","v":0.3},{"$f":"per_game!X79","v":5.4}]
[null,null,{"$f":"Roster!C80","v":"C"},8.2700000000000014,{"$f":"per_game!B80 & \"-\" & D80","v":"Marco Belinelli-8.27"},{"$f":"per_game!I80","v":0.36799999999999999},{"$f":"per_game!L80","v":0.40699999999999997},{"$f":"per_game!O80","v":0.89500000000000002},{"$f":"per_game!R80","v":0.9},{"$f":"per_game!S80","v":0.7},{"$f":"per_game!T80","v":0.4},{"$f":"per_game!U80","v":0.1},{"$f":"per_game!V80","v":0.5},{"$f":"per_game!X80","v":5}]
[null,null,{"$f":"Roster!C81","v":"F"},2.3419999999999996,{"$f":"per_game!B81 & \"-\" & D81","v":"Vladimir Radmanovic-2.342"},{"$f":"per_game!I81","v":0.375},{"$f":"per_game!L81","v":0.16700000000000001},{"$f":"per_game!O81","v":0},{"$f":"per_game!R81","v":0.4},{"$f":"per_game!S81","v":0.2},{"$f":"per_game!T81","v":0},{"$f":"per_game!U81","v":0},{"$f":"per_game!V81","v":0.2},{"$f":"per_game!X81","v":1.4}]
[null,null,{"$f":"Roster!C82","v":"G"},3.8,{"$f":"per_game!B82 & \"-\" & D82","v":"Marquis Teague-3.8"},{"$f":"per_game!I82","v":0.25},{"$f":"per_game!L82","v":0},{"$f":"per_game!O82","v":0.75},{"$f":"per_game!R82","v":0.7},{"$f":"per_game!S82","v":1.2},{"$f":"per_game!T82","v":0},{"$f":"per_game!U82","v":0},{"$f":"per_game!V82","v":0.3},{"$f":"per_game!X82","v":1.2}]
[null,null,{"$f":"Roster!C83","v":"G"},4.0179999999999998,{"$f":"per_game!B83 & \"-\" & D83","v":"Nazr Mohammed-4.018"},{"$f":"per_game!I83","v":0.11799999999999999},{"$f":"per_game!L83","v":0},{"$f":"per_game!O83","v":0.5},{"$f":"per_game!R83","v":1.9},{"$f":"per_game!S83","v":0.3},{"$f":"per_game!T83","v":0.2},{"$f":"per_game!U83","v":0.5},{"$f":"per_game!V83","v":0.2},{"$f":"per_game!X83","v":0.7}]
[null,null,{"$f":"Roster!C84","v":0},0,null,{"$f":"per_game!I84","v":0},{"$f":"per_game!L84","v":0},{"$f":"per_game!O84","v":0},{"$f":"per_game!R84","v":0},{"$f":"per_game!S84","v":0},{"$f":"per_game!T84","v":0},{"$f":"per_game!U84","v":0},{"$f":"per_game!V84","v":0},{"$f":"per_game!X84","v":0}]
[null,null,{"$f":"Roster!C85","v":0},0,null,{"$f":"per_game!I85","v":0},{"$f":"per_game!L85","v":0},{"$f":"per_game!O85","v":0},{"$f":"per_game!R85","v":0},{"$f":"per_game!S85","v":0},{"$f":"per_game!T85","v":0},{"$f":"per_game!U85","v":0},{"$f":"per_game!V85","v":0},{"$f":"per_game!X85","v":0}]
[null,null,{"$f":"Roster!C86","v":"Pos"},null,null,{"$f":"per_game!I86","v":"FG%"},{"$f":"per_game!L86","v":"3P%"},{"$f":"per_game!O86","v":"FT%"},{"$f":"per_game!R86","v":"TRB"},{"$f":"per_game!S86","v":"AST"},{"$f":"per_game!T86","v":"STL"},{"$f":"per_game!U86","v":"BLK"},{"$f":"per_game!V86","v":"TOV"},{"$f":"per_game!X86","v":"PTS"}]
[null,null,{"$f":"Roster!C87","v":"F"},31.178999999999995,{"$f":"per_game!B87 & \"-\" & D87","v":"Kyrie Irving-31.179"},{"$f":"per_game!I87","v":0.46300000000000002},{"$f":"per_game!L87","v":0.39100000000000001},{"$f":"per_game!O87","v":0.82499999999999996},{"$f":"per_game!R87","v":3.7},{"$f":"per_game!S87","v":5.6},{"$f":"per_game!T87","v":1.1000000000000001},{"$f":"per_game!U87","v":0.3},{"$f":"per_game!V87","v":4.0999999999999996},{"$f":"per_game!X87","v":22.9}]
[null,null,{"$f":"Roster!C88","v":"G"},21.898,{"$f":"per_game!B88 & \"-\" & D88","v":"Dion Waiters-21.898"},{"$f":"per_game!I88","v":0.36299999999999999},{"$f":"per_game!L88","v":0.35499999999999998},{"$f":"per_game!O88","v":0.78},{"$f":"per_game!R88","v":2.2999999999999998},{"$f":"per_game!S88","v":3.4},{"$f":"per_game!T88","v":1.2},{"$f":"per_game!U88","v":0.2},{"$f":"per_game!V88","v":1.9},{"$f":"per_game!X88","v":15.2}]
[null,null,{"$f":"Roster!C89","v":"G"},35.200000000000003,{"$f":"per_game!B89 & \"-\" & D89","v":"Anderson Varejao-35.2"},{"$f":"per_game!I89","v":0.52200000000000002},{"$f":"per_game!L89","v":0},{"$f":"per_game!O89","v":0.77800000000000002},{"$f":"per_game!R89","v":15.4},{"$f":"per_game!S89","v":3.2},{"$f":"per_game!T89","v":1.5},{"$f":"per_game!U89","v":0.4},{"$f":"per_game!V89","v":1.8},{"$f":"per_game!X89","v":15.2}]
[null,null,{"$f":"Roster!C90","v":"G"},19.140999999999998,{"$f":"per_game!B90 & \"-\" & D90","v":"Alonzo Gee-19.141"},{"$f":"per_game!I90","v":0.39800000000000002},{"$f":"per_game!L90","v":0.29799999999999999},{"$f":"per_game!O90","v":0.84499999999999997},{"$f":"per_game!R90","v":3.7},{"$f":"per_game!S90","v":2.1},{"$f":"per_game!T90","v":1.7},{"$f":"per_game!U90","v":0.4},{"$f":"per_game!V90","v":2.4},{"$f":"per_game!X90","v":12.1}]
[null,null,{"$f":"Roster!C91","v":"F"},17.328999999999997,{"$f":"per_game!B91 & \"-\" & D91","v":"Jeremy Pargo-17.329"},{"$f":"per_game!I91","v":0.42099999999999999},{"$f":"per_game!L91","v":0.4},{"$f":"per_game!O91","v":0.70799999999999996},{"$f":"per_game!R91","v":1.9},{"$f":"per_game!S91","v":3.8},{"$f":"per_game!T91","v":0.8},{"$f":"per_game!U91","v":0},{"$f":"per_game!V91","v":2.4},{"$f":"per_game!X91","v":11.7}]
[null,null,{"$f":"Roster!C92","v":"G"},19.233000000000004,{"$f":"per_game!B92 & \"-\" & D92","v":"Tristan Thompson-19.233"},{"$f":"per_game!I92","v":0.44500000000000001},{"$f":"per_game!L92","v":0},{"$f":"per_game!O92","v":0.58799999999999997},{"$f":"per_game!R92","v":8.1},{"$f":"per_game!S92","v":1.2},{"$f":"per_game!T92","v":0.8},{"$f":"per_game!U92","v":0.6},{"$f":"per_game!V92","v":1.4},{"$f":"per_game!X92","v":8.9}]
[null,null,{"$f":"Roster!C93","v":"G"},14.258999999999999,{"$f":"per_game!B93 & \"-\" & D93","v":"Daniel Gibson-14.259"},{"$f":"per_game!I93","v":0.38900000000000001},{"$f":"per_game!L93","v":0.39200000000000002},{"$f":"per_game!O93","v":0.77800000000000002},{"$f":"per_game!R93","v":1.7},{"$f":"per_game!S93","v":2.1},{"$f":"per_game!T93","v":1},{"$f":"per_game!U93","v":0.1},{"$f":"per_game!V93","v":0.7},{"$f":"per_game!X93","v":8.5}]
[null,null,{"$f":"Roster!C94","v":"F"},13.094999999999999,{"$f":"per_game!B94 & \"-\" & D94","v":"Tyler Zeller-13.095"},{"$f":"per_game!I94","v":0.44700000000000001},{"$f":"per_game!L94","v":0},{"$f":"per_game!O94","v":0.54800000000000004},{"$f":"per_game!R94","v":4.8},{"$f":"per_game!S94","v":0.9},{"$f":"per_game!T94","v":0.4},{"$f":"per_game!U94","v":0.6},{"$f":"per_game!V94","v":1.2},{"$f":"per_game!X94","v":6.6}]
[null,null,{"$f":"Roster!C95","v":"G"},11.078000000000001,{"$f":"per_game!B95 & \"-\" & D95","v":"Omri Casspi-11.078"},{"$f":"per_game!I95","v":0.44600000000000001},{"$f":"per_game!L95","v":0.5},{"$f":"per_game!O95","v":0.63200000000000001},{"$f":"per_game!R95","v":2.5},{"$f":"per_game!S95","v":0.4},{"$f":"per_game!T95","v":0.6},{"$f":"per_game!U95","v":0.4},{"$f":"per_game!V95","v":0.7},{"$f":"per_game!X95","v":6.3}]
[null,null,{"$f":"Roster!C96","v":"F"},9.359,{"$f":"per_game!B96 & \"-\" & D96","v":"C.J. Miles-9.359"},{"$f":"per_game!I96","v":0.30299999999999999},{"$f":"per_game!L96","v":0.25600000000000001},{"$f":"per_game!O96","v":1},{"$f":"per_game!R96","v":2.1},{"$f":"per_game!S96","v":0.7},{"$f":"per_game!T96","v":0.4},{"$f":"per_game!U96","v":0.1},{"$f":"per_game!V96","v":1.3},{"$f":"per_game!X96","v":5.8}]
[null,null,{"$f":"Roster!C97","v":"F-C"},7.3889999999999985,{"$f":"per_game!B97 & \"-\" & D97","v":"Donald Sloan-7.389"},{"$f":"per_game!I97","v":0.36599999999999999},{"$f":"per_game!L97","v":0.27300000000000002},{"$f":"per_game!O97","v":0.75},{"$f":"per_game!R97","v":1.1000000000000001},{"$f":"per_game!S97","v":2},{"$f":"per_game!T97","v":0.1},{"$f":"per_game!U97","v":0},{"$f":"per_game!V97","v":0.7},{"$f":"per_game!X97","v":3.5}]
[null,null,{"$f":"Roster!C98","v":"G"},6.36,{"$f":"per_game!B98 & \"-\" & D98","v":"Samardo Samuels-6.36"},{"$f":"per_game!I98","v":0.38900000000000001},{"$f":"per_game!L98","v":0},{"$f":"per_game!O98","v":0.57099999999999995},{"$f":"per_game!R98","v":1.7},{"$f":"per_game!S98","v":0.4},{"$f":"per_game!T98","v":0.2},{"$f":"per_game!U98","v":0.3},{"$f":"per_game!V98","v":0.5},{"$f":"per_game!X98","v":3.3}]
[null,null,{"$f":"Roster!C99","v":"F"},5.8660000000000005,{"$f":"per_game!B99 & \"-\" & D99","v":"Jon Leuer-5.866"},{"$f":"per_game!I99","v":0.33300000000000002},{"$f":"per_game!L99","v":0},{"$f":"per_game!O99","v":0.33300000000000002},{"$f":"per_game!R99","v":2},{"$f":"per_game!S99","v":0.6},{"$f":"per_game!T99","v":0.2},{"$f":"per_game!U99","v":0},{"$f":"per_game!V99","v":0.8},{"$f":"per_game!X99","v":3.2}]
[null,null,{"$f":"Roster!C100","v":"F-C"},1.343,{"$f":"per_game!B100 & \"-\" & D100","v":"Luke Walton-1.343"},{"$f":"per_game!I100","v":0.14299999999999999},{"$f":"per_game!L100","v":0},{"$f":"per_game!O100","v":0},{"$f":"per_game!R100","v":0.6},{"$f":"per_game!S100","v":0.4},{"$f":"per_game!T100","v":0.4},{"$f":"per_game!U100","v":0},{"$f":"per_game!V100","v":0.6},{"$f":"per_game!X100","v":0.4}]
[null,null,{"$f":"Roster!C101","v":0},0,null,{"$f":"per_game!I101","v":0},{"$f":"per_game!L101","v":0},{"$f":"per_game!O101","v":0},{"$f":"per_game!R101","v":0},{"$f":"per_game!S101","v":0},{"$f":"per_game!T101","v":0},{"$f":"per_game!U101","v":0},{"$f":"per_game!V101","v":0},{"$f":"per_game!X101","v":0}]
[null,null,{"$f":"Roster!C102","v":0},0,null,{"$f":"per_game!I102","v":0},{"$f":"per_game!L102","v":0},{"$f":"per_game!O102","v":0},{"$f":"per_game!R102","v":0},{"$f":"per_game!S102","v":0},{"$f":"per_game!T102","v":0},{"$f":"per_game!U102","v":0},{"$f":"per_game!V102","v":0},{"$f":"per_game!X102","v":0}]
[null,null,{"$f":"Roster!C103","v":"Pos"},null,null,{"$f":"per_game!I103","v":"FG%"},{"$f":"per_game!L103","v":"3P%"},{"$f":"per_game!O103","v":"FT%"},{"$f":"per_game!R103","v":"TRB"},{"$f":"per_game!S103","v":"AST"},{"$f":"per_game!T103","v":"STL"},{"$f":"per_game!U103","v":"BLK"},{"$f":"per_game!V103","v":"TOV"},{"$f":"per_game!X103","v":"PTS"}]
[null,null,{"$f":"Roster!C104","v":"G"},27.250999999999998,{"$f":"per_game!B104 & \"-\" & D104","v":"O.J. Mayo-27.251"},{"$f":"per_game!I104","v":0.47599999999999998},{"$f":"per_game!L104","v":0.52700000000000002},{"$f":"per_game!O104","v":0.84799999999999998},{"$f":"per_game!R104","v":3.5},{"$f":"per_game!S104","v":3.2},{"$f":"per_game!T104","v":0.7},{"$f":"per_game!U104","v":0.2},{"$f":"per_game!V104","v":2.4},{"$f":"per_game!X104","v":20.2}]
[null,null,{"$f":"Roster!C105","v":"F"},22.029,{"$f":"per_game!B105 & \"-\" & D105","v":"Chris Kaman-22.029"},{"$f":"per_game!I105","v":0.51800000000000002},{"$f":"per_game!L105","v":0},{"$f":"per_game!O105","v":0.81100000000000005},{"$f":"per_game!R105","v":6.9},{"$f":"per_game!S105","v":1},{"$f":"per_game!T105","v":0.2},{"$f":"per_game!U105","v":1.1000000000000001},{"$f":"per_game!V105","v":2.1},{"$f":"per_game!X105","v":13.6}]
[null,null,{"$f":"Roster!C106","v":"G-F"},19.699999999999996,{"$f":"per_game!B106 & \"-\" & D106","v":"Vince Carter-19.7"},{"$f":"per_game!I106","v":0.42599999999999999},{"$f":"per_game!L106","v":0.42399999999999999},{"$f":"per_game!O106","v":0.75},{"$f":"per_game!R106","v":3.1},{"$f":"per_game!S106","v":1.7},{"$f":"per_game!T106","v":0.8},{"$f":"per_game!U106","v":0.5},{"$f":"per_game!V106","v":1.1000000000000001},{"$f":"per_game!X106","v":13.1}]
[null,null,{"$f":"Roster!C107","v":"G"},21.756,{"$f":"per_game!B107 & \"-\" & D107","v":"Darren Collison-21.756"},{"$f":"per_game!I107","v":0.436},{"$f":"per_game!L107","v":0.33300000000000002},{"$f":"per_game!O107","v":0.88700000000000001},{"$f":"per_game!R107","v":2.2999999999999998},{"$f":"per_game!S107","v":6.4},{"$f":"per_game!T107","v":1.4},{"$f":"per_game!U107","v":0},{"$f":"per_game!V107","v":2.4},{"$f":"per_game!X107","v":12.4}]
[null,null,{"$f":"Roster!C108","v":"F"},20.351000000000003,{"$f":"per_game!B108 & \"-\" & D108","v":"Shawn Marion-20.351"},{"$f":"per_game!I108","v":0.48399999999999999},{"$f":"per_game!L108","v":0.38500000000000001},{"$f":"per_game!O108","v":0.88200000000000001},{"$f":"per_game!R108","v":7.4},{"$f":"per_game!S108","v":2.8},{"$f":"per_game!T108","v":0.8},{"$f":"per_game!U108","v":0.7},{"$f":"per_game!V108","v":2.2999999999999998},{"$f":"per_game!X108","v":9.1999999999999993}]
[null,null,{"$f":"Roster!C109","v":"G"},14.583000000000002,{"$f":"per_game!B109 & \"-\" & D109","v":"Brandan Wright-14.583"},{"$f":"per_game!I109","v":0.64700000000000002},{"$f":"per_game!L109","v":0},{"$f":"per_game!O109","v":0.63600000000000001},{"$f":"per_game!R109","v":3.3},{"$f":"per_game!S109","v":0.8},{"$f":"per_game!T109","v":0.5},{"$f":"per_game!U109","v":0.9},{"$f":"per_game!V109","v":0.7},{"$f":"per_game!X109","v":8.5}]
[null,null,{"$f":"Roster!C110","v":"C"},17.290000000000003,{"$f":"per_game!B110 & \"-\" & D110","v":"Elton Brand-17.29"},{"$f":"per_game!I110","v":0.39},{"$f":"per_game!L110","v":0},{"$f":"per_game!O110","v":0.8},{"$f":"per_game!R110","v":6.4},{"$f":"per_game!S110","v":1.6},{"$f":"per_game!T110","v":0.8},{"$f":"per_game!U110","v":1.4},{"$f":"per_game!V110","v":1},{"$f":"per_game!X110","v":6.9}]
[null,null,{"$f":"Roster!C111","v":"G"},12.520999999999999,{"$f":"per_game!B111 & \"-\" & D111","v":"Jae Crowder-12.521"},{"$f":"per_game!I111","v":0.42299999999999999},{"$f":"per_game!L111","v":0.32700000000000001},{"$f":"per_game!O111","v":0.47099999999999997},{"$f":"per_game!R111","v":2.7},{"$f":"per_game!S111","v":1.2},{"$f":"per_game!T111","v":1.1000000000000001},{"$f":"per_game!U111","v":0.3},{"$f":"per_game!V111","v":0.8},{"$f":"per_game!X111","v":6.8}]
[null,null,{"$f":"Roster!C112","v":"C"},10.784000000000001,{"$f":"per_game!B112 & \"-\" & D112","v":"Troy Murphy-10.784"},{"$f":"per_game!I112","v":0.36099999999999999},{"$f":"per_game!L112","v":0.314},{"$f":"per_game!O112","v":0.90900000000000003},{"$f":"per_game!R112","v":3.5},{"$f":"per_game!S112","v":0.5},{"$f":"per_game!T112","v":0.7},{"$f":"per_game!U112","v":0.4},{"$f":"per_game!V112","v":0.5},{"$f":"per_game!X112","v":4.5999999999999996}]
[null,null,{"$f":"Roster!C113","v":"G"},5.75,{"$f":"per_game!B113 & \"-\" & D113","v":"Eddy Curry-5.75"},{"$f":"per_game!I113","v":0.5},{"$f":"per_game!L113","v":0},{"$f":"per_game!O113","v":0.25},{"$f":"per_game!R113","v":2},{"$f":"per_game!S113","v":0},{"$f":"per_game!T113","v":0},{"$f":"per_game!U113","v":0},{"$f":"per_game!V113","v":1.5},{"$f":"per_game!X113","v":4.5}]
[null,null,{"$f":"Roster!C114","v":"G"},10.276999999999999,{"$f":"per_game!B114 & \"-\" & D114","v":"Rodrigue Beaubois-10.277"},{"$f":"per_game!I114","v":0.314},{"$f":"per_game!L114","v":0.26300000000000001},{"$f":"per_game!O114","v":0.8},{"$f":"per_game!R114","v":1.8},{"$f":"per_game!S114","v":2.7},{"$f":"per_game!T114","v":0.7},{"$f":"per_game!U114","v":0.1},{"$f":"per_game!V114","v":0.9},{"$f":"per_game!X114","v":4.5}]
[null,null,{"$f":"Roster!C115","v":"C"},9.782,{"$f":"per_game!B115 & \"-\" & D115","v":"Bernard James-9.782"},{"$f":"per_game!I115","v":0.5},{"$f":"per_game!L115","v":0},{"$f":"per_game!O115","v":0.68200000000000005},{"$f":"per_game!R115","v":3.8},{"$f":"per_game!S115","v":0},{"$f":"per_game!T115","v":0.2},{"$f":"per_game!U115","v":0.9},{"$f":"per_game!V115","v":0.5},{"$f":"per_game!X115","v":4.2}]
[null,null,{"$f":"Roster!C116","v":"F"},10.133000000000001,{"$f":"per_game!B116 & \"-\" & D116","v":"Dominique Jones-10.133"},{"$f":"per_game!I116","v":0.33300000000000002},{"$f":"per_game!L116","v":0},{"$f":"per_game!O116","v":0.5},{"$f":"per_game!R116","v":2.1},{"$f":"per_game!S116","v":3.6},{"$f":"per_game!T116","v":0.8},{"$f":"per_game!U116","v":0.1},{"$f":"per_game!V116","v":1.5},{"$f":"per_game!X116","v":4.2}]
[null,null,{"$f":"Roster!C117","v":"G"},6.0219999999999994,{"$f":"per_game!B117 & \"-\" & D117","v":"Dahntay Jones-6.022"},{"$f":"per_game!I117","v":0.316},{"$f":"per_game!L117","v":0.27300000000000002},{"$f":"per_game!O117","v":0.83299999999999996},{"$f":"per_game!R117","v":1.5},{"$f":"per_game!S117","v":0.4},{"$f":"per_game!T117","v":0.2},{"$f":"per_game!U117","v":0.1},{"$f":"per_game!V117","v":0.4},{"$f":"per_game!X117","v":2.8}]
[null,null,{"$f":"Roster!C118","v":"F"},6.125,{"$f":"per_game!B118 & \"-\" & D118","v":"Derek Fisher-6.125"},{"$f":"per_game!I118","v":0.125},{"$f":"per_game!L118","v":0},{"$f":"per_game!O118","v":0},{"$f":"per_game!R118","v":2},{"$f":"per_game!S118","v":3},{"$f":"per_game!T118","v":2},{"$f":"per_game!U118","v":0},{"$f":"per_game!V118","v":3},{"$f":"per_game!X118","v":2}]
[null,null,{"$f":"Roster!C119","v":"F"},3.2309999999999999,null,{"$f":"per_game!I119","v":0.36399999999999999},{"$f":"per_game!L119","v":0.66700000000000004},{"$f":"per_game!O119","v":0},{"$f":"per_game!R119","v":0.3},{"$f":"per_game!S119","v":0.2},{"$f":"per_game!T119","v":0.2},{"$f":"per_game!U119","v":0},{"$f":"per_game!V119","v":0.2},{"$f":"per_game!X119","v":1.7}]
[null,null,{"$f":"Roster!C120","v":0},0,null,{"$f":"per_game!I120","v":0},{"$f":"per_game!L120","v":0},{"$f":"per_game!O120","v":0},{"$f":"per_game!R120","v":0},{"$f":"per_game!S120","v":0},{"$f":"per_game!T120","v":0},{"$f":"per_game!U120","v":0},{"$f":"per_game!V120","v":0},{"$f":"per_game!X120","v":0}]
[null,null,{"$f":"Roster!C121","v":0},0,null,{"$f":"per_game!I121","v":0},{"$f":"per_game!L121","v":0},{"$f":"per_game!O121","v":0},{"$f":"per_game!R121","v":0},{"$f":"per_game!S121","v":0},{"$f":"per_game!T121","v":0},{"$f":"per_game!U121","v":0},{"$f":"per_game!V121","v":0},{"$f":"per_game!X121","v":0}]
[null,null,{"$f":"Roster!C122","v":"Pos"},null,{"$f":"per_game!B122 & \"-\" & D122","v":"Player-"},{"$f":"per_game!I122","v":"FG%"},{"$f":"per_game!L122","v":"3P%"},{"$f":"per_game!O122","v":"FT%"},{"$f":"per_game!R122","v":"TRB"},{"$f":"per_game!S122","v":"AST"},{"$f":"per_game!T122","v":"STL"},{"$f":"per_game!U122","v":"BLK"},{"$f":"per_game!V122","v":"TOV"},{"$f":"per_game!X122","v":"PTS"}]
[null,null,{"$f":"Roster!C123","v":"F"},25.062000000000001,{"$f":"per_game!B123 & \"-\" & D123","v":"Danilo Gallinari-25.062"},{"$f":"per_game!I123","v":0.38500000000000001},{"$f":"per_game!L123","v":0.28999999999999998},{"$f":"per_game!O123","v":0.78700000000000003},{"$f":"per_game!R123","v":6.1},{"$f":"per_game!S123","v":2.4},{"$f":"per_game!T123","v":0.6},{"$f":"per_game!U123","v":0.6},{"$f":"per_game!V123","v":1.6},{"$f":"per_game!X123","v":15.5}]
[null,null,{"$f":"Roster!C124","v":"F"},24.829000000000004,{"$f":"per_game!B124 & \"-\" & D124","v":"Andre Iguodala-24.829"},{"$f":"per_game!I124","v":0.45700000000000002},{"$f":"per_game!L124","v":0.38800000000000001},{"$f":"per_game!O124","v":0.68400000000000005},{"$f":"per_game!R124","v":5.5},{"$f":"per_game!S124","v":3.8},{"$f":"per_game!T124","v":1.1000000000000001},{"$f":"per_game!U124","v":0.7},{"$f":"per_game!V124","v":2.7},{"$f":"per_game!X124","v":14.9}]
[null,null,{"$f":"Roster!C125","v":"F"},23.276,{"$f":"per_game!B125 & \"-\" & D125","v":"Ty Lawson-23.276"},{"$f":"per_game!I125","v":0.40300000000000002},{"$f":"per_game!L125","v":0.28000000000000003},{"$f":"per_game!O125","v":0.59299999999999997},{"$f":"per_game!R125","v":2.7},{"$f":"per_game!S125","v":7.2},{"$f":"per_game!T125","v":1.9},{"$f":"per_game!U125","v":0.1},{"$f":"per_game!V125","v":3.3},{"$f":"per_game!X125","v":13.4}]
[null,null,{"$f":"Roster!C126","v":"G-F"},26.143000000000001,{"$f":"per_game!B126 & \"-\" & D126","v":"Kenneth Faried-26.143"},{"$f":"per_game!I126","v":0.56100000000000005},{"$f":"per_game!L126","v":0},{"$f":"per_game!O126","v":0.58199999999999996},{"$f":"per_game!R126","v":10.5},{"$f":"per_game!S126","v":0.7},{"$f":"per_game!T126","v":0.9},{"$f":"per_game!U126","v":1.1000000000000001},{"$f":"per_game!V126","v":1.4},{"$f":"per_game!X126","v":13.2}]
[null,null,{"$f":"Roster!C127","v":"F"},19.082000000000001,{"$f":"per_game!B127 & \"-\" & D127","v":"JaVale McGee-19.082"},{"$f":"per_game!I127","v":0.55500000000000005},{"$f":"per_game!L127","v":0},{"$f":"per_game!O127","v":0.627},{"$f":"per_game!R127","v":5.7},{"$f":"per_game!S127","v":0.6},{"$f":"per_game!T127","v":0.2},{"$f":"per_game!U127","v":1.8},{"$f":"per_game!V127","v":1.2},{"$f":"per_game!X127","v":10.8}]
[null,null,{"$f":"Roster!C128","v":"G-F"},16.382999999999999,{"$f":"per_game!B128 & \"-\" & D128","v":"Corey Brewer-16.383"},{"$f":"per_game!I128","v":0.41299999999999998},{"$f":"per_game!L128","v":0.38},{"$f":"per_game!O128","v":0.69},{"$f":"per_game!R128","v":3.1},{"$f":"per_game!S128","v":0.7},{"$f":"per_game!T128","v":1.4},{"$f":"per_game!U128","v":0.3},{"$f":"per_game!V128","v":1.1000000000000001},{"$f":"per_game!X128","v":10.5}]
[null,null,{"$f":"Roster!C129","v":"G-F"},16.491999999999997,{"$f":"per_game!B129 & \"-\" & D129","v":"Andre Miller-16.492"},{"$f":"per_game!I129","v":0.47099999999999997},{"$f":"per_game!L129","v":0.26700000000000002},{"$f":"per_game!O129","v":0.85399999999999998},{"$f":"per_game!R129","v":2.8},{"$f":"per_game!S129","v":5.0999999999999996},{"$f":"per_game!T129","v":0.8},{"$f":"per_game!U129","v":0.2},{"$f":"per_game!V129","v":2.4},{"$f":"per_game!X129","v":8.4}]
[null,null,{"$f":"Roster!C130","v":"C"},11.472000000000001,{"$f":"per_game!B130 & \"-\" & D130","v":"Jordan Hamilton-11.472"},{"$f":"per_game!I130","v":0.42899999999999999},{"$f":"per_game!L130","v":0.40699999999999997},{"$f":"per_game!O130","v":0.63600000000000001},{"$f":"per_game!R130","v":2.9},{"$f":"per_game!S130","v":0.8},{"$f":"per_game!T130","v":0.3},{"$f":"per_game!U130","v":0.2},{"$f":"per_game!V130","v":0.7},{"$f":"per_game!X130","v":6.5}]
[null,null,{"$f":"Roster!C131","v":"G"},11.563000000000001,{"$f":"per_game!B131 & \"-\" & D131","v":"Wilson Chandler-11.563"},{"$f":"per_game!I131","v":0.313},{"$f":"per_game!L131","v":0.25},{"$f":"per_game!O131","v":0.5},{"$f":"per_game!R131","v":5},{"$f":"per_game!S131","v":0},{"$f":"per_game!T131","v":0},{"$f":"per_game!U131","v":0.3},{"$f":"per_game!V131","v":1.3},{"$f":"per_game!X131","v":6.5}]
[null,null,{"$f":"Roster!C132","v":"C"},{"$f":"$B$1*N132+$B$2*I132+$B$3*J132+$B$4*L132+$B$5*K132+$B$6*F132+$B$7*H132+$B$8*G132+$B$9*M132","v":15.259},{"$f":"per_game!B132 & \"-\" & D132","v":"Kosta Koufos-15.259"},{"$f":"per_game!I132","v":0.52100000000000002},{"$f":"per_game!L132","v":0},{"$f":"per_game!O132","v":0.53800000000000003},{"$f":"per_game!R132","v":5.9},{"$f":"per_game!S132","v":0.5},{"$f":"per_game!T132","v":0.6},{"$f":"per_game!U132","v":1.6},{"$f":"per_game!V132","v":0.7},{"$f":"per_game!X132","v":6.3}]
[null,null,{"$f":"Roster!C133","v":"G"},4.9989999999999997,{"$f":"per_game!B133 & \"-\" & D133","v":"Evan Fournier-4.999"},{"$f":"per_game!I133","v":0.52600000000000002},{"$f":"per_game!L133","v":0.27300000000000002},{"$f":"per_game!O133","v":0.5},{"$f":"per_game!R133","v":0.4},{"$f":"per_game!S133","v":0.9},{"$f":"per_game!T133","v":0},{"$f":"per_game!U133","v":0},{"$f":"per_game!V133","v":1},{"$f":"per_game!X133","v":3.4}]
[null,null,{"$f":"Roster!C134","v":"C"},8.5,{"$f":"per_game!B134 & \"-\" & D134","v":"Timofey Mozgov-8.5"},{"$f":"per_game!I134","v":0.6},{"$f":"per_game!L134","v":0},{"$f":"per_game!O134","v":1},{"$f":"per_game!R134","v":3.3},{"$f":"per_game!S134","v":0.3},{"$f":"per_game!T134","v":0.3},{"$f":"per_game!U134","v":0.6},{"$f":"per_game!V134","v":0.7},{"$f":"per_game!X134","v":3.1}]
[null,null,{"$f":"Roster!C135","v":"F"},3.0330000000000004,null,{"$f":"per_game!I135","v":0.33300000000000002},{"$f":"per_game!L135","v":0},{"$f":"per_game!O135","v":0},{"$f":"per_game!R135","v":1},{"$f":"per_game!S135","v":1},{"$f":"per_game!T135","v":0},{"$f":"per_game!U135","v":0.3},{"$f":"per_game!V135","v":0.3},{"$f":"per_game!X135","v":0.7}]
[null,null,{"$f":"Roster!C136","v":0},0,null,{"$f":"per_game!I136","v":0},{"$f":"per_game!L136","v":0},{"$f":"per_game!O136","v":0},{"$f":"per_game!R136","v":0},{"$f":"per_game!S136","v":0},{"$f":"per_game!T136","v":0},{"$f":"per_game!U136","v":0},{"$f":"per_game!V136","v":0},{"$f":"per_game!X136","v":0}]
[null,null,{"$f":"Roster!C137","v":0},0,null,{"$f":"per_game!I137","v":0},{"$f":"per_game!L137","v":0},{"$f":"per_game!O137","v":0},{"$f":"per_game!R137","v":0},{"$f":"per_game!S137","v":0},{"$f":"per_game!T137","v":0},{"$f":"per_game!U137","v":0},{"$f":"per_game!V137","v":0},{"$f":"per_game!X137","v":0}]
[null,null,{"$f":"Roster!C138","v":"Pos"},null,{"$f":"per_game!B138 & \"-\" & D138","v":"Player-"},{"$f":"per_game!I138","v":"FG%"},{"$f":"per_game!L138","v":"3P%"},{"$f":"per_game!O138","v":"FT%"},{"$f":"per_game!R138","v":"TRB"},{"$f":"per_game!S138","v":"AST"},{"$f":"per_game!T138","v":"STL"},{"$f":"per_game!U138","v":"BLK"},{"$f":"per_game!V138","v":"TOV"},{"$f":"per_game!X138","v":"PTS"}]
[null,null,{"$f":"Roster!C139","v":"G"},29.461000000000002,{"$f":"per_game!B139 & \"-\" & D139","v":"Greg Monroe-29.461"},{"$f":"per_game!I139","v":0.46300000000000002},{"$f":"per_game!L139","v":0},{"$f":"per_game!O139","v":0.69799999999999995},{"$f":"per_game!R139","v":9.9},{"$f":"per_game!S139","v":3.5},{"$f":"per_game!T139","v":1.7},{"$f":"per_game!U139","v":0.8},{"$f":"per_game!V139","v":3.3},{"$f":"per_game!X139","v":15.7}]
[null,null,{"$f":"Roster!C140","v":"F"},21.221000000000007,{"$f":"per_game!B140 & \"-\" & D140","v":"Brandon Knight-21.221"},{"$f":"per_game!I140","v":0.42199999999999999},{"$f":"per_game!L140","v":0.40799999999999997},{"$f":"per_game!O140","v":0.79100000000000004},{"$f":"per_game!R140","v":3.6},{"$f":"per_game!S140","v":5.3},{"$f":"per_game!T140","v":0.5},{"$f":"per_game!U140","v":0.1},{"$f":"per_game!V140","v":3.4},{"$f":"per_game!X140","v":13.5}]
[null,null,{"$f":"Roster!C141","v":"C"},20.297999999999995,{"$f":"per_game!B141 & \"-\" & D141","v":"Tayshaun Prince-20.298"},{"$f":"per_game!I141","v":0.45900000000000002},{"$f":"per_game!L141","v":0.42899999999999999},{"$f":"per_game!O141","v":0.81},{"$f":"per_game!R141","v":4.2},{"$f":"per_game!S141","v":2.4},{"$f":"per_game!T141","v":0.5},{"$f":"per_game!U141","v":0.3},{"$f":"per_game!V141","v":1.1000000000000001},{"$f":"per_game!X141","v":12.3}]
[null,null,{"$f":"Roster!C142","v":"G"},16.728000000000002,{"$f":"per_game!B142 & \"-\" & D142","v":"Kyle Singler-16.728"},{"$f":"per_game!I142","v":0.504},{"$f":"per_game!L142","v":0.44900000000000001},{"$f":"per_game!O142","v":0.77500000000000002},{"$f":"per_game!R142","v":3.6},{"$f":"per_game!S142","v":1},{"$f":"per_game!T142","v":0.5},{"$f":"per_game!U142","v":0.6},{"$f":"per_game!V142","v":1},{"$f":"per_game!X142","v":10.3}]
[null,null,{"$f":"Roster!C143","v":"F"},16.944000000000003,{"$f":"per_game!B143 & \"-\" & D143","v":"Rodney Stuckey-16.944"},{"$f":"per_game!I143","v":0.34699999999999998},{"$f":"per_game!L143","v":0.2},{"$f":"per_game!O143","v":0.79700000000000004},{"$f":"per_game!R143","v":3},{"$f":"per_game!S143","v":3.7},{"$f":"per_game!T143","v":0.3},{"$f":"per_game!U143","v":0.3},{"$f":"per_game!V143","v":1.3},{"$f":"per_game!X143","v":9.6}]
[null,null,{"$f":"Roster!C144","v":"G"},17.900000000000002,{"$f":"per_game!B144 & \"-\" & D144","v":"Jason Maxiell-17.9"},{"$f":"per_game!I144","v":0.51100000000000001},{"$f":"per_game!L144","v":0},{"$f":"per_game!O144","v":0.68899999999999995},{"$f":"per_game!R144","v":6.5},{"$f":"per_game!S144","v":0.7},{"$f":"per_game!T144","v":0.4},{"$f":"per_game!U144","v":1.6},{"$f":"per_game!V144","v":1.4},{"$f":"per_game!X144","v":8.9}]
[null,null,{"$f":"Roster!C145","v":"F"},11.490000000000002,{"$f":"per_game!B145 & \"-\" & D145","v":"Charlie Villanueva-11.49"},{"$f":"per_game!I145","v":0.40400000000000003},{"$f":"per_game!L145","v":0.36399999999999999},{"$f":"per_game!O145","v":0.222},{"$f":"per_game!R145","v":2.6},{"$f":"per_game!S145","v":0.9},{"$f":"per_game!T145","v":0.4},{"$f":"per_game!U145","v":0.3},{"$f":"per_game!V145","v":0.4},{"$f":"per_game!X145","v":6.7}]
[null,null,{"$f":"Roster!C146","v":"F"},15.333000000000002,{"$f":"per_game!B146 & \"-\" & D146","v":"Andre Drummond-15.333"},{"$f":"per_game!I146","v":0.55100000000000005},{"$f":"per_game!L146","v":0.5},{"$f":"per_game!O146","v":0.38200000000000001},{"$f":"per_game!R146","v":6.2},{"$f":"per_game!S146","v":0.5},{"$f":"per_game!T146","v":0.8},{"$f":"per_game!U146","v":1.3},{"$f":"per_game!V146","v":0.8},{"$f":"per_game!X146","v":5.9}]
[null,null,{"$f":"Roster!C147","v":"F"},10.895999999999999,{"$f":"per_game!B147 & \"-\" & D147","v":"Jonas Jerebko-10.896"},{"$f":"per_game!I147","v":0.35899999999999999},{"$f":"per_game!L147","v":0.2},{"$f":"per_game!O147","v":0.73699999999999999},{"$f":"per_game!R147","v":2.9},{"$f":"per_game!S147","v":0.5},{"$f":"per_game!T147","v":0.9},{"$f":"per_game!U147","v":0.2},{"$f":"per_game!V147","v":0.7},{"$f":"per_game!X147","v":5.8}]
[null,null,{"$f":"Roster!C148","v":"F-C"},9.9789999999999992,{"$f":"per_game!B148 & \"-\" & D148","v":"Will Bynum-9.979"},{"$f":"per_game!I148","v":0.374},{"$f":"per_game!L148","v":0.2},{"$f":"per_game!O148","v":0.90500000000000003},{"$f":"per_game!R148","v":0.9},{"$f":"per_game!S148","v":2.5},{"$f":"per_game!T148","v":0.6},{"$f":"per_game!U148","v":0.1},{"$f":"per_game!V148","v":1.2},{"$f":"per_game!X148","v":5.6}]
[null,null,{"$f":"Roster!C149","v":"F"},8.6660000000000004,{"$f":"per_game!B149 & \"-\" & D149","v":"Corey Maggette-8.666"},{"$f":"per_game!I149","v":0.38300000000000001},{"$f":"per_game!L149","v":0.35699999999999998},{"$f":"per_game!O149","v":0.82599999999999996},{"$f":"per_game!R149","v":1},{"$f":"per_game!S149","v":1.4},{"$f":"per_game!T149","v":0.4},{"$f":"per_game!U149","v":0.1},{"$f":"per_game!V149","v":1.3},{"$f":"per_game!X149","v":5.5}]
[null,null,{"$f":"Roster!C150","v":"F"},6.3789999999999996,{"$f":"per_game!B150 & \"-\" & D150","v":"Kim English-6.379"},{"$f":"per_game!I150","v":0.379},{"$f":"per_game!L150","v":0.5},{"$f":"per_game!O150","v":1},{"$f":"per_game!R150","v":0.5},{"$f":"per_game!S150","v":0.7},{"$f":"per_game!T150","v":0.3},{"$f":"per_game!U150","v":0.2},{"$f":"per_game!V150","v":0.4},{"$f":"per_game!X150","v":3.2}]
[null,null,{"$f":"Roster!C151","v":"G"},4.8229999999999995,{"$f":"per_game!B151 & \"-\" & D151","v":"Austin Daye-4.823"},{"$f":"per_game!I151","v":0.55600000000000005},{"$f":"per_game!L151","v":0.66700000000000004},{"$f":"per_game!O151","v":0},{"$f":"per_game!R151","v":1},{"$f":"per_game!S151","v":0.4},{"$f":"per_game!T151","v":0},{"$f":"per_game!U151","v":0},{"$f":"per_game!V151","v":0.2},{"$f":"per_game!X151","v":2.4}]
[null,null,{"$f":"Roster!C152","v":"F"},3.7,null,{"$f":"per_game!I152","v":0.33300000000000002},{"$f":"per_game!L152","v":0},{"$f":"per_game!O152","v":0.66700000000000004},{"$f":"per_game!R152","v":0},{"$f":"per_game!S152","v":0.7},{"$f":"per_game!T152","v":0.7},{"$f":"per_game!U152","v":0},{"$f":"per_game!V152","v":0},{"$f":"per_game!X152","v":1.3}]
[null,null,{"$f":"Roster!C153","v":0},0,null,{"$f":"per_game!I153","v":0},{"$f":"per_game!L153","v":0},{"$f":"per_game!O153","v":0},{"$f":"per_game!R153","v":0},{"$f":"per_game!S153","v":0},{"$f":"per_game!T153","v":0},{"$f":"per_game!U153","v":0},{"$f":"per_game!V153","v":0},{"$f":"per_game!X153","v":0}]
[null,null,{"$f":"Roster!C154","v":0},0,null,{"$f":"per_game!I154","v":0},{"$f":"per_game!L154","v":0},{"$f":"per_game!O154","v":0},{"$f":"per_game!R154","v":0},{"$f":"per_game!S154","v":0},{"$f":"per_game!T154","v":0},{"$f":"per_game!U154","v":0},{"$f":"per_game!V154","v":0},{"$f":"per_game!X154","v":0}]
[null,null,{"$f":"Roster!C155","v":"Pos"},null,{"$f":"per_game!B155 & \"-\" & D155","v":"Player-"},{"$f":"per_game!I155","v":"FG%"},{"$f":"per_game!L155","v":"3P%"},{"$f":"per_game!O155","v":"FT%"},{"$f":"per_game!R155","v":"TRB"},{"$f":"per_game!S155","v":"AST"},{"$f":"per_game!T155","v":"STL"},{"$f":"per_game!U155","v":"BLK"},{"$f":"per_game!V155","v":"TOV"},{"$f":"per_game!X155","v":"PTS"}]
[null,null,{"$f":"Roster!C156","v":"F"},29.424999999999994,{"$f":"per_game!B156 & \"-\" & D156","v":"Stephen Curry-29.425"},{"$f":"per_game!I156","v":0.41799999999999998},{"$f":"per_game!L156","v":0.41299999999999998},{"$f":"per_game!O156","v":0.89400000000000002},{"$f":"per_game!R156","v":3.9},{"$f":"per_game!S156","v":6.4},{"$f":"per_game!T156","v":1.6},{"$f":"per_game!U156","v":0.1},{"$f":"per_game!V156","v":3.2},{"$f":"per_game!X156","v":18.899999999999999}]
[null,null,{"$f":"Roster!C157","v":"G"},31.958999999999996,{"$f":"per_game!B157 & \"-\" & D157","v":"David Lee-31.959"},{"$f":"per_game!I157","v":0.49},{"$f":"per_game!L157","v":0},{"$f":"per_game!O157","v":0.76900000000000002},{"$f":"per_game!R157","v":10.7},{"$f":"per_game!S157","v":3.8},{"$f":"per_game!T157","v":1.1000000000000001},{"$f":"per_game!U157","v":0.3},{"$f":"per_game!V157","v":2.6},{"$f":"per_game!X157","v":17.399999999999999}]
[null,null,{"$f":"Roster!C158","v":"C"},21.796999999999997,{"$f":"per_game!B158 & \"-\" & D158","v":"Klay Thompson-21.797"},{"$f":"per_game!I158","v":0.375},{"$f":"per_game!L158","v":0.32200000000000001},{"$f":"per_game!O158","v":0.8},{"$f":"per_game!R158","v":4.0999999999999996},{"$f":"per_game!S158","v":2.2000000000000002},{"$f":"per_game!T158","v":0.4},{"$f":"per_game!U158","v":0.4},{"$f":"per_game!V158","v":2.2000000000000002},{"$f":"per_game!X158","v":15.4}]
[null,null,{"$f":"Roster!C159","v":"C"},22.565000000000005,{"$f":"per_game!B159 & \"-\" & D159","v":"Carl Landry-22.565"},{"$f":"per_game!I159","v":0.56999999999999995},{"$f":"per_game!L159","v":0},{"$f":"per_game!O159","v":0.79500000000000004},{"$f":"per_game!R159","v":7.1},{"$f":"per_game!S159","v":1.1000000000000001},{"$f":"per_game!T159","v":0.3},{"$f":"per_game!U159","v":0.5},{"$f":"per_game!V159","v":1.8},{"$f":"per_game!X159","v":14}]
[null,null,{"$f":"Roster!C160","v":"G"},18.227,{"$f":"per_game!B160 & \"-\" & D160","v":"Jarrett Jack-18.227"},{"$f":"per_game!I160","v":0.48499999999999999},{"$f":"per_game!L160","v":0.375},{"$f":"per_game!O160","v":0.86699999999999999},{"$f":"per_game!R160","v":3},{"$f":"per_game!S160","v":4.5},{"$f":"per_game!T160","v":0.8},{"$f":"per_game!U160","v":0},{"$f":"per_game!V160","v":1.8},{"$f":"per_game!X160","v":10}]
[null,null,{"$f":"Roster!C161","v":"C"},16.872000000000003,{"$f":"per_game!B161 & \"-\" & D161","v":"Harrison Barnes-16.872"},{"$f":"per_game!I161","v":0.46},{"$f":"per_game!L161","v":0.35299999999999998},{"$f":"per_game!O161","v":0.65900000000000003},{"$f":"per_game!R161","v":4.8},{"$f":"per_game!S161","v":1.4},{"$f":"per_game!T161","v":0.6},{"$f":"per_game!U161","v":0.2},{"$f":"per_game!V161","v":1.4},{"$f":"per_game!X161","v":9.8000000000000007}]
[null,null,{"$f":"Roster!C162","v":"F"},8.3339999999999996,{"$f":"per_game!B162 & \"-\" & D162","v":"Brandon Rush-8.334"},{"$f":"per_game!I162","v":0.66700000000000004},{"$f":"per_game!L162","v":0},{"$f":"per_game!O162","v":0.66700000000000004},{"$f":"per_game!R162","v":0.5},{"$f":"per_game!S162","v":1},{"$f":"per_game!T162","v":0},{"$f":"per_game!U162","v":0},{"$f":"per_game!V162","v":1.5},{"$f":"per_game!X162","v":7}]
[null,null,{"$f":"Roster!C163","v":"G"},13.150000000000002,{"$f":"per_game!B163 & \"-\" & D163","v":"Andrew Bogut-13.15"},{"$f":"per_game!I163","v":0.55000000000000004},{"$f":"per_game!L163","v":0},{"$f":"per_game!O163","v":0.5},{"$f":"per_game!R163","v":3.8},{"$f":"per_game!S163","v":2},{"$f":"per_game!T163","v":0.3},{"$f":"per_game!U163","v":1},{"$f":"per_game!V163","v":1},{"$f":"per_game!X163","v":6}]
[null,null,{"$f":"Roster!C164","v":"F"},8.5499999999999989,{"$f":"per_game!B164 & \"-\" & D164","v":"Richard Jefferson-8.55"},{"$f":"per_game!I164","v":0.33300000000000002},{"$f":"per_game!L164","v":0.16700000000000001},{"$f":"per_game!O164","v":0.75},{"$f":"per_game!R164","v":1.4},{"$f":"per_game!S164","v":1.2},{"$f":"per_game!T164","v":0.5},{"$f":"per_game!U164","v":0.3},{"$f":"per_game!V164","v":0.3},{"$f":"per_game!X164","v":4.2}]
[null,null,{"$f":"Roster!C165","v":"G"},9.6599999999999984,{"$f":"per_game!B165 & \"-\" & D165","v":"Festus Ezeli-9.66"},{"$f":"per_game!I165","v":0.49},{"$f":"per_game!L165","v":0},{"$f":"per_game!O165","v":0.37},{"$f":"per_game!R165","v":4.5999999999999996},{"$f":"per_game!S165","v":0.2},{"$f":"per_game!T165","v":0.4},{"$f":"per_game!U165","v":1},{"$f":"per_game!V165","v":0.9},{"$f":"per_game!X165","v":3.5}]
[null,null,{"$f":"Roster!C166","v":"F"},6.6750000000000007,{"$f":"per_game!B166 & \"-\" & D166","v":"Draymond Green-6.675"},{"$f":"per_game!I166","v":0.32500000000000001},{"$f":"per_game!L166","v":0.25},{"$f":"per_game!O166","v":0.8},{"$f":"per_game!R166","v":2.6},{"$f":"per_game!S166","v":0.4},{"$f":"per_game!T166","v":0.5},{"$f":"per_game!U166","v":0.1},{"$f":"per_game!V166","v":0.5},{"$f":"per_game!X166","v":2.2000000000000002}]
[null,null,{"$f":"Roster!C167","v":"F"},3.4359999999999999,{"$f":"per_game!B167 & \"-\" & D167","v":"Charles Jenkins-3.436"},{"$f":"per_game!I167","v":0.61099999999999999},{"$f":"per_game!L167","v":0},{"$f":"per_game!O167","v":0.625},{"$f":"per_game!R167","v":0.4},{"$f":"per_game!S167","v":0.3},{"$f":"per_game!T167","v":0.1},{"$f":"per_game!U167","v":0},{"$f":"per_game!V167","v":0.5},{"$f":"per_game!X167","v":1.9}]
[null,null,{"$f":"Roster!C168","v":"F"},3.4,{"$f":"per_game!B168 & \"-\" & D168","v":"Jeremy Tyler-3.4"},{"$f":"per_game!I168","v":0.6},{"$f":"per_game!L168","v":0},{"$f":"per_game!O168","v":1},{"$f":"per_game!R168","v":0.2},{"$f":"per_game!S168","v":0},{"$f":"per_game!T168","v":0.2},{"$f":"per_game!U168","v":0},{"$f":"per_game!V168","v":0.2},{"$f":"per_game!X168","v":1.6}]
[null,null,{"$f":"Roster!C169","v":"G"},4.7080000000000011,{"$f":"per_game!B169 & \"-\" & D169","v":"Andris Biedrins-4.708"},{"$f":"per_game!I169","v":0.375},{"$f":"per_game!L169","v":0},{"$f":"per_game!O169","v":0.33300000000000002},{"$f":"per_game!R169","v":2.7},{"$f":"per_game!S169","v":0.4},{"$f":"per_game!T169","v":0.4},{"$f":"per_game!U169","v":0.5},{"$f":"per_game!V169","v":0.6},{"$f":"per_game!X169","v":0.6}]
[null,null,{"$f":"Roster!C170","v":"C"},1,null,{"$f":"per_game!I170","v":0},{"$f":"per_game!L170","v":0},{"$f":"per_game!O170","v":0},{"$f":"per_game!R170","v":0.3},{"$f":"per_game!S170","v":0.1},{"$f":"per_game!T170","v":0.3},{"$f":"per_game!U170","v":0.3},{"$f":"per_game!V170","v":0},{"$f":"per_game!X170","v":0}]
[null,null,{"$f":"Roster!C171","v":0},0,null,{"$f":"per_game!I171","v":0},{"$f":"per_game!L171","v":0},{"$f":"per_game!O171","v":0},{"$f":"per_game!R171","v":0},{"$f":"per_game!S171","v":0},{"$f":"per_game!T171","v":0},{"$f":"per_game!U171","v":0},{"$f":"per_game!V171","v":0},{"$f":"per_game!X171","v":0}]
[null,null,{"$f":"Roster!C172","v":0},0,null,{"$f":"per_game!I172","v":0},{"$f":"per_game!L172","v":0},{"$f":"per_game!O172","v":0},{"$f":"per_game!R172","v":0},{"$f":"per_game!S172","v":0},{"$f":"per_game!T172","v":0},{"$f":"per_game!U172","v":0},{"$f":"per_game!V172","v":0},{"$f":"per_game!X172","v":0}]
[null,null,{"$f":"Roster!C173","v":"Pos"},null,{"$f":"per_game!B173 & \"-\" & D173","v":"Player-"},{"$f":"per_game!I173","v":"FG%"},{"$f":"per_game!L173","v":"3P%"},{"$f":"per_game!O173","v":"FT%"},{"$f":"per_game!R173","v":"TRB"},{"$f":"per_game!S173","v":"AST"},{"$f":"per_game!T173","v":"STL"},{"$f":"per_game!U173","v":"BLK"},{"$f":"per_game!V173","v":"TOV"},{"$f":"per_game!X173","v":"PTS"}]
[null,null,{"$f":"Roster!C174","v":"C"},33.402000000000008,{"$f":"per_game!B174 & \"-\" & D174","v":"James Harden-33.402"},{"$f":"per_game!I174","v":0.42699999999999999},{"$f":"per_game!L174","v":0.34100000000000003},{"$f":"per_game!O174","v":0.83399999999999996},{"$f":"per_game!R174","v":4.0999999999999996},{"$f":"per_game!S174","v":5.4},{"$f":"per_game!T174","v":1.7},{"$f":"per_game!U174","v":0.6},{"$f":"per_game!V174","v":4.0999999999999996},{"$f":"per_game!X174","v":24.1}]
[null,null,{"$f":"Roster!C175","v":"C"},26.983999999999998,{"$f":"per_game!B175 & \"-\" & D175","v":"Chandler Parsons-26.984"},{"$f":"per_game!I175","v":0.48399999999999999},{"$f":"per_game!L175","v":0.42899999999999999},{"$f":"per_game!O175","v":0.77100000000000002},{"$f":"per_game!R175","v":6.7},{"$f":"per_game!S175","v":3.5},{"$f":"per_game!T175","v":1.1000000000000001},{"$f":"per_game!U175","v":0.2},{"$f":"per_game!V175","v":2.1},{"$f":"per_game!X175","v":15.9}]
[null,null,{"$f":"Roster!C176","v":"G"},22.559000000000001,{"$f":"per_game!B176 & \"-\" & D176","v":"Patrick Patterson-22.559"},{"$f":"per_game!I176","v":0.51100000000000001},{"$f":"per_game!L176","v":0.375},{"$f":"per_game!O176","v":0.77300000000000002},{"$f":"per_game!R176","v":5.3},{"$f":"per_game!S176","v":1},{"$f":"per_game!T176","v":0.6},{"$f":"per_game!U176","v":0.6},{"$f":"per_game!V176","v":1.2},{"$f":"per_game!X176","v":14.6}]
[null,null,{"$f":"Roster!C177","v":"G"},24.779,{"$f":"per_game!B177 & \"-\" & D177","v":"Omer Asik-24.779"},{"$f":"per_game!I177","v":0.496},{"$f":"per_game!L177","v":0},{"$f":"per_game!O177","v":0.58299999999999996},{"$f":"per_game!R177","v":12.3},{"$f":"per_game!S177","v":1.3},{"$f":"per_game!T177","v":0.8},{"$f":"per_game!U177","v":1.3},{"$f":"per_game!V177","v":3},{"$f":"per_game!X177","v":11}]
[null,null,{"$f":"Roster!C178","v":"G"},22.870999999999999,{"$f":"per_game!B178 & \"-\" & D178","v":"Jeremy Lin-22.871"},{"$f":"per_game!I178","v":0.39300000000000002},{"$f":"per_game!L178","v":0.26200000000000001},{"$f":"per_game!O178","v":0.81599999999999995},{"$f":"per_game!R178","v":4.4000000000000004},{"$f":"per_game!S178","v":6.6},{"$f":"per_game!T178","v":2},{"$f":"per_game!U178","v":0.4},{"$f":"per_game!V178","v":2.9},{"$f":"per_game!X178","v":10.9}]
[null,null,{"$f":"Roster!C179","v":"G"},15.437999999999999,{"$f":"per_game!B179 & \"-\" & D179","v":"Marcus Morris-15.438"},{"$f":"per_game!I179","v":0.45},{"$f":"per_game!L179","v":0.38800000000000001},{"$f":"per_game!O179","v":0.6},{"$f":"per_game!R179","v":4.2},{"$f":"per_game!S179","v":0.8},{"$f":"per_game!T179","v":0.5},{"$f":"per_game!U179","v":0.5},{"$f":"per_game!V179","v":0.7},{"$f":"per_game!X179","v":8.6999999999999993}]
[null,null,{"$f":"Roster!C180","v":"F"},16.165999999999997,{"$f":"per_game!B180 & \"-\" & D180","v":"Carlos Delfino-16.166"},{"$f":"per_game!I180","v":0.37},{"$f":"per_game!L180","v":0.34599999999999997},{"$f":"per_game!O180","v":0.75},{"$f":"per_game!R180","v":4},{"$f":"per_game!S180","v":2},{"$f":"per_game!T180","v":1},{"$f":"per_game!U180","v":0.1},{"$f":"per_game!V180","v":1.1000000000000001},{"$f":"per_game!X180","v":8.6999999999999993}]
[null,null,{"$f":"Roster!C181","v":"G"},11.779000000000002,{"$f":"per_game!B181 & \"-\" & D181","v":"Greg Smith-11.779"},{"$f":"per_game!I181","v":0.57899999999999996},{"$f":"per_game!L181","v":0},{"$f":"per_game!O181","v":0.8},{"$f":"per_game!R181","v":3.5},{"$f":"per_game!S181","v":0.7},{"$f":"per_game!T181","v":0.3},{"$f":"per_game!U181","v":0.4},{"$f":"per_game!V181","v":0.3},{"$f":"per_game!X181","v":5.8}]
[null,null,{"$f":"Roster!C182","v":"G"},9.6370000000000005,{"$f":"per_game!B182 & \"-\" & D182","v":"Toney Douglas-9.637"},{"$f":"per_game!I182","v":0.30399999999999999},{"$f":"per_game!L182","v":0.33300000000000002},{"$f":"per_game!O182","v":1},{"$f":"per_game!R182","v":1.2},{"$f":"per_game!S182","v":1.7},{"$f":"per_game!T182","v":0.9},{"$f":"per_game!U182","v":0},{"$f":"per_game!V182","v":1.5},{"$f":"per_game!X182","v":5.7}]
[null,null,{"$f":"Roster!C183","v":"F"},9.572000000000001,{"$f":"per_game!B183 & \"-\" & D183","v":"Daequan Cook-9.572"},{"$f":"per_game!I183","v":0.38100000000000001},{"$f":"per_game!L183","v":0.39100000000000001},{"$f":"per_game!O183","v":0.5},{"$f":"per_game!R183","v":1.6},{"$f":"per_game!S183","v":1},{"$f":"per_game!T183","v":0.5},{"$f":"per_game!U183","v":0.3},{"$f":"per_game!V183","v":0.4},{"$f":"per_game!X183","v":5.3}]
[null,null,{"$f":"Roster!C184","v":"F"},8.2329999999999988,{"$f":"per_game!B184 & \"-\" & D184","v":"Terrence Jones-8.233"},{"$f":"per_game!I184","v":0.33300000000000002},{"$f":"per_game!L184","v":0.2},{"$f":"per_game!O184","v":1},{"$f":"per_game!R184","v":2},{"$f":"per_game!S184","v":0.4},{"$f":"per_game!T184","v":0.4},{"$f":"per_game!U184","v":0.6},{"$f":"per_game!V184","v":0.3},{"$f":"per_game!X184","v":3.6}]
[null,null,{"$f":"Roster!C185","v":"F"},6.6909999999999989,{"$f":"per_game!B185 & \"-\" & D185","v":"Cole Aldrich-6.691"},{"$f":"per_game!I185","v":0.52400000000000002},{"$f":"per_game!L185","v":0},{"$f":"per_game!O185","v":0.66700000000000004},{"$f":"per_game!R185","v":2.1},{"$f":"per_game!S185","v":0.3},{"$f":"per_game!T185","v":0.1},{"$f":"per_game!U185","v":0.3},{"$f":"per_game!V185","v":0.3},{"$f":"per_game!X185","v":3}]
[null,null,{"$f":"Roster!C186","v":"F"},4,{"$f":"per_game!B186 & \"-\" & D186","v":"Scott Machado-4"},{"$f":"per_game!I186","v":0},{"$f":"per_game!L186","v":0},{"$f":"per_game!O186","v":1},{"$f":"per_game!R186","v":0},{"$f":"per_game!S186","v":1},{"$f":"per_game!T186","v":0},{"$f":"per_game!U186","v":0},{"$f":"per_game!V186","v":0},{"$f":"per_game!X186","v":2}]
[null,null,{"$f":"Roster!C187","v":"C"},2.2999999999999998,null,{"$f":"per_game!I187","v":0.5},{"$f":"per_game!L187","v":0},{"$f":"per_game!O187","v":0.5},{"$f":"per_game!R187","v":0.3},{"$f":"per_game!S187","v":0},{"$f":"per_game!T187","v":0},{"$f":"per_game!U187","v":0},{"$f":"per_game!V187","v":0},{"$f":"per_game!X187","v":1}]
[null,null,{"$f":"Roster!C188","v":0},0,null,{"$f":"per_game!I188","v":0},{"$f":"per_game!L188","v":0},{"$f":"per_game!O188","v":0},{"$f":"per_game!R188","v":0},{"$f":"per_game!S188","v":0},{"$f":"per_game!T188","v":0},{"$f":"per_game!U188","v":0},{"$f":"per_game!V188","v":0},{"$f":"per_game!X188","v":0}]
[null,null,{"$f":"Roster!C189","v":0},0,null,{"$f":"per_game!I189","v":0},{"$f":"per_game!L189","v":0},{"$f":"per_game!O189","v":0},{"$f":"per_game!R189","v":0},{"$f":"per_game!S189","v":0},{"$f":"per_game!T189","v":0},{"$f":"per_game!U189","v":0},{"$f":"per_game!V189","v":0},{"$f":"per_game!X189","v":0}]
[null,null,{"$f":"Roster!C190","v":"Pos"},null,{"$f":"per_game!B190 & \"-\" & D190","v":"Player-"},{"$f":"per_game!I190","v":"FG%"},{"$f":"per_game!L190","v":"3P%"},{"$f":"per_game!O190","v":"FT%"},{"$f":"per_game!R190","v":"TRB"},{"$f":"per_game!S190","v":"AST"},{"$f":"per_game!T190","v":"STL"},{"$f":"per_game!U190","v":"BLK"},{"$f":"per_game!V190","v":"TOV"},{"$f":"per_game!X190","v":"PTS"}]
[null,null,{"$f":"Roster!C191","v":"G"},29.849000000000004,{"$f":"per_game!B191 & \"-\" & D191","v":"David West-29.849"},{"$f":"per_game!I191","v":0.49199999999999999},{"$f":"per_game!L191","v":0},{"$f":"per_game!O191","v":0.75700000000000001},{"$f":"per_game!R191","v":8.3000000000000007},{"$f":"per_game!S191","v":2.5},{"$f":"per_game!T191","v":0.6},{"$f":"per_game!U191","v":1.2},{"$f":"per_game!V191","v":1.8},{"$f":"per_game!X191","v":17.8}]
[null,null,{"$f":"Roster!C192","v":"F"},25.290999999999993,{"$f":"per_game!B192 & \"-\" & D192","v":"George Hill-25.291"},{"$f":"per_game!I192","v":0.42399999999999999},{"$f":"per_game!L192","v":0.32500000000000001},{"$f":"per_game!O192","v":0.84199999999999997},{"$f":"per_game!R192","v":4.0999999999999996},{"$f":"per_game!S192","v":5.3},{"$f":"per_game!T192","v":0.9},{"$f":"per_game!U192","v":0.4},{"$f":"per_game!V192","v":1.8},{"$f":"per_game!X192","v":14.8}]
[null,null,{"$f":"Roster!C193","v":"F"},24.240000000000002,{"$f":"per_game!B193 & \"-\" & D193","v":"Paul George-24.24"},{"$f":"per_game!I193","v":0.38500000000000001},{"$f":"per_game!L193","v":0.36699999999999999},{"$f":"per_game!O193","v":0.78800000000000003},{"$f":"per_game!R193","v":6.5},{"$f":"per_game!S193","v":3.4},{"$f":"per_game!T193","v":1.2},{"$f":"per_game!U193","v":0.6},{"$f":"per_game!V193","v":2.5},{"$f":"per_game!X193","v":13.5}]
[null,null,{"$f":"Roster!C194","v":"G"},22.164999999999999,{"$f":"per_game!B194 & \"-\" & D194","v":"Roy Hibbert-22.165"},{"$f":"per_game!I194","v":0.39},{"$f":"per_game!L194","v":0},{"$f":"per_game!O194","v":0.57499999999999996},{"$f":"per_game!R194","v":8.1999999999999993},{"$f":"per_game!S194","v":1.4},{"$f":"per_game!T194","v":0.7},{"$f":"per_game!U194","v":3.1},{"$f":"per_game!V194","v":1.9},{"$f":"per_game!X194","v":9.6999999999999993}]
[null,null,{"$f":"Roster!C195","v":"F"},13.379,{"$f":"per_game!B195 & \"-\" & D195","v":"Gerald Green-13.379"},{"$f":"per_game!I195","v":0.375},{"$f":"per_game!L195","v":0.36499999999999999},{"$f":"per_game!O195","v":0.73899999999999999},{"$f":"per_game!R195","v":4.0999999999999996},{"$f":"per_game!S195","v":0.5},{"$f":"per_game!T195","v":0.2},{"$f":"per_game!U195","v":0.4},{"$f":"per_game!V195","v":1.1000000000000001},{"$f":"per_game!X195","v":7.8}]
[null,null,{"$f":"Roster!C196","v":"C"},{"$f":"$B$1*N196+$B$2*I196+$B$3*J196+$B$4*L196+$B$5*K196+$B$6*F196+$B$7*H196+$B$8*G196+$B$9*M196","v":13.440999999999999},{"$f":"per_game!B196 & \"-\" & D196","v":"Lance Stephenson-13.441"},{"$f":"per_game!I196","v":0.48099999999999998},{"$f":"per_game!L196","v":0.41},{"$f":"per_game!O196","v":0.75},{"$f":"per_game!R196","v":2.9},{"$f":"per_game!S196","v":2.5},{"$f":"per_game!T196","v":0.6},{"$f":"per_game!U196","v":0.1},{"$f":"per_game!V196","v":1.5},{"$f":"per_game!X196","v":7.2}]
[null,null,{"$f":"Roster!C197","v":"G"},12.303999999999998,{"$f":"per_game!B197 & \"-\" & D197","v":"Tyler Hansbrough-12.304"},{"$f":"per_game!I197","v":0.38400000000000001},{"$f":"per_game!L197","v":0},{"$f":"per_game!O197","v":0.72},{"$f":"per_game!R197","v":4.7},{"$f":"per_game!S197","v":0.2},{"$f":"per_game!T197","v":0.4},{"$f":"per_game!U197","v":0.2},{"$f":"per_game!V197","v":0.8},{"$f":"per_game!X197","v":6.5}]
[null,null,{"$f":"Roster!C198","v":"G"},9.9860000000000007,{"$f":"per_game!B198 & \"-\" & D198","v":"Sam Young-9.986"},{"$f":"per_game!I198","v":0.40500000000000003},{"$f":"per_game!L198","v":0.28100000000000003},{"$f":"per_game!O198","v":0.4},{"$f":"per_game!R198","v":3.5},{"$f":"per_game!S198","v":0.9},{"$f":"per_game!T198","v":0.5},{"$f":"per_game!U198","v":0.1},{"$f":"per_game!V198","v":1.1000000000000001},{"$f":"per_game!X198","v":5}]
[null,null,{"$f":"Roster!C199","v":"C"},9.7600000000000016,{"$f":"per_game!B199 & \"-\" & D199","v":"Ian Mahinmi-9.76"},{"$f":"per_game!I199","v":0.39300000000000002},{"$f":"per_game!L199","v":0},{"$f":"per_game!O199","v":0.66700000000000004},{"$f":"per_game!R199","v":3.6},{"$f":"per_game!S199","v":0.2},{"$f":"per_game!T199","v":0.3},{"$f":"per_game!U199","v":1.1000000000000001},{"$f":"per_game!V199","v":1.2},{"$f":"per_game!X199","v":4.7}]
[null,null,{"$f":"Roster!C200","v":"F"},7.6139999999999999,{"$f":"per_game!B200 & \"-\" & D200","v":"Jeff Pendergraph-7.614"},{"$f":"per_game!I200","v":0.71399999999999997},{"$f":"per_game!L200","v":0},{"$f":"per_game!O200","v":1},{"$f":"per_game!R200","v":2.2999999999999998},{"$f":"per_game!S200","v":0.3},{"$f":"per_game!T200","v":0},{"$f":"per_game!U200","v":0.3},{"$f":"per_game!V200","v":0.7},{"$f":"per_game!X200","v":3.7}]
[null,null,{"$f":"Roster!C201","v":"F"},8.1089999999999982,{"$f":"per_game!B201 & \"-\" & D201","v":"D.J. Augustin-8.109"},{"$f":"per_game!I201","v":0.27100000000000002},{"$f":"per_game!L201","v":0.23799999999999999},{"$f":"per_game!O201","v":0.8},{"$f":"per_game!R201","v":1.1000000000000001},{"$f":"per_game!S201","v":2.4},{"$f":"per_game!T201","v":0.6},{"$f":"per_game!U201","v":0.1},{"$f":"per_game!V201","v":0.9},{"$f":"per_game!X201","v":3.5}]
[null,null,{"$f":"Roster!C202","v":"G"},2.867,{"$f":"per_game!B202 & \"-\" & D202","v":"Ben Hansbrough-2.867"},{"$f":"per_game!I202","v":0.66700000000000004},{"$f":"per_game!L202","v":0},{"$f":"per_game!O202","v":0},{"$f":"per_game!R202","v":0.3},{"$f":"per_game!S202","v":1.3},{"$f":"per_game!T202","v":0.3},{"$f":"per_game!U202","v":0},{"$f":"per_game!V202","v":1},{"$f":"per_game!X202","v":1.3}]
[null,null,{"$f":"Roster!C203","v":"F"},4.3,{"$f":"per_game!B203 & \"-\" & D203","v":"Miles Plumlee-4.3"},{"$f":"per_game!I203","v":0.2},{"$f":"per_game!L203","v":0},{"$f":"per_game!O203","v":1},{"$f":"per_game!R203","v":1.3},{"$f":"per_game!S203","v":0.3},{"$f":"per_game!T203","v":0},{"$f":"per_game!U203","v":0.5},{"$f":"per_game!V203","v":0},{"$f":"per_game!X203","v":1}]
[null,null,{"$f":"Roster!C204","v":"F"},-0.5,null,{"$f":"per_game!I204","v":0},{"$f":"per_game!L204","v":0},{"$f":"per_game!O204","v":0},{"$f":"per_game!R204","v":0.5},{"$f":"per_game!S204","v":0},{"$f":"per_game!T204","v":0},{"$f":"per_game!U204","v":0},{"$f":"per_game!V204","v":1},{"$f":"per_game!X204","v":0}]
[null,null,{"$f":"Roster!C205","v":0},0,null,{"$f":"per_game!I205","v":0},{"$f":"per_game!L205","v":0},{"$f":"per_game!O205","v":0},{"$f":"per_game!R205","v":0},{"$f":"per_game!S205","v":0},{"$f":"per_game!T205","v":0},{"$f":"per_game!U205","v":0},{"$f":"per_game!V205","v":0},{"$f":"per_game!X205","v":0}]
[null,null,{"$f":"Roster!C206","v":0},0,null,{"$f":"per_game!I206","v":0},{"$f":"per_game!L206","v":0},{"$f":"per_game!O206","v":0},{"$f":"per_game!R206","v":0},{"$f":"per_game!S206","v":0},{"$f":"per_game!T206","v":0},{"$f":"per_game!U206","v":0},{"$f":"per_game!V206","v":0},{"$f":"per_game!X206","v":0}]
[null,null,{"$f":"Roster!C207","v":"Pos"},null,{"$f":"per_game!B207 & \"-\" & D207","v":"Player-"},{"$f":"per_game!I207","v":"FG%"},{"$f":"per_game!L207","v":"3P%"},{"$f":"per_game!O207","v":"FT%"},{"$f":"per_game!R207","v":"TRB"},{"$f":"per_game!S207","v":"AST"},{"$f":"per_game!T207","v":"STL"},{"$f":"per_game!U207","v":"BLK"},{"$f":"per_game!V207","v":"TOV"},{"$f":"per_game!X207","v":"PTS"}]
[null,null,{"$f":"Roster!C208","v":"F"},22.288000000000004,{"$f":"per_game!B208 & \"-\" & D208","v":"Jamal Crawford-22.288"},{"$f":"per_game!I208","v":0.44500000000000001},{"$f":"per_game!L208","v":0.39800000000000002},{"$f":"per_game!O208","v":0.94499999999999995},{"$f":"per_game!R208","v":1.8},{"$f":"per_game!S208","v":1.7},{"$f":"per_game!T208","v":1.1000000000000001},{"$f":"per_game!U208","v":0.1},{"$f":"per_game!V208","v":1.8},{"$f":"per_game!X208","v":17.600000000000001}]
[null,null,{"$f":"Roster!C209","v":"G"},29.837000000000003,{"$f":"per_game!B209 & \"-\" & D209","v":"Blake Griffin-29.837"},{"$f":"per_game!I209","v":0.51300000000000001},{"$f":"per_game!L209","v":0},{"$f":"per_game!O209","v":0.624},{"$f":"per_game!R209","v":8.9},{"$f":"per_game!S209","v":3.1},{"$f":"per_game!T209","v":1.2},{"$f":"per_game!U209","v":0.6},{"$f":"per_game!V209","v":2.6},{"$f":"per_game!X209","v":17.5}]
[null,null,{"$f":"Roster!C210","v":"G"},31.095000000000002,{"$f":"per_game!B210 & \"-\" & D210","v":"Chris Paul-31.095"},{"$f":"per_game!I210","v":0.48299999999999998},{"$f":"per_game!L210","v":0.32},{"$f":"per_game!O210","v":0.89200000000000002},{"$f":"per_game!R210","v":3.6},{"$f":"per_game!S210","v":9.3000000000000007},{"$f":"per_game!T210","v":2.6},{"$f":"per_game!U210","v":0},{"$f":"per_game!V210","v":2.2999999999999998},{"$f":"per_game!X210","v":16.2}]
[null,null,{"$f":"Roster!C211","v":"F"},19.542999999999999,{"$f":"per_game!B211 & \"-\" & D211","v":"DeAndre Jordan-19.543"},{"$f":"per_game!I211","v":0.59199999999999997},{"$f":"per_game!L211","v":0},{"$f":"per_game!O211","v":0.45100000000000001},{"$f":"per_game!R211","v":6.8},{"$f":"per_game!S211","v":0.3},{"$f":"per_game!T211","v":0.8},{"$f":"per_game!U211","v":2},{"$f":"per_game!V211","v":1.5},{"$f":"per_game!X211","v":10.1}]
[null,null,{"$f":"Roster!C212","v":"G"},17.044,{"$f":"per_game!B212 & \"-\" & D212","v":"Eric Bledsoe-17.044"},{"$f":"per_game!I212","v":0.496},{"$f":"per_game!L212","v":0.35299999999999998},{"$f":"per_game!O212","v":0.79500000000000004},{"$f":"per_game!R212","v":2.7},{"$f":"per_game!S212","v":2.6},{"$f":"per_game!T212","v":1.4},{"$f":"per_game!U212","v":0.6},{"$f":"per_game!V212","v":1.8},{"$f":"per_game!X212","v":9.9}]
[null,null,{"$f":"Roster!C213","v":"G"},14.558,{"$f":"per_game!B213 & \"-\" & D213","v":"Caron Butler-14.558"},{"$f":"per_game!I213","v":0.42},{"$f":"per_game!L213","v":0.438},{"$f":"per_game!O213","v":0.7},{"$f":"per_game!R213","v":2.4},{"$f":"per_game!S213","v":1},{"$f":"per_game!T213","v":0.5},{"$f":"per_game!U213","v":0.3},{"$f":"per_game!V213","v":0.9},{"$f":"per_game!X213","v":9.6999999999999993}]
[null,null,{"$f":"Roster!C214","v":"F"},17.043000000000003,{"$f":"per_game!B214 & \"-\" & D214","v":"Matt Barnes-17.043"},{"$f":"per_game!I214","v":0.442},{"$f":"per_game!L214","v":0.26},{"$f":"per_game!O214","v":0.74099999999999999},{"$f":"per_game!R214","v":5.3},{"$f":"per_game!S214","v":1.2},{"$f":"per_game!T214","v":1.3},{"$f":"per_game!U214","v":0.8},{"$f":"per_game!V214","v":1.3},{"$f":"per_game!X214","v":8.3000000000000007}]
[null,null,{"$f":"Roster!C215","v":"C"},11.586,{"$f":"per_game!B215 & \"-\" & D215","v":"Chauncey Billups-11.586"},{"$f":"per_game!I215","v":0.33300000000000002},{"$f":"per_game!L215","v":0.36399999999999999},{"$f":"per_game!O215","v":0.88900000000000001},{"$f":"per_game!R215","v":1},{"$f":"per_game!S215","v":2.2999999999999998},{"$f":"per_game!T215","v":0.7},{"$f":"per_game!U215","v":0},{"$f":"per_game!V215","v":1.3},{"$f":"per_game!X215","v":7.3}]
[null,null,{"$f":"Roster!C216","v":"C"},10.587000000000002,{"$f":"per_game!B216 & \"-\" & D216","v":"Willie Green-10.587"},{"$f":"per_game!I216","v":0.47899999999999998},{"$f":"per_game!L216","v":0.441},{"$f":"per_game!O216","v":0.66700000000000004},{"$f":"per_game!R216","v":1.4},{"$f":"per_game!S216","v":1.1000000000000001},{"$f":"per_game!T216","v":0.3},{"$f":"per_game!U216","v":0.4},{"$f":"per_game!V216","v":0.6},{"$f":"per_game!X216","v":6.4}]
[null,null,{"$f":"Roster!C217","v":"F"},6.977999999999998,{"$f":"per_game!B217 & \"-\" & D217","v":"Ryan Hollins-6.978"},{"$f":"per_game!I217","v":0.63600000000000001},{"$f":"per_game!L217","v":0},{"$f":"per_game!O217","v":0.84199999999999997},{"$f":"per_game!R217","v":2.4},{"$f":"per_game!S217","v":0.1},{"$f":"per_game!T217","v":0.3},{"$f":"per_game!U217","v":0.8},{"$f":"per_game!V217","v":0.9},{"$f":"per_game!X217","v":2.8}]
[null,null,{"$f":"Roster!C218","v":"G"},7.556,{"$f":"per_game!B218 & \"-\" & D218","v":"Lamar Odom-7.556"},{"$f":"per_game!I218","v":0.29799999999999999},{"$f":"per_game!L218","v":0.125},{"$f":"per_game!O218","v":0.33300000000000002},{"$f":"per_game!R218","v":3.3},{"$f":"per_game!S218","v":1},{"$f":"per_game!T218","v":0.6},{"$f":"per_game!U218","v":0.4},{"$f":"per_game!V218","v":0.7},{"$f":"per_game!X218","v":2.2000000000000002}]
[null,null,{"$f":"Roster!C219","v":"F"},6.4770000000000003,null,{"$f":"per_game!I219","v":0.72699999999999998},{"$f":"per_game!L219","v":0},{"$f":"per_game!O219","v":0.75},{"$f":"per_game!R219","v":2.1},{"$f":"per_game!S219","v":0.5},{"$f":"per_game!T219","v":0.5},{"$f":"per_game!U219","v":0.7},{"$f":"per_game!V219","v":0.3},{"$f":"per_game!X219","v":1.5}]
[null,null,{"$f":"Roster!C220","v":0},0,null,{"$f":"per_game!I220","v":0},{"$f":"per_game!L220","v":0},{"$f":"per_game!O220","v":0},{"$f":"per_game!R220","v":0},{"$f":"per_game!S220","v":0},{"$f":"per_game!T220","v":0},{"$f":"per_game!U220","v":0},{"$f":"per_game!V220","v":0},{"$f":"per_game!X220","v":0}]
[null,null,{"$f":"Roster!C221","v":0},0,null,{"$f":"per_game!I221","v":0},{"$f":"per_game!L221","v":0},{"$f":"per_game!O221","v":0},{"$f":"per_game!R221","v":0},{"$f":"per_game!S221","v":0},{"$f":"per_game!T221","v":0},{"$f":"per_game!U221","v":0},{"$f":"per_game!V221","v":0},{"$f":"per_game!X221","v":0}]
[null,null,{"$f":"Roster!C222","v":"Pos"},null,{"$f":"per_game!B222 & \"-\" & D222","v":"Player-"},{"$f":"per_game!I222","v":"FG%"},{"$f":"per_game!L222","v":"3P%"},{"$f":"per_game!O222","v":"FT%"},{"$f":"per_game!R222","v":"TRB"},{"$f":"per_game!S222","v":"AST"},{"$f":"per_game!T222","v":"STL"},{"$f":"per_game!U222","v":"BLK"},{"$f":"per_game!V222","v":"TOV"},{"$f":"per_game!X222","v":"PTS"}]
[null,null,{"$f":"Roster!C223","v":"G"},36.862000000000002,{"$f":"per_game!B223 & \"-\" & D223","v":"Kobe Bryant-36.862"},{"$f":"per_game!I223","v":0.48899999999999999},{"$f":"per_game!L223","v":0.39500000000000002},{"$f":"per_game!O223","v":0.878},{"$f":"per_game!R223","v":5.2},{"$f":"per_game!S223","v":5.0999999999999996},{"$f":"per_game!T223","v":1.5},{"$f":"per_game!U223","v":0},{"$f":"per_game!V223","v":4},{"$f":"per_game!X223","v":27.3}]
[null,null,{"$f":"Roster!C224","v":"G"},34.463999999999999,{"$f":"per_game!B224 & \"-\" & D224","v":"Dwight Howard-34.464"},{"$f":"per_game!I224","v":0.59899999999999998},{"$f":"per_game!L224","v":1},{"$f":"per_game!O224","v":0.46500000000000002},{"$f":"per_game!R224","v":11.3},{"$f":"per_game!S224","v":1.7},{"$f":"per_game!T224","v":1.2},{"$f":"per_game!U224","v":2.6},{"$f":"per_game!V224","v":3.1},{"$f":"per_game!X224","v":18.7}]
[null,null,{"$f":"Roster!C225","v":"F"},22.561000000000003,{"$f":"per_game!B225 & \"-\" & D225","v":"Metta World Peace-22.561"},{"$f":"per_game!I225","v":0.40899999999999997},{"$f":"per_game!L225","v":0.38100000000000001},{"$f":"per_game!O225","v":0.77100000000000002},{"$f":"per_game!R225","v":5.4},{"$f":"per_game!S225","v":2.2999999999999998},{"$f":"per_game!T225","v":1.6},{"$f":"per_game!U225","v":0.3},{"$f":"per_game!V225","v":1.8},{"$f":"per_game!X225","v":13.2}]
[null,null,{"$f":"Roster!C226","v":"G"},26.265000000000001,{"$f":"per_game!B226 & \"-\" & D226","v":"Pau Gasol-26.265"},{"$f":"per_game!I226","v":0.42},{"$f":"per_game!L226","v":0.28599999999999998},{"$f":"per_game!O226","v":0.75900000000000001},{"$f":"per_game!R226","v":8.8000000000000007},{"$f":"per_game!S226","v":3.5},{"$f":"per_game!T226","v":0.5},{"$f":"per_game!U226","v":1.2},{"$f":"per_game!V226","v":1.8},{"$f":"per_game!X226","v":12.6}]
[null,null,{"$f":"Roster!C227","v":"F"},14.167999999999999,{"$f":"per_game!B227 & \"-\" & D227","v":"Antawn Jamison-14.168"},{"$f":"per_game!I227","v":0.48},{"$f":"per_game!L227","v":0.30599999999999999},{"$f":"per_game!O227","v":0.68200000000000005},{"$f":"per_game!R227","v":4.5999999999999996},{"$f":"per_game!S227","v":0.6},{"$f":"per_game!T227","v":0.5},{"$f":"per_game!U227","v":0.4},{"$f":"per_game!V227","v":0.8},{"$f":"per_game!X227","v":7.4}]
[null,null,{"$f":"Roster!C228","v":"F-C"},10.716000000000001,{"$f":"per_game!B228 & \"-\" & D228","v":"Darius Morris-10.716"},{"$f":"per_game!I228","v":0.372},{"$f":"per_game!L228","v":0.379},{"$f":"per_game!O228","v":0.56499999999999995},{"$f":"per_game!R228","v":1.7},{"$f":"per_game!S228","v":2.5},{"$f":"per_game!T228","v":0.9},{"$f":"per_game!U228","v":0.1},{"$f":"per_game!V228","v":1.7},{"$f":"per_game!X228","v":5.9}]
[null,null,{"$f":"Roster!C229","v":"F"},11.166000000000002,{"$f":"per_game!B229 & \"-\" & D229","v":"Jordan Hill-11.166"},{"$f":"per_game!I229","v":0.45100000000000001},{"$f":"per_game!L229","v":0},{"$f":"per_game!O229","v":0.61499999999999999},{"$f":"per_game!R229","v":4.5999999999999996},{"$f":"per_game!S229","v":0.4},{"$f":"per_game!T229","v":0.3},{"$f":"per_game!U229","v":0.4},{"$f":"per_game!V229","v":1.1000000000000001},{"$f":"per_game!X229","v":5.5}]
[null,null,{"$f":"Roster!C230","v":"C-F"},8.8150000000000013,{"$f":"per_game!B230 & \"-\" & D230","v":"Jodie Meeks-8.815"},{"$f":"per_game!I230","v":0.40300000000000002},{"$f":"per_game!L230","v":0.41199999999999998},{"$f":"per_game!O230","v":1},{"$f":"per_game!R230","v":1.3},{"$f":"per_game!S230","v":0.9},{"$f":"per_game!T230","v":0.3},{"$f":"per_game!U230","v":0},{"$f":"per_game!V230","v":0.9},{"$f":"per_game!X230","v":5.4}]
[null,null,{"$f":"Roster!C231","v":"F"},12.653,{"$f":"per_game!B231 & \"-\" & D231","v":"Steve Blake-12.653"},{"$f":"per_game!I231","v":0.35299999999999998},{"$f":"per_game!L231","v":0.4},{"$f":"per_game!O231","v":1},{"$f":"per_game!R231","v":2.4},{"$f":"per_game!S231","v":3.4},{"$f":"per_game!T231","v":1.3},{"$f":"per_game!U231","v":0},{"$f":"per_game!V231","v":1.3},{"$f":"per_game!X231","v":5.0999999999999996}]
[null,null,{"$f":"Roster!C232","v":"G"},11.532999999999999,{"$f":"per_game!B232 & \"-\" & D232","v":"Steve Nash-11.533"},{"$f":"per_game!I232","v":0.33300000000000002},{"$f":"per_game!L232","v":0.2},{"$f":"per_game!O232","v":0},{"$f":"per_game!R232","v":3},{"$f":"per_game!S232","v":4},{"$f":"per_game!T232","v":0.5},{"$f":"per_game!U232","v":0.5},{"$f":"per_game!V232","v":1.5},{"$f":"per_game!X232","v":4.5}]
[null,null,{"$f":"Roster!C233","v":"G"},6.8689999999999998,{"$f":"per_game!B233 & \"-\" & D233","v":"Devin Ebanks-6.869"},{"$f":"per_game!I233","v":0.33300000000000002},{"$f":"per_game!L233","v":0.28599999999999998},{"$f":"per_game!O233","v":0.75},{"$f":"per_game!R233","v":2},{"$f":"per_game!S233","v":0.8},{"$f":"per_game!T233","v":0},{"$f":"per_game!U233","v":0.2},{"$f":"per_game!V233","v":0.7},{"$f":"per_game!X233","v":3.2}]
[null,null,{"$f":"Roster!C234","v":"G"},8.4330000000000016,{"$f":"per_game!B234 & \"-\" & D234","v":"Chris Duhon-8.433"},{"$f":"per_game!I234","v":0.42399999999999999},{"$f":"per_game!L234","v":0.40899999999999997},{"$f":"per_game!O234","v":0.5},{"$f":"per_game!R234","v":1.4},{"$f":"per_game!S234","v":2.8},{"$f":"per_game!T234","v":0.5},{"$f":"per_game!U234","v":0},{"$f":"per_game!V234","v":0.6},{"$f":"per_game!X234","v":3}]
[null,null,{"$f":"Roster!C235","v":"G"},2.4329999999999998,{"$f":"per_game!B235 & \"-\" & D235","v":"Earl Clark-2.433"},{"$f":"per_game!I235","v":0.33300000000000002},{"$f":"per_game!L235","v":0},{"$f":"per_game!O235","v":0.5},{"$f":"per_game!R235","v":0.5},{"$f":"per_game!S235","v":0},{"$f":"per_game!T235","v":0},{"$f":"per_game!U235","v":0.3},{"$f":"per_game!V235","v":0},{"$f":"per_game!X235","v":0.8}]
[null,null,{"$f":"Roster!C236","v":"C"},0.95,{"$f":"per_game!B236 & \"-\" & D236","v":"Robert Sacre-0.95"},{"$f":"per_game!I236","v":0.25},{"$f":"per_game!L236","v":0},{"$f":"per_game!O236","v":0},{"$f":"per_game!R236","v":0.3},{"$f":"per_game!S236","v":0.1},{"$f":"per_game!T236","v":0},{"$f":"per_game!U236","v":0.3},{"$f":"per_game!V236","v":0.3},{"$f":"per_game!X236","v":0.3}]
[null,null,{"$f":"Roster!C237","v":"F"},1.3,null,{"$f":"per_game!I237","v":0},{"$f":"per_game!L237","v":0},{"$f":"per_game!O237","v":0},{"$f":"per_game!R237","v":1},{"$f":"per_game!S237","v":0.3},{"$f":"per_game!T237","v":0},{"$f":"per_game!U237","v":0},{"$f":"per_game!V237","v":0},{"$f":"per_game!X237","v":0}]
[null,null,{"$f":"Roster!C238","v":0},0,null,{"$f":"per_game!I238","v":0},{"$f":"per_game!L238","v":0},{"$f":"per_game!O238","v":0},{"$f":"per_game!R238","v":0},{"$f":"per_game!S238","v":0},{"$f":"per_game!T238","v":0},{"$f":"per_game!U238","v":0},{"$f":"per_game!V238","v":0},{"$f":"per_game!X238","v":0}]
[null,null,{"$f":"Roster!C239","v":0},0,null,{"$f":"per_game!I239","v":0},{"$f":"per_game!L239","v":0},{"$f":"per_game!O239","v":0},{"$f":"per_game!R239","v":0},{"$f":"per_game!S239","v":0},{"$f":"per_game!T239","v":0},{"$f":"per_game!U239","v":0},{"$f":"per_game!V239","v":0},{"$f":"per_game!X239","v":0}]
[null,null,{"$f":"Roster!C240","v":"Pos"},null,{"$f":"per_game!B240 & \"-\" & D240","v":"Player-"},{"$f":"per_game!I240","v":"FG%"},{"$f":"per_game!L240","v":"3P%"},{"$f":"per_game!O240","v":"FT%"},{"$f":"per_game!R240","v":"TRB"},{"$f":"per_game!S240","v":"AST"},{"$f":"per_game!T240","v":"STL"},{"$f":"per_game!U240","v":"BLK"},{"$f":"per_game!V240","v":"TOV"},{"$f":"per_game!X240","v":"PTS"}]
[null,null,{"$f":"Roster!C241","v":"G"},28.604999999999997,{"$f":"per_game!B241 & \"-\" & D241","v":"Rudy Gay-28.605"},{"$f":"per_game!I241","v":0.42199999999999999},{"$f":"per_game!L241","v":0.39600000000000002},{"$f":"per_game!O241","v":0.78700000000000003},{"$f":"per_game!R241","v":5.9},{"$f":"per_game!S241","v":2.2999999999999998},{"$f":"per_game!T241","v":1.4},{"$f":"per_game!U241","v":0.9},{"$f":"per_game!V241","v":2.4},{"$f":"per_game!X241","v":18.899999999999999}]
[null,null,{"$f":"Roster!C242","v":"F"},30.518999999999998,{"$f":"per_game!B242 & \"-\" & D242","v":"Zach Randolph-30.519"},{"$f":"per_game!I242","v":0.46600000000000003},{"$f":"per_game!L242","v":0},{"$f":"per_game!O242","v":0.753},{"$f":"per_game!R242","v":12.7},{"$f":"per_game!S242","v":1.5},{"$f":"per_game!T242","v":0.7},{"$f":"per_game!U242","v":0.5},{"$f":"per_game!V242","v":2.4},{"$f":"per_game!X242","v":16.3}]
[null,null,{"$f":"Roster!C243","v":"G"},29.399999999999995,{"$f":"per_game!B243 & \"-\" & D243","v":"Marc Gasol-29.4"},{"$f":"per_game!I243","v":0.503},{"$f":"per_game!L243","v":0},{"$f":"per_game!O243","v":0.89700000000000002},{"$f":"per_game!R243","v":7.1},{"$f":"per_game!S243","v":4.4000000000000004},{"$f":"per_game!T243","v":0.7},{"$f":"per_game!U243","v":1.4},{"$f":"per_game!V243","v":1.5},{"$f":"per_game!X243","v":15.9}]
[null,null,{"$f":"Roster!C244","v":"G"},26.490000000000002,{"$f":"per_game!B244 & \"-\" & D244","v":"Mike Conley-26.49"},{"$f":"per_game!I244","v":0.497},{"$f":"per_game!L244","v":0.46300000000000002},{"$f":"per_game!O244","v":0.83},{"$f":"per_game!R244","v":2.8},{"$f":"per_game!S244","v":6.7},{"$f":"per_game!T244","v":2.6},{"$f":"per_game!U244","v":0.3},{"$f":"per_game!V244","v":3},{"$f":"per_game!X244","v":15.3}]
[null,null,{"$f":"Roster!C245","v":"G"},14.928000000000001,{"$f":"per_game!B245 & \"-\" & D245","v":"Tony Allen-14.928"},{"$f":"per_game!I245","v":0.38},{"$f":"per_game!L245","v":0},{"$f":"per_game!O245","v":0.84799999999999998},{"$f":"per_game!R245","v":3.5},{"$f":"per_game!S245","v":0.6},{"$f":"per_game!T245","v":2},{"$f":"per_game!U245","v":0.6},{"$f":"per_game!V245","v":1},{"$f":"per_game!X245","v":8}]
[null,null,{"$f":"Roster!C246","v":"C"},13.058,{"$f":"per_game!B246 & \"-\" & D246","v":"Jerryd Bayless-13.058"},{"$f":"per_game!I246","v":0.42399999999999999},{"$f":"per_game!L246","v":0.32400000000000001},{"$f":"per_game!O246","v":0.81},{"$f":"per_game!R246","v":1.4},{"$f":"per_game!S246","v":3.1},{"$f":"per_game!T246","v":0.9},{"$f":"per_game!U246","v":0.5},{"$f":"per_game!V246","v":1.5},{"$f":"per_game!X246","v":7.1}]
[null,null,{"$f":"Roster!C247","v":"F"},14.970000000000002,{"$f":"per_game!B247 & \"-\" & D247","v":"Marreese Speights-14.97"},{"$f":"per_game!I247","v":0.39600000000000002},{"$f":"per_game!L247","v":1},{"$f":"per_game!O247","v":0.77400000000000002},{"$f":"per_game!R247","v":5.3},{"$f":"per_game!S247","v":0.6},{"$f":"per_game!T247","v":0.3},{"$f":"per_game!U247","v":0.9},{"$f":"per_game!V247","v":1},{"$f":"per_game!X247","v":6.7}]
[null,null,{"$f":"Roster!C248","v":"C"},10.145,{"$f":"per_game!B248 & \"-\" & D248","v":"Darrell Arthur-10.145"},{"$f":"per_game!I248","v":0.54500000000000004},{"$f":"per_game!L248","v":0},{"$f":"per_game!O248","v":1},{"$f":"per_game!R248","v":1.8},{"$f":"per_game!S248","v":0.5},{"$f":"per_game!T248","v":0},{"$f":"per_game!U248","v":0.5},{"$f":"per_game!V248","v":0.5},{"$f":"per_game!X248","v":6.3}]
[null,null,{"$f":"Roster!C249","v":"G-F"},11.253,{"$f":"per_game!B249 & \"-\" & D249","v":"Quincy Pondexter-11.253"},{"$f":"per_game!I249","v":0.40500000000000003},{"$f":"per_game!L249","v":0.38100000000000001},{"$f":"per_game!O249","v":0.66700000000000004},{"$f":"per_game!R249","v":1.9},{"$f":"per_game!S249","v":1.5},{"$f":"per_game!T249","v":0.9},{"$f":"per_game!U249","v":0.1},{"$f":"per_game!V249","v":0.5},{"$f":"per_game!X249","v":5.9}]
[null,null,{"$f":"Roster!C250","v":"F"},9.0340000000000007,{"$f":"per_game!B250 & \"-\" & D250","v":"Wayne Ellington-9.034"},{"$f":"per_game!I250","v":0.36799999999999999},{"$f":"per_game!L250","v":0.33300000000000002},{"$f":"per_game!O250","v":0.83299999999999996},{"$f":"per_game!R250","v":1.2},{"$f":"per_game!S250","v":1.2},{"$f":"per_game!T250","v":0.4},{"$f":"per_game!U250","v":0.1},{"$f":"per_game!V250","v":0.3},{"$f":"per_game!X250","v":4.9000000000000004}]
[null,null,{"$f":"Roster!C251","v":"G"},1,{"$f":"per_game!B251 & \"-\" & D251","v":"Hamed Haddadi-1"},{"$f":"per_game!I251","v":0.5},{"$f":"per_game!L251","v":0},{"$f":"per_game!O251","v":0},{"$f":"per_game!R251","v":0},{"$f":"per_game!S251","v":0},{"$f":"per_game!T251","v":0},{"$f":"per_game!U251","v":0},{"$f":"per_game!V251","v":0.5},{"$f":"per_game!X251","v":1}]
[null,null,{"$f":"Roster!C252","v":"F"},0.20000000000000007,{"$f":"per_game!B252 & \"-\" & D252","v":"Josh Selby-0.2"},{"$f":"per_game!I252","v":0},{"$f":"per_game!L252","v":0},{"$f":"per_game!O252","v":0},{"$f":"per_game!R252","v":0.2},{"$f":"per_game!S252","v":0.4},{"$f":"per_game!T252","v":0.2},{"$f":"per_game!U252","v":0},{"$f":"per_game!V252","v":0.6},{"$f":"per_game!X252","v":0}]
[null,null,{"$f":"Roster!C253","v":"G"},0.6,null,{"$f":"per_game!I253","v":0},{"$f":"per_game!L253","v":0},{"$f":"per_game!O253","v":0},{"$f":"per_game!R253","v":0.3},{"$f":"per_game!S253","v":0},{"$f":"per_game!T253","v":0.3},{"$f":"per_game!U253","v":0},{"$f":"per_game!V253","v":0},{"$f":"per_game!X253","v":0}]
[null,null,{"$f":"Roster!C254","v":0},0,null,{"$f":"per_game!I254","v":0},{"$f":"per_game!L254","v":0},{"$f":"per_game!O254","v":0},{"$f":"per_game!R254","v":0},{"$f":"per_game!S254","v":0},{"$f":"per_game!T254","v":0},{"$f":"per_game!U254","v":0},{"$f":"per_game!V254","v":0},{"$f":"per_game!X254","v":0}]
[null,null,{"$f":"Roster!C255","v":0},0,null,{"$f":"per_game!I255","v":0},{"$f":"per_game!L255","v":0},{"$f":"per_game!O255","v":0},{"$f":"per_game!R255","v":0},{"$f":"per_game!S255","v":0},{"$f":"per_game!T255","v":0},{"$f":"per_game!U255","v":0},{"$f":"per_game!V255","v":0},{"$f":"per_game!X255","v":0}]
[null,null,{"$f":"Roster!C256","v":"Pos"},null,{"$f":"per_game!B256 & \"-\" & D256","v":"Player-"},{"$f":"per_game!I256","v":"FG%"},{"$f":"per_game!L256","v":"3P%"},{"$f":"per_game!O256","v":"FT%"},{"$f":"per_game!R256","v":"TRB"},{"$f":"per_game!S256","v":"AST"},{"$f":"per_game!T256","v":"STL"},{"$f":"per_game!U256","v":"BLK"},{"$f":"per_game!V256","v":"TOV"},{"$f":"per_game!X256","v":"PTS"}]
[null,null,{"$f":"Roster!C257","v":"G"},41.230000000000004,{"$f":"per_game!B257 & \"-\" & D257","v":"LeBron James-41.23"},{"$f":"per_game!I257","v":0.53300000000000003},{"$f":"per_game!L257","v":0.438},{"$f":"per_game!O257","v":0.65900000000000003},{"$f":"per_game!R257","v":8.9},{"$f":"per_game!S257","v":6.5},{"$f":"per_game!T257","v":1.1000000000000001},{"$f":"per_game!U257","v":0.9},{"$f":"per_game!V257","v":2.5},{"$f":"per_game!X257","v":24.7}]
[null,null,{"$f":"Roster!C258","v":"C"},29.773,{"$f":"per_game!B258 & \"-\" & D258","v":"Dwyane Wade-29.773"},{"$f":"per_game!I258","v":0.48899999999999999},{"$f":"per_game!L258","v":0.222},{"$f":"per_game!O258","v":0.76200000000000001},{"$f":"per_game!R258","v":4.0999999999999996},{"$f":"per_game!S258","v":4.9000000000000004},{"$f":"per_game!T258","v":1.3},{"$f":"per_game!U258","v":0.8},{"$f":"per_game!V258","v":2.2999999999999998},{"$f":"per_game!X258","v":19.5}]
[null,null,{"$f":"Roster!C259","v":"F"},30.285000000000004,{"$f":"per_game!B259 & \"-\" & D259","v":"Chris Bosh-30.285"},{"$f":"per_game!I259","v":0.55000000000000004},{"$f":"per_game!L259","v":0.16700000000000001},{"$f":"per_game!O259","v":0.86799999999999999},{"$f":"per_game!R259","v":7.9},{"$f":"per_game!S259","v":1.3},{"$f":"per_game!T259","v":0.7},{"$f":"per_game!U259","v":1.4},{"$f":"per_game!V259","v":1.9},{"$f":"per_game!X259","v":19.3}]
[null,null,{"$f":"Roster!C260","v":"F-C"},{"$f":"$B$1*N260+$B$2*I260+$B$3*J260+$B$4*L260+$B$5*K260+$B$6*F260+$B$7*H260+$B$8*G260+$B$9*M260","v":20.293000000000006},{"$f":"per_game!B260 & \"-\" & D260","v":"Ray Allen-20.293"},{"$f":"per_game!I260","v":0.51600000000000001},{"$f":"per_game!L260","v":0.52600000000000002},{"$f":"per_game!O260","v":0.85099999999999998},{"$f":"per_game!R260","v":3},{"$f":"per_game!S260","v":2.1},{"$f":"per_game!T260","v":1.1000000000000001},{"$f":"per_game!U260","v":0.1},{"$f":"per_game!V260","v":1.2},{"$f":"per_game!X260","v":13.3}]
[null,null,{"$f":"Roster!C261","v":"G"},12.673,{"$f":"per_game!B261 & \"-\" & D261","v":"Shane Battier-12.673"},{"$f":"per_game!I261","v":0.44800000000000001},{"$f":"per_game!L261","v":0.45800000000000002},{"$f":"per_game!O261","v":0.66700000000000004},{"$f":"per_game!R261","v":2.5},{"$f":"per_game!S261","v":0.8},{"$f":"per_game!T261","v":0.6},{"$f":"per_game!U261","v":1},{"$f":"per_game!V261","v":0.8},{"$f":"per_game!X261","v":7}]
[null,null,{"$f":"Roster!C262","v":"G"},15.603999999999999,{"$f":"per_game!B262 & \"-\" & D262","v":"Mario Chalmers-15.604"},{"$f":"per_game!I262","v":0.40400000000000003},{"$f":"per_game!L262","v":0.33300000000000002},{"$f":"per_game!O262","v":0.66700000000000004},{"$f":"per_game!R262","v":2.8},{"$f":"per_game!S262","v":4.3},{"$f":"per_game!T262","v":1.8},{"$f":"per_game!U262","v":0.2},{"$f":"per_game!V262","v":1.7},{"$f":"per_game!X262","v":6.8}]
[null,null,{"$f":"Roster!C263","v":"C"},10.315999999999999,{"$f":"per_game!B263 & \"-\" & D263","v":"Rashard Lewis-10.316"},{"$f":"per_game!I263","v":0.51600000000000001},{"$f":"per_game!L263","v":0.5},{"$f":"per_game!O263","v":0.5},{"$f":"per_game!R263","v":2},{"$f":"per_game!S263","v":0.5},{"$f":"per_game!T263","v":0.5},{"$f":"per_game!U263","v":0.1},{"$f":"per_game!V263","v":0.8},{"$f":"per_game!X263","v":6.5}]
[null,null,{"$f":"Roster!C264","v":"G"},9.5039999999999996,{"$f":"per_game!B264 & \"-\" & D264","v":"Norris Cole-9.504"},{"$f":"per_game!I264","v":0.36799999999999999},{"$f":"per_game!L264","v":0.25},{"$f":"per_game!O264","v":0.78600000000000003},{"$f":"per_game!R264","v":1.4},{"$f":"per_game!S264","v":2.2999999999999998},{"$f":"per_game!T264","v":0.6},{"$f":"per_game!U264","v":0.1},{"$f":"per_game!V264","v":1.4},{"$f":"per_game!X264","v":5.0999999999999996}]
[null,null,{"$f":"Roster!C265","v":"F"},9.7000000000000011,{"$f":"per_game!B265 & \"-\" & D265","v":"Udonis Haslem-9.7"},{"$f":"per_game!I265","v":0.5},{"$f":"per_game!L265","v":0},{"$f":"per_game!O265","v":0.6},{"$f":"per_game!R265","v":5.0999999999999996},{"$f":"per_game!S265","v":0.4},{"$f":"per_game!T265","v":0.3},{"$f":"per_game!U265","v":0.1},{"$f":"per_game!V265","v":1},{"$f":"per_game!X265","v":3.7}]
[null,null,{"$f":"Roster!C266","v":"F-G"},9.0510000000000002,{"$f":"per_game!B266 & \"-\" & D266","v":"Mike Miller-9.051"},{"$f":"per_game!I266","v":0.44400000000000001},{"$f":"per_game!L266","v":0.40699999999999997},{"$f":"per_game!O266","v":1},{"$f":"per_game!R266","v":2.2999999999999998},{"$f":"per_game!S266","v":1.5},{"$f":"per_game!T266","v":0.4},{"$f":"per_game!U266","v":0},{"$f":"per_game!V266","v":0.4},{"$f":"per_game!X266","v":3.4}]
[null,null,{"$f":"Roster!C267","v":"F"},2.8879999999999999,{"$f":"per_game!B267 & \"-\" & D267","v":"James Jones-2.888"},{"$f":"per_game!I267","v":0.44400000000000001},{"$f":"per_game!L267","v":0.44400000000000001},{"$f":"per_game!O267","v":0},{"$f":"per_game!R267","v":0},{"$f":"per_game!S267","v":0},{"$f":"per_game!T267","v":0},{"$f":"per_game!U267","v":0},{"$f":"per_game!V267","v":0},{"$f":"per_game!X267","v":2}]
[null,null,{"$f":"Roster!C268","v":"F"},5.0670000000000002,{"$f":"per_game!B268 & \"-\" & D268","v":"Josh Harrellson-5.067"},{"$f":"per_game!I268","v":0.66700000000000004},{"$f":"per_game!L268","v":1},{"$f":"per_game!O268","v":0},{"$f":"per_game!R268","v":1.7},{"$f":"per_game!S268","v":0},{"$f":"per_game!T268","v":0.3},{"$f":"per_game!U268","v":0},{"$f":"per_game!V268","v":0.3},{"$f":"per_game!X268","v":1.7}]
[null,null,{"$f":"Roster!C269","v":"F"},2.9329999999999998,{"$f":"per_game!B269 & \"-\" & D269","v":"Terrel Harris-2.933"},{"$f":"per_game!I269","v":0.33300000000000002},{"$f":"per_game!L269","v":0},{"$f":"per_game!O269","v":1},{"$f":"per_game!R269","v":1},{"$f":"per_game!S269","v":0},{"$f":"per_game!T269","v":0},{"$f":"per_game!U269","v":0},{"$f":"per_game!V269","v":0.7},{"$f":"per_game!X269","v":1.3}]
[null,null,{"$f":"Roster!C270","v":"C"},1.7289999999999999,null,{"$f":"per_game!I270","v":0.42899999999999999},{"$f":"per_game!L270","v":0},{"$f":"per_game!O270","v":0},{"$f":"per_game!R270","v":0.5},{"$f":"per_game!S270","v":0.1},{"$f":"per_game!T270","v":0},{"$f":"per_game!U270","v":0.5},{"$f":"per_game!V270","v":0.3},{"$f":"per_game!X270","v":0.5}]
[null,null,{"$f":"Roster!C271","v":"G"},0,null,{"$f":"per_game!I271","v":0},{"$f":"per_game!L271","v":0},{"$f":"per_game!O271","v":0},{"$f":"per_game!R271","v":0},{"$f":"per_game!S271","v":0},{"$f":"per_game!T271","v":0},{"$f":"per_game!U271","v":0},{"$f":"per_game!V271","v":0},{"$f":"per_game!X271","v":0}]
[null,null,{"$f":"Roster!C272","v":0},0,null,{"$f":"per_game!I272","v":0},{"$f":"per_game!L272","v":0},{"$f":"per_game!O272","v":0},{"$f":"per_game!R272","v":0},{"$f":"per_game!S272","v":0},{"$f":"per_game!T272","v":0},{"$f":"per_game!U272","v":0},{"$f":"per_game!V272","v":0},{"$f":"per_game!X272","v":0}]
[null,null,{"$f":"Roster!C273","v":0},0,{"$f":"per_game!B273 & \"-\" & D273","v":"-0"},{"$f":"per_game!I273","v":0},{"$f":"per_game!L273","v":0},{"$f":"per_game!O273","v":0},{"$f":"per_game!R273","v":0},{"$f":"per_game!S273","v":0},{"$f":"per_game!T273","v":0},{"$f":"per_game!U273","v":0},{"$f":"per_game!V273","v":0},{"$f":"per_game!X273","v":0}]
[null,null,{"$f":"Roster!C274","v":"Pos"},null,{"$f":"per_game!B274 & \"-\" & D274","v":"Player-"},{"$f":"per_game!I274","v":"FG%"},{"$f":"per_game!L274","v":"3P%"},{"$f":"per_game!O274","v":"FT%"},{"$f":"per_game!R274","v":"TRB"},{"$f":"per_game!S274","v":"AST"},{"$f":"per_game!T274","v":"STL"},{"$f":"per_game!U274","v":"BLK"},{"$f":"per_game!V274","v":"TOV"},{"$f":"per_game!X274","v":"PTS"}]
[null,null,{"$f":"Roster!C275","v":"C"},27.465000000000003,{"$f":"per_game!B275 & \"-\" & D275","v":"Monta Ellis-27.465"},{"$f":"per_game!I275","v":0.40100000000000002},{"$f":"per_game!L275","v":0.21099999999999999},{"$f":"per_game!O275","v":0.85299999999999998},{"$f":"per_game!R275","v":3.1},{"$f":"per_game!S275","v":5.0999999999999996},{"$f":"per_game!T275","v":1.4},{"$f":"per_game!U275","v":0.6},{"$f":"per_game!V275","v":2.8},{"$f":"per_game!X275","v":18.600000000000001}]
[null,null,{"$f":"Roster!C276","v":"G-F"},28.785,{"$f":"per_game!B276 & \"-\" & D276","v":"Brandon Jennings-28.785"},{"$f":"per_game!I276","v":0.41499999999999998},{"$f":"per_game!L276","v":0.37},{"$f":"per_game!O276","v":0.8},{"$f":"per_game!R276","v":3.4},{"$f":"per_game!S276","v":6.3},{"$f":"per_game!T276","v":2.5},{"$f":"per_game!U276","v":0.3},{"$f":"per_game!V276","v":2.2999999999999998},{"$f":"per_game!X276","v":17}]
[null,null,{"$f":"Roster!C277","v":"F-G"},19.869999999999997,{"$f":"per_game!B277 & \"-\" & D277","v":"Mike Dunleavy-19.87"},{"$f":"per_game!I277","v":0.44900000000000001},{"$f":"per_game!L277","v":0.42399999999999999},{"$f":"per_game!O277","v":0.69699999999999995},{"$f":"per_game!R277","v":5.0999999999999996},{"$f":"per_game!S277","v":2.4},{"$f":"per_game!T277","v":0.7},{"$f":"per_game!U277","v":0.4},{"$f":"per_game!V277","v":1.1000000000000001},{"$f":"per_game!X277","v":10.8}]
[null,null,{"$f":"Roster!C278","v":"G"},15.415000000000003,{"$f":"per_game!B278 & \"-\" & D278","v":"Beno Udrih-15.415"},{"$f":"per_game!I278","v":0.47899999999999998},{"$f":"per_game!L278","v":0.28599999999999998},{"$f":"per_game!O278","v":0.75},{"$f":"per_game!R278","v":2.8},{"$f":"per_game!S278","v":3.3},{"$f":"per_game!T278","v":0.8},{"$f":"per_game!U278","v":0.2},{"$f":"per_game!V278","v":1.5},{"$f":"per_game!X278","v":8.3000000000000007}]
[null,null,{"$f":"Roster!C279","v":"F"},19.963000000000001,{"$f":"per_game!B279 & \"-\" & D279","v":"Larry Sanders-19.963"},{"$f":"per_game!I279","v":0.55000000000000004},{"$f":"per_game!L279","v":0},{"$f":"per_game!O279","v":0.61299999999999999},{"$f":"per_game!R279","v":7.6},{"$f":"per_game!S279","v":0.8},{"$f":"per_game!T279","v":0.6},{"$f":"per_game!U279","v":3},{"$f":"per_game!V279","v":1.3},{"$f":"per_game!X279","v":8.1}]
[null,null,{"$f":"Roster!C280","v":"F"},15.466999999999999,{"$f":"per_game!B280 & \"-\" & D280","v":"Luc Mbah a Moute-15.467"},{"$f":"per_game!I280","v":0.46700000000000003},{"$f":"per_game!L280","v":0},{"$f":"per_game!O280","v":0.5},{"$f":"per_game!R280","v":7},{"$f":"per_game!S280","v":2},{"$f":"per_game!T280","v":0},{"$f":"per_game!U280","v":0},{"$f":"per_game!V280","v":2},{"$f":"per_game!X280","v":7.5}]
[null,null,{"$f":"Roster!C281","v":"F"},12.172000000000001,{"$f":"per_game!B281 & \"-\" & D281","v":"Tobias Harris-12.172"},{"$f":"per_game!I281","v":0.50600000000000001},{"$f":"per_game!L281","v":0.33300000000000002},{"$f":"per_game!O281","v":0.83299999999999996},{"$f":"per_game!R281","v":3},{"$f":"per_game!S281","v":0.7},{"$f":"per_game!T281","v":0.3},{"$f":"per_game!U281","v":0.3},{"$f":"per_game!V281","v":0.9},{"$f":"per_game!X281","v":7.1}]
[null,null,{"$f":"Roster!C282","v":"G"},14.391000000000002,{"$f":"per_game!B282 & \"-\" & D282","v":"Ersan Ilyasova-14.391"},{"$f":"per_game!I282","v":0.35299999999999998},{"$f":"per_game!L282","v":0.219},{"$f":"per_game!O282","v":0.61899999999999999},{"$f":"per_game!R282","v":4.7},{"$f":"per_game!S282","v":1.5},{"$f":"per_game!T282","v":0.4},{"$f":"per_game!U282","v":0.3},{"$f":"per_game!V282","v":0.6},{"$f":"per_game!X282","v":6.9}]
[null,null,{"$f":"Roster!C283","v":"G"},14.035999999999998,{"$f":"per_game!B283 & \"-\" & D283","v":"Samuel Dalembert-14.036"},{"$f":"per_game!I283","v":0.60299999999999998},{"$f":"per_game!L283","v":1},{"$f":"per_game!O283","v":0.83299999999999996},{"$f":"per_game!R283","v":4.8},{"$f":"per_game!S283","v":0.7},{"$f":"per_game!T283","v":0.2},{"$f":"per_game!U283","v":1},{"$f":"per_game!V283","v":1.3},{"$f":"per_game!X283","v":6.2}]
[null,null,{"$f":"Roster!C284","v":"F"},11.395999999999999,{"$f":"per_game!B284 & \"-\" & D284","v":"John Henson-11.396"},{"$f":"per_game!I284","v":0.47499999999999998},{"$f":"per_game!L284","v":0},{"$f":"per_game!O284","v":0.42099999999999999},{"$f":"per_game!R284","v":3.7},{"$f":"per_game!S284","v":0.5},{"$f":"per_game!T284","v":0.3},{"$f":"per_game!U284","v":0.6},{"$f":"per_game!V284","v":0.6},{"$f":"per_game!X284","v":6}]
[null,null,{"$f":"Roster!C285","v":"C"},10.385999999999999,{"$f":"per_game!B285 & \"-\" & D285","v":"Marquis Daniels-10.386"},{"$f":"per_game!I285","v":0.41399999999999998},{"$f":"per_game!L285","v":8.3000000000000004E-2},{"$f":"per_game!O285","v":0.88900000000000001},{"$f":"per_game!R285","v":1.6},{"$f":"per_game!S285","v":1.3},{"$f":"per_game!T285","v":1},{"$f":"per_game!U285","v":0.3},{"$f":"per_game!V285","v":0.8},{"$f":"per_game!X285","v":5.6}]
[null,null,{"$f":"Roster!C286","v":"F"},12.392999999999997,null,{"$f":"per_game!I286","v":0.45300000000000001},{"$f":"per_game!L286","v":0},{"$f":"per_game!O286","v":0.84},{"$f":"per_game!R286","v":3.8},{"$f":"per_game!S286","v":0.9},{"$f":"per_game!T286","v":0.6},{"$f":"per_game!U286","v":1.1000000000000001},{"$f":"per_game!V286","v":0.9},{"$f":"per_game!X286","v":5.6}]
[null,null,{"$f":"Roster!C287","v":"F"},6.0179999999999998,null,{"$f":"per_game!I287","v":0.432},{"$f":"per_game!L287","v":0.28599999999999998},{"$f":"per_game!O287","v":1},{"$f":"per_game!R287","v":0.4},{"$f":"per_game!S287","v":0.9},{"$f":"per_game!T287","v":0.1},{"$f":"per_game!U287","v":0},{"$f":"per_game!V287","v":0.7},{"$f":"per_game!X287","v":3.6}]
[null,null,{"$f":"Roster!C288","v":"G"},3.2330000000000005,null,{"$f":"per_game!I288","v":0.33300000000000002},{"$f":"per_game!L288","v":0},{"$f":"per_game!O288","v":0},{"$f":"per_game!R288","v":2},{"$f":"per_game!S288","v":0.5},{"$f":"per_game!T288","v":0.2},{"$f":"per_game!U288","v":0.2},{"$f":"per_game!V288","v":0.3},{"$f":"per_game!X288","v":0.3}]
[null,null,{"$f":"Roster!C289","v":0},0,{"$f":"per_game!B289 & \"-\" & D289","v":"-0"},{"$f":"per_game!I289","v":0},{"$f":"per_game!L289","v":0},{"$f":"per_game!O289","v":0},{"$f":"per_game!R289","v":0},{"$f":"per_game!S289","v":0},{"$f":"per_game!T289","v":0},{"$f":"per_game!U289","v":0},{"$f":"per_game!V289","v":0},{"$f":"per_game!X289","v":0}]
[null,null,{"$f":"Roster!C290","v":0},0,{"$f":"per_game!B290 & \"-\" & D290","v":"-0"},{"$f":"per_game!I290","v":0},{"$f":"per_game!L290","v":0},{"$f":"per_game!O290","v":0},{"$f":"per_game!R290","v":0},{"$f":"per_game!S290","v":0},{"$f":"per_game!T290","v":0},{"$f":"per_game!U290","v":0},{"$f":"per_game!V290","v":0},{"$f":"per_game!X290","v":0}]
[null,null,{"$f":"Roster!C291","v":"Pos"},null,{"$f":"per_game!B291 & \"-\" & D291","v":"Player-"},{"$f":"per_game!I291","v":"FG%"},{"$f":"per_game!L291","v":"3P%"},{"$f":"per_game!O291","v":"FT%"},{"$f":"per_game!R291","v":"TRB"},{"$f":"per_game!S291","v":"AST"},{"$f":"per_game!T291","v":"STL"},{"$f":"per_game!U291","v":"BLK"},{"$f":"per_game!V291","v":"TOV"},{"$f":"per_game!X291","v":"PTS"}]
[null,null,{"$f":"Roster!C292","v":"F"},39.747,{"$f":"per_game!B292 & \"-\" & D292","v":"Kevin Love-39.747"},{"$f":"per_game!I292","v":0.37},{"$f":"per_game!L292","v":0.19400000000000001},{"$f":"per_game!O292","v":0.68300000000000005},{"$f":"per_game!R292","v":15.3},{"$f":"per_game!S292","v":1.7},{"$f":"per_game!T292","v":1.3},{"$f":"per_game!U292","v":0.5},{"$f":"per_game!V292","v":2},{"$f":"per_game!X292","v":21.7}]
[null,null,{"$f":"Roster!C293","v":"G"},24.420999999999996,{"$f":"per_game!B293 & \"-\" & D293","v":"Nikola Pekovic-24.421"},{"$f":"per_game!I293","v":0.48699999999999999},{"$f":"per_game!L293","v":0},{"$f":"per_game!O293","v":0.73399999999999999},{"$f":"per_game!R293","v":7.6},{"$f":"per_game!S293","v":1.2},{"$f":"per_game!T293","v":0.8},{"$f":"per_game!U293","v":1},{"$f":"per_game!V293","v":2.2000000000000002},{"$f":"per_game!X293","v":14.8}]
[null,null,{"$f":"Roster!C294","v":"F"},26.396999999999998,{"$f":"per_game!B294 & \"-\" & D294","v":"Andrei Kirilenko-26.397"},{"$f":"per_game!I294","v":0.50800000000000001},{"$f":"per_game!L294","v":0.375},{"$f":"per_game!O294","v":0.71399999999999997},{"$f":"per_game!R294","v":7.8},{"$f":"per_game!S294","v":3.3},{"$f":"per_game!T294","v":1.5},{"$f":"per_game!U294","v":1.8},{"$f":"per_game!V294","v":2.6},{"$f":"per_game!X294","v":13}]
[null,null,{"$f":"Roster!C295","v":"G"},17.884,{"$f":"per_game!B295 & \"-\" & D295","v":"Chase Budinger-17.884"},{"$f":"per_game!I295","v":0.48},{"$f":"per_game!L295","v":0.30399999999999999},{"$f":"per_game!O295","v":0.8},{"$f":"per_game!R295","v":3.5},{"$f":"per_game!S295","v":1.5},{"$f":"per_game!T295","v":1},{"$f":"per_game!U295","v":0.5},{"$f":"per_game!V295","v":2},{"$f":"per_game!X295","v":11.8}]
[null,null,{"$f":"Roster!C296","v":"F"},20.221,{"$f":"per_game!B296 & \"-\" & D296","v":"Luke Ridnour-20.221"},{"$f":"per_game!I296","v":0.441},{"$f":"per_game!L296","v":0.318},{"$f":"per_game!O296","v":0.76200000000000001},{"$f":"per_game!R296","v":2.9},{"$f":"per_game!S296","v":4.4000000000000004},{"$f":"per_game!T296","v":1.3},{"$f":"per_game!U296","v":0.3},{"$f":"per_game!V296","v":1.8},{"$f":"per_game!X296","v":11.6}]
[null,null,{"$f":"Roster!C297","v":"F-G"},17.47,{"$f":"per_game!B297 & \"-\" & D297","v":"Alexey Shved-17.47"},{"$f":"per_game!I297","v":0.38900000000000001},{"$f":"per_game!L297","v":0.313},{"$f":"per_game!O297","v":0.86799999999999999},{"$f":"per_game!R297","v":2.6},{"$f":"per_game!S297","v":3.7},{"$f":"per_game!T297","v":0.6},{"$f":"per_game!U297","v":0.5},{"$f":"per_game!V297","v":1.9},{"$f":"per_game!X297","v":10.4}]
[null,null,{"$f":"Roster!C298","v":"F"},16.956999999999997,{"$f":"per_game!B298 & \"-\" & D298","v":"Derrick Williams-16.957"},{"$f":"per_game!I298","v":0.38100000000000001},{"$f":"per_game!L298","v":0.33300000000000002},{"$f":"per_game!O298","v":0.74299999999999999},{"$f":"per_game!R298","v":5.5},{"$f":"per_game!S298","v":0.7},{"$f":"per_game!T298","v":0.3},{"$f":"per_game!U298","v":1},{"$f":"per_game!V298","v":1.5},{"$f":"per_game!X298","v":9.5}]
[null,null,{"$f":"Roster!C299","v":"G"},16.472000000000001,{"$f":"per_game!B299 & \"-\" & D299","v":"Jose Barea-16.472"},{"$f":"per_game!I299","v":0.38700000000000001},{"$f":"per_game!L299","v":0.27600000000000002},{"$f":"per_game!O299","v":0.90900000000000003},{"$f":"per_game!R299","v":3.2},{"$f":"per_game!S299","v":4.4000000000000004},{"$f":"per_game!T299","v":0.5},{"$f":"per_game!U299","v":0},{"$f":"per_game!V299","v":1.8},{"$f":"per_game!X299","v":8.6}]
[null,null,{"$f":"Roster!C300","v":"F"},15.540999999999997,{"$f":"per_game!B300 & \"-\" & D300","v":"Dante Cunningham-15.541"},{"$f":"per_game!I300","v":0.49099999999999999},{"$f":"per_game!L300","v":0},{"$f":"per_game!O300","v":0.75},{"$f":"per_game!R300","v":5},{"$f":"per_game!S300","v":0.6},{"$f":"per_game!T300","v":0.7},{"$f":"per_game!U300","v":0.7},{"$f":"per_game!V300","v":0.5},{"$f":"per_game!X300","v":7.8}]
[null,null,{"$f":"Roster!C301","v":"C-F"},11.397,{"$f":"per_game!B301 & \"-\" & D301","v":"Josh Howard-11.397"},{"$f":"per_game!I301","v":0.378},{"$f":"per_game!L301","v":0.28599999999999998},{"$f":"per_game!O301","v":0.83299999999999996},{"$f":"per_game!R301","v":3},{"$f":"per_game!S301","v":0.6},{"$f":"per_game!T301","v":0.7},{"$f":"per_game!U301","v":0.4},{"$f":"per_game!V301","v":0.7},{"$f":"per_game!X301","v":5.9}]
[null,null,{"$f":"Roster!C302","v":"G"},13.413999999999998,{"$f":"per_game!B302 & \"-\" & D302","v":"Brandon Roy-13.414"},{"$f":"per_game!I302","v":0.314},{"$f":"per_game!L302","v":0},{"$f":"per_game!O302","v":0.7},{"$f":"per_game!R302","v":2.8},{"$f":"per_game!S302","v":4.5999999999999996},{"$f":"per_game!T302","v":0.6},{"$f":"per_game!U302","v":0},{"$f":"per_game!V302","v":1.4},{"$f":"per_game!X302","v":5.8}]
[null,null,{"$f":"Roster!C303","v":"G"},9.6440000000000037,{"$f":"per_game!B303 & \"-\" & D303","v":"Malcolm Lee-9.644"},{"$f":"per_game!I303","v":0.36699999999999999},{"$f":"per_game!L303","v":0.29399999999999998},{"$f":"per_game!O303","v":0.58299999999999996},{"$f":"per_game!R303","v":2.2000000000000002},{"$f":"per_game!S303","v":1.3},{"$f":"per_game!T303","v":0.6},{"$f":"per_game!U303","v":0.3},{"$f":"per_game!V303","v":0.7},{"$f":"per_game!X303","v":4.7}]
[null,null,{"$f":"Roster!C304","v":"G"},7.4970000000000008,null,{"$f":"per_game!I304","v":0.35399999999999998},{"$f":"per_game!L304","v":0},{"$f":"per_game!O304","v":0.64300000000000002},{"$f":"per_game!R304","v":2.2999999999999998},{"$f":"per_game!S304","v":0.4},{"$f":"per_game!T304","v":0.2},{"$f":"per_game!U304","v":1.1000000000000001},{"$f":"per_game!V304","v":0.8},{"$f":"per_game!X304","v":3.3}]
[null,null,{"$f":"Roster!C305","v":"C"},4.282,null,{"$f":"per_game!I305","v":0.182},{"$f":"per_game!L305","v":0},{"$f":"per_game!O305","v":0.3},{"$f":"per_game!R305","v":2.4},{"$f":"per_game!S305","v":0.1},{"$f":"per_game!T305","v":0.6},{"$f":"per_game!U305","v":0.6},{"$f":"per_game!V305","v":0.8},{"$f":"per_game!X305","v":0.9}]
[null,null,{"$f":"Roster!C306","v":"F"},1.1000000000000001,null,{"$f":"per_game!I306","v":0},{"$f":"per_game!L306","v":0},{"$f":"per_game!O306","v":0.5},{"$f":"per_game!R306","v":0.3},{"$f":"per_game!S306","v":0},{"$f":"per_game!T306","v":0},{"$f":"per_game!U306","v":0},{"$f":"per_game!V306","v":0},{"$f":"per_game!X306","v":0.3}]
[null,null,{"$f":"Roster!C307","v":0},0,{"$f":"per_game!B307 & \"-\" & D307","v":"-0"},{"$f":"per_game!I307","v":0},{"$f":"per_game!L307","v":0},{"$f":"per_game!O307","v":0},{"$f":"per_game!R307","v":0},{"$f":"per_game!S307","v":0},{"$f":"per_game!T307","v":0},{"$f":"per_game!U307","v":0},{"$f":"per_game!V307","v":0},{"$f":"per_game!X307","v":0}]
[null,null,{"$f":"Roster!C308","v":0},0,{"$f":"per_game!B308 & \"-\" & D308","v":"-0"},{"$f":"per_game!I308","v":0},{"$f":"per_game!L308","v":0},{"$f":"per_game!O308","v":0},{"$f":"per_game!R308","v":0},{"$f":"per_game!S308","v":0},{"$f":"per_game!T308","v":0},{"$f":"per_game!U308","v":0},{"$f":"per_game!V308","v":0},{"$f":"per_game!X308","v":0}]
[null,null,{"$f":"Roster!C309","v":"Pos"},null,{"$f":"per_game!B309 & \"-\" & D309","v":"Player-"},{"$f":"per_game!I309","v":"FG%"},{"$f":"per_game!L309","v":"3P%"},{"$f":"per_game!O309","v":"FT%"},{"$f":"per_game!R309","v":"TRB"},{"$f":"per_game!S309","v":"AST"},{"$f":"per_game!T309","v":"STL"},{"$f":"per_game!U309","v":"BLK"},{"$f":"per_game!V309","v":"TOV"},{"$f":"per_game!X309","v":"PTS"}]
[null,null,{"$f":"Roster!C310","v":"F"},28.150999999999993,{"$f":"per_game!B310 & \"-\" & D310","v":"Ryan Anderson-28.151"},{"$f":"per_game!I310","v":0.47099999999999997},{"$f":"per_game!L310","v":0.42299999999999999},{"$f":"per_game!O310","v":0.85699999999999998},{"$f":"per_game!R310","v":7.9},{"$f":"per_game!S310","v":1.4},{"$f":"per_game!T310","v":0.4},{"$f":"per_game!U310","v":0.3},{"$f":"per_game!V310","v":1.1000000000000001},{"$f":"per_game!X310","v":17.5}]
[null,null,{"$f":"Roster!C311","v":"F"},28.131999999999998,{"$f":"per_game!B311 & \"-\" & D311","v":"Anthony Davis-28.132"},{"$f":"per_game!I311","v":0.49299999999999999},{"$f":"per_game!L311","v":0},{"$f":"per_game!O311","v":0.83899999999999997},{"$f":"per_game!R311","v":8.3000000000000007},{"$f":"per_game!S311","v":0.8},{"$f":"per_game!T311","v":1},{"$f":"per_game!U311","v":2.2000000000000002},{"$f":"per_game!V311","v":1.5},{"$f":"per_game!X311","v":16}]
[null,null,{"$f":"Roster!C312","v":"F-C"},24.096,{"$f":"per_game!B312 & \"-\" & D312","v":"Greivis Vasquez-24.096"},{"$f":"per_game!I312","v":0.42299999999999999},{"$f":"per_game!L312","v":0.378},{"$f":"per_game!O312","v":0.79500000000000004},{"$f":"per_game!R312","v":3.7},{"$f":"per_game!S312","v":8.6999999999999993},{"$f":"per_game!T312","v":0.4},{"$f":"per_game!U312","v":0.1},{"$f":"per_game!V312","v":3.4},{"$f":"per_game!X312","v":13}]
[null,null,{"$f":"Roster!C313","v":"G"},21.085999999999999,{"$f":"per_game!B313 & \"-\" & D313","v":"Robin Lopez-21.086"},{"$f":"per_game!I313","v":0.53100000000000003},{"$f":"per_game!L313","v":0},{"$f":"per_game!O313","v":0.755},{"$f":"per_game!R313","v":5.6},{"$f":"per_game!S313","v":1.1000000000000001},{"$f":"per_game!T313","v":0.8},{"$f":"per_game!U313","v":1.9},{"$f":"per_game!V313","v":1.4},{"$f":"per_game!X313","v":11.8}]
[null,null,{"$f":"Roster!C314","v":"C"},20.360000000000003,{"$f":"per_game!B314 & \"-\" & D314","v":"Al-Farouq Aminu-20.36"},{"$f":"per_game!I314","v":0.48599999999999999},{"$f":"per_game!L314","v":0.25},{"$f":"per_game!O314","v":0.72399999999999998},{"$f":"per_game!R314","v":7.2},{"$f":"per_game!S314","v":2},{"$f":"per_game!T314","v":1.6},{"$f":"per_game!U314","v":0.6},{"$f":"per_game!V314","v":2.6},{"$f":"per_game!X314","v":10.1}]
[null,null,{"$f":"Roster!C315","v":"G"},13.744,{"$f":"per_game!B315 & \"-\" & D315","v":"Jason Smith-13.744"},{"$f":"per_game!I315","v":0.42699999999999999},{"$f":"per_game!L315","v":0},{"$f":"per_game!O315","v":0.91700000000000004},{"$f":"per_game!R315","v":3.6},{"$f":"per_game!S315","v":0.6},{"$f":"per_game!T315","v":0.3},{"$f":"per_game!U315","v":0.9},{"$f":"per_game!V315","v":1.3},{"$f":"per_game!X315","v":8.3000000000000007}]
[null,null,{"$f":"Roster!C316","v":"F"},12.419,{"$f":"per_game!B316 & \"-\" & D316","v":"Brian Roberts-12.419"},{"$f":"per_game!I316","v":0.48099999999999998},{"$f":"per_game!L316","v":0.39100000000000001},{"$f":"per_game!O316","v":0.94699999999999995},{"$f":"per_game!R316","v":0.9},{"$f":"per_game!S316","v":2.4},{"$f":"per_game!T316","v":0.3},{"$f":"per_game!U316","v":0.1},{"$f":"per_game!V316","v":1},{"$f":"per_game!X316","v":7.9}]
[null,null,{"$f":"Roster!C317","v":"G"},12.492999999999999,{"$f":"per_game!B317 & \"-\" & D317","v":"Austin Rivers-12.493"},{"$f":"per_game!I317","v":0.29599999999999999},{"$f":"per_game!L317","v":0.32100000000000001},{"$f":"per_game!O317","v":0.67600000000000005},{"$f":"per_game!R317","v":2.4},{"$f":"per_game!S317","v":3},{"$f":"per_game!T317","v":0.7},{"$f":"per_game!U317","v":0.2},{"$f":"per_game!V317","v":1.5},{"$f":"per_game!X317","v":6.4}]
[null,null,{"$f":"Roster!C318","v":"G"},10.855,{"$f":"per_game!B318 & \"-\" & D318","v":"Roger Mason-10.855"},{"$f":"per_game!I318","v":0.38500000000000001},{"$f":"per_game!L318","v":0.37},{"$f":"per_game!O318","v":1},{"$f":"per_game!R318","v":2.1},{"$f":"per_game!S318","v":1.3},{"$f":"per_game!T318","v":0.4},{"$f":"per_game!U318","v":0.1},{"$f":"per_game!V318","v":0.5},{"$f":"per_game!X318","v":5.7}]
[null,null,{"$f":"Roster!C319","v":"F"},8.4660000000000011,{"$f":"per_game!B319 & \"-\" & D319","v":"Lance Thomas-8.466"},{"$f":"per_game!I319","v":0.45200000000000001},{"$f":"per_game!L319","v":0},{"$f":"per_game!O319","v":0.71399999999999997},{"$f":"per_game!R319","v":2.5},{"$f":"per_game!S319","v":0.1},{"$f":"per_game!T319","v":0.3},{"$f":"per_game!U319","v":0.2},{"$f":"per_game!V319","v":0.2},{"$f":"per_game!X319","v":4.4000000000000004}]
[null,null,{"$f":"Roster!C320","v":"F"},6.5,null,{"$f":"per_game!I320","v":0.5},{"$f":"per_game!L320","v":0},{"$f":"per_game!O320","v":1},{"$f":"per_game!R320","v":0},{"$f":"per_game!S320","v":0},{"$f":"per_game!T320","v":1},{"$f":"per_game!U320","v":0},{"$f":"per_game!V320","v":0},{"$f":"per_game!X320","v":4}]
[null,null,{"$f":"Roster!C321","v":"G"},6.8430000000000009,null,{"$f":"per_game!I321","v":0.34300000000000003},{"$f":"per_game!L321","v":1},{"$f":"per_game!O321","v":0.4},{"$f":"per_game!R321","v":1.7},{"$f":"per_game!S321","v":0.2},{"$f":"per_game!T321","v":0.3},{"$f":"per_game!U321","v":0},{"$f":"per_game!V321","v":0.3},{"$f":"per_game!X321","v":3.2}]
[null,null,{"$f":"Roster!C322","v":"F"},7.1,null,{"$f":"per_game!I322","v":0.379},{"$f":"per_game!L322","v":0.42099999999999999},{"$f":"per_game!O322","v":1},{"$f":"per_game!R322","v":1.7},{"$f":"per_game!S322","v":1.1000000000000001},{"$f":"per_game!T322","v":0.5},{"$f":"per_game!U322","v":0.1},{"$f":"per_game!V322","v":0.3},{"$f":"per_game!X322","v":2.2000000000000002}]
[null,null,{"$f":"Roster!C323","v":0},0,{"$f":"per_game!B323 & \"-\" & D323","v":"-0"},{"$f":"per_game!I323","v":0},{"$f":"per_game!L323","v":0},{"$f":"per_game!O323","v":0},{"$f":"per_game!R323","v":0},{"$f":"per_game!S323","v":0},{"$f":"per_game!T323","v":0},{"$f":"per_game!U323","v":0},{"$f":"per_game!V323","v":0},{"$f":"per_game!X323","v":0}]
[null,null,{"$f":"Roster!C324","v":0},{"$f":"$B$1*N324+$B$2*I324+$B$3*J324+$B$4*L324+$B$5*K324+$B$6*F324+$B$7*H324+$B$8*G324+$B$9*M324","v":0},{"$f":"per_game!B324 & \"-\" & D324","v":"-0"},{"$f":"per_game!I324","v":0},{"$f":"per_game!L324","v":0},{"$f":"per_game!O324","v":0},{"$f":"per_game!R324","v":0},{"$f":"per_game!S324","v":0},{"$f":"per_game!T324","v":0},{"$f":"per_game!U324","v":0},{"$f":"per_game!V324","v":0},{"$f":"per_game!X324","v":0}]
[null,null,{"$f":"Roster!C325","v":"Pos"},null,{"$f":"per_game!B325 & \"-\" & D325","v":"Player-"},{"$f":"per_game!I325","v":"FG%"},{"$f":"per_game!L325","v":"3P%"},{"$f":"per_game!O325","v":"FT%"},{"$f":"per_game!R325","v":"TRB"},{"$f":"per_game!S325","v":"AST"},{"$f":"per_game!T325","v":"STL"},{"$f":"per_game!U325","v":"BLK"},{"$f":"per_game!V325","v":"TOV"},{"$f":"per_game!X325","v":"PTS"}]
[null,null,{"$f":"Roster!C326","v":"F"},35.601999999999997,{"$f":"per_game!B326 & \"-\" & D326","v":"Carmelo Anthony-35.602"},{"$f":"per_game!I326","v":0.46400000000000002},{"$f":"per_game!L326","v":0.435},{"$f":"per_game!O326","v":0.80300000000000005},{"$f":"per_game!R326","v":6.9},{"$f":"per_game!S326","v":2.1},{"$f":"per_game!T326","v":0.8},{"$f":"per_game!U326","v":0.6},{"$f":"per_game!V326","v":3.1},{"$f":"per_game!X326","v":26.6}]
[null,null,{"$f":"Roster!C327","v":"G-F"},25.109000000000002,{"$f":"per_game!B327 & \"-\" & D327","v":"Raymond Felton-25.109"},{"$f":"per_game!I327","v":0.43},{"$f":"per_game!L327","v":0.41199999999999998},{"$f":"per_game!O327","v":0.66700000000000004},{"$f":"per_game!R327","v":2.6},{"$f":"per_game!S327","v":6.8},{"$f":"per_game!T327","v":1.4},{"$f":"per_game!U327","v":0.1},{"$f":"per_game!V327","v":2.4},{"$f":"per_game!X327","v":15.1}]
[null,null,{"$f":"Roster!C328","v":"C-F"},23.858999999999998,{"$f":"per_game!B328 & \"-\" & D328","v":"J.R. Smith-23.859"},{"$f":"per_game!I328","v":0.41799999999999998},{"$f":"per_game!L328","v":0.45700000000000002},{"$f":"per_game!O328","v":0.88400000000000001},{"$f":"per_game!R328","v":5.0999999999999996},{"$f":"per_game!S328","v":2.8},{"$f":"per_game!T328","v":1.3},{"$f":"per_game!U328","v":0.4},{"$f":"per_game!V328","v":1.1000000000000001},{"$f":"per_game!X328","v":13.6}]
[null,null,{"$f":"Roster!C329","v":"C"},23.498000000000005,{"$f":"per_game!B329 & \"-\" & D329","v":"Tyson Chandler-23.498"},{"$f":"per_game!I329","v":0.71299999999999997},{"$f":"per_game!L329","v":0},{"$f":"per_game!O329","v":0.78500000000000003},{"$f":"per_game!R329","v":8.9},{"$f":"per_game!S329","v":0.5},{"$f":"per_game!T329","v":0.6},{"$f":"per_game!U329","v":0.7},{"$f":"per_game!V329","v":0.9},{"$f":"per_game!X329","v":12.2}]
[null,null,{"$f":"Roster!C330","v":"F"},12.841000000000001,{"$f":"per_game!B330 & \"-\" & D330","v":"Steve Novak-12.841"},{"$f":"per_game!I330","v":0.41099999999999998},{"$f":"per_game!L330","v":0.43},{"$f":"per_game!O330","v":1},{"$f":"per_game!R330","v":1.8},{"$f":"per_game!S330","v":0.4},{"$f":"per_game!T330","v":0.6},{"$f":"per_game!U330","v":0.3},{"$f":"per_game!V330","v":0.2},{"$f":"per_game!X330","v":8.1}]
[null,null,{"$f":"Roster!C331","v":"G"},18.618000000000002,{"$f":"per_game!B331 & \"-\" & D331","v":"Jason Kidd-18.618"},{"$f":"per_game!I331","v":0.51800000000000002},{"$f":"per_game!L331","v":0.5},{"$f":"per_game!O331","v":1},{"$f":"per_game!R331","v":3.3},{"$f":"per_game!S331","v":3.4},{"$f":"per_game!T331","v":2.1},{"$f":"per_game!U331","v":0.5},{"$f":"per_game!V331","v":0.7},{"$f":"per_game!X331","v":8}]
[null,null,{"$f":"Roster!C332","v":"G"},13.945,{"$f":"per_game!B332 & \"-\" & D332","v":"Rasheed Wallace-13.945"},{"$f":"per_game!I332","v":0.39800000000000002},{"$f":"per_game!L332","v":0.314},{"$f":"per_game!O332","v":0.83299999999999996},{"$f":"per_game!R332","v":4.0999999999999996},{"$f":"per_game!S332","v":0.3},{"$f":"per_game!T332","v":0.6},{"$f":"per_game!U332","v":0.7},{"$f":"per_game!V332","v":0.5},{"$f":"per_game!X332","v":7.2}]
[null,null,{"$f":"Roster!C333","v":"F"},14.305999999999999,{"$f":"per_game!B333 & \"-\" & D333","v":"Ronnie Brewer-14.306"},{"$f":"per_game!I333","v":0.45400000000000001},{"$f":"per_game!L333","v":0.41699999999999998},{"$f":"per_game!O333","v":0.435},{"$f":"per_game!R333","v":3.6},{"$f":"per_game!S333","v":1.4},{"$f":"per_game!T333","v":1.1000000000000001},{"$f":"per_game!U333","v":0.1},{"$f":"per_game!V333","v":0.3},{"$f":"per_game!X333","v":7.1}]
[null,null,{"$f":"Roster!C334","v":"G"},5.8970000000000002,{"$f":"per_game!B334 & \"-\" & D334","v":"Chris Copeland-5.897"},{"$f":"per_game!I334","v":0.47199999999999998},{"$f":"per_game!L334","v":0.2},{"$f":"per_game!O334","v":0.625},{"$f":"per_game!R334","v":0.6},{"$f":"per_game!S334","v":0.4},{"$f":"per_game!T334","v":0.2},{"$f":"per_game!U334","v":0.1},{"$f":"per_game!V334","v":0.3},{"$f":"per_game!X334","v":3.6}]
[null,null,{"$f":"Roster!C335","v":"G"},8.5289999999999999,{"$f":"per_game!B335 & \"-\" & D335","v":"Pablo Prigioni-8.529"},{"$f":"per_game!I335","v":0.439},{"$f":"per_game!L335","v":0.33300000000000002},{"$f":"per_game!O335","v":0.85699999999999998},{"$f":"per_game!R335","v":1.2},{"$f":"per_game!S335","v":2.9},{"$f":"per_game!T335","v":1},{"$f":"per_game!U335","v":0},{"$f":"per_game!V335","v":1.5},{"$f":"per_game!X335","v":3.3}]
[null,null,{"$f":"Roster!C336","v":"F"},3.9290000000000003,null,{"$f":"per_game!I336","v":0.4},{"$f":"per_game!L336","v":0.42899999999999999},{"$f":"per_game!O336","v":0.5},{"$f":"per_game!R336","v":0.7},{"$f":"per_game!S336","v":0.2},{"$f":"per_game!T336","v":0.2},{"$f":"per_game!U336","v":0},{"$f":"per_game!V336","v":0},{"$f":"per_game!X336","v":1.5}]
[null,null,{"$f":"Roster!C337","v":"F-C"},5.745000000000001,null,{"$f":"per_game!I337","v":0.27800000000000002},{"$f":"per_game!L337","v":0},{"$f":"per_game!O337","v":0.66700000000000004},{"$f":"per_game!R337","v":2.7},{"$f":"per_game!S337","v":0.4},{"$f":"per_game!T337","v":0.1},{"$f":"per_game!U337","v":0.4},{"$f":"per_game!V337","v":0.1},{"$f":"per_game!X337","v":1.3}]
[null,null,{"$f":"Roster!C338","v":"G-F"},3.1999999999999993,null,{"$f":"per_game!I338","v":0},{"$f":"per_game!L338","v":0},{"$f":"per_game!O338","v":0.5},{"$f":"per_game!R338","v":2.5},{"$f":"per_game!S338","v":0.3},{"$f":"per_game!T338","v":0},{"$f":"per_game!U338","v":0.3},{"$f":"per_game!V338","v":0.7},{"$f":"per_game!X338","v":0.3}]
[null,null,{"$f":"Roster!C339","v":0},0,{"$f":"per_game!B339 & \"-\" & D339","v":"-0"},{"$f":"per_game!I339","v":0},{"$f":"per_game!L339","v":0},{"$f":"per_game!O339","v":0},{"$f":"per_game!R339","v":0},{"$f":"per_game!S339","v":0},{"$f":"per_game!T339","v":0},{"$f":"per_game!U339","v":0},{"$f":"per_game!V339","v":0},{"$f":"per_game!X339","v":0}]
[null,null,{"$f":"Roster!C340","v":0},0,{"$f":"per_game!B340 & \"-\" & D340","v":"-0"},{"$f":"per_game!I340","v":0},{"$f":"per_game!L340","v":0},{"$f":"per_game!O340","v":0},{"$f":"per_game!R340","v":0},{"$f":"per_game!S340","v":0},{"$f":"per_game!T340","v":0},{"$f":"per_game!U340","v":0},{"$f":"per_game!V340","v":0},{"$f":"per_game!X340","v":0}]
[null,null,{"$f":"Roster!C341","v":"Pos"},null,{"$f":"per_game!B341 & \"-\" & D341","v":"Player-"},{"$f":"per_game!I341","v":"FG%"},{"$f":"per_game!L341","v":"3P%"},{"$f":"per_game!O341","v":"FT%"},{"$f":"per_game!R341","v":"TRB"},{"$f":"per_game!S341","v":"AST"},{"$f":"per_game!T341","v":"STL"},{"$f":"per_game!U341","v":"BLK"},{"$f":"per_game!V341","v":"TOV"},{"$f":"per_game!X341","v":"PTS"}]
[null,null,{"$f":"Roster!C342","v":"F"},40.845000000000006,{"$f":"per_game!B342 & \"-\" & D342","v":"Kevin Durant-40.845"},{"$f":"per_game!I342","v":0.51200000000000001},{"$f":"per_game!L342","v":0.438},{"$f":"per_game!O342","v":0.89500000000000002},{"$f":"per_game!R342","v":8.6999999999999993},{"$f":"per_game!S342","v":4.3},{"$f":"per_game!T342","v":1.6},{"$f":"per_game!U342","v":1.6},{"$f":"per_game!V342","v":3.4},{"$f":"per_game!X342","v":26.2}]
[null,null,{"$f":"Roster!C343","v":"F"},35.033999999999999,{"$f":"per_game!B343 & \"-\" & D343","v":"Russell Westbrook-35.034"},{"$f":"per_game!I343","v":0.41499999999999998},{"$f":"per_game!L343","v":0.34699999999999998},{"$f":"per_game!O343","v":0.77200000000000002},{"$f":"per_game!R343","v":5.0999999999999996},{"$f":"per_game!S343","v":8.6999999999999993},{"$f":"per_game!T343","v":2.1},{"$f":"per_game!U343","v":0.3},{"$f":"per_game!V343","v":3.4},{"$f":"per_game!X343","v":20.7}]
[null,null,{"$f":"Roster!C344","v":"F"},21.866999999999997,{"$f":"per_game!B344 & \"-\" & D344","v":"Kevin Martin-21.867"},{"$f":"per_game!I344","v":0.46200000000000002},{"$f":"per_game!L344","v":0.47699999999999998},{"$f":"per_game!O344","v":0.92800000000000005},{"$f":"per_game!R344","v":2.4},{"$f":"per_game!S344","v":1.7},{"$f":"per_game!T344","v":1.2},{"$f":"per_game!U344","v":0.2},{"$f":"per_game!V344","v":1.6},{"$f":"per_game!X344","v":16.100000000000001}]
[null,null,{"$f":"Roster!C345","v":"G"},25.704000000000001,{"$f":"per_game!B345 & \"-\" & D345","v":"Serge Ibaka-25.704"},{"$f":"per_game!I345","v":0.59},{"$f":"per_game!L345","v":0.25},{"$f":"per_game!O345","v":0.86399999999999999},{"$f":"per_game!R345","v":7.6},{"$f":"per_game!S345","v":0.3},{"$f":"per_game!T345","v":0.2},{"$f":"per_game!U345","v":3.3},{"$f":"per_game!V345","v":1.7},{"$f":"per_game!X345","v":14.3}]
[null,null,{"$f":"Roster!C346","v":"F"},15.302000000000001,{"$f":"per_game!B346 & \"-\" & D346","v":"Thabo Sefolosha-15.302"},{"$f":"per_game!I346","v":0.48399999999999999},{"$f":"per_game!L346","v":0.45100000000000001},{"$f":"per_game!O346","v":0.86699999999999999},{"$f":"per_game!R346","v":4.4000000000000004},{"$f":"per_game!S346","v":1.9},{"$f":"per_game!T346","v":0.8},{"$f":"per_game!U346","v":0.4},{"$f":"per_game!V346","v":1.1000000000000001},{"$f":"per_game!X346","v":7.1}]
[null,null,{"$f":"Roster!C347","v":"G-F"},11.801000000000002,{"$f":"per_game!B347 & \"-\" & D347","v":"Nick Collison-11.801"},{"$f":"per_game!I347","v":0.63400000000000001},{"$f":"per_game!L347","v":0},{"$f":"per_game!O347","v":0.66700000000000004},{"$f":"per_game!R347","v":3.7},{"$f":"per_game!S347","v":1.2},{"$f":"per_game!T347","v":0.6},{"$f":"per_game!U347","v":0.3},{"$f":"per_game!V347","v":1.2},{"$f":"per_game!X347","v":5.9}]
[null,null,{"$f":"Roster!C348","v":"G"},13.302,{"$f":"per_game!B348 & \"-\" & D348","v":"Kendrick Perkins-13.302"},{"$f":"per_game!I348","v":0.57999999999999996},{"$f":"per_game!L348","v":0},{"$f":"per_game!O348","v":0.52200000000000002},{"$f":"per_game!R348","v":5},{"$f":"per_game!S348","v":1.7},{"$f":"per_game!T348","v":0.5},{"$f":"per_game!U348","v":0.9},{"$f":"per_game!V348","v":1},{"$f":"per_game!X348","v":5.0999999999999996}]
[null,null,{"$f":"Roster!C349","v":"G"},7.4429999999999978,{"$f":"per_game!B349 & \"-\" & D349","v":"Eric Maynor-7.443"},{"$f":"per_game!I349","v":0.28599999999999998},{"$f":"per_game!L349","v":0.34399999999999997},{"$f":"per_game!O349","v":0.81299999999999994},{"$f":"per_game!R349","v":0.8},{"$f":"per_game!S349","v":2.1},{"$f":"per_game!T349","v":0.2},{"$f":"per_game!U349","v":0},{"$f":"per_game!V349","v":0.9},{"$f":"per_game!X349","v":3.8}]
[null,null,{"$f":"Roster!C350","v":"G"},9.2889999999999997,{"$f":"per_game!B350 & \"-\" & D350","v":"Hasheem Thabeet-9.289"},{"$f":"per_game!I350","v":0.72},{"$f":"per_game!L350","v":0},{"$f":"per_game!O350","v":0.76900000000000002},{"$f":"per_game!R350","v":3.8},{"$f":"per_game!S350","v":0.1},{"$f":"per_game!T350","v":0.5},{"$f":"per_game!U350","v":0.9},{"$f":"per_game!V350","v":1},{"$f":"per_game!X350","v":3.5}]
[null,null,{"$f":"Roster!C351","v":"F"},4.2329999999999997,{"$f":"per_game!B351 & \"-\" & D351","v":"Jeremy Lamb-4.233"},{"$f":"per_game!I351","v":0.33300000000000002},{"$f":"per_game!L351","v":0.5},{"$f":"per_game!O351","v":1},{"$f":"per_game!R351","v":0.4},{"$f":"per_game!S351","v":0.3},{"$f":"per_game!T351","v":0},{"$f":"per_game!U351","v":0},{"$f":"per_game!V351","v":0.4},{"$f":"per_game!X351","v":2.1}]
[null,null,{"$f":"Roster!C352","v":"C"},4,{"$f":"per_game!B352 & \"-\" & D352","v":"Daniel Orton-4"},{"$f":"per_game!I352","v":1},{"$f":"per_game!L352","v":0},{"$f":"per_game!O352","v":0},{"$f":"per_game!R352","v":0},{"$f":"per_game!S352","v":0},{"$f":"per_game!T352","v":0},{"$f":"per_game!U352","v":1},{"$f":"per_game!V352","v":0},{"$f":"per_game!X352","v":2}]
[null,null,{"$f":"Roster!C353","v":"G"},4.1829999999999998,null,{"$f":"per_game!I353","v":0.41199999999999998},{"$f":"per_game!L353","v":0.57099999999999995},{"$f":"per_game!O353","v":0},{"$f":"per_game!R353","v":1},{"$f":"per_game!S353","v":0.7},{"$f":"per_game!T353","v":0},{"$f":"per_game!U353","v":0},{"$f":"per_game!V353","v":0.3},{"$f":"per_game!X353","v":1.8}]
[null,null,{"$f":"Roster!C354","v":"C"},2.6999999999999997,null,{"$f":"per_game!I354","v":0.3},{"$f":"per_game!L354","v":0},{"$f":"per_game!O354","v":0},{"$f":"per_game!R354","v":1.4},{"$f":"per_game!S354","v":0.4},{"$f":"per_game!T354","v":0.1},{"$f":"per_game!U354","v":0.2},{"$f":"per_game!V354","v":0.9},{"$f":"per_game!X354","v":1.2}]
[null,null,{"$f":"Roster!C355","v":"G"},3.8000000000000003,null,{"$f":"per_game!I355","v":1},{"$f":"per_game!L355","v":0},{"$f":"per_game!O355","v":1},{"$f":"per_game!R355","v":1.4},{"$f":"per_game!S355","v":0.2},{"$f":"per_game!T355","v":0},{"$f":"per_game!U355","v":0},{"$f":"per_game!V355","v":0.4},{"$f":"per_game!X355","v":0.6}]
[null,null,{"$f":"Roster!C356","v":0},0,{"$f":"per_game!B356 & \"-\" & D356","v":"-0"},{"$f":"per_game!I356","v":0},{"$f":"per_game!L356","v":0},{"$f":"per_game!O356","v":0},{"$f":"per_game!R356","v":0},{"$f":"per_game!S356","v":0},{"$f":"per_game!T356","v":0},{"$f":"per_game!U356","v":0},{"$f":"per_game!V356","v":0},{"$f":"per_game!X356","v":0}]
[null,null,{"$f":"Roster!C357","v":0},0,{"$f":"per_game!B357 & \"-\" & D357","v":"-0"},{"$f":"per_game!I357","v":0},{"$f":"per_game!L357","v":0},{"$f":"per_game!O357","v":0},{"$f":"per_game!R357","v":0},{"$f":"per_game!S357","v":0},{"$f":"per_game!T357","v":0},{"$f":"per_game!U357","v":0},{"$f":"per_game!V357","v":0},{"$f":"per_game!X357","v":0}]
[null,null,{"$f":"Roster!C358","v":"Pos"},null,{"$f":"per_game!B358 & \"-\" & D358","v":"Player-"},{"$f":"per_game!I358","v":"FG%"},{"$f":"per_game!L358","v":"3P%"},{"$f":"per_game!O358","v":"FT%"},{"$f":"per_game!R358","v":"TRB"},{"$f":"per_game!S358","v":"AST"},{"$f":"per_game!T358","v":"STL"},{"$f":"per_game!U358","v":"BLK"},{"$f":"per_game!V358","v":"TOV"},{"$f":"per_game!X358","v":"PTS"}]
[null,null,{"$f":"Roster!C359","v":"G"},22.923000000000002,{"$f":"per_game!B359 & \"-\" & D359","v":"Arron Afflalo-22.923"},{"$f":"per_game!I359","v":0.44500000000000001},{"$f":"per_game!L359","v":0.34799999999999998},{"$f":"per_game!O359","v":0.83},{"$f":"per_game!R359","v":3.8},{"$f":"per_game!S359","v":2.5},{"$f":"per_game!T359","v":0.8},{"$f":"per_game!U359","v":0.3},{"$f":"per_game!V359","v":2.2000000000000002},{"$f":"per_game!X359","v":16.100000000000001}]
[null,null,{"$f":"Roster!C360","v":"C"},27.084,{"$f":"per_game!B360 & \"-\" & D360","v":"Glen Davis-27.084"},{"$f":"per_game!I360","v":0.434},{"$f":"per_game!L360","v":0},{"$f":"per_game!O360","v":0.75},{"$f":"per_game!R360","v":8.1999999999999993},{"$f":"per_game!S360","v":2.1},{"$f":"per_game!T360","v":0.9},{"$f":"per_game!U360","v":0.5},{"$f":"per_game!V360","v":1.6},{"$f":"per_game!X360","v":15.8}]
[null,null,{"$f":"Roster!C361","v":"F"},21.221,{"$f":"per_game!B361 & \"-\" & D361","v":"J.J. Redick-21.221"},{"$f":"per_game!I361","v":0.44500000000000001},{"$f":"per_game!L361","v":0.36099999999999999},{"$f":"per_game!O361","v":0.91500000000000004},{"$f":"per_game!R361","v":2.1},{"$f":"per_game!S361","v":5.0999999999999996},{"$f":"per_game!T361","v":0.4},{"$f":"per_game!U361","v":0.1},{"$f":"per_game!V361","v":2.1},{"$f":"per_game!X361","v":13.9}]
[null,null,{"$f":"Roster!C362","v":"G-F"},25.033000000000001,{"$f":"per_game!B362 & \"-\" & D362","v":"Jameer Nelson-25.033"},{"$f":"per_game!I362","v":0.39},{"$f":"per_game!L362","v":0.29599999999999999},{"$f":"per_game!O362","v":0.94699999999999995},{"$f":"per_game!R362","v":4.5},{"$f":"per_game!S362","v":6.7},{"$f":"per_game!T362","v":1.6},{"$f":"per_game!U362","v":0.1},{"$f":"per_game!V362","v":2.5},{"$f":"per_game!X362","v":13}]
[null,null,{"$f":"Roster!C363","v":"F"},22.111999999999998,{"$f":"per_game!B363 & \"-\" & D363","v":"Nikola Vucevic-22.112"},{"$f":"per_game!I363","v":0.47299999999999998},{"$f":"per_game!L363","v":0},{"$f":"per_game!O363","v":0.73899999999999999},{"$f":"per_game!R363","v":8.6},{"$f":"per_game!S363","v":1.6},{"$f":"per_game!T363","v":0.8},{"$f":"per_game!U363","v":1.3},{"$f":"per_game!V363","v":1.6},{"$f":"per_game!X363","v":10.199999999999999}]
[null,null,{"$f":"Roster!C364","v":"F"},15.749999999999996,{"$f":"per_game!B364 & \"-\" & D364","v":"E'Twaun Moore-15.75"},{"$f":"per_game!I364","v":0.42899999999999999},{"$f":"per_game!L364","v":0.40699999999999997},{"$f":"per_game!O364","v":0.71399999999999997},{"$f":"per_game!R364","v":2.6},{"$f":"per_game!S364","v":3.2},{"$f":"per_game!T364","v":0.4},{"$f":"per_game!U364","v":0.3},{"$f":"per_game!V364","v":2.2999999999999998},{"$f":"per_game!X364","v":10}]
[null,null,{"$f":"Roster!C365","v":"F"},10.356999999999998,{"$f":"per_game!B365 & \"-\" & D365","v":"Andrew Nicholson-10.357"},{"$f":"per_game!I365","v":0.52400000000000002},{"$f":"per_game!L365","v":0},{"$f":"per_game!O365","v":0.83299999999999996},{"$f":"per_game!R365","v":2.2999999999999998},{"$f":"per_game!S365","v":0.4},{"$f":"per_game!T365","v":0.1},{"$f":"per_game!U365","v":0.4},{"$f":"per_game!V365","v":0.8},{"$f":"per_game!X365","v":6.6}]
[null,null,{"$f":"Roster!C366","v":"G"},11.75,{"$f":"per_game!B366 & \"-\" & D366","v":"Hedo Turkoglu-11.75"},{"$f":"per_game!I366","v":0.75},{"$f":"per_game!L366","v":0},{"$f":"per_game!O366","v":0},{"$f":"per_game!R366","v":2},{"$f":"per_game!S366","v":1},{"$f":"per_game!T366","v":2},{"$f":"per_game!U366","v":0},{"$f":"per_game!V366","v":0},{"$f":"per_game!X366","v":6}]
[null,null,{"$f":"Roster!C367","v":"F"},11.207999999999998,{"$f":"per_game!B367 & \"-\" & D367","v":"Maurice Harkless-11.208"},{"$f":"per_game!I367","v":0.5},{"$f":"per_game!L367","v":0.2},{"$f":"per_game!O367","v":0.308},{"$f":"per_game!R367","v":4.3},{"$f":"per_game!S367","v":0.6},{"$f":"per_game!T367","v":0.6},{"$f":"per_game!U367","v":0.9},{"$f":"per_game!V367","v":0.6},{"$f":"per_game!X367","v":4.4000000000000004}]
[null,null,{"$f":"Roster!C368","v":"C"},10.677000000000001,{"$f":"per_game!B368 & \"-\" & D368","v":"Josh McRoberts-10.677"},{"$f":"per_game!I368","v":0.46300000000000002},{"$f":"per_game!L368","v":0.36399999999999999},{"$f":"per_game!O368","v":0.75},{"$f":"per_game!R368","v":3.8},{"$f":"per_game!S368","v":1.3},{"$f":"per_game!T368","v":0.3},{"$f":"per_game!U368","v":0.4},{"$f":"per_game!V368","v":0.6},{"$f":"per_game!X368","v":3.9}]
[null,null,{"$f":"Roster!C369","v":"G"},6.7229999999999999,{"$f":"per_game!B369 & \"-\" & D369","v":"DeQuan Jones-6.723"},{"$f":"per_game!I369","v":0.42299999999999999},{"$f":"per_game!L369","v":0.5},{"$f":"per_game!O369","v":0.5},{"$f":"per_game!R369","v":1.9},{"$f":"per_game!S369","v":0.1},{"$f":"per_game!T369","v":0.2},{"$f":"per_game!U369","v":0.3},{"$f":"per_game!V369","v":0.2},{"$f":"per_game!X369","v":3}]
[null,null,{"$f":"Roster!C370","v":"G"},7.4880000000000013,null,{"$f":"per_game!I370","v":0.48799999999999999},{"$f":"per_game!L370","v":0},{"$f":"per_game!O370","v":0.5},{"$f":"per_game!R370","v":2.9},{"$f":"per_game!S370","v":0.9},{"$f":"per_game!T370","v":0.2},{"$f":"per_game!U370","v":0.1},{"$f":"per_game!V370","v":0.6},{"$f":"per_game!X370","v":3}]
[null,null,{"$f":"Roster!C371","v":"F"},7.4329999999999998,null,{"$f":"per_game!I371","v":0.33300000000000002},{"$f":"per_game!L371","v":0},{"$f":"per_game!O371","v":1},{"$f":"per_game!R371","v":2.4},{"$f":"per_game!S371","v":0.7},{"$f":"per_game!T371","v":0.1},{"$f":"per_game!U371","v":0.8},{"$f":"per_game!V371","v":0.3},{"$f":"per_game!X371","v":2.4}]
[null,null,{"$f":"Roster!C372","v":"F"},3.7670000000000003,null,{"$f":"per_game!I372","v":0.16700000000000001},{"$f":"per_game!L372","v":0},{"$f":"per_game!O372","v":0},{"$f":"per_game!R372","v":1.5},{"$f":"per_game!S372","v":1.5},{"$f":"per_game!T372","v":0.4},{"$f":"per_game!U372","v":0.1},{"$f":"per_game!V372","v":0.8},{"$f":"per_game!X372","v":0.9}]
[null,null,{"$f":"Roster!C373","v":0},0,{"$f":"per_game!B373 & \"-\" & D373","v":"-0"},{"$f":"per_game!I373","v":0},{"$f":"per_game!L373","v":0},{"$f":"per_game!O373","v":0},{"$f":"per_game!R373","v":0},{"$f":"per_game!S373","v":0},{"$f":"per_game!T373","v":0},{"$f":"per_game!U373","v":0},{"$f":"per_game!V373","v":0},{"$f":"per_game!X373","v":0}]
[null,null,{"$f":"Roster!C374","v":0},0,{"$f":"per_game!B374 & \"-\" & D374","v":"-0"},{"$f":"per_game!I374","v":0},{"$f":"per_game!L374","v":0},{"$f":"per_game!O374","v":0},{"$f":"per_game!R374","v":0},{"$f":"per_game!S374","v":0},{"$f":"per_game!T374","v":0},{"$f":"per_game!U374","v":0},{"$f":"per_game!V374","v":0},{"$f":"per_game!X374","v":0}]
[null,null,{"$f":"Roster!C375","v":"Pos"},null,{"$f":"per_game!B375 & \"-\" & D375","v":"Player-"},{"$f":"per_game!I375","v":"FG%"},{"$f":"per_game!L375","v":"3P%"},{"$f":"per_game!O375","v":"FT%"},{"$f":"per_game!R375","v":"TRB"},{"$f":"per_game!S375","v":"AST"},{"$f":"per_game!T375","v":"STL"},{"$f":"per_game!U375","v":"BLK"},{"$f":"per_game!V375","v":"TOV"},{"$f":"per_game!X375","v":"PTS"}]
[null,null,{"$f":"Roster!C376","v":"F"},30.730000000000004,{"$f":"per_game!B376 & \"-\" & D376","v":"Jrue Holiday-30.73"},{"$f":"per_game!I376","v":0.45700000000000002},{"$f":"per_game!L376","v":0.39200000000000002},{"$f":"per_game!O376","v":0.78100000000000003},{"$f":"per_game!R376","v":3.5},{"$f":"per_game!S376","v":9.3000000000000007},{"$f":"per_game!T376","v":1.4},{"$f":"per_game!U376","v":0.5},{"$f":"per_game!V376","v":4.0999999999999996},{"$f":"per_game!X376","v":18.5}]
[null,null,{"$f":"Roster!C377","v":"F"},25.927999999999997,{"$f":"per_game!B377 & \"-\" & D377","v":"Thaddeus Young-25.928"},{"$f":"per_game!I377","v":0.52400000000000002},{"$f":"per_game!L377","v":0},{"$f":"per_game!O377","v":0.60399999999999998},{"$f":"per_game!R377","v":7.7},{"$f":"per_game!S377","v":1.4},{"$f":"per_game!T377","v":1.6},{"$f":"per_game!U377","v":0.9},{"$f":"per_game!V377","v":1.3},{"$f":"per_game!X377","v":14.5}]
[null,null,{"$f":"Roster!C378","v":"C"},26.394999999999992,{"$f":"per_game!B378 & \"-\" & D378","v":"Evan Turner-26.395"},{"$f":"per_game!I378","v":0.441},{"$f":"per_game!L378","v":0.42299999999999999},{"$f":"per_game!O378","v":0.83099999999999996},{"$f":"per_game!R378","v":7.1},{"$f":"per_game!S378","v":4.0999999999999996},{"$f":"per_game!T378","v":0.9},{"$f":"per_game!U378","v":0.3},{"$f":"per_game!V378","v":1.8},{"$f":"per_game!X378","v":14.1}]
[null,null,{"$f":"Roster!C379","v":"G"},21.553999999999995,{"$f":"per_game!B379 & \"-\" & D379","v":"Jason Richardson-21.554"},{"$f":"per_game!I379","v":0.42499999999999999},{"$f":"per_game!L379","v":0.42899999999999999},{"$f":"per_game!O379","v":0.8},{"$f":"per_game!R379","v":4.2},{"$f":"per_game!S379","v":1.2},{"$f":"per_game!T379","v":1.7},{"$f":"per_game!U379","v":0.7},{"$f":"per_game!V379","v":0.6},{"$f":"per_game!X379","v":12.7}]
[null,null,{"$f":"Roster!C380","v":"G"},14.403,{"$f":"per_game!B380 & \"-\" & D380","v":"Nick Young-14.403"},{"$f":"per_game!I380","v":0.38100000000000001},{"$f":"per_game!L380","v":0.34},{"$f":"per_game!O380","v":0.88200000000000001},{"$f":"per_game!R380","v":1.8},{"$f":"per_game!S380","v":1.3},{"$f":"per_game!T380","v":0.6},{"$f":"per_game!U380","v":0.4},{"$f":"per_game!V380","v":0.9},{"$f":"per_game!X380","v":9.6}]
[null,null,{"$f":"Roster!C381","v":"F"},15.409999999999998,{"$f":"per_game!B381 & \"-\" & D381","v":"Dorell Wright-15.41"},{"$f":"per_game!I381","v":0.33300000000000002},{"$f":"per_game!L381","v":0.371},{"$f":"per_game!O381","v":0.90600000000000003},{"$f":"per_game!R381","v":4.4000000000000004},{"$f":"per_game!S381","v":0.9},{"$f":"per_game!T381","v":1.2},{"$f":"per_game!U381","v":0.5},{"$f":"per_game!V381","v":1.1000000000000001},{"$f":"per_game!X381","v":7.9}]
[null,null,{"$f":"Roster!C382","v":"G"},15.662000000000001,{"$f":"per_game!B382 & \"-\" & D382","v":"Spencer Hawes-15.662"},{"$f":"per_game!I382","v":0.437},{"$f":"per_game!L382","v":0.4},{"$f":"per_game!O382","v":0.625},{"$f":"per_game!R382","v":5.2},{"$f":"per_game!S382","v":1.4},{"$f":"per_game!T382","v":0.3},{"$f":"per_game!U382","v":1.2},{"$f":"per_game!V382","v":1.1000000000000001},{"$f":"per_game!X382","v":7.2}]
[null,null,{"$f":"Roster!C383","v":"G"},13.786999999999999,{"$f":"per_game!B383 & \"-\" & D383","v":"Lavoy Allen-13.787"},{"$f":"per_game!I383","v":0.44600000000000001},{"$f":"per_game!L383","v":0},{"$f":"per_game!O383","v":0.94099999999999995},{"$f":"per_game!R383","v":4.5999999999999996},{"$f":"per_game!S383","v":1.1000000000000001},{"$f":"per_game!T383","v":0.1},{"$f":"per_game!U383","v":1.2},{"$f":"per_game!V383","v":0.8},{"$f":"per_game!X383","v":6.2}]
[null,null,{"$f":"Roster!C384","v":"G"},7.4179999999999993,{"$f":"per_game!B384 & \"-\" & D384","v":"Royal Ivey-7.418"},{"$f":"per_game!I384","v":0.38200000000000001},{"$f":"per_game!L384","v":0.28599999999999998},{"$f":"per_game!O384","v":0.75},{"$f":"per_game!R384","v":1.6},{"$f":"per_game!S384","v":0.7},{"$f":"per_game!T384","v":0.6},{"$f":"per_game!U384","v":0.1},{"$f":"per_game!V384","v":0.3},{"$f":"per_game!X384","v":3.3}]
[null,null,{"$f":"Roster!C385","v":"F"},4.1750000000000007,{"$f":"per_game!B385 & \"-\" & D385","v":"Maalik Wayns-4.175"},{"$f":"per_game!I385","v":0.24199999999999999},{"$f":"per_game!L385","v":0.33300000000000002},{"$f":"per_game!O385","v":1},{"$f":"per_game!R385","v":0.1},{"$f":"per_game!S385","v":0.5},{"$f":"per_game!T385","v":0},{"$f":"per_game!U385","v":0},{"$f":"per_game!V385","v":0.6},{"$f":"per_game!X385","v":2.6}]
[null,null,{"$f":"Roster!C386","v":"G-F"},6.9609999999999994,null,{"$f":"per_game!I386","v":0.41699999999999998},{"$f":"per_game!L386","v":0},{"$f":"per_game!O386","v":0.44400000000000001},{"$f":"per_game!R386","v":2.7},{"$f":"per_game!S386","v":0.5},{"$f":"per_game!T386","v":0.3},{"$f":"per_game!U386","v":0.4},{"$f":"per_game!V386","v":0.2},{"$f":"per_game!X386","v":2.4}]
[null,null,{"$f":"Roster!C387","v":"G"},2.6500000000000004,null,{"$f":"per_game!I387","v":0.25},{"$f":"per_game!L387","v":0},{"$f":"per_game!O387","v":0.5},{"$f":"per_game!R387","v":0.6},{"$f":"per_game!S387","v":0.1},{"$f":"per_game!T387","v":0.1},{"$f":"per_game!U387","v":0.1},{"$f":"per_game!V387","v":0},{"$f":"per_game!X387","v":1}]
[null,null,{"$f":"Roster!C388","v":"F"},{"$f":"$B$1*N388+$B$2*I388+$B$3*J388+$B$4*L388+$B$5*K388+$B$6*F388+$B$7*H388+$B$8*G388+$B$9*M388","v":2.75},null,{"$f":"per_game!I388","v":0.25},{"$f":"per_game!L388","v":0},{"$f":"per_game!O388","v":0.5},{"$f":"per_game!R388","v":1.2},{"$f":"per_game!S388","v":0},{"$f":"per_game!T388","v":0.2},{"$f":"per_game!U388","v":0},{"$f":"per_game!V388","v":0.2},{"$f":"per_game!X388","v":0.8}]
[null,null,{"$f":"Roster!C389","v":0},0,{"$f":"per_game!B389 & \"-\" & D389","v":"-0"},{"$f":"per_game!I389","v":0},{"$f":"per_game!L389","v":0},{"$f":"per_game!O389","v":0},{"$f":"per_game!R389","v":0},{"$f":"per_game!S389","v":0},{"$f":"per_game!T389","v":0},{"$f":"per_game!U389","v":0},{"$f":"per_game!V389","v":0},{"$f":"per_game!X389","v":0}]
[null,null,{"$f":"Roster!C390","v":0},0,{"$f":"per_game!B390 & \"-\" & D390","v":"-0"},{"$f":"per_game!I390","v":0},{"$f":"per_game!L390","v":0},{"$f":"per_game!O390","v":0},{"$f":"per_game!R390","v":0},{"$f":"per_game!S390","v":0},{"$f":"per_game!T390","v":0},{"$f":"per_game!U390","v":0},{"$f":"per_game!V390","v":0},{"$f":"per_game!X390","v":0}]
[null,null,{"$f":"Roster!C391","v":"Pos"},null,{"$f":"per_game!B391 & \"-\" & D391","v":"Player-"},{"$f":"per_game!I391","v":"FG%"},{"$f":"per_game!L391","v":"3P%"},{"$f":"per_game!O391","v":"FT%"},{"$f":"per_game!R391","v":"TRB"},{"$f":"per_game!S391","v":"AST"},{"$f":"per_game!T391","v":"STL"},{"$f":"per_game!U391","v":"BLK"},{"$f":"per_game!V391","v":"TOV"},{"$f":"per_game!X391","v":"PTS"}]
[null,null,{"$f":"Roster!C392","v":"F"},26.487999999999996,{"$f":"per_game!B392 & \"-\" & D392","v":"Goran Dragic-26.488"},{"$f":"per_game!I392","v":0.47},{"$f":"per_game!L392","v":0.375},{"$f":"per_game!O392","v":0.74299999999999999},{"$f":"per_game!R392","v":3.1},{"$f":"per_game!S392","v":6.6},{"$f":"per_game!T392","v":1.9},{"$f":"per_game!U392","v":0.3},{"$f":"per_game!V392","v":2.2999999999999998},{"$f":"per_game!X392","v":15.3}]
[null,null,{"$f":"Roster!C393","v":"G"},22.544000000000004,{"$f":"per_game!B393 & \"-\" & D393","v":"Luis Scola-22.544"},{"$f":"per_game!I393","v":0.46100000000000002},{"$f":"per_game!L393","v":0.33300000000000002},{"$f":"per_game!O393","v":0.85},{"$f":"per_game!R393","v":6.8},{"$f":"per_game!S393","v":1.6},{"$f":"per_game!T393","v":0.8},{"$f":"per_game!U393","v":0.6},{"$f":"per_game!V393","v":1.4},{"$f":"per_game!X393","v":12.5}]
[null,null,{"$f":"Roster!C394","v":"G"},17.829999999999995,{"$f":"per_game!B394 & \"-\" & D394","v":"Shannon Brown-17.83"},{"$f":"per_game!I394","v":0.40600000000000003},{"$f":"per_game!L394","v":0.316},{"$f":"per_game!O394","v":0.80800000000000005},{"$f":"per_game!R394","v":2.6},{"$f":"per_game!S394","v":2.1},{"$f":"per_game!T394","v":0.7},{"$f":"per_game!U394","v":0.2},{"$f":"per_game!V394","v":1.3},{"$f":"per_game!X394","v":12}]
[null,null,{"$f":"Roster!C395","v":"F"},18.404000000000003,{"$f":"per_game!B395 & \"-\" & D395","v":"Michael Beasley-18.404"},{"$f":"per_game!I395","v":0.39},{"$f":"per_game!L395","v":0.28899999999999998},{"$f":"per_game!O395","v":0.72499999999999998},{"$f":"per_game!R395","v":4.2},{"$f":"per_game!S395","v":2.5},{"$f":"per_game!T395","v":0.5},{"$f":"per_game!U395","v":0.7},{"$f":"per_game!V395","v":2.7},{"$f":"per_game!X395","v":11.8}]
[null,null,{"$f":"Roster!C396","v":"G"},23.310000000000002,{"$f":"per_game!B396 & \"-\" & D396","v":"Marcin Gortat-23.31"},{"$f":"per_game!I396","v":0.53600000000000003},{"$f":"per_game!L396","v":0},{"$f":"per_game!O396","v":0.67400000000000004},{"$f":"per_game!R396","v":8.3000000000000007},{"$f":"per_game!S396","v":1},{"$f":"per_game!T396","v":0.7},{"$f":"per_game!U396","v":2.1},{"$f":"per_game!V396","v":1.7},{"$f":"per_game!X396","v":11.7}]
[null,null,{"$f":"Roster!C397","v":"C-F"},16.716000000000001,{"$f":"per_game!B397 & \"-\" & D397","v":"Markieff Morris-16.716"},{"$f":"per_game!I397","v":0.42099999999999999},{"$f":"per_game!L397","v":0.34499999999999997},{"$f":"per_game!O397","v":0.75},{"$f":"per_game!R397","v":4.5999999999999996},{"$f":"per_game!S397","v":1.3},{"$f":"per_game!T397","v":0.9},{"$f":"per_game!U397","v":0.3},{"$f":"per_game!V397","v":0.9},{"$f":"per_game!X397","v":9}]
[null,null,{"$f":"Roster!C398","v":"F"},14.248999999999999,{"$f":"per_game!B398 & \"-\" & D398","v":"Jared Dudley-14.249"},{"$f":"per_game!I398","v":0.44900000000000001},{"$f":"per_game!L398","v":0.36799999999999999},{"$f":"per_game!O398","v":0.63200000000000001},{"$f":"per_game!R398","v":2.4},{"$f":"per_game!S398","v":1.7},{"$f":"per_game!T398","v":1},{"$f":"per_game!U398","v":0.1},{"$f":"per_game!V398","v":1},{"$f":"per_game!X398","v":8.6}]
[null,null,{"$f":"Roster!C399","v":"G"},15.894000000000002,{"$f":"per_game!B399 & \"-\" & D399","v":"Jermaine O'Neal-15.894"},{"$f":"per_game!I399","v":0.52400000000000002},{"$f":"per_game!L399","v":0},{"$f":"per_game!O399","v":0.87},{"$f":"per_game!R399","v":5.2},{"$f":"per_game!S399","v":0.3},{"$f":"per_game!T399","v":0.5},{"$f":"per_game!U399","v":1.7},{"$f":"per_game!V399","v":1},{"$f":"per_game!X399","v":7.8}]
[null,null,{"$f":"Roster!C400","v":"F"},12.236000000000001,{"$f":"per_game!B400 & \"-\" & D400","v":"Sebastian Telfair-12.236"},{"$f":"per_game!I400","v":0.40799999999999997},{"$f":"per_game!L400","v":0.32400000000000001},{"$f":"per_game!O400","v":0.70399999999999996},{"$f":"per_game!R400","v":1.8},{"$f":"per_game!S400","v":2.7},{"$f":"per_game!T400","v":0.8},{"$f":"per_game!U400","v":0.3},{"$f":"per_game!V400","v":0.9},{"$f":"per_game!X400","v":6.1}]
[null,null,{"$f":"Roster!C401","v":"F-C"},11.145999999999999,{"$f":"per_game!B401 & \"-\" & D401","v":"P.J. Tucker-11.146"},{"$f":"per_game!I401","v":0.50800000000000001},{"$f":"per_game!L401","v":0.42899999999999999},{"$f":"per_game!O401","v":0.60899999999999999},{"$f":"per_game!R401","v":3.6},{"$f":"per_game!S401","v":1.1000000000000001},{"$f":"per_game!T401","v":0.6},{"$f":"per_game!U401","v":0.3},{"$f":"per_game!V401","v":0.6},{"$f":"per_game!X401","v":4.5999999999999996}]
[null,null,{"$f":"Roster!C402","v":"F"},4,{"$f":"per_game!B402 & \"-\" & D402","v":"Luke Zeller-4"},{"$f":"per_game!I402","v":0.5},{"$f":"per_game!L402","v":0.5},{"$f":"per_game!O402","v":0},{"$f":"per_game!R402","v":0.8},{"$f":"per_game!S402","v":0},{"$f":"per_game!T402","v":0},{"$f":"per_game!U402","v":0},{"$f":"per_game!V402","v":0},{"$f":"per_game!X402","v":2.2000000000000002}]
[null,null,{"$f":"Roster!C403","v":"G"},6,null,{"$f":"per_game!I403","v":1},{"$f":"per_game!L403","v":0},{"$f":"per_game!O403","v":0},{"$f":"per_game!R403","v":0},{"$f":"per_game!S403","v":2},{"$f":"per_game!T403","v":1},{"$f":"per_game!U403","v":0},{"$f":"per_game!V403","v":0},{"$f":"per_game!X403","v":2}]
[null,null,{"$f":"Roster!C404","v":"F"},3.8360000000000012,null,{"$f":"per_game!I404","v":0.28599999999999998},{"$f":"per_game!L404","v":0.25},{"$f":"per_game!O404","v":0},{"$f":"per_game!R404","v":1.1000000000000001},{"$f":"per_game!S404","v":0.6},{"$f":"per_game!T404","v":0},{"$f":"per_game!U404","v":0.1},{"$f":"per_game!V404","v":0.3},{"$f":"per_game!X404","v":1.8}]
[null,null,{"$f":"Roster!C405","v":"C"},2.2830000000000004,null,{"$f":"per_game!I405","v":0.33300000000000002},{"$f":"per_game!L405","v":0.25},{"$f":"per_game!O405","v":0},{"$f":"per_game!R405","v":0},{"$f":"per_game!S405","v":0.8},{"$f":"per_game!T405","v":0.2},{"$f":"per_game!U405","v":0},{"$f":"per_game!V405","v":0.5},{"$f":"per_game!X405","v":1.2}]
[null,null,{"$f":"Roster!C406","v":0},0,{"$f":"per_game!B406 & \"-\" & D406","v":"-0"},{"$f":"per_game!I406","v":0},{"$f":"per_game!L406","v":0},{"$f":"per_game!O406","v":0},{"$f":"per_game!R406","v":0},{"$f":"per_game!S406","v":0},{"$f":"per_game!T406","v":0},{"$f":"per_game!U406","v":0},{"$f":"per_game!V406","v":0},{"$f":"per_game!X406","v":0}]
[null,null,{"$f":"Roster!C407","v":0},0,{"$f":"per_game!B407 & \"-\" & D407","v":"-0"},{"$f":"per_game!I407","v":0},{"$f":"per_game!L407","v":0},{"$f":"per_game!O407","v":0},{"$f":"per_game!R407","v":0},{"$f":"per_game!S407","v":0},{"$f":"per_game!T407","v":0},{"$f":"per_game!U407","v":0},{"$f":"per_game!V407","v":0},{"$f":"per_game!X407","v":0}]
[null,null,{"$f":"Roster!C408","v":"Pos"},null,{"$f":"per_game!B408 & \"-\" & D408","v":"Player-"},{"$f":"per_game!I408","v":"FG%"},{"$f":"per_game!L408","v":"3P%"},{"$f":"per_game!O408","v":"FT%"},{"$f":"per_game!R408","v":"TRB"},{"$f":"per_game!S408","v":"AST"},{"$f":"per_game!T408","v":"STL"},{"$f":"per_game!U408","v":"BLK"},{"$f":"per_game!V408","v":"TOV"},{"$f":"per_game!X408","v":"PTS"}]
[null,null,{"$f":"Roster!C409","v":"F"},32.53,{"$f":"per_game!B409 & \"-\" & D409","v":"LaMarcus Aldridge-32.53"},{"$f":"per_game!I409","v":0.45900000000000002},{"$f":"per_game!L409","v":0},{"$f":"per_game!O409","v":0.77100000000000002},{"$f":"per_game!R409","v":7.9},{"$f":"per_game!S409","v":2.8},{"$f":"per_game!T409","v":0.8},{"$f":"per_game!U409","v":1.2},{"$f":"per_game!V409","v":2.2000000000000002},{"$f":"per_game!X409","v":20.8}]
[null,null,{"$f":"Roster!C410","v":"F"},28.548999999999999,{"$f":"per_game!B410 & \"-\" & D410","v":"Damian Lillard-28.549"},{"$f":"per_game!I410","v":0.42699999999999999},{"$f":"per_game!L410","v":0.38900000000000001},{"$f":"per_game!O410","v":0.83299999999999996},{"$f":"per_game!R410","v":3.3},{"$f":"per_game!S410","v":6.3},{"$f":"per_game!T410","v":1.3},{"$f":"per_game!U410","v":0.2},{"$f":"per_game!V410","v":3.3},{"$f":"per_game!X410","v":19.100000000000001}]
[null,null,{"$f":"Roster!C411","v":"G"},29.033000000000005,{"$f":"per_game!B411 & \"-\" & D411","v":"Nicolas Batum-29.033"},{"$f":"per_game!I411","v":0.433},{"$f":"per_game!L411","v":0.376},{"$f":"per_game!O411","v":0.82399999999999995},{"$f":"per_game!R411","v":6.3},{"$f":"per_game!S411","v":3.2},{"$f":"per_game!T411","v":1.7},{"$f":"per_game!U411","v":1.1000000000000001},{"$f":"per_game!V411","v":2.5},{"$f":"per_game!X411","v":17.600000000000001}]
[null,null,{"$f":"Roster!C412","v":"F"},24.120999999999999,{"$f":"per_game!B412 & \"-\" & D412","v":"Wesley Matthews-24.121"},{"$f":"per_game!I412","v":0.42899999999999999},{"$f":"per_game!L412","v":0.38600000000000001},{"$f":"per_game!O412","v":0.70599999999999996},{"$f":"per_game!R412","v":3.2},{"$f":"per_game!S412","v":2.7},{"$f":"per_game!T412","v":1.9},{"$f":"per_game!U412","v":0.3},{"$f":"per_game!V412","v":1.4},{"$f":"per_game!X412","v":15.9}]
[null,null,{"$f":"Roster!C413","v":"F"},21.931000000000001,{"$f":"per_game!B413 & \"-\" & D413","v":"J.J. Hickson-21.931"},{"$f":"per_game!I413","v":0.52400000000000002},{"$f":"per_game!L413","v":0},{"$f":"per_game!O413","v":0.60699999999999998},{"$f":"per_game!R413","v":9.6},{"$f":"per_game!S413","v":0.9},{"$f":"per_game!T413","v":0.6},{"$f":"per_game!U413","v":0.6},{"$f":"per_game!V413","v":1.7},{"$f":"per_game!X413","v":10.8}]
[null,null,{"$f":"Roster!C414","v":"F-C"},11.269999999999998,{"$f":"per_game!B414 & \"-\" & D414","v":"Meyers Leonard-11.27"},{"$f":"per_game!I414","v":0.53},{"$f":"per_game!L414","v":0},{"$f":"per_game!O414","v":0.84},{"$f":"per_game!R414","v":3.8},{"$f":"per_game!S414","v":0.2},{"$f":"per_game!T414","v":0.4},{"$f":"per_game!U414","v":1},{"$f":"per_game!V414","v":0.6},{"$f":"per_game!X414","v":5.0999999999999996}]
[null,null,{"$f":"Roster!C415","v":"F"},7.3729999999999993,{"$f":"per_game!B415 & \"-\" & D415","v":"Ronnie Price-7.373"},{"$f":"per_game!I415","v":0.34899999999999998},{"$f":"per_game!L415","v":0.35699999999999998},{"$f":"per_game!O415","v":0.66700000000000004},{"$f":"per_game!R415","v":1.4},{"$f":"per_game!S415","v":1.9},{"$f":"per_game!T415","v":0.6},{"$f":"per_game!U415","v":0},{"$f":"per_game!V415","v":0.9},{"$f":"per_game!X415","v":3}]
[null,null,{"$f":"Roster!C416","v":"F"},5.6209999999999996,{"$f":"per_game!B416 & \"-\" & D416","v":"Will Barton-5.621"},{"$f":"per_game!I416","v":0.35399999999999998},{"$f":"per_game!L416","v":0.26700000000000002},{"$f":"per_game!O416","v":0.5},{"$f":"per_game!R416","v":1.4},{"$f":"per_game!S416","v":0.5},{"$f":"per_game!T416","v":0.5},{"$f":"per_game!U416","v":0.1},{"$f":"per_game!V416","v":0.8},{"$f":"per_game!X416","v":2.8}]
[null,null,{"$f":"Roster!C417","v":"C"},5.6959999999999997,{"$f":"per_game!B417 & \"-\" & D417","v":"Luke Babbitt-5.696"},{"$f":"per_game!I417","v":0.40699999999999997},{"$f":"per_game!L417","v":0.38900000000000001},{"$f":"per_game!O417","v":0},{"$f":"per_game!R417","v":1.5},{"$f":"per_game!S417","v":0.5},{"$f":"per_game!T417","v":0.3},{"$f":"per_game!U417","v":0.2},{"$f":"per_game!V417","v":0.2},{"$f":"per_game!X417","v":2.6}]
[null,null,{"$f":"Roster!C418","v":"G"},5.86,{"$f":"per_game!B418 & \"-\" & D418","v":"Joel Freeland-5.86"},{"$f":"per_game!I418","v":0.31},{"$f":"per_game!L418","v":0},{"$f":"per_game!O418","v":0.75},{"$f":"per_game!R418","v":2},{"$f":"per_game!S418","v":0.2},{"$f":"per_game!T418","v":0.4},{"$f":"per_game!U418","v":0.3},{"$f":"per_game!V418","v":0.5},{"$f":"per_game!X418","v":2.4}]
[null,null,{"$f":"Roster!C419","v":"G"},3.4820000000000002,{"$f":"per_game!B419 & \"-\" & D419","v":"Nolan Smith-3.482"},{"$f":"per_game!I419","v":0.35699999999999998},{"$f":"per_game!L419","v":0.125},{"$f":"per_game!O419","v":0.5},{"$f":"per_game!R419","v":0.5},{"$f":"per_game!S419","v":0.9},{"$f":"per_game!T419","v":0},{"$f":"per_game!U419","v":0},{"$f":"per_game!V419","v":1},{"$f":"per_game!X419","v":2.1}]
[null,null,{"$f":"Roster!C420","v":"G-F"},4.5739999999999998,null,{"$f":"per_game!I420","v":0.41699999999999998},{"$f":"per_game!L420","v":0.35699999999999998},{"$f":"per_game!O420","v":0},{"$f":"per_game!R420","v":1.1000000000000001},{"$f":"per_game!S420","v":0.5},{"$f":"per_game!T420","v":0.7},{"$f":"per_game!U420","v":0.1},{"$f":"per_game!V420","v":0.3},{"$f":"per_game!X420","v":1.7}]
[null,null,{"$f":"Roster!C421","v":"G"},3.0280000000000005,null,{"$f":"per_game!I421","v":0.27300000000000002},{"$f":"per_game!L421","v":0},{"$f":"per_game!O421","v":0.45500000000000002},{"$f":"per_game!R421","v":1.1000000000000001},{"$f":"per_game!S421","v":0.4},{"$f":"per_game!T421","v":0.1},{"$f":"per_game!U421","v":0.1},{"$f":"per_game!V421","v":0.5},{"$f":"per_game!X421","v":1.1000000000000001}]
[null,null,{"$f":"Roster!C422","v":"G"},1.6,null,{"$f":"per_game!I422","v":0},{"$f":"per_game!L422","v":0},{"$f":"per_game!O422","v":0.5},{"$f":"per_game!R422","v":1},{"$f":"per_game!S422","v":0.3},{"$f":"per_game!T422","v":0},{"$f":"per_game!U422","v":0},{"$f":"per_game!V422","v":0.5},{"$f":"per_game!X422","v":0.3}]
[null,null,{"$f":"Roster!C423","v":0},0,{"$f":"per_game!B423 & \"-\" & D423","v":"-0"},{"$f":"per_game!I423","v":0},{"$f":"per_game!L423","v":0},{"$f":"per_game!O423","v":0},{"$f":"per_game!R423","v":0},{"$f":"per_game!S423","v":0},{"$f":"per_game!T423","v":0},{"$f":"per_game!U423","v":0},{"$f":"per_game!V423","v":0},{"$f":"per_game!X423","v":0}]
[null,null,{"$f":"Roster!C424","v":0},0,{"$f":"per_game!B424 & \"-\" & D424","v":"-0"},{"$f":"per_game!I424","v":0},{"$f":"per_game!L424","v":0},{"$f":"per_game!O424","v":0},{"$f":"per_game!R424","v":0},{"$f":"per_game!S424","v":0},{"$f":"per_game!T424","v":0},{"$f":"per_game!U424","v":0},{"$f":"per_game!V424","v":0},{"$f":"per_game!X424","v":0}]
[null,null,{"$f":"Roster!C425","v":"Pos"},null,{"$f":"per_game!B425 & \"-\" & D425","v":"Player-"},{"$f":"per_game!I425","v":"FG%"},{"$f":"per_game!L425","v":"3P%"},{"$f":"per_game!O425","v":"FT%"},{"$f":"per_game!R425","v":"TRB"},{"$f":"per_game!S425","v":"AST"},{"$f":"per_game!T425","v":"STL"},{"$f":"per_game!U425","v":"BLK"},{"$f":"per_game!V425","v":"TOV"},{"$f":"per_game!X425","v":"PTS"}]
[null,null,{"$f":"Roster!C426","v":"G"},28.634,{"$f":"per_game!B426 & \"-\" & D426","v":"DeMarcus Cousins-28.634"},{"$f":"per_game!I426","v":0.41699999999999998},{"$f":"per_game!L426","v":0.5},{"$f":"per_game!O426","v":0.71699999999999997},{"$f":"per_game!R426","v":9.5},{"$f":"per_game!S426","v":2.1},{"$f":"per_game!T426","v":1.4},{"$f":"per_game!U426","v":0.6},{"$f":"per_game!V426","v":2.6},{"$f":"per_game!X426","v":16}]
[null,null,{"$f":"Roster!C427","v":"F"},20.944999999999997,{"$f":"per_game!B427 & \"-\" & D427","v":"Marcus Thornton-20.945"},{"$f":"per_game!I427","v":0.42699999999999999},{"$f":"per_game!L427","v":0.34},{"$f":"per_game!O427","v":0.77800000000000002},{"$f":"per_game!R427","v":2.9},{"$f":"per_game!S427","v":1.5},{"$f":"per_game!T427","v":0.7},{"$f":"per_game!U427","v":0},{"$f":"per_game!V427","v":0.8},{"$f":"per_game!X427","v":15.1}]
[null,null,{"$f":"Roster!C428","v":"G"},25.170999999999996,{"$f":"per_game!B428 & \"-\" & D428","v":"Tyreke Evans-25.171"},{"$f":"per_game!I428","v":0.45500000000000002},{"$f":"per_game!L428","v":0.27300000000000002},{"$f":"per_game!O428","v":0.84299999999999997},{"$f":"per_game!R428","v":5.0999999999999996},{"$f":"per_game!S428","v":3.7},{"$f":"per_game!T428","v":1.4},{"$f":"per_game!U428","v":0.6},{"$f":"per_game!V428","v":2.1},{"$f":"per_game!X428","v":14.9}]
[null,null,{"$f":"Roster!C429","v":"G"},20.867000000000001,{"$f":"per_game!B429 & \"-\" & D429","v":"Jason Thompson-20.867"},{"$f":"per_game!I429","v":0.50700000000000001},{"$f":"per_game!L429","v":0},{"$f":"per_game!O429","v":0.76},{"$f":"per_game!R429","v":7.1},{"$f":"per_game!S429","v":1.1000000000000001},{"$f":"per_game!T429","v":0.4},{"$f":"per_game!U429","v":1.2},{"$f":"per_game!V429","v":1.1000000000000001},{"$f":"per_game!X429","v":10.9}]
[null,null,{"$f":"Roster!C430","v":"F-G"},11.753,{"$f":"per_game!B430 & \"-\" & D430","v":"Isaiah Thomas-11.753"},{"$f":"per_game!I430","v":0.432},{"$f":"per_game!L430","v":0.375},{"$f":"per_game!O430","v":0.84599999999999997},{"$f":"per_game!R430","v":1.2},{"$f":"per_game!S430","v":1.8},{"$f":"per_game!T430","v":0.5},{"$f":"per_game!U430","v":0},{"$f":"per_game!V430","v":1.9},{"$f":"per_game!X430","v":8.5}]
[null,null,{"$f":"Roster!C431","v":"F"},12.636999999999999,{"$f":"per_game!B431 & \"-\" & D431","v":"Aaron Brooks-12.637"},{"$f":"per_game!I431","v":0.44500000000000001},{"$f":"per_game!L431","v":0.39200000000000002},{"$f":"per_game!O431","v":0.5},{"$f":"per_game!R431","v":1.8},{"$f":"per_game!S431","v":2.1},{"$f":"per_game!T431","v":0.6},{"$f":"per_game!U431","v":0.1},{"$f":"per_game!V431","v":0.9},{"$f":"per_game!X431","v":7.6}]
[null,null,{"$f":"Roster!C432","v":"F"},13.242000000000001,{"$f":"per_game!B432 & \"-\" & D432","v":"John Salmons-13.242"},{"$f":"per_game!I432","v":0.40799999999999997},{"$f":"per_game!L432","v":0.32},{"$f":"per_game!O432","v":0.71399999999999997},{"$f":"per_game!R432","v":2.9},{"$f":"per_game!S432","v":2},{"$f":"per_game!T432","v":0.8},{"$f":"per_game!U432","v":0.2},{"$f":"per_game!V432","v":1},{"$f":"per_game!X432","v":6.9}]
[null,null,{"$f":"Roster!C433","v":"F"},9.5689999999999973,{"$f":"per_game!B433 & \"-\" & D433","v":"Jimmer Fredette-9.569"},{"$f":"per_game!I433","v":0.46300000000000002},{"$f":"per_game!L433","v":0.41699999999999998},{"$f":"per_game!O433","v":0.88900000000000001},{"$f":"per_game!R433","v":0.5},{"$f":"per_game!S433","v":1.4},{"$f":"per_game!T433","v":0.2},{"$f":"per_game!U433","v":0.1},{"$f":"per_game!V433","v":0.7},{"$f":"per_game!X433","v":6.3}]
[null,null,{"$f":"Roster!C434","v":"F"},10.315,{"$f":"per_game!B434 & \"-\" & D434","v":"Thomas Robinson-10.315"},{"$f":"per_game!I434","v":0.48299999999999998},{"$f":"per_game!L434","v":0},{"$f":"per_game!O434","v":0.63200000000000001},{"$f":"per_game!R434","v":3.8},{"$f":"per_game!S434","v":0.7},{"$f":"per_game!T434","v":0.7},{"$f":"per_game!U434","v":0.4},{"$f":"per_game!V434","v":1.4},{"$f":"per_game!X434","v":5}]
[null,null,{"$f":"Roster!C435","v":"G"},9.3559999999999999,{"$f":"per_game!B435 & \"-\" & D435","v":"James Johnson-9.356"},{"$f":"per_game!I435","v":0.36499999999999999},{"$f":"per_game!L435","v":0},{"$f":"per_game!O435","v":0.59099999999999997},{"$f":"per_game!R435","v":2.2999999999999998},{"$f":"per_game!S435","v":1.1000000000000001},{"$f":"per_game!T435","v":1.3},{"$f":"per_game!U435","v":0.6},{"$f":"per_game!V435","v":1.6},{"$f":"per_game!X435","v":4.7}]
[null,null,{"$f":"Roster!C436","v":"G"},7.8,null,{"$f":"per_game!I436","v":0.33300000000000002},{"$f":"per_game!L436","v":0.16700000000000001},{"$f":"per_game!O436","v":0.5},{"$f":"per_game!R436","v":1.8},{"$f":"per_game!S436","v":1},{"$f":"per_game!T436","v":0.4},{"$f":"per_game!U436","v":0.6},{"$f":"per_game!V436","v":0.8},{"$f":"per_game!X436","v":3.8}]
[null,null,{"$f":"Roster!C437","v":"F"},12.154999999999999,null,{"$f":"per_game!I437","v":0.45500000000000002},{"$f":"per_game!L437","v":0},{"$f":"per_game!O437","v":0.5},{"$f":"per_game!R437","v":5.0999999999999996},{"$f":"per_game!S437","v":2.2999999999999998},{"$f":"per_game!T437","v":0.6},{"$f":"per_game!U437","v":0.6},{"$f":"per_game!V437","v":0.8},{"$f":"per_game!X437","v":3.4}]
[null,null,{"$f":"Roster!C438","v":"G"},5.6439999999999992,null,{"$f":"per_game!I438","v":0.4},{"$f":"per_game!L438","v":0.44400000000000001},{"$f":"per_game!O438","v":0},{"$f":"per_game!R438","v":0.7},{"$f":"per_game!S438","v":0.3},{"$f":"per_game!T438","v":0.7},{"$f":"per_game!U438","v":0.1},{"$f":"per_game!V438","v":0.4},{"$f":"per_game!X438","v":3.4}]
[null,null,{"$f":"Roster!C439","v":0},0,{"$f":"per_game!B439 & \"-\" & D439","v":"-0"},{"$f":"per_game!I439","v":0},{"$f":"per_game!L439","v":0},{"$f":"per_game!O439","v":0},{"$f":"per_game!R439","v":0},{"$f":"per_game!S439","v":0},{"$f":"per_game!T439","v":0},{"$f":"per_game!U439","v":0},{"$f":"per_game!V439","v":0},{"$f":"per_game!X439","v":0}]
[null,null,{"$f":"Roster!C440","v":0},0,{"$f":"per_game!B440 & \"-\" & D440","v":"-0"},{"$f":"per_game!I440","v":0},{"$f":"per_game!L440","v":0},{"$f":"per_game!O440","v":0},{"$f":"per_game!R440","v":0},{"$f":"per_game!S440","v":0},{"$f":"per_game!T440","v":0},{"$f":"per_game!U440","v":0},{"$f":"per_game!V440","v":0},{"$f":"per_game!X440","v":0}]
[null,null,{"$f":"Roster!C441","v":"Pos"},null,{"$f":"per_game!B441 & \"-\" & D441","v":"Player-"},{"$f":"per_game!I441","v":"FG%"},{"$f":"per_game!L441","v":"3P%"},{"$f":"per_game!O441","v":"FT%"},{"$f":"per_game!R441","v":"TRB"},{"$f":"per_game!S441","v":"AST"},{"$f":"per_game!T441","v":"STL"},{"$f":"per_game!U441","v":"BLK"},{"$f":"per_game!V441","v":"TOV"},{"$f":"per_game!X441","v":"PTS"}]
[null,null,{"$f":"Roster!C442","v":"G"},35.379999999999995,{"$f":"per_game!B442 & \"-\" & D442","v":"Tim Duncan-35.38"},{"$f":"per_game!I442","v":0.53800000000000003},{"$f":"per_game!L442","v":0.66700000000000004},{"$f":"per_game!O442","v":0.77500000000000002},{"$f":"per_game!R442","v":10.1},{"$f":"per_game!S442","v":2.6},{"$f":"per_game!T442","v":0.9},{"$f":"per_game!U442","v":2.4},{"$f":"per_game!V442","v":1.5},{"$f":"per_game!X442","v":18.899999999999999}]
[null,null,{"$f":"Roster!C443","v":"F"},28.666000000000004,{"$f":"per_game!B443 & \"-\" & D443","v":"Tony Parker-28.666"},{"$f":"per_game!I443","v":0.48799999999999999},{"$f":"per_game!L443","v":0.33300000000000002},{"$f":"per_game!O443","v":0.745},{"$f":"per_game!R443","v":3.1},{"$f":"per_game!S443","v":7.1},{"$f":"per_game!T443","v":0.7},{"$f":"per_game!U443","v":0.1},{"$f":"per_game!V443","v":2},{"$f":"per_game!X443","v":18.100000000000001}]
[null,null,{"$f":"Roster!C444","v":"F"},20.100999999999996,{"$f":"per_game!B444 & \"-\" & D444","v":"Manu Ginobili-20.101"},{"$f":"per_game!I444","v":0.4},{"$f":"per_game!L444","v":0.314},{"$f":"per_game!O444","v":0.78700000000000003},{"$f":"per_game!R444","v":3.1},{"$f":"per_game!S444","v":4.3},{"$f":"per_game!T444","v":1.4},{"$f":"per_game!U444","v":0.3},{"$f":"per_game!V444","v":2.2000000000000002},{"$f":"per_game!X444","v":11.7}]
[null,null,{"$f":"Roster!C445","v":"G"},17.045999999999999,{"$f":"per_game!B445 & \"-\" & D445","v":"Gary Neal-17.046"},{"$f":"per_game!I445","v":0.44400000000000001},{"$f":"per_game!L445","v":0.34},{"$f":"per_game!O445","v":0.86199999999999999},{"$f":"per_game!R445","v":3.2},{"$f":"per_game!S445","v":2},{"$f":"per_game!T445","v":0.6},{"$f":"per_game!U445","v":0},{"$f":"per_game!V445","v":1.5},{"$f":"per_game!X445","v":11.1}]
[null,null,{"$f":"Roster!C446","v":"F-C"},19.38,{"$f":"per_game!B446 & \"-\" & D446","v":"Kawhi Leonard-19.38"},{"$f":"per_game!I446","v":0.49299999999999999},{"$f":"per_game!L446","v":0.34599999999999997},{"$f":"per_game!O446","v":0.94099999999999995},{"$f":"per_game!R446","v":5.4},{"$f":"per_game!S446","v":1.3},{"$f":"per_game!T446","v":2},{"$f":"per_game!U446","v":0.2},{"$f":"per_game!V446","v":1.9},{"$f":"per_game!X446","v":10.6}]
[null,null,{"$f":"Roster!C447","v":"F-C"},16.888999999999999,{"$f":"per_game!B447 & \"-\" & D447","v":"Danny Green-16.889"},{"$f":"per_game!I447","v":0.41599999999999998},{"$f":"per_game!L447","v":0.36399999999999999},{"$f":"per_game!O447","v":0.90900000000000003},{"$f":"per_game!R447","v":3.5},{"$f":"per_game!S447","v":1.4},{"$f":"per_game!T447","v":0.9},{"$f":"per_game!U447","v":0.7},{"$f":"per_game!V447","v":1.1000000000000001},{"$f":"per_game!X447","v":9.8000000000000007}]
[null,null,{"$f":"Roster!C448","v":"G"},15.706,{"$f":"per_game!B448 & \"-\" & D448","v":"Tiago Splitter-15.706"},{"$f":"per_game!I448","v":0.57299999999999995},{"$f":"per_game!L448","v":0},{"$f":"per_game!O448","v":0.73299999999999998},{"$f":"per_game!R448","v":4.5},{"$f":"per_game!S448","v":1.2},{"$f":"per_game!T448","v":0.6},{"$f":"per_game!U448","v":0.7},{"$f":"per_game!V448","v":1.2},{"$f":"per_game!X448","v":8.6}]
[null,null,{"$f":"Roster!C449","v":"F"},14.739000000000001,{"$f":"per_game!B449 & \"-\" & D449","v":"Stephen Jackson-14.739"},{"$f":"per_game!I449","v":0.371},{"$f":"per_game!L449","v":0.28599999999999998},{"$f":"per_game!O449","v":0.68200000000000005},{"$f":"per_game!R449","v":4.3},{"$f":"per_game!S449","v":1.5},{"$f":"per_game!T449","v":1},{"$f":"per_game!U449","v":0.2},{"$f":"per_game!V449","v":1.3},{"$f":"per_game!X449","v":7.7}]
[null,null,{"$f":"Roster!C450","v":"F"},13.327000000000002,{"$f":"per_game!B450 & \"-\" & D450","v":"DeJuan Blair-13.327"},{"$f":"per_game!I450","v":0.46500000000000002},{"$f":"per_game!L450","v":0},{"$f":"per_game!O450","v":0.76200000000000001},{"$f":"per_game!R450","v":4.7},{"$f":"per_game!S450","v":1.1000000000000001},{"$f":"per_game!T450","v":0.9},{"$f":"per_game!U450","v":0.2},{"$f":"per_game!V450","v":1.2},{"$f":"per_game!X450","v":6.4}]
[null,null,{"$f":"Roster!C451","v":"G"},13.161999999999999,{"$f":"per_game!B451 & \"-\" & D451","v":"Boris Diaw-13.162"},{"$f":"per_game!I451","v":0.61199999999999999},{"$f":"per_game!L451","v":0.5},{"$f":"per_game!O451","v":0.65},{"$f":"per_game!R451","v":3.4},{"$f":"per_game!S451","v":2.5},{"$f":"per_game!T451","v":0.5},{"$f":"per_game!U451","v":0.2},{"$f":"per_game!V451","v":1},{"$f":"per_game!X451","v":5.8}]
[null,null,{"$f":"Roster!C452","v":"F"},{"$f":"$B$1*N452+$B$2*I452+$B$3*J452+$B$4*L452+$B$5*K452+$B$6*F452+$B$7*H452+$B$8*G452+$B$9*M452","v":7.97},{"$f":"per_game!B452 & \"-\" & D452","v":"Patrick Mills-7.97"},{"$f":"per_game!I452","v":0.44800000000000001},{"$f":"per_game!L452","v":0.35499999999999998},{"$f":"per_game!O452","v":0.66700000000000004},{"$f":"per_game!R452","v":1.1000000000000001},{"$f":"per_game!S452","v":1.1000000000000001},{"$f":"per_game!T452","v":0.5},{"$f":"per_game!U452","v":0.1},{"$f":"per_game!V452","v":1.2},{"$f":"per_game!X452","v":4.9000000000000004}]
[null,null,{"$f":"Roster!C453","v":"G"},7.1930000000000005,{"$f":"per_game!B453 & \"-\" & D453","v":"Matt Bonner-7.193"},{"$f":"per_game!I453","v":0.53700000000000003},{"$f":"per_game!L453","v":0.55600000000000005},{"$f":"per_game!O453","v":0},{"$f":"per_game!R453","v":1.6},{"$f":"per_game!S453","v":0.4},{"$f":"per_game!T453","v":0.2},{"$f":"per_game!U453","v":0.1},{"$f":"per_game!V453","v":0.4},{"$f":"per_game!X453","v":4.2}]
[null,null,{"$f":"Roster!C454","v":"G"},7.270999999999999,null,{"$f":"per_game!I454","v":0.57099999999999995},{"$f":"per_game!L454","v":0.5},{"$f":"per_game!O454","v":0.8},{"$f":"per_game!R454","v":1.3},{"$f":"per_game!S454","v":0.8},{"$f":"per_game!T454","v":0},{"$f":"per_game!U454","v":0.3},{"$f":"per_game!V454","v":0.5},{"$f":"per_game!X454","v":3.5}]
[null,null,{"$f":"Roster!C455","v":"G"},5.6829999999999998,null,{"$f":"per_game!I455","v":0.3},{"$f":"per_game!L455","v":0.33300000000000002},{"$f":"per_game!O455","v":0.75},{"$f":"per_game!R455","v":1.2},{"$f":"per_game!S455","v":1.4},{"$f":"per_game!T455","v":0.4},{"$f":"per_game!U455","v":0},{"$f":"per_game!V455","v":1.2},{"$f":"per_game!X455","v":2.5}]
[null,null,{"$f":"Roster!C456","v":"F"},4.0999999999999996,null,{"$f":"per_game!I456","v":0.3},{"$f":"per_game!L456","v":0.2},{"$f":"per_game!O456","v":0},{"$f":"per_game!R456","v":0.8},{"$f":"per_game!S456","v":1.5},{"$f":"per_game!T456","v":0.3},{"$f":"per_game!U456","v":0},{"$f":"per_game!V456","v":0.8},{"$f":"per_game!X456","v":1.8}]
[null,null,{"$f":"Roster!C457","v":0},0,{"$f":"per_game!B457 & \"-\" & D457","v":"-0"},{"$f":"per_game!I457","v":0},{"$f":"per_game!L457","v":0},{"$f":"per_game!O457","v":0},{"$f":"per_game!R457","v":0},{"$f":"per_game!S457","v":0},{"$f":"per_game!T457","v":0},{"$f":"per_game!U457","v":0},{"$f":"per_game!V457","v":0},{"$f":"per_game!X457","v":0}]
[null,null,{"$f":"Roster!C458","v":0},0,{"$f":"per_game!B458 & \"-\" & D458","v":"-0"},{"$f":"per_game!I458","v":0},{"$f":"per_game!L458","v":0},{"$f":"per_game!O458","v":0},{"$f":"per_game!R458","v":0},{"$f":"per_game!S458","v":0},{"$f":"per_game!T458","v":0},{"$f":"per_game!U458","v":0},{"$f":"per_game!V458","v":0},{"$f":"per_game!X458","v":0}]
[null,null,{"$f":"Roster!C459","v":"Pos"},null,{"$f":"per_game!B459 & \"-\" & D459","v":"Player-"},{"$f":"per_game!I459","v":"FG%"},{"$f":"per_game!L459","v":"3P%"},{"$f":"per_game!O459","v":"FT%"},{"$f":"per_game!R459","v":"TRB"},{"$f":"per_game!S459","v":"AST"},{"$f":"per_game!T459","v":"STL"},{"$f":"per_game!U459","v":"BLK"},{"$f":"per_game!V459","v":"TOV"},{"$f":"per_game!X459","v":"PTS"}]
[null,null,{"$f":"Roster!C460","v":"F"},26.457000000000001,{"$f":"per_game!B460 & \"-\" & D460","v":"DeMar DeRozan-26.457"},{"$f":"per_game!I460","v":0.44900000000000001},{"$f":"per_game!L460","v":0.32100000000000001},{"$f":"per_game!O460","v":0.78700000000000003},{"$f":"per_game!R460","v":5},{"$f":"per_game!S460","v":1.9},{"$f":"per_game!T460","v":1.1000000000000001},{"$f":"per_game!U460","v":0.2},{"$f":"per_game!V460","v":1.7},{"$f":"per_game!X460","v":18.399999999999999}]
[null,null,{"$f":"Roster!C461","v":"G-F"},24.377999999999997,{"$f":"per_game!B461 & \"-\" & D461","v":"Andrea Bargnani-24.378"},{"$f":"per_game!I461","v":0.40400000000000003},{"$f":"per_game!L461","v":0.34599999999999997},{"$f":"per_game!O461","v":0.82799999999999996},{"$f":"per_game!R461","v":4.5},{"$f":"per_game!S461","v":1.4},{"$f":"per_game!T461","v":0.7},{"$f":"per_game!U461","v":0.6},{"$f":"per_game!V461","v":1.8},{"$f":"per_game!X461","v":17.399999999999999}]
[null,null,{"$f":"Roster!C462","v":"F"},30.095999999999997,{"$f":"per_game!B462 & \"-\" & D462","v":"Kyle Lowry-30.096"},{"$f":"per_game!I462","v":0.42399999999999999},{"$f":"per_game!L462","v":0.375},{"$f":"per_game!O462","v":0.79700000000000004},{"$f":"per_game!R462","v":5.8},{"$f":"per_game!S462","v":5.6},{"$f":"per_game!T462","v":1.7},{"$f":"per_game!U462","v":0.8},{"$f":"per_game!V462","v":2.4},{"$f":"per_game!X462","v":17}]
[null,null,{"$f":"Roster!C463","v":"G"},20.060999999999993,{"$f":"per_game!B463 & \"-\" & D463","v":"Jose Calderon-20.061"},{"$f":"per_game!I463","v":0.43},{"$f":"per_game!L463","v":0.47899999999999998},{"$f":"per_game!O463","v":0.95199999999999996},{"$f":"per_game!R463","v":1.9},{"$f":"per_game!S463","v":7.3},{"$f":"per_game!T463","v":0.7},{"$f":"per_game!U463","v":0.2},{"$f":"per_game!V463","v":2.1},{"$f":"per_game!X463","v":10.199999999999999}]
[null,null,{"$f":"Roster!C464","v":"F"},17.672000000000001,{"$f":"per_game!B464 & \"-\" & D464","v":"Jonas Valanciunas-17.672"},{"$f":"per_game!I464","v":0.51600000000000001},{"$f":"per_game!L464","v":0},{"$f":"per_game!O464","v":0.75600000000000001},{"$f":"per_game!R464","v":5.7},{"$f":"per_game!S464","v":1.3},{"$f":"per_game!T464","v":0.3},{"$f":"per_game!U464","v":1.3},{"$f":"per_game!V464","v":1.3},{"$f":"per_game!X464","v":9.1}]
[null,null,{"$f":"Roster!C465","v":"G"},11.402999999999995,{"$f":"per_game!B465 & \"-\" & D465","v":"Alan Anderson-11.403"},{"$f":"per_game!I465","v":0.318},{"$f":"per_game!L465","v":0.29599999999999999},{"$f":"per_game!O465","v":0.88900000000000001},{"$f":"per_game!R465","v":1.3},{"$f":"per_game!S465","v":1.2},{"$f":"per_game!T465","v":0.7},{"$f":"per_game!U465","v":0.2},{"$f":"per_game!V465","v":0.8},{"$f":"per_game!X465","v":7.3}]
[null,null,{"$f":"Roster!C466","v":"F"},15.511999999999999,{"$f":"per_game!B466 & \"-\" & D466","v":"Amir Johnson-15.512"},{"$f":"per_game!I466","v":0.495},{"$f":"per_game!L466","v":0.33300000000000002},{"$f":"per_game!O466","v":0.68400000000000005},{"$f":"per_game!R466","v":5.2},{"$f":"per_game!S466","v":1.2},{"$f":"per_game!T466","v":0.8},{"$f":"per_game!U466","v":0.6},{"$f":"per_game!V466","v":0.9},{"$f":"per_game!X466","v":7.1}]
[null,null,{"$f":"Roster!C467","v":"C"},11.122999999999998,{"$f":"per_game!B467 & \"-\" & D467","v":"Linas Kleiza-11.123"},{"$f":"per_game!I467","v":0.34200000000000003},{"$f":"per_game!L467","v":0.23100000000000001},{"$f":"per_game!O467","v":0.85},{"$f":"per_game!R467","v":2.7},{"$f":"per_game!S467","v":0.7},{"$f":"per_game!T467","v":0.2},{"$f":"per_game!U467","v":0.1},{"$f":"per_game!V467","v":1},{"$f":"per_game!X467","v":7}]
[null,null,{"$f":"Roster!C468","v":"F"},9.8249999999999975,{"$f":"per_game!B468 & \"-\" & D468","v":"Terrence Ross-9.825"},{"$f":"per_game!I468","v":0.42299999999999999},{"$f":"per_game!L468","v":0.30199999999999999},{"$f":"per_game!O468","v":0.4},{"$f":"per_game!R468","v":2},{"$f":"per_game!S468","v":0.6},{"$f":"per_game!T468","v":0.7},{"$f":"per_game!U468","v":0.1},{"$f":"per_game!V468","v":0.8},{"$f":"per_game!X468","v":6.1}]
[null,null,{"$f":"Roster!C469","v":"F"},13.530999999999997,{"$f":"per_game!B469 & \"-\" & D469","v":"Ed Davis-13.531"},{"$f":"per_game!I469","v":0.57499999999999996},{"$f":"per_game!L469","v":0},{"$f":"per_game!O469","v":0.65600000000000003},{"$f":"per_game!R469","v":5.4},{"$f":"per_game!S469","v":0.7},{"$f":"per_game!T469","v":0.5},{"$f":"per_game!U469","v":0.7},{"$f":"per_game!V469","v":0.8},{"$f":"per_game!X469","v":5.8}]
[null,null,{"$f":"Roster!C470","v":"G"},7.125,{"$f":"per_game!B470 & \"-\" & D470","v":"Mickael Pietrus-7.125"},{"$f":"per_game!I470","v":0.25},{"$f":"per_game!L470","v":0.375},{"$f":"per_game!O470","v":0},{"$f":"per_game!R470","v":1},{"$f":"per_game!S470","v":0},{"$f":"per_game!T470","v":1},{"$f":"per_game!U470","v":0.5},{"$f":"per_game!V470","v":0.5},{"$f":"per_game!X470","v":4.5}]
[null,null,{"$f":"Roster!C471","v":"G"},6.6539999999999999,{"$f":"per_game!B471 & \"-\" & D471","v":"John Lucas-6.654"},{"$f":"per_game!I471","v":0.25800000000000001},{"$f":"per_game!L471","v":0.29599999999999999},{"$f":"per_game!O471","v":0.8},{"$f":"per_game!R471","v":0.9},{"$f":"per_game!S471","v":1.3},{"$f":"per_game!T471","v":0.4},{"$f":"per_game!U471","v":0},{"$f":"per_game!V471","v":0.4},{"$f":"per_game!X471","v":3.1}]
[null,null,{"$f":"Roster!C472","v":"F"},7.6749999999999989,null,{"$f":"per_game!I472","v":0.20799999999999999},{"$f":"per_game!L472","v":0},{"$f":"per_game!O472","v":0.66700000000000004},{"$f":"per_game!R472","v":3.2},{"$f":"per_game!S472","v":1.6},{"$f":"per_game!T472","v":0.6},{"$f":"per_game!U472","v":0},{"$f":"per_game!V472","v":1},{"$f":"per_game!X472","v":2.4}]
[null,null,{"$f":"Roster!C473","v":"G-F"},6.4660000000000002,null,{"$f":"per_game!I473","v":0.33300000000000002},{"$f":"per_game!L473","v":0},{"$f":"per_game!O473","v":0.83299999999999996},{"$f":"per_game!R473","v":2},{"$f":"per_game!S473","v":0},{"$f":"per_game!T473","v":0.7},{"$f":"per_game!U473","v":0.3},{"$f":"per_game!V473","v":0},{"$f":"per_game!X473","v":2.2999999999999998}]
[null,null,{"$f":"Roster!C474","v":"G"},7.1020000000000012,null,{"$f":"per_game!I474","v":0.46899999999999997},{"$f":"per_game!L474","v":0},{"$f":"per_game!O474","v":0.33300000000000002},{"$f":"per_game!R474","v":3.2},{"$f":"per_game!S474","v":0.7},{"$f":"per_game!T474","v":0.3},{"$f":"per_game!U474","v":0.5},{"$f":"per_game!V474","v":0.5},{"$f":"per_game!X474","v":2.1}]
[null,null,{"$f":"Roster!C475","v":"C"},4.9670000000000005,{"$f":"per_game!B475 & \"-\" & D475","v":"Aaron Gray-4.967"},{"$f":"per_game!I475","v":0.66700000000000004},{"$f":"per_game!L475","v":0},{"$f":"per_game!O475","v":0.5},{"$f":"per_game!R475","v":1.8},{"$f":"per_game!S475","v":0.4},{"$f":"per_game!T475","v":0.4},{"$f":"per_game!U475","v":0},{"$f":"per_game!V475","v":0.6},{"$f":"per_game!X475","v":1.8}]
[null,null,{"$f":"Roster!C476","v":0},0,{"$f":"per_game!B476 & \"-\" & D476","v":"-0"},{"$f":"per_game!I476","v":0},{"$f":"per_game!L476","v":0},{"$f":"per_game!O476","v":0},{"$f":"per_game!R476","v":0},{"$f":"per_game!S476","v":0},{"$f":"per_game!T476","v":0},{"$f":"per_game!U476","v":0},{"$f":"per_game!V476","v":0},{"$f":"per_game!X476","v":0}]
[null,null,{"$f":"Roster!C477","v":0},0,{"$f":"per_game!B477 & \"-\" & D477","v":"-0"},{"$f":"per_game!I477","v":0},{"$f":"per_game!L477","v":0},{"$f":"per_game!O477","v":0},{"$f":"per_game!R477","v":0},{"$f":"per_game!S477","v":0},{"$f":"per_game!T477","v":0},{"$f":"per_game!U477","v":0},{"$f":"per_game!V477","v":0},{"$f":"per_game!X477","v":0}]
[null,null,{"$f":"Roster!C478","v":"Pos"},null,{"$f":"per_game!B478 & \"-\" & D478","v":"Player-"},{"$f":"per_game!I478","v":"FG%"},{"$f":"per_game!L478","v":"3P%"},{"$f":"per_game!O478","v":"FT%"},{"$f":"per_game!R478","v":"TRB"},{"$f":"per_game!S478","v":"AST"},{"$f":"per_game!T478","v":"STL"},{"$f":"per_game!U478","v":"BLK"},{"$f":"per_game!V478","v":"TOV"},{"$f":"per_game!X478","v":"PTS"}]
[null,null,{"$f":"Roster!C479","v":"G"},31.358000000000004,{"$f":"per_game!B479 & \"-\" & D479","v":"Al Jefferson-31.358"},{"$f":"per_game!I479","v":0.47199999999999998},{"$f":"per_game!L479","v":0.2},{"$f":"per_game!O479","v":0.78600000000000003},{"$f":"per_game!R479","v":10.5},{"$f":"per_game!S479","v":1.9},{"$f":"per_game!T479","v":1.1000000000000001},{"$f":"per_game!U479","v":1.2},{"$f":"per_game!V479","v":1.5},{"$f":"per_game!X479","v":16.7}]
[null,null,{"$f":"Roster!C480","v":"F"},23.753000000000004,{"$f":"per_game!B480 & \"-\" & D480","v":"Mo Williams-23.753"},{"$f":"per_game!I480","v":0.439},{"$f":"per_game!L480","v":0.35},{"$f":"per_game!O480","v":0.96399999999999997},{"$f":"per_game!R480","v":2},{"$f":"per_game!S480","v":6.9},{"$f":"per_game!T480","v":1},{"$f":"per_game!U480","v":0.5},{"$f":"per_game!V480","v":2.7},{"$f":"per_game!X480","v":14.3}]
[null,null,{"$f":"Roster!C481","v":"F"},19.888000000000002,{"$f":"per_game!B481 & \"-\" & D481","v":"Gordon Hayward-19.888"},{"$f":"per_game!I481","v":0.43099999999999999},{"$f":"per_game!L481","v":0.32800000000000001},{"$f":"per_game!O481","v":0.82899999999999996},{"$f":"per_game!R481","v":3},{"$f":"per_game!S481","v":2},{"$f":"per_game!T481","v":0.8},{"$f":"per_game!U481","v":0.6},{"$f":"per_game!V481","v":2},{"$f":"per_game!X481","v":13.9}]
[null,null,{"$f":"Roster!C482","v":"F"},26.202999999999999,{"$f":"per_game!B482 & \"-\" & D482","v":"Paul Millsap-26.203"},{"$f":"per_game!I482","v":0.45200000000000001},{"$f":"per_game!L482","v":0.52400000000000002},{"$f":"per_game!O482","v":0.72699999999999998},{"$f":"per_game!R482","v":8.4},{"$f":"per_game!S482","v":2.5},{"$f":"per_game!T482","v":0.9},{"$f":"per_game!U482","v":0.9},{"$f":"per_game!V482","v":2.1},{"$f":"per_game!X482","v":13.9}]
[null,null,{"$f":"Roster!C483","v":"G"},16.600000000000001,{"$f":"per_game!B483 & \"-\" & D483","v":"Randy Foye-16.6"},{"$f":"per_game!I483","v":0.42799999999999999},{"$f":"per_game!L483","v":0.46100000000000002},{"$f":"per_game!O483","v":0.81100000000000005},{"$f":"per_game!R483","v":1.3},{"$f":"per_game!S483","v":1.9},{"$f":"per_game!T483","v":0.7},{"$f":"per_game!U483","v":0.4},{"$f":"per_game!V483","v":1.2},{"$f":"per_game!X483","v":11.8}]
[null,null,{"$f":"Roster!C484","v":"F"},17.084000000000003,{"$f":"per_game!B484 & \"-\" & D484","v":"Marvin Williams-17.084"},{"$f":"per_game!I484","v":0.45200000000000001},{"$f":"per_game!L484","v":0.35599999999999998},{"$f":"per_game!O484","v":0.77600000000000002},{"$f":"per_game!R484","v":3.8},{"$f":"per_game!S484","v":1.1000000000000001},{"$f":"per_game!T484","v":0.6},{"$f":"per_game!U484","v":0.6},{"$f":"per_game!V484","v":1},{"$f":"per_game!X484","v":10.4}]
[null,null,{"$f":"Roster!C485","v":"F"},19.756,{"$f":"per_game!B485 & \"-\" & D485","v":"Derrick Favors-19.756"},{"$f":"per_game!I485","v":0.44},{"$f":"per_game!L485","v":0},{"$f":"per_game!O485","v":0.71599999999999997},{"$f":"per_game!R485","v":7.5},{"$f":"per_game!S485","v":0.5},{"$f":"per_game!T485","v":0.9},{"$f":"per_game!U485","v":1.9},{"$f":"per_game!V485","v":1.5},{"$f":"per_game!X485","v":9.3000000000000007}]
[null,null,{"$f":"Roster!C486","v":"F"},12.421999999999999,{"$f":"per_game!B486 & \"-\" & D486","v":"DeMarre Carroll-12.422"},{"$f":"per_game!I486","v":0.439},{"$f":"per_game!L486","v":0.214},{"$f":"per_game!O486","v":0.76900000000000002},{"$f":"per_game!R486","v":3.4},{"$f":"per_game!S486","v":0.6},{"$f":"per_game!T486","v":0.9},{"$f":"per_game!U486","v":0.6},{"$f":"per_game!V486","v":0.3},{"$f":"per_game!X486","v":5.8}]
[null,null,{"$f":"Roster!C487","v":"F"},10.311,{"$f":"per_game!B487 & \"-\" & D487","v":"Enes Kanter-10.311"},{"$f":"per_game!I487","v":0.54},{"$f":"per_game!L487","v":0},{"$f":"per_game!O487","v":0.57099999999999995},{"$f":"per_game!R487","v":3.8},{"$f":"per_game!S487","v":0.4},{"$f":"per_game!T487","v":0.3},{"$f":"per_game!U487","v":0.5},{"$f":"per_game!V487","v":1.4},{"$f":"per_game!X487","v":5.6}]
[null,null,{"$f":"Roster!C488","v":"G"},10.672999999999998,{"$f":"per_game!B488 & \"-\" & D488","v":"Jamaal Tinsley-10.673"},{"$f":"per_game!I488","v":0.32700000000000001},{"$f":"per_game!L488","v":0.29599999999999999},{"$f":"per_game!O488","v":0.75},{"$f":"per_game!R488","v":1.9},{"$f":"per_game!S488","v":5.6},{"$f":"per_game!T488","v":0.8},{"$f":"per_game!U488","v":0.2},{"$f":"per_game!V488","v":1.9},{"$f":"per_game!X488","v":2.7}]
[null,null,{"$f":"Roster!C489","v":"G"},5.8500000000000005,null,{"$f":"per_game!I489","v":0.75},{"$f":"per_game!L489","v":0},{"$f":"per_game!O489","v":0.4},{"$f":"per_game!R489","v":1.5},{"$f":"per_game!S489","v":0.2},{"$f":"per_game!T489","v":0.2},{"$f":"per_game!U489","v":0.5},{"$f":"per_game!V489","v":0},{"$f":"per_game!X489","v":2.2999999999999998}]
[null,null,{"$f":"Roster!C490","v":"G"},4.6470000000000002,null,{"$f":"per_game!I490","v":0.25},{"$f":"per_game!L490","v":0.222},{"$f":"per_game!O490","v":0.375},{"$f":"per_game!R490","v":1},{"$f":"per_game!S490","v":0.4},{"$f":"per_game!T490","v":0.2},{"$f":"per_game!U490","v":0.2},{"$f":"per_game!V490","v":0.3},{"$f":"per_game!X490","v":2.2999999999999998}]
[null,null,{"$f":"Roster!C491","v":"F"},7.9879999999999995,null,{"$f":"per_game!I491","v":0.438},{"$f":"per_game!L491","v":0.25},{"$f":"per_game!O491","v":0},{"$f":"per_game!R491","v":1},{"$f":"per_game!S491","v":4.0999999999999996},{"$f":"per_game!T491","v":1.1000000000000001},{"$f":"per_game!U491","v":0},{"$f":"per_game!V491","v":1},{"$f":"per_game!X491","v":2.1}]
[null,null,{"$f":"Roster!C492","v":"G"},1.633,{"$f":"per_game!B492 & \"-\" & D492","v":"Kevin Murphy-1.633"},{"$f":"per_game!I492","v":0.33300000000000002},{"$f":"per_game!L492","v":0},{"$f":"per_game!O492","v":0},{"$f":"per_game!R492","v":0},{"$f":"per_game!S492","v":0},{"$f":"per_game!T492","v":0.3},{"$f":"per_game!U492","v":0},{"$f":"per_game!V492","v":0.3},{"$f":"per_game!X492","v":1.3}]
[null,null,{"$f":"Roster!C493","v":0},0,{"$f":"per_game!B493 & \"-\" & D493","v":"-0"},{"$f":"per_game!I493","v":0},{"$f":"per_game!L493","v":0},{"$f":"per_game!O493","v":0},{"$f":"per_game!R493","v":0},{"$f":"per_game!S493","v":0},{"$f":"per_game!T493","v":0},{"$f":"per_game!U493","v":0},{"$f":"per_game!V493","v":0},{"$f":"per_game!X493","v":0}]
[null,null,{"$f":"Roster!C494","v":0},0,{"$f":"per_game!B494 & \"-\" & D494","v":"-0"},{"$f":"per_game!I494","v":0},{"$f":"per_game!L494","v":0},{"$f":"per_game!O494","v":0},{"$f":"per_game!R494","v":0},{"$f":"per_game!S494","v":0},{"$f":"per_game!T494","v":0},{"$f":"per_game!U494","v":0},{"$f":"per_game!V494","v":0},{"$f":"per_game!X494","v":0}]
[null,null,{"$f":"Roster!C495","v":"Pos"},null,{"$f":"per_game!B495 & \"-\" & D495","v":"Player-"},{"$f":"per_game!I495","v":"FG%"},{"$f":"per_game!L495","v":"3P%"},{"$f":"per_game!O495","v":"FT%"},{"$f":"per_game!R495","v":"TRB"},{"$f":"per_game!S495","v":"AST"},{"$f":"per_game!T495","v":"STL"},{"$f":"per_game!U495","v":"BLK"},{"$f":"per_game!V495","v":"TOV"},{"$f":"per_game!X495","v":"PTS"}]
[null,null,{"$f":"Roster!C496","v":"F"},19.297000000000001,{"$f":"per_game!B496 & \"-\" & D496","v":"Jordan Crawford-19.297"},{"$f":"per_game!I496","v":0.41199999999999998},{"$f":"per_game!L496","v":0.28000000000000003},{"$f":"per_game!O496","v":0.80500000000000005},{"$f":"per_game!R496","v":3.2},{"$f":"per_game!S496","v":3.4},{"$f":"per_game!T496","v":0.3},{"$f":"per_game!U496","v":0.1},{"$f":"per_game!V496","v":2.2999999999999998},{"$f":"per_game!X496","v":13.1}]
[null,null,{"$f":"Roster!C497","v":"C"},19.144000000000002,{"$f":"per_game!B497 & \"-\" & D497","v":"Nene Hilario-19.144"},{"$f":"per_game!I497","v":0.51700000000000002},{"$f":"per_game!L497","v":0},{"$f":"per_game!O497","v":0.72699999999999998},{"$f":"per_game!R497","v":4.8},{"$f":"per_game!S497","v":1.3},{"$f":"per_game!T497","v":1.3},{"$f":"per_game!U497","v":0.3},{"$f":"per_game!V497","v":1.3},{"$f":"per_game!X497","v":11.5}]
[null,null,{"$f":"Roster!C498","v":"G"},18.243999999999996,{"$f":"per_game!B498 & \"-\" & D498","v":"Kevin Seraphin-18.244"},{"$f":"per_game!I498","v":0.46100000000000002},{"$f":"per_game!L498","v":0},{"$f":"per_game!O498","v":0.58299999999999996},{"$f":"per_game!R498","v":5.5},{"$f":"per_game!S498","v":1.2},{"$f":"per_game!T498","v":0.5},{"$f":"per_game!U498","v":0.9},{"$f":"per_game!V498","v":2.4},{"$f":"per_game!X498","v":11.5}]
[null,null,{"$f":"Roster!C499","v":"F"},17.031999999999996,{"$f":"per_game!B499 & \"-\" & D499","v":"Bradley Beal-17.032"},{"$f":"per_game!I499","v":0.33600000000000002},{"$f":"per_game!L499","v":0.33900000000000002},{"$f":"per_game!O499","v":0.85699999999999998},{"$f":"per_game!R499","v":3.3},{"$f":"per_game!S499","v":1.7},{"$f":"per_game!T499","v":0.8},{"$f":"per_game!U499","v":0.5},{"$f":"per_game!V499","v":1.8},{"$f":"per_game!X499","v":11}]
[null,null,{"$f":"Roster!C500","v":"G"},17.827999999999999,{"$f":"per_game!B500 & \"-\" & D500","v":"A.J. Price-17.828"},{"$f":"per_game!I500","v":0.35399999999999998},{"$f":"per_game!L500","v":0.32800000000000001},{"$f":"per_game!O500","v":0.84599999999999997},{"$f":"per_game!R500","v":3.2},{"$f":"per_game!S500","v":5.2},{"$f":"per_game!T500","v":0.6},{"$f":"per_game!U500","v":0},{"$f":"per_game!V500","v":1.6},{"$f":"per_game!X500","v":8.9}]
[null,null,{"$f":"Roster!C501","v":"F-C"},14.655999999999999,{"$f":"per_game!B501 & \"-\" & D501","v":"Martell Webster-14.656"},{"$f":"per_game!I501","v":0.45700000000000002},{"$f":"per_game!L501","v":0.41},{"$f":"per_game!O501","v":0.88900000000000001},{"$f":"per_game!R501","v":3.5},{"$f":"per_game!S501","v":1.2},{"$f":"per_game!T501","v":0.5},{"$f":"per_game!U501","v":0.4},{"$f":"per_game!V501","v":1.3},{"$f":"per_game!X501","v":8.6}]
[null,null,{"$f":"Roster!C502","v":"G"},17.746000000000002,{"$f":"per_game!B502 & \"-\" & D502","v":"Trevor Ariza-17.746"},{"$f":"per_game!I502","v":0.35},{"$f":"per_game!L502","v":0.25600000000000001},{"$f":"per_game!O502","v":0.84},{"$f":"per_game!R502","v":5.0999999999999996},{"$f":"per_game!S502","v":1.9},{"$f":"per_game!T502","v":1.8},{"$f":"per_game!U502","v":0.5},{"$f":"per_game!V502","v":1.4},{"$f":"per_game!X502","v":8.4}]
[null,null,{"$f":"Roster!C503","v":"F"},16.604000000000003,{"$f":"per_game!B503 & \"-\" & D503","v":"Emeka Okafor-16.604"},{"$f":"per_game!I503","v":0.40400000000000003},{"$f":"per_game!L503","v":0},{"$f":"per_game!O503","v":0.7},{"$f":"per_game!R503","v":5.9},{"$f":"per_game!S503","v":0.9},{"$f":"per_game!T503","v":0.8},{"$f":"per_game!U503","v":1.6},{"$f":"per_game!V503","v":0.9},{"$f":"per_game!X503","v":7.2}]
[null,null,{"$f":"Roster!C504","v":"C-F"},15.352999999999998,{"$f":"per_game!B504 & \"-\" & D504","v":"Trevor Booker-15.353"},{"$f":"per_game!I504","v":0.45300000000000001},{"$f":"per_game!L504","v":0},{"$f":"per_game!O504","v":0.6},{"$f":"per_game!R504","v":5.6},{"$f":"per_game!S504","v":1.4},{"$f":"per_game!T504","v":1.2},{"$f":"per_game!U504","v":0.6},{"$f":"per_game!V504","v":1.3},{"$f":"per_game!X504","v":6.8}]
[null,null,{"$f":"Roster!C505","v":"G"},10.282999999999999,{"$f":"per_game!B505 & \"-\" & D505","v":"Shaun Livingston-10.283"},{"$f":"per_game!I505","v":0.48299999999999998},{"$f":"per_game!L505","v":0},{"$f":"per_game!O505","v":1},{"$f":"per_game!R505","v":2},{"$f":"per_game!S505","v":1.8},{"$f":"per_game!T505","v":0.5},{"$f":"per_game!U505","v":0.2},{"$f":"per_game!V505","v":1},{"$f":"per_game!X505","v":5.3}]
[null,null,{"$f":"Roster!C506","v":"G"},10.438999999999998,{"$f":"per_game!B506 & \"-\" & D506","v":"Chris Singleton-10.439"},{"$f":"per_game!I506","v":0.45800000000000002},{"$f":"per_game!L506","v":0.125},{"$f":"per_game!O506","v":0.55600000000000005},{"$f":"per_game!R506","v":3.6},{"$f":"per_game!S506","v":0.6},{"$f":"per_game!T506","v":0.9},{"$f":"per_game!U506","v":0.1},{"$f":"per_game!V506","v":0.9},{"$f":"per_game!X506","v":5}]
[null,null,{"$f":"Roster!C507","v":"F"},7.5609999999999982,{"$f":"per_game!B507 & \"-\" & D507","v":"Cartier Martin-7.561"},{"$f":"per_game!I507","v":0.34499999999999997},{"$f":"per_game!L507","v":0.316},{"$f":"per_game!O507","v":1},{"$f":"per_game!R507","v":1.3},{"$f":"per_game!S507","v":0.1},{"$f":"per_game!T507","v":0.6},{"$f":"per_game!U507","v":0},{"$f":"per_game!V507","v":0.4},{"$f":"per_game!X507","v":4.3}]
[null,null,{"$f":"Roster!C508","v":"F"},8.1590000000000007,{"$f":"per_game!B508 & \"-\" & D508","v":"Earl Barron-8.159"},{"$f":"per_game!I508","v":0.52600000000000002},{"$f":"per_game!L508","v":0},{"$f":"per_game!O508","v":0.33300000000000002},{"$f":"per_game!R508","v":3.3},{"$f":"per_game!S508","v":0.3},{"$f":"per_game!T508","v":0.5},{"$f":"per_game!U508","v":0.2},{"$f":"per_game!V508","v":0.5},{"$f":"per_game!X508","v":3.5}]
[null,null,{"$f":"Roster!C509","v":"F"},6.3000000000000007,{"$f":"per_game!B509 & \"-\" & D509","v":"Jannero Pargo-6.3"},{"$f":"per_game!I509","v":0.25},{"$f":"per_game!L509","v":0.15},{"$f":"per_game!O509","v":1},{"$f":"per_game!R509","v":0.9},{"$f":"per_game!S509","v":2},{"$f":"per_game!T509","v":0},{"$f":"per_game!U509","v":0.1},{"$f":"per_game!V509","v":1.1000000000000001},{"$f":"per_game!X509","v":3}]
[null,null,{"$f":"Roster!C510","v":"G-F"},5.5640000000000001,{"$f":"per_game!B510 & \"-\" & D510","v":"Jan Vesely-5.564"},{"$f":"per_game!I510","v":0.433},{"$f":"per_game!L510","v":0},{"$f":"per_game!O510","v":0.23100000000000001},{"$f":"per_game!R510","v":2.1},{"$f":"per_game!S510","v":0.6},{"$f":"per_game!T510","v":0.4},{"$f":"per_game!U510","v":0.3},{"$f":"per_game!V510","v":0.6},{"$f":"per_game!X510","v":2.1}]
[null,null,{"$f":"Roster!C511","v":0},null,null,{"$f":"per_game!I511","v":0},{"$f":"per_game!L511","v":0}]
[null,null,{"$f":"Roster!C512","v":0},null,null,{"$f":"per_game!I512","v":0},{"$f":"per_game!L512","v":0}]
[null,null,{"$f":"Roster!C513","v":0},null,null,{"$f":"per_game!I513","v":0},{"$f":"per_game!L513","v":0}]

{"sheet":"custom","index":9,"n_rows":513,"n_cols":26,"rows_kept":513,"cut":false,"hidden":true,"merged":[]}
["Points",{"$f":"'Create Team'!B24","v":1}]
["Rebounds",{"$f":"'Create Team'!B25","v":1}]
["Assists",{"$f":"'Create Team'!B26","v":1},null,null,null,"G","GS","MP","FG","FGA","FG%","3P","3PA","3P%","FT","FTA","FT%","ORB","DRB","TRB","AST","STL","BLK","TOV","PF","PTS"]
["Blocks",{"$f":"'Create Team'!B27","v":1},{"$f":"Roster!C3","v":"G"},{"$f":"F4*$B$21+G4*$B$20+H4*$B$19+I4*$B$13+J4*$B$14+K4*$B$6+L4*$B$17+M4*$B$18+N4*$B$8+O4*$B$15+P4*$B$16+Q4*$B$7+R4*$B$10+S4*$B$11+T4*$B$2+U4*$B$3+V4*$B$5+W4*$B$4+X4*$B$9+Y4*$B$12+Z4*$B$1","v":123.97900000000001},{"$f":"per_game!B3 & \"-\" & D4","v":"Josh Smith-123.979"},{"$f":"per_game!D3","v":13},{"$f":"per_game!E3","v":13},{"$f":"per_game!F3","v":34.9},{"$f":"per_game!G3","v":7},{"$f":"per_game!H3","v":15.8},{"$f":"per_game!I3","v":0.44400000000000001},{"$f":"per_game!J3","v":0.4},{"$f":"per_game!K3","v":1.1000000000000001},{"$f":"per_game!L3","v":0.35699999999999998},{"$f":"per_game!M3","v":1.7},{"$f":"per_game!N3","v":3.5},{"$f":"per_game!O3","v":0.47799999999999998},{"$f":"per_game!P3","v":1.8},{"$f":"per_game!Q3","v":5.8},{"$f":"per_game!R3","v":7.6},{"$f":"per_game!S3","v":3.7},{"$f":"per_game!T3","v":1.4},{"$f":"per_game!U3","v":2.4},{"$f":"per_game!V3","v":3.2},{"$f":"per_game!W3","v":3.3},{"$f":"per_game!X3","v":16.100000000000001}]
["Steals",{"$f":"'Create Team'!B28","v":1},{"$f":"Roster!C4","v":"C"},{"$f":"F5*$B$21+G5*$B$20+H5*$B$19+I5*$B$13+J5*$B$14+K5*$B$6+L5*$B$17+M5*$B$18+N5*$B$8+O5*$B$15+P5*$B$16+Q5*$B$7+R5*$B$10+S5*$B$11+T5*$B$2+U5*$B$3+V5*$B$5+W5*$B$4+X5*$B$9+Y5*$B$12+Z5*$B$1","v":125.55800000000001},{"$f":"per_game!B4 & \"-\" & D5","v":"Al Horford-125.558"},{"$f":"per_game!D4","v":13},{"$f":"per_game!E4","v":13},{"$f":"per_game!F4","v":36.6},{"$f":"per_game!G4","v":7.1},{"$f":"per_game!H4","v":13.2},{"$f":"per_game!I4","v":0.53500000000000003},{"$f":"per_game!J4","v":0},{"$f":"per_game!K4","v":0},{"$f":"per_game!L4","v":0},{"$f":"per_game!M4","v":1.8},{"$f":"per_game!N4","v":3.4},{"$f":"per_game!O4","v":0.52300000000000002},{"$f":"per_game!P4","v":2.7},{"$f":"per_game!Q4","v":6.8},{"$f":"per_game!R4","v":9.5},{"$f":"per_game!S4","v":3.5},{"$f":"per_game!T4","v":0.5},{"$f":"per_game!U4","v":1.1000000000000001},{"$f":"per_game!V4","v":1.8},{"$f":"per_game!W4","v":1.8},{"$f":"per_game!X4","v":15.9}]
["FG %",{"$f":"'Create Team'!B29","v":1},{"$f":"Roster!C5","v":"G"},88.414000000000001,{"$f":"per_game!B5 & \"-\" & D6","v":"Louis Williams-88.414"},{"$f":"per_game!D5","v":14},{"$f":"per_game!E5","v":0},{"$f":"per_game!F5","v":24.3},{"$f":"per_game!G5","v":4.5},{"$f":"per_game!H5","v":10.6},{"$f":"per_game!I5","v":0.42299999999999999},{"$f":"per_game!J5","v":1.5},{"$f":"per_game!K5","v":4.7},{"$f":"per_game!L5","v":0.318},{"$f":"per_game!M5","v":3.4},{"$f":"per_game!N5","v":3.9},{"$f":"per_game!O5","v":0.873},{"$f":"per_game!P5","v":0.2},{"$f":"per_game!Q5","v":1.8},{"$f":"per_game!R5","v":2},{"$f":"per_game!S5","v":3.3},{"$f":"per_game!T5","v":1.1000000000000001},{"$f":"per_game!U5","v":0.3},{"$f":"per_game!V5","v":1.4},{"$f":"per_game!W5","v":1.3},{"$f":"per_game!X5","v":13.9}]
["FT %",{"$f":"'Create Team'!B30","v":1},{"$f":"Roster!C6","v":"F"},108.08799999999999,{"$f":"per_game!B6 & \"-\" & D7","v":"Jeff Teague-108.088"},{"$f":"per_game!D6","v":14},{"$f":"per_game!E6","v":14},{"$f":"per_game!F6","v":31},{"$f":"per_game!G6","v":5.4},{"$f":"per_game!H6","v":11.5},{"$f":"per_game!I6","v":0.46600000000000003},{"$f":"per_game!J6","v":1.1000000000000001},{"$f":"per_game!K6","v":2.4},{"$f":"per_game!L6","v":0.45500000000000002},{"$f":"per_game!M6","v":1.9},{"$f":"per_game!N6","v":2.1},{"$f":"per_game!O6","v":0.86699999999999999},{"$f":"per_game!P6","v":0.6},{"$f":"per_game!Q6","v":1.9},{"$f":"per_game!R6","v":2.4},{"$f":"per_game!S6","v":7.1},{"$f":"per_game!T6","v":1.8},{"$f":"per_game!U6","v":0.4},{"$f":"per_game!V6","v":3},{"$f":"per_game!W6","v":1.9},{"$f":"per_game!X6","v":13.6}]
["3 pt %",{"$f":"'Create Team'!B31","v":1},{"$f":"Roster!C7","v":"F"},98.204000000000008,{"$f":"per_game!B7 & \"-\" & D8","v":"Kyle Korver-98.204"},{"$f":"per_game!D7","v":13},{"$f":"per_game!E7","v":13},{"$f":"per_game!F7","v":29.3},{"$f":"per_game!G7","v":3.6},{"$f":"per_game!H7","v":8.5},{"$f":"per_game!I7","v":0.42699999999999999},{"$f":"per_game!J7","v":2.6},{"$f":"per_game!K7","v":6.2},{"$f":"per_game!L7","v":0.42},{"$f":"per_game!M7","v":0.9},{"$f":"per_game!N7","v":1.1000000000000001},{"$f":"per_game!O7","v":0.85699999999999998},{"$f":"per_game!P7","v":0.3},{"$f":"per_game!Q7","v":3.4},{"$f":"per_game!R7","v":3.7},{"$f":"per_game!S7","v":1.6},{"$f":"per_game!T7","v":1},{"$f":"per_game!U7","v":0.4},{"$f":"per_game!V7","v":0.7},{"$f":"per_game!W7","v":2.2000000000000002},{"$f":"per_game!X7","v":10.8}]
["Turnovers",{"$f":"'Create Team'!B32","v":-1},{"$f":"Roster!C8","v":"G"},76.426999999999992,{"$f":"per_game!B8 & \"-\" & D9","v":"Zaza Pachulia-76.427"},{"$f":"per_game!D8","v":14},{"$f":"per_game!E8","v":5},{"$f":"per_game!F8","v":24.4},{"$f":"per_game!G8","v":2.6},{"$f":"per_game!H8","v":5.0999999999999996},{"$f":"per_game!I8","v":0.5},{"$f":"per_game!J8","v":0},{"$f":"per_game!K8","v":0.1},{"$f":"per_game!L8","v":0},{"$f":"per_game!M8","v":1.7},{"$f":"per_game!N8","v":2.4},{"$f":"per_game!O8","v":0.72699999999999998},{"$f":"per_game!P8","v":2.8},{"$f":"per_game!Q8","v":4.4000000000000004},{"$f":"per_game!R8","v":7.1},{"$f":"per_game!S8","v":1.6},{"$f":"per_game!T8","v":0.8},{"$f":"per_game!U8","v":0.4},{"$f":"per_game!V8","v":1.7},{"$f":"per_game!W8","v":2.4},{"$f":"per_game!X8","v":6.9}]
[" Offensive Rebounds",{"$f":"'Create Team'!B33","v":1},{"$f":"Roster!C9","v":"C"},65.171999999999997,{"$f":"per_game!B9 & \"-\" & D10","v":"Devin Harris-65.172"},{"$f":"per_game!D9","v":12},{"$f":"per_game!E9","v":4},{"$f":"per_game!F9","v":21.8},{"$f":"per_game!G9","v":2.5},{"$f":"per_game!H9","v":6.1},{"$f":"per_game!I9","v":0.41099999999999998},{"$f":"per_game!J9","v":0.9},{"$f":"per_game!K9","v":2.9},{"$f":"per_game!L9","v":0.314},{"$f":"per_game!M9","v":0.9},{"$f":"per_game!N9","v":1.4},{"$f":"per_game!O9","v":0.64700000000000002},{"$f":"per_game!P9","v":0.1},{"$f":"per_game!Q9","v":1.5},{"$f":"per_game!R9","v":1.6},{"$f":"per_game!S9","v":2.5},{"$f":"per_game!T9","v":1},{"$f":"per_game!U9","v":0.4},{"$f":"per_game!V9","v":1.2},{"$f":"per_game!W9","v":1.4},{"$f":"per_game!X9","v":6.8}]
["Defensive Rebounds",{"$f":"'Create Team'!B34","v":1},{"$f":"Roster!C10","v":"C"},71.199999999999989,{"$f":"per_game!B10 & \"-\" & D11","v":"DeShawn Stevenson-71.2"},{"$f":"per_game!D10","v":11},{"$f":"per_game!E10","v":7},{"$f":"per_game!F10","v":25.5},{"$f":"per_game!G10","v":2.2000000000000002},{"$f":"per_game!H10","v":5.5},{"$f":"per_game!I10","v":0.4},{"$f":"per_game!J10","v":1.8},{"$f":"per_game!K10","v":4.5},{"$f":"per_game!L10","v":0.4},{"$f":"per_game!M10","v":0.2},{"$f":"per_game!N10","v":0.5},{"$f":"per_game!O10","v":0.4},{"$f":"per_game!P10","v":0.4},{"$f":"per_game!Q10","v":2.4},{"$f":"per_game!R10","v":2.7},{"$f":"per_game!S10","v":1.1000000000000001},{"$f":"per_game!T10","v":0.5},{"$f":"per_game!U10","v":0.3},{"$f":"per_game!V10","v":0.5},{"$f":"per_game!W10","v":1.5},{"$f":"per_game!X10","v":6.4}]
["Personal Fouls",{"$f":"'Create Team'!B35","v":-1},{"$f":"Roster!C11","v":"F"},41.388000000000012,{"$f":"per_game!B11 & \"-\" & D12","v":"Anthony Morrow-41.388"},{"$f":"per_game!D11","v":11},{"$f":"per_game!E11","v":0},{"$f":"per_game!F11","v":12.4},{"$f":"per_game!G11","v":2.2000000000000002},{"$f":"per_game!H11","v":4.5},{"$f":"per_game!I11","v":0.48},{"$f":"per_game!J11","v":0.7},{"$f":"per_game!K11","v":1.4},{"$f":"per_game!L11","v":0.53300000000000003},{"$f":"per_game!M11","v":0.6},{"$f":"per_game!N11","v":0.7},{"$f":"per_game!O11","v":0.875},{"$f":"per_game!P11","v":0.2},{"$f":"per_game!Q11","v":0.5},{"$f":"per_game!R11","v":0.6},{"$f":"per_game!S11","v":0.1},{"$f":"per_game!T11","v":0.7},{"$f":"per_game!U11","v":0.1},{"$f":"per_game!V11","v":0.2},{"$f":"per_game!W11","v":1.7},{"$f":"per_game!X11","v":5.7}]
["Field Goals Made",{"$f":"'Create Team'!B36","v":1},{"$f":"Roster!C12","v":"F"},42.151000000000003,{"$f":"per_game!B12 & \"-\" & D13","v":"Ivan Johnson-42.151"},{"$f":"per_game!D12","v":12},{"$f":"per_game!E12","v":0},{"$f":"per_game!F12","v":11.5},{"$f":"per_game!G12","v":2.2999999999999998},{"$f":"per_game!H12","v":3.6},{"$f":"per_game!I12","v":0.65100000000000002},{"$f":"per_game!J12","v":0.1},{"$f":"per_game!K12","v":0.2},{"$f":"per_game!L12","v":0.5},{"$f":"per_game!M12","v":0.3},{"$f":"per_game!N12","v":0.8},{"$f":"per_game!O12","v":0.4},{"$f":"per_game!P12","v":0.8},{"$f":"per_game!Q12","v":2.2999999999999998},{"$f":"per_game!R12","v":3.1},{"$f":"per_game!S12","v":0.3},{"$f":"per_game!T12","v":0.8},{"$f":"per_game!U12","v":0.1},{"$f":"per_game!V12","v":0.9},{"$f":"per_game!W12","v":1.8},{"$f":"per_game!X12","v":5.0999999999999996}]
[" Field Goals Attempted",{"$f":"'Create Team'!B37","v":1},{"$f":"Roster!C13","v":"G"},38.749000000000002,{"$f":"per_game!B13 & \"-\" & D14","v":"Anthony Tolliver-38.749"},{"$f":"per_game!D13","v":8},{"$f":"per_game!E13","v":1},{"$f":"per_game!F13","v":13.4},{"$f":"per_game!G13","v":1.1000000000000001},{"$f":"per_game!H13","v":4.0999999999999996},{"$f":"per_game!I13","v":0.27300000000000002},{"$f":"per_game!J13","v":0.4},{"$f":"per_game!K13","v":2.1},{"$f":"per_game!L13","v":0.17599999999999999},{"$f":"per_game!M13","v":0.5},{"$f":"per_game!N13","v":0.6},{"$f":"per_game!O13","v":0.8},{"$f":"per_game!P13","v":0.6},{"$f":"per_game!Q13","v":1.6},{"$f":"per_game!R13","v":2.2999999999999998},{"$f":"per_game!S13","v":0.1},{"$f":"per_game!T13","v":0.5},{"$f":"per_game!U13","v":0},{"$f":"per_game!V13","v":0.9},{"$f":"per_game!W13","v":1},{"$f":"per_game!X13","v":3.1}]
["Free Throws Made",{"$f":"'Create Team'!B38","v":1},{"$f":"Roster!C14","v":"G"},15.786000000000001,{"$f":"per_game!B14 & \"-\" & D15","v":"John Jenkins-15.786"},{"$f":"per_game!D14","v":4},{"$f":"per_game!E14","v":0},{"$f":"per_game!F14","v":3.3},{"$f":"per_game!G14","v":0.5},{"$f":"per_game!H14","v":1.8},{"$f":"per_game!I14","v":0.28599999999999998},{"$f":"per_game!J14","v":0},{"$f":"per_game!K14","v":0.3},{"$f":"per_game!L14","v":0},{"$f":"per_game!M14","v":0.5},{"$f":"per_game!N14","v":0.5},{"$f":"per_game!O14","v":1},{"$f":"per_game!P14","v":0.3},{"$f":"per_game!Q14","v":0.8},{"$f":"per_game!R14","v":1},{"$f":"per_game!S14","v":0},{"$f":"per_game!T14","v":0},{"$f":"per_game!U14","v":0},{"$f":"per_game!V14","v":0},{"$f":"per_game!W14","v":0},{"$f":"per_game!X14","v":1.5}]
["Free Throws Attempted",{"$f":"'Create Team'!B39","v":1},{"$f":"Roster!C15","v":"C"},10.766999999999998,{"$f":"per_game!B15 & \"-\" & D16","v":"Mike Scott-10.767"},{"$f":"per_game!D15","v":5},{"$f":"per_game!E15","v":0},{"$f":"per_game!F15","v":3.2},{"$f":"per_game!G15","v":0.2},{"$f":"per_game!H15","v":1.2},{"$f":"per_game!I15","v":0.16700000000000001},{"$f":"per_game!J15","v":0},{"$f":"per_game!K15","v":0},{"$f":"per_game!L15","v":0},{"$f":"per_game!M15","v":0},{"$f":"per_game!N15","v":0},{"$f":"per_game!O15","v":0},{"$f":"per_game!P15","v":0.2},{"$f":"per_game!Q15","v":0.6},{"$f":"per_game!R15","v":0.8},{"$f":"per_game!S15","v":0},{"$f":"per_game!T15","v":0},{"$f":"per_game!U15","v":0},{"$f":"per_game!V15","v":0.6},{"$f":"per_game!W15","v":0.4},{"$f":"per_game!X15","v":0.4}]
["Three Pointers Made",{"$f":"'Create Team'!B40","v":1},{"$f":"Roster!C16","v":"G"},6,{"$f":"per_game!B16 & \"-\" & D17","v":"Johan Petro-6"},{"$f":"per_game!D16","v":2},{"$f":"per_game!E16","v":0},{"$f":"per_game!F16","v":4},{"$f":"per_game!G16","v":0},{"$f":"per_game!H16","v":1},{"$f":"per_game!I16","v":0},{"$f":"per_game!J16","v":0},{"$f":"per_game!K16","v":0},{"$f":"per_game!L16","v":0},{"$f":"per_game!M16","v":0},{"$f":"per_game!N16","v":0},{"$f":"per_game!O16","v":0},{"$f":"per_game!P16","v":0},{"$f":"per_game!Q16","v":0},{"$f":"per_game!R16","v":0},{"$f":"per_game!S16","v":0},{"$f":"per_game!T16","v":0},{"$f":"per_game!U16","v":0},{"$f":"per_game!V16","v":0.5},{"$f":"per_game!W16","v":0.5},{"$f":"per_game!X16","v":0}]
["Three Pointers Attempted",{"$f":"'Create Team'!B41","v":1},{"$f":"Roster!C17","v":0},0,null,{"$f":"per_game!D17","v":0},{"$f":"per_game!E17","v":0},{"$f":"per_game!F17","v":0},{"$f":"per_game!G17","v":0},{"$f":"per_game!H17","v":0},{"$f":"per_game!I17","v":0},{"$f":"per_game!J17","v":0},{"$f":"per_game!K17","v":0},{"$f":"per_game!L17","v":0},{"$f":"per_game!M17","v":0},{"$f":"per_game!N17","v":0},{"$f":"per_game!O17","v":0},{"$f":"per_game!P17","v":0},{"$f":"per_game!Q17","v":0},{"$f":"per_game!R17","v":0},{"$f":"per_game!S17","v":0},{"$f":"per_game!T17","v":0},{"$f":"per_game!U17","v":0},{"$f":"per_game!V17","v":0},{"$f":"per_game!W17","v":0},{"$f":"per_game!X17","v":0}]
["Minutes Played",{"$f":"'Create Team'!B42","v":1},{"$f":"Roster!C18","v":0},0,null,{"$f":"per_game!D18","v":0},{"$f":"per_game!E18","v":0},{"$f":"per_game!F18","v":0},{"$f":"per_game!G18","v":0},{"$f":"per_game!H18","v":0},{"$f":"per_game!I18","v":0},{"$f":"per_game!J18","v":0},{"$f":"per_game!K18","v":0},{"$f":"per_game!L18","v":0},{"$f":"per_game!M18","v":0},{"$f":"per_game!N18","v":0},{"$f":"per_game!O18","v":0},{"$f":"per_game!P18","v":0},{"$f":"per_game!Q18","v":0},{"$f":"per_game!R18","v":0},{"$f":"per_game!S18","v":0},{"$f":"per_game!T18","v":0},{"$f":"per_game!U18","v":0},{"$f":"per_game!V18","v":0},{"$f":"per_game!W18","v":0},{"$f":"per_game!X18","v":0}]
["Games Started",{"$f":"'Create Team'!B43","v":1},{"$f":"Roster!C19","v":"Pos"},null,{"$f":"per_game!B19 & \"-\" & D20","v":"Player-"},{"$f":"per_game!D19","v":"G"},{"$f":"per_game!E19","v":"GS"},{"$f":"per_game!F19","v":"MP"},{"$f":"per_game!G19","v":"FG"},{"$f":"per_game!H19","v":"FGA"},{"$f":"per_game!I19","v":"FG%"},{"$f":"per_game!J19","v":"3P"},{"$f":"per_game!K19","v":"3PA"},{"$f":"per_game!L19","v":"3P%"},{"$f":"per_game!M19","v":"FT"},{"$f":"per_game!N19","v":"FTA"},{"$f":"per_game!O19","v":"FT%"},{"$f":"per_game!P19","v":"ORB"},{"$f":"per_game!Q19","v":"DRB"},{"$f":"per_game!R19","v":"TRB"},{"$f":"per_game!S19","v":"AST"},{"$f":"per_game!T19","v":"STL"},{"$f":"per_game!U19","v":"BLK"},{"$f":"per_game!V19","v":"TOV"},{"$f":"per_game!W19","v":"PF"},{"$f":"per_game!X19","v":"PTS"}]
["Games Played",{"$f":"'Create Team'!B44","v":1},{"$f":"Roster!C20","v":"G"},138.54900000000001,{"$f":"per_game!B20 & \"-\" & D21","v":"Paul Pierce-138.549"},{"$f":"per_game!D20","v":17},{"$f":"per_game!E20","v":17},{"$f":"per_game!F20","v":33.700000000000003},{"$f":"per_game!G20","v":6},{"$f":"per_game!H20","v":14.4},{"$f":"per_game!I20","v":0.41799999999999998},{"$f":"per_game!J20","v":1.8},{"$f":"per_game!K20","v":4.5},{"$f":"per_game!L20","v":0.39500000000000002},{"$f":"per_game!M20","v":5.4},{"$f":"per_game!N20","v":6.5},{"$f":"per_game!O20","v":0.83599999999999997},{"$f":"per_game!P20","v":0.3},{"$f":"per_game!Q20","v":5.4},{"$f":"per_game!R20","v":5.7},{"$f":"per_game!S20","v":3.2},{"$f":"per_game!T20","v":1.5},{"$f":"per_game!U20","v":0.3},{"$f":"per_game!V20","v":2.5},{"$f":"per_game!W20","v":2.5},{"$f":"per_game!X20","v":19.2}]
[null,null,{"$f":"Roster!C21","v":"F"},119.42500000000001,{"$f":"per_game!B21 & \"-\" & D22","v":"Kevin Garnett-119.425"},{"$f":"per_game!D21","v":17},{"$f":"per_game!E21","v":17},{"$f":"per_game!F21","v":28.9},{"$f":"per_game!G21","v":6.2},{"$f":"per_game!H21","v":11.9},{"$f":"per_game!I21","v":0.52200000000000002},{"$f":"per_game!J21","v":0},{"$f":"per_game!K21","v":0.1},{"$f":"per_game!L21","v":0},{"$f":"per_game!M21","v":3.1},{"$f":"per_game!N21","v":3.9},{"$f":"per_game!O21","v":0.80300000000000005},{"$f":"per_game!P21","v":0.9},{"$f":"per_game!Q21","v":6.4},{"$f":"per_game!R21","v":7.4},{"$f":"per_game!S21","v":1.9},{"$f":"per_game!T21","v":0.8},{"$f":"per_game!U21","v":0.8},{"$f":"per_game!V21","v":1.7},{"$f":"per_game!W21","v":2.1},{"$f":"per_game!X21","v":15.6}]
[null,null,{"$f":"Roster!C22","v":"C"},119.53500000000003,{"$f":"per_game!B22 & \"-\" & D23","v":"Rajon Rondo-119.535"},{"$f":"per_game!D22","v":14},{"$f":"per_game!E22","v":14},{"$f":"per_game!F22","v":37},{"$f":"per_game!G22","v":5.6},{"$f":"per_game!H22","v":11},{"$f":"per_game!I22","v":0.50600000000000001},{"$f":"per_game!J22","v":0.4},{"$f":"per_game!K22","v":1.4},{"$f":"per_game!L22","v":0.316},{"$f":"per_game!M22","v":1.4},{"$f":"per_game!N22","v":2.2000000000000002},{"$f":"per_game!O22","v":0.61299999999999999},{"$f":"per_game!P22","v":0.6},{"$f":"per_game!Q22","v":4},{"$f":"per_game!R22","v":4.5999999999999996},{"$f":"per_game!S22","v":12.9},{"$f":"per_game!T22","v":1.9},{"$f":"per_game!U22","v":0},{"$f":"per_game!V22","v":3.2},{"$f":"per_game!W22","v":2.6},{"$f":"per_game!X22","v":12.9}]
[null,null,{"$f":"Roster!C23","v":"F"},97.839999999999989,{"$f":"per_game!B23 & \"-\" & D24","v":"Jason Terry-97.84"},{"$f":"per_game!D23","v":17},{"$f":"per_game!E23","v":12},{"$f":"per_game!F23","v":28.4},{"$f":"per_game!G23","v":4.0999999999999996},{"$f":"per_game!H23","v":8.4},{"$f":"per_game!I23","v":0.48299999999999998},{"$f":"per_game!J23","v":1.5},{"$f":"per_game!K23","v":4},{"$f":"per_game!L23","v":0.38200000000000001},{"$f":"per_game!M23","v":2.1},{"$f":"per_game!N23","v":2.4},{"$f":"per_game!O23","v":0.875},{"$f":"per_game!P23","v":0.1},{"$f":"per_game!Q23","v":1.7},{"$f":"per_game!R23","v":1.8},{"$f":"per_game!S23","v":2.2999999999999998},{"$f":"per_game!T23","v":1.1000000000000001},{"$f":"per_game!U23","v":0.1},{"$f":"per_game!V23","v":1.2},{"$f":"per_game!W23","v":1.4},{"$f":"per_game!X23","v":11.7}]
[null,null,{"$f":"Roster!C24","v":"F"},95.525000000000006,{"$f":"per_game!B24 & \"-\" & D25","v":"Brandon Bass-95.525"},{"$f":"per_game!D24","v":17},{"$f":"per_game!E24","v":14},{"$f":"per_game!F24","v":27.8},{"$f":"per_game!G24","v":3.9},{"$f":"per_game!H24","v":8.8000000000000007},{"$f":"per_game!I24","v":0.443},{"$f":"per_game!J24","v":0},{"$f":"per_game!K24","v":0.1},{"$f":"per_game!L24","v":0},{"$f":"per_game!M24","v":1.8},{"$f":"per_game!N24","v":2},{"$f":"per_game!O24","v":0.88200000000000001},{"$f":"per_game!P24","v":1.9},{"$f":"per_game!Q24","v":3.5},{"$f":"per_game!R24","v":5.4},{"$f":"per_game!S24","v":0.9},{"$f":"per_game!T24","v":0.5},{"$f":"per_game!U24","v":0.8},{"$f":"per_game!V24","v":0.9},{"$f":"per_game!W24","v":2.8},{"$f":"per_game!X24","v":9.5}]
[null,null,{"$f":"Roster!C25","v":"F"},70.522999999999996,{"$f":"per_game!B25 & \"-\" & D26","v":"Jeff Green-70.523"},{"$f":"per_game!D25","v":17},{"$f":"per_game!E25","v":0},{"$f":"per_game!F25","v":21.6},{"$f":"per_game!G25","v":3.3},{"$f":"per_game!H25","v":7.6},{"$f":"per_game!I25","v":0.434},{"$f":"per_game!J25","v":0.5},{"$f":"per_game!K25","v":1.6},{"$f":"per_game!L25","v":0.33300000000000002},{"$f":"per_game!M25","v":1.8},{"$f":"per_game!N25","v":2.4},{"$f":"per_game!O25","v":0.75600000000000001},{"$f":"per_game!P25","v":0.5},{"$f":"per_game!Q25","v":2.2000000000000002},{"$f":"per_game!R25","v":2.8},{"$f":"per_game!S25","v":0.7},{"$f":"per_game!T25","v":0.6},{"$f":"per_game!U25","v":0.5},{"$f":"per_game!V25","v":1.5},{"$f":"per_game!W25","v":1.5},{"$f":"per_game!X25","v":8.9}]
[null,null,{"$f":"Roster!C26","v":"G"},54.599999999999987,{"$f":"per_game!B26 & \"-\" & D27","v":"Leandro Barbosa-54.6"},{"$f":"per_game!D26","v":17},{"$f":"per_game!E26","v":1},{"$f":"per_game!F26","v":14.2},{"$f":"per_game!G26","v":2.4},{"$f":"per_game!H26","v":5.3},{"$f":"per_game!I26","v":0.44400000000000001},{"$f":"per_game!J26","v":0.6},{"$f":"per_game!K26","v":1.4},{"$f":"per_game!L26","v":0.41699999999999998},{"$f":"per_game!M26","v":1},{"$f":"per_game!N26","v":1.4},{"$f":"per_game!O26","v":0.73899999999999999},{"$f":"per_game!P26","v":0.1},{"$f":"per_game!Q26","v":0.9},{"$f":"per_game!R26","v":0.9},{"$f":"per_game!S26","v":1.5},{"$f":"per_game!T26","v":0.5},{"$f":"per_game!U26","v":0.3},{"$f":"per_game!V26","v":0.6},{"$f":"per_game!W26","v":1.2},{"$f":"per_game!X26","v":6.3}]
[null,null,{"$f":"Roster!C27","v":"F-C"},71.602000000000004,{"$f":"per_game!B27 & \"-\" & D28","v":"Courtney Lee-71.602"},{"$f":"per_game!D27","v":17},{"$f":"per_game!E27","v":7},{"$f":"per_game!F27","v":24.8},{"$f":"per_game!G27","v":2.5},{"$f":"per_game!H27","v":5.5},{"$f":"per_game!I27","v":0.46200000000000002},{"$f":"per_game!J27","v":0.4},{"$f":"per_game!K27","v":1.5},{"$f":"per_game!L27","v":0.24},{"$f":"per_game!M27","v":0.5},{"$f":"per_game!N27","v":0.5},{"$f":"per_game!O27","v":1},{"$f":"per_game!P27","v":0.5},{"$f":"per_game!Q27","v":2},{"$f":"per_game!R27","v":2.5},{"$f":"per_game!S27","v":1.5},{"$f":"per_game!T27","v":0.9},{"$f":"per_game!U27","v":0.1},{"$f":"per_game!V27","v":1.5},{"$f":"per_game!W27","v":1.7},{"$f":"per_game!X27","v":5.9}]
[null,null,{"$f":"Roster!C28","v":"F"},62.029000000000011,{"$f":"per_game!B28 & \"-\" & D29","v":"Jared Sullinger-62.029"},{"$f":"per_game!D28","v":17},{"$f":"per_game!E28","v":3},{"$f":"per_game!F28","v":18.2},{"$f":"per_game!G28","v":2.4},{"$f":"per_game!H28","v":4.5999999999999996},{"$f":"per_game!I28","v":0.50600000000000001},{"$f":"per_game!J28","v":0.1},{"$f":"per_game!K28","v":0.1},{"$f":"per_game!L28","v":1},{"$f":"per_game!M28","v":0.7},{"$f":"per_game!N28","v":0.8},{"$f":"per_game!O28","v":0.92300000000000004},{"$f":"per_game!P28","v":1.6},{"$f":"per_game!Q28","v":2.9},{"$f":"per_game!R28","v":4.5999999999999996},{"$f":"per_game!S28","v":0.6},{"$f":"per_game!T28","v":0.4},{"$f":"per_game!U28","v":0.5},{"$f":"per_game!V28","v":0.6},{"$f":"per_game!W28","v":2.8},{"$f":"per_game!X28","v":5.5}]
[null,null,{"$f":"Roster!C29","v":"G"},42.764999999999986,{"$f":"per_game!B29 & \"-\" & D30","v":"Chris Wilcox-42.765"},{"$f":"per_game!D29","v":16},{"$f":"per_game!E29","v":0},{"$f":"per_game!F29","v":12.3},{"$f":"per_game!G29","v":1.6},{"$f":"per_game!H29","v":2.2999999999999998},{"$f":"per_game!I29","v":0.70299999999999996},{"$f":"per_game!J29","v":0},{"$f":"per_game!K29","v":0},{"$f":"per_game!L29","v":0},{"$f":"per_game!M29","v":1},{"$f":"per_game!N29","v":1.3},{"$f":"per_game!O29","v":0.76200000000000001},{"$f":"per_game!P29","v":0.8},{"$f":"per_game!Q29","v":1.3},{"$f":"per_game!R29","v":2.1},{"$f":"per_game!S29","v":0.3},{"$f":"per_game!T29","v":0.3},{"$f":"per_game!U29","v":0.3},{"$f":"per_game!V29","v":0.6},{"$f":"per_game!W29","v":2},{"$f":"per_game!X29","v":4.3}]
[null,null,{"$f":"Roster!C30","v":"F"},11.5,{"$f":"per_game!B30 & \"-\" & D31","v":"Kris Joseph-11.5"},{"$f":"per_game!D30","v":2},{"$f":"per_game!E30","v":0},{"$f":"per_game!F30","v":4},{"$f":"per_game!G30","v":0},{"$f":"per_game!H30","v":1.5},{"$f":"per_game!I30","v":0},{"$f":"per_game!J30","v":0},{"$f":"per_game!K30","v":0},{"$f":"per_game!L30","v":0},{"$f":"per_game!M30","v":1},{"$f":"per_game!N30","v":1},{"$f":"per_game!O30","v":1},{"$f":"per_game!P30","v":0},{"$f":"per_game!Q30","v":0.5},{"$f":"per_game!R30","v":0.5},{"$f":"per_game!S30","v":0.5},{"$f":"per_game!T30","v":0},{"$f":"per_game!U30","v":0},{"$f":"per_game!V30","v":0.5},{"$f":"per_game!W30","v":1},{"$f":"per_game!X30","v":1}]
[null,null,{"$f":"Roster!C31","v":"G"},19.250000000000004,{"$f":"per_game!B31 & \"-\" & D32","v":"Jason Collins-19.25"},{"$f":"per_game!D31","v":4},{"$f":"per_game!E31","v":0},{"$f":"per_game!F31","v":11.3},{"$f":"per_game!G31","v":0.3},{"$f":"per_game!H31","v":1},{"$f":"per_game!I31","v":0.25},{"$f":"per_game!J31","v":0},{"$f":"per_game!K31","v":0},{"$f":"per_game!L31","v":0},{"$f":"per_game!M31","v":0},{"$f":"per_game!N31","v":0.3},{"$f":"per_game!O31","v":0},{"$f":"per_game!P31","v":1},{"$f":"per_game!Q31","v":1.3},{"$f":"per_game!R31","v":2.2999999999999998},{"$f":"per_game!S31","v":0},{"$f":"per_game!T31","v":0.5},{"$f":"per_game!U31","v":0.3},{"$f":"per_game!V31","v":1},{"$f":"per_game!W31","v":2.8},{"$f":"per_game!X31","v":0.5}]
[null,null,{"$f":"Roster!C32","v":"F"},6,{"$f":"per_game!B32 & \"-\" & D33","v":"Darko Milicic-6"},{"$f":"per_game!D32","v":1},{"$f":"per_game!E32","v":0},{"$f":"per_game!F32","v":5},{"$f":"per_game!G32","v":0},{"$f":"per_game!H32","v":1},{"$f":"per_game!I32","v":0},{"$f":"per_game!J32","v":0},{"$f":"per_game!K32","v":0},{"$f":"per_game!L32","v":0},{"$f":"per_game!M32","v":0},{"$f":"per_game!N32","v":0},{"$f":"per_game!O32","v":0},{"$f":"per_game!P32","v":0},{"$f":"per_game!Q32","v":1},{"$f":"per_game!R32","v":1},{"$f":"per_game!S32","v":0},{"$f":"per_game!T32","v":0},{"$f":"per_game!U32","v":0},{"$f":"per_game!V32","v":2},{"$f":"per_game!W32","v":1},{"$f":"per_game!X32","v":0}]
[null,null,{"$f":"Roster!C33","v":0},0,null,{"$f":"per_game!D33","v":0},{"$f":"per_game!E33","v":0},{"$f":"per_game!F33","v":0},{"$f":"per_game!G33","v":0},{"$f":"per_game!H33","v":0},{"$f":"per_game!I33","v":0},{"$f":"per_game!J33","v":0},{"$f":"per_game!K33","v":0},{"$f":"per_game!L33","v":0},{"$f":"per_game!M33","v":0},{"$f":"per_game!N33","v":0},{"$f":"per_game!O33","v":0},{"$f":"per_game!P33","v":0},{"$f":"per_game!Q33","v":0},{"$f":"per_game!R33","v":0},{"$f":"per_game!S33","v":0},{"$f":"per_game!T33","v":0},{"$f":"per_game!U33","v":0},{"$f":"per_game!V33","v":0},{"$f":"per_game!W33","v":0},{"$f":"per_game!X33","v":0}]
[null,null,{"$f":"Roster!C34","v":0},0,null,{"$f":"per_game!D34","v":0},{"$f":"per_game!E34","v":0},{"$f":"per_game!F34","v":0},{"$f":"per_game!G34","v":0},{"$f":"per_game!H34","v":0},{"$f":"per_game!I34","v":0},{"$f":"per_game!J34","v":0},{"$f":"per_game!K34","v":0},{"$f":"per_game!L34","v":0},{"$f":"per_game!M34","v":0},{"$f":"per_game!N34","v":0},{"$f":"per_game!O34","v":0},{"$f":"per_game!P34","v":0},{"$f":"per_game!Q34","v":0},{"$f":"per_game!R34","v":0},{"$f":"per_game!S34","v":0},{"$f":"per_game!T34","v":0},{"$f":"per_game!U34","v":0},{"$f":"per_game!V34","v":0},{"$f":"per_game!W34","v":0},{"$f":"per_game!X34","v":0}]
[null,null,{"$f":"Roster!C35","v":"Pos"},null,null,{"$f":"per_game!D35","v":"G"},{"$f":"per_game!E35","v":"GS"},{"$f":"per_game!F35","v":"MP"},{"$f":"per_game!G35","v":"FG"},{"$f":"per_game!H35","v":"FGA"},{"$f":"per_game!I35","v":"FG%"},{"$f":"per_game!J35","v":"3P"},{"$f":"per_game!K35","v":"3PA"},{"$f":"per_game!L35","v":"3P%"},{"$f":"per_game!M35","v":"FT"},{"$f":"per_game!N35","v":"FTA"},{"$f":"per_game!O35","v":"FT%"},{"$f":"per_game!P35","v":"ORB"},{"$f":"per_game!Q35","v":"DRB"},{"$f":"per_game!R35","v":"TRB"},{"$f":"per_game!S35","v":"AST"},{"$f":"per_game!T35","v":"STL"},{"$f":"per_game!U35","v":"BLK"},{"$f":"per_game!V35","v":"TOV"},{"$f":"per_game!W35","v":"PF"},{"$f":"per_game!X35","v":"PTS"}]
[null,null,{"$f":"Roster!C36","v":"F"},119.872,{"$f":"per_game!B36 & \"-\" & D37","v":"Brook Lopez-119.872"},{"$f":"per_game!D36","v":14},{"$f":"per_game!E36","v":14},{"$f":"per_game!F36","v":29.7},{"$f":"per_game!G36","v":7.9},{"$f":"per_game!H36","v":14.9},{"$f":"per_game!I36","v":0.53400000000000003},{"$f":"per_game!J36","v":0},{"$f":"per_game!K36","v":0},{"$f":"per_game!L36","v":0},{"$f":"per_game!M36","v":2.6},{"$f":"per_game!N36","v":4.0999999999999996},{"$f":"per_game!O36","v":0.63800000000000001},{"$f":"per_game!P36","v":2.1},{"$f":"per_game!Q36","v":4.5999999999999996},{"$f":"per_game!R36","v":6.8},{"$f":"per_game!S36","v":0.8},{"$f":"per_game!T36","v":0.5},{"$f":"per_game!U36","v":2.5},{"$f":"per_game!V36","v":1.7},{"$f":"per_game!W36","v":2.6},{"$f":"per_game!X36","v":18.5}]
[null,null,{"$f":"Roster!C37","v":"G-F"},125.55199999999999,{"$f":"per_game!B37 & \"-\" & D38","v":"Joe Johnson-125.552"},{"$f":"per_game!D37","v":16},{"$f":"per_game!E37","v":16},{"$f":"per_game!F37","v":37.6},{"$f":"per_game!G37","v":5.9},{"$f":"per_game!H37","v":14.4},{"$f":"per_game!I37","v":0.40899999999999997},{"$f":"per_game!J37","v":1.8},{"$f":"per_game!K37","v":5},{"$f":"per_game!L37","v":0.36299999999999999},{"$f":"per_game!M37","v":2},{"$f":"per_game!N37","v":2.6},{"$f":"per_game!O37","v":0.78},{"$f":"per_game!P37","v":0.6},{"$f":"per_game!Q37","v":2.2000000000000002},{"$f":"per_game!R37","v":2.8},{"$f":"per_game!S37","v":3.8},{"$f":"per_game!T37","v":0.6},{"$f":"per_game!U37","v":0.2},{"$f":"per_game!V37","v":1.8},{"$f":"per_game!W37","v":1.3},{"$f":"per_game!X37","v":15.6}]
[null,null,{"$f":"Roster!C38","v":"G-F"},129.58799999999999,{"$f":"per_game!B38 & \"-\" & D39","v":"Deron Williams-129.588"},{"$f":"per_game!D38","v":16},{"$f":"per_game!E38","v":16},{"$f":"per_game!F38","v":35.9},{"$f":"per_game!G38","v":5.0999999999999996},{"$f":"per_game!H38","v":13.3},{"$f":"per_game!I38","v":0.38200000000000001},{"$f":"per_game!J38","v":1.4},{"$f":"per_game!K38","v":5.0999999999999996},{"$f":"per_game!L38","v":0.26800000000000002},{"$f":"per_game!M38","v":3.9},{"$f":"per_game!N38","v":4.5999999999999996},{"$f":"per_game!O38","v":0.83799999999999997},{"$f":"per_game!P38","v":0.5},{"$f":"per_game!Q38","v":2.5},{"$f":"per_game!R38","v":3},{"$f":"per_game!S38","v":8.9},{"$f":"per_game!T38","v":1.1000000000000001},{"$f":"per_game!U38","v":0.6},{"$f":"per_game!V38","v":2.9},{"$f":"per_game!W38","v":2.2999999999999998},{"$f":"per_game!X38","v":15.4}]
[null,null,{"$f":"Roster!C39","v":"G-F"},76.61699999999999,{"$f":"per_game!B39 & \"-\" & D40","v":"Andray Blatche-76.617"},{"$f":"per_game!D39","v":16},{"$f":"per_game!E39","v":2},{"$f":"per_game!F39","v":18.899999999999999},{"$f":"per_game!G39","v":4},{"$f":"per_game!H39","v":8.6},{"$f":"per_game!I39","v":0.46700000000000003},{"$f":"per_game!J39","v":0},{"$f":"per_game!K39","v":0.2},{"$f":"per_game!L39","v":0},{"$f":"per_game!M39","v":2.1},{"$f":"per_game!N39","v":2.8},{"$f":"per_game!O39","v":0.75},{"$f":"per_game!P39","v":2.5},{"$f":"per_game!Q39","v":3.3},{"$f":"per_game!R39","v":5.8},{"$f":"per_game!S39","v":1.1000000000000001},{"$f":"per_game!T39","v":0.5},{"$f":"per_game!U39","v":0.6},{"$f":"per_game!V39","v":1.3},{"$f":"per_game!W39","v":1.8},{"$f":"per_game!X39","v":10.1}]
[null,null,{"$f":"Roster!C40","v":"F"},88.460000000000022,{"$f":"per_game!B40 & \"-\" & D41","v":"Gerald Wallace-88.46"},{"$f":"per_game!D40","v":9},{"$f":"per_game!E40","v":9},{"$f":"per_game!F40","v":30.9},{"$f":"per_game!G40","v":3.6},{"$f":"per_game!H40","v":8.3000000000000007},{"$f":"per_game!I40","v":0.42699999999999999},{"$f":"per_game!J40","v":1.2},{"$f":"per_game!K40","v":3.7},{"$f":"per_game!L40","v":0.33300000000000002},{"$f":"per_game!M40","v":1.1000000000000001},{"$f":"per_game!N40","v":2.2000000000000002},{"$f":"per_game!O40","v":0.5},{"$f":"per_game!P40","v":0.7},{"$f":"per_game!Q40","v":3.4},{"$f":"per_game!R40","v":4.0999999999999996},{"$f":"per_game!S40","v":2.4},{"$f":"per_game!T40","v":1.9},{"$f":"per_game!U40","v":0.7},{"$f":"per_game!V40","v":1.8},{"$f":"per_game!W40","v":2.6},{"$f":"per_game!X40","v":9.4}]
[null,null,{"$f":"Roster!C41","v":"F"},95.00800000000001,{"$f":"per_game!B41 & \"-\" & D42","v":"Kris Humphries-95.008"},{"$f":"per_game!D41","v":16},{"$f":"per_game!E41","v":16},{"$f":"per_game!F41","v":24.6},{"$f":"per_game!G41","v":3.1},{"$f":"per_game!H41","v":6.6},{"$f":"per_game!I41","v":0.47599999999999998},{"$f":"per_game!J41","v":0},{"$f":"per_game!K41","v":0},{"$f":"per_game!L41","v":0},{"$f":"per_game!M41","v":1.9},{"$f":"per_game!N41","v":2.6},{"$f":"per_game!O41","v":0.73199999999999998},{"$f":"per_game!P41","v":2.4},{"$f":"per_game!Q41","v":5.7},{"$f":"per_game!R41","v":8.1},{"$f":"per_game!S41","v":0.6},{"$f":"per_game!T41","v":0.4},{"$f":"per_game!U41","v":0.9},{"$f":"per_game!V41","v":0.6},{"$f":"per_game!W41","v":2.6},{"$f":"per_game!X41","v":8.1}]
[null,null,{"$f":"Roster!C42","v":"G"},52.517000000000003,{"$f":"per_game!B42 & \"-\" & D43","v":"Jerry Stackhouse-52.517"},{"$f":"per_game!D42","v":10},{"$f":"per_game!E42","v":0},{"$f":"per_game!F42","v":16.600000000000001},{"$f":"per_game!G42","v":2.6},{"$f":"per_game!H42","v":5.3},{"$f":"per_game!I42","v":0.49099999999999999},{"$f":"per_game!J42","v":1.5},{"$f":"per_game!K42","v":3.2},{"$f":"per_game!L42","v":0.46899999999999997},{"$f":"per_game!M42","v":0.6},{"$f":"per_game!N42","v":0.7},{"$f":"per_game!O42","v":0.85699999999999998},{"$f":"per_game!P42","v":0.3},{"$f":"per_game!Q42","v":1.1000000000000001},{"$f":"per_game!R42","v":1.4},{"$f":"per_game!S42","v":0.8},{"$f":"per_game!T42","v":0.6},{"$f":"per_game!U42","v":0.2},{"$f":"per_game!V42","v":0.6},{"$f":"per_game!W42","v":0.9},{"$f":"per_game!X42","v":7.3}]
[null,null,{"$f":"Roster!C43","v":"C"},63.844000000000001,{"$f":"per_game!B43 & \"-\" & D44","v":"C.J. Watson-63.844"},{"$f":"per_game!D43","v":16},{"$f":"per_game!E43","v":0},{"$f":"per_game!F43","v":19.7},{"$f":"per_game!G43","v":2.4},{"$f":"per_game!H43","v":6.4},{"$f":"per_game!I43","v":0.379},{"$f":"per_game!J43","v":1.2},{"$f":"per_game!K43","v":3.5},{"$f":"per_game!L43","v":0.33900000000000002},{"$f":"per_game!M43","v":1.2},{"$f":"per_game!N43","v":1.4},{"$f":"per_game!O43","v":0.82599999999999996},{"$f":"per_game!P43","v":0.7},{"$f":"per_game!Q43","v":0.7},{"$f":"per_game!R43","v":1.4},{"$f":"per_game!S43","v":1.8},{"$f":"per_game!T43","v":0.8},{"$f":"per_game!U43","v":0.2},{"$f":"per_game!V43","v":0.9},{"$f":"per_game!W43","v":1.5},{"$f":"per_game!X43","v":7.3}]
[null,null,{"$f":"Roster!C44","v":"F"},44.602000000000011,{"$f":"per_game!B44 & \"-\" & D45","v":"MarShon Brooks-44.602"},{"$f":"per_game!D44","v":9},{"$f":"per_game!E44","v":0},{"$f":"per_game!F44","v":12.2},{"$f":"per_game!G44","v":2.8},{"$f":"per_game!H44","v":4.9000000000000004},{"$f":"per_game!I44","v":0.56799999999999995},{"$f":"per_game!J44","v":0.2},{"$f":"per_game!K44","v":0.3},{"$f":"per_game!L44","v":0.66700000000000004},{"$f":"per_game!M44","v":1.3},{"$f":"per_game!N44","v":2},{"$f":"per_game!O44","v":0.66700000000000004},{"$f":"per_game!P44","v":0.6},{"$f":"per_game!Q44","v":1.1000000000000001},{"$f":"per_game!R44","v":1.7},{"$f":"per_game!S44","v":0.9},{"$f":"per_game!T44","v":0.6},{"$f":"per_game!U44","v":0.1},{"$f":"per_game!V44","v":0.9},{"$f":"per_game!W44","v":1.2},{"$f":"per_game!X44","v":7.1}]
[null,null,{"$f":"Roster!C45","v":"G-F"},60.471000000000011,{"$f":"per_game!B45 & \"-\" & D46","v":"Reggie Evans-60.471"},{"$f":"per_game!D45","v":16},{"$f":"per_game!E45","v":0},{"$f":"per_game!F45","v":19.600000000000001},{"$f":"per_game!G45","v":0.9},{"$f":"per_game!H45","v":1.6},{"$f":"per_game!I45","v":0.57699999999999996},{"$f":"per_game!J45","v":0},{"$f":"per_game!K45","v":0},{"$f":"per_game!L45","v":0},{"$f":"per_game!M45","v":1.2},{"$f":"per_game!N45","v":2},{"$f":"per_game!O45","v":0.59399999999999997},{"$f":"per_game!P45","v":2.8},{"$f":"per_game!Q45","v":5.7},{"$f":"per_game!R45","v":8.4},{"$f":"per_game!S45","v":0.7},{"$f":"per_game!T45","v":0.7},{"$f":"per_game!U45","v":0.1},{"$f":"per_game!V45","v":1.1000000000000001},{"$f":"per_game!W45","v":2.4},{"$f":"per_game!X45","v":3.1}]
[null,null,{"$f":"Roster!C46","v":"G"},49.994999999999997,{"$f":"per_game!B46 & \"-\" & D47","v":"Keith Bogans-49.995"},{"$f":"per_game!D46","v":14},{"$f":"per_game!E46","v":7},{"$f":"per_game!F46","v":14.9},{"$f":"per_game!G46","v":1.1000000000000001},{"$f":"per_game!H46","v":3.3},{"$f":"per_game!I46","v":0.34799999999999998},{"$f":"per_game!J46","v":0.8},{"$f":"per_game!K46","v":2.5},{"$f":"per_game!L46","v":0.314},{"$f":"per_game!M46","v":0.1},{"$f":"per_game!N46","v":0.2},{"$f":"per_game!O46","v":0.33300000000000002},{"$f":"per_game!P46","v":0.3},{"$f":"per_game!Q46","v":1.1000000000000001},{"$f":"per_game!R46","v":1.4},{"$f":"per_game!S46","v":1.1000000000000001},{"$f":"per_game!T46","v":0.3},{"$f":"per_game!U46","v":0},{"$f":"per_game!V46","v":0.8},{"$f":"per_game!W46","v":1.4},{"$f":"per_game!X46","v":3.1}]
[null,null,{"$f":"Roster!C47","v":"F"},28.767999999999997,{"$f":"per_game!B47 & \"-\" & D48","v":"Mirza Teletovic-28.768"},{"$f":"per_game!D47","v":6},{"$f":"per_game!E47","v":0},{"$f":"per_game!F47","v":8},{"$f":"per_game!G47","v":1.2},{"$f":"per_game!H47","v":3.7},{"$f":"per_game!I47","v":0.318},{"$f":"per_game!J47","v":0.7},{"$f":"per_game!K47","v":2.7},{"$f":"per_game!L47","v":0.25},{"$f":"per_game!M47","v":0},{"$f":"per_game!N47","v":0},{"$f":"per_game!O47","v":0},{"$f":"per_game!P47","v":0.2},{"$f":"per_game!Q47","v":1},{"$f":"per_game!R47","v":1.2},{"$f":"per_game!S47","v":0.7},{"$f":"per_game!T47","v":0.3},{"$f":"per_game!U47","v":0},{"$f":"per_game!V47","v":0},{"$f":"per_game!W47","v":0.5},{"$f":"per_game!X47","v":3}]
[null,null,{"$f":"Roster!C48","v":"F"},16.900000000000006,{"$f":"per_game!B48 & \"-\" & D49","v":"Tornike Shengelia-16.9"},{"$f":"per_game!D48","v":4},{"$f":"per_game!E48","v":0},{"$f":"per_game!F48","v":5},{"$f":"per_game!G48","v":0.5},{"$f":"per_game!H48","v":0.5},{"$f":"per_game!I48","v":1},{"$f":"per_game!J48","v":0.3},{"$f":"per_game!K48","v":0.3},{"$f":"per_game!L48","v":1},{"$f":"per_game!M48","v":0.8},{"$f":"per_game!N48","v":1.3},{"$f":"per_game!O48","v":0.6},{"$f":"per_game!P48","v":0},{"$f":"per_game!Q48","v":0.3},{"$f":"per_game!R48","v":0.3},{"$f":"per_game!S48","v":0},{"$f":"per_game!T48","v":0},{"$f":"per_game!U48","v":0},{"$f":"per_game!V48","v":0.5},{"$f":"per_game!W48","v":0.5},{"$f":"per_game!X48","v":2}]
[null,null,{"$f":"Roster!C49","v":"G"},28.352999999999998,{"$f":"per_game!B49 & \"-\" & D50","v":"Josh Childress-28.353"},{"$f":"per_game!D49","v":10},{"$f":"per_game!E49","v":0},{"$f":"per_game!F49","v":9.3000000000000007},{"$f":"per_game!G49","v":0.6},{"$f":"per_game!H49","v":1.7},{"$f":"per_game!I49","v":0.35299999999999998},{"$f":"per_game!J49","v":0.1},{"$f":"per_game!K49","v":0.2},{"$f":"per_game!L49","v":0.5},{"$f":"per_game!M49","v":0.1},{"$f":"per_game!N49","v":0.2},{"$f":"per_game!O49","v":0.5},{"$f":"per_game!P49","v":0.5},{"$f":"per_game!Q49","v":0.9},{"$f":"per_game!R49","v":1.4},{"$f":"per_game!S49","v":0.5},{"$f":"per_game!T49","v":0.2},{"$f":"per_game!U49","v":0.2},{"$f":"per_game!V49","v":0},{"$f":"per_game!W49","v":0.3},{"$f":"per_game!X49","v":1.4}]
[null,null,{"$f":"Roster!C50","v":"G"},15.832999999999998,{"$f":"per_game!B50 & \"-\" & D51","v":"Tyshawn Taylor-15.833"},{"$f":"per_game!D50","v":9},{"$f":"per_game!E50","v":0},{"$f":"per_game!F50","v":3.1},{"$f":"per_game!G50","v":0.4},{"$f":"per_game!H50","v":1.3},{"$f":"per_game!I50","v":0.33300000000000002},{"$f":"per_game!J50","v":0},{"$f":"per_game!K50","v":0},{"$f":"per_game!L50","v":0},{"$f":"per_game!M50","v":0.1},{"$f":"per_game!N50","v":0.2},{"$f":"per_game!O50","v":0.5},{"$f":"per_game!P50","v":0},{"$f":"per_game!Q50","v":0},{"$f":"per_game!R50","v":0},{"$f":"per_game!S50","v":0.2},{"$f":"per_game!T50","v":0.3},{"$f":"per_game!U50","v":0},{"$f":"per_game!V50","v":0.3},{"$f":"per_game!W50","v":0.3},{"$f":"per_game!X50","v":1}]
[null,null,{"$f":"Roster!C51","v":0},0,null,{"$f":"per_game!D51","v":0},{"$f":"per_game!E51","v":0},{"$f":"per_game!F51","v":0},{"$f":"per_game!G51","v":0},{"$f":"per_game!H51","v":0},{"$f":"per_game!I51","v":0},{"$f":"per_game!J51","v":0},{"$f":"per_game!K51","v":0},{"$f":"per_game!L51","v":0},{"$f":"per_game!M51","v":0},{"$f":"per_game!N51","v":0},{"$f":"per_game!O51","v":0},{"$f":"per_game!P51","v":0},{"$f":"per_game!Q51","v":0},{"$f":"per_game!R51","v":0},{"$f":"per_game!S51","v":0},{"$f":"per_game!T51","v":0},{"$f":"per_game!U51","v":0},{"$f":"per_game!V51","v":0},{"$f":"per_game!W51","v":0},{"$f":"per_game!X51","v":0}]
[null,null,{"$f":"Roster!C52","v":0},0,null,{"$f":"per_game!D52","v":0},{"$f":"per_game!E52","v":0},{"$f":"per_game!F52","v":0},{"$f":"per_game!G52","v":0},{"$f":"per_game!H52","v":0},{"$f":"per_game!I52","v":0},{"$f":"per_game!J52","v":0},{"$f":"per_game!K52","v":0},{"$f":"per_game!L52","v":0},{"$f":"per_game!M52","v":0},{"$f":"per_game!N52","v":0},{"$f":"per_game!O52","v":0},{"$f":"per_game!P52","v":0},{"$f":"per_game!Q52","v":0},{"$f":"per_game!R52","v":0},{"$f":"per_game!S52","v":0},{"$f":"per_game!T52","v":0},{"$f":"per_game!U52","v":0},{"$f":"per_game!V52","v":0},{"$f":"per_game!W52","v":0},{"$f":"per_game!X52","v":0}]
[null,null,{"$f":"Roster!C53","v":"Pos"},null,null,{"$f":"per_game!D53","v":"G"},{"$f":"per_game!E53","v":"GS"},{"$f":"per_game!F53","v":"MP"},{"$f":"per_game!G53","v":"FG"},{"$f":"per_game!H53","v":"FGA"},{"$f":"per_game!I53","v":"FG%"},{"$f":"per_game!J53","v":"3P"},{"$f":"per_game!K53","v":"3PA"},{"$f":"per_game!L53","v":"3P%"},{"$f":"per_game!M53","v":"FT"},{"$f":"per_game!N53","v":"FTA"},{"$f":"per_game!O53","v":"FT%"},{"$f":"per_game!P53","v":"ORB"},{"$f":"per_game!Q53","v":"DRB"},{"$f":"per_game!R53","v":"TRB"},{"$f":"per_game!S53","v":"AST"},{"$f":"per_game!T53","v":"STL"},{"$f":"per_game!U53","v":"BLK"},{"$f":"per_game!V53","v":"TOV"},{"$f":"per_game!W53","v":"PF"},{"$f":"per_game!X53","v":"PTS"}]
[null,null,{"$f":"Roster!C54","v":"F"},131.66299999999998,{"$f":"per_game!B54 & \"-\" & D55","v":"Kemba Walker-131.663"},{"$f":"per_game!D54","v":16},{"$f":"per_game!E54","v":16},{"$f":"per_game!F54","v":36.4},{"$f":"per_game!G54","v":6.1},{"$f":"per_game!H54","v":15.1},{"$f":"per_game!I54","v":0.40100000000000002},{"$f":"per_game!J54","v":0.8},{"$f":"per_game!K54","v":3.1},{"$f":"per_game!L54","v":0.26500000000000001},{"$f":"per_game!M54","v":3.7},{"$f":"per_game!N54","v":4.5999999999999996},{"$f":"per_game!O54","v":0.79700000000000004},{"$f":"per_game!P54","v":0.8},{"$f":"per_game!Q54","v":3.1},{"$f":"per_game!R54","v":3.9},{"$f":"per_game!S54","v":5.9},{"$f":"per_game!T54","v":2.1},{"$f":"per_game!U54","v":0.5},{"$f":"per_game!V54","v":2.4},{"$f":"per_game!W54","v":2.1},{"$f":"per_game!X54","v":16.600000000000001}]
[null,null,{"$f":"Roster!C55","v":"G"},103.99699999999999,{"$f":"per_game!B55 & \"-\" & D56","v":"Ramon Sessions-103.997"},{"$f":"per_game!D55","v":16},{"$f":"per_game!E55","v":0},{"$f":"per_game!F55","v":29},{"$f":"per_game!G55","v":4.9000000000000004},{"$f":"per_game!H55","v":13},{"$f":"per_game!I55","v":0.38},{"$f":"per_game!J55","v":0.4},{"$f":"per_game!K55","v":2.2000000000000002},{"$f":"per_game!L55","v":0.2},{"$f":"per_game!M55","v":5.3},{"$f":"per_game!N55","v":6.5},{"$f":"per_game!O55","v":0.81699999999999995},{"$f":"per_game!P55","v":0.6},{"$f":"per_game!Q55","v":3.2},{"$f":"per_game!R55","v":3.8},{"$f":"per_game!S55","v":4.7},{"$f":"per_game!T55","v":0.9},{"$f":"per_game!U55","v":0},{"$f":"per_game!V55","v":2.1},{"$f":"per_game!W55","v":1.4},{"$f":"per_game!X55","v":15.6}]
[null,null,{"$f":"Roster!C56","v":"C"},89.390000000000015,{"$f":"per_game!B56 & \"-\" & D57","v":"Ben Gordon-89.39"},{"$f":"per_game!D56","v":14},{"$f":"per_game!E56","v":0},{"$f":"per_game!F56","v":25.3},{"$f":"per_game!G56","v":5.2},{"$f":"per_game!H56","v":11.6},{"$f":"per_game!I56","v":0.45100000000000001},{"$f":"per_game!J56","v":2.5},{"$f":"per_game!K56","v":5.0999999999999996},{"$f":"per_game!L56","v":0.48599999999999999},{"$f":"per_game!M56","v":2.1},{"$f":"per_game!N56","v":2.4},{"$f":"per_game!O56","v":0.85299999999999998},{"$f":"per_game!P56","v":0.4},{"$f":"per_game!Q56","v":1.9},{"$f":"per_game!R56","v":2.2999999999999998},{"$f":"per_game!S56","v":2.9},{"$f":"per_game!T56","v":0.6},{"$f":"per_game!U56","v":0.4},{"$f":"per_game!V56","v":2.1},{"$f":"per_game!W56","v":2},{"$f":"per_game!X56","v":15}]
[null,null,{"$f":"Roster!C57","v":"G"},124.517,{"$f":"per_game!B57 & \"-\" & D58","v":"Byron Mullens-124.517"},{"$f":"per_game!D57","v":16},{"$f":"per_game!E57","v":16},{"$f":"per_game!F57","v":33.6},{"$f":"per_game!G57","v":4.8},{"$f":"per_game!H57","v":12.9},{"$f":"per_game!I57","v":0.374},{"$f":"per_game!J57","v":1.5},{"$f":"per_game!K57","v":5.3},{"$f":"per_game!L57","v":0.28599999999999998},{"$f":"per_game!M57","v":1.8},{"$f":"per_game!N57","v":2.2999999999999998},{"$f":"per_game!O57","v":0.75700000000000001},{"$f":"per_game!P57","v":1.6},{"$f":"per_game!Q57","v":6.8},{"$f":"per_game!R57","v":8.4},{"$f":"per_game!S57","v":1.2},{"$f":"per_game!T57","v":1.1000000000000001},{"$f":"per_game!U57","v":0.8},{"$f":"per_game!V57","v":1.3},{"$f":"per_game!W57","v":2.6},{"$f":"per_game!X57","v":12.9}]
[null,null,{"$f":"Roster!C58","v":"C"},103.73199999999997,{"$f":"per_game!B58 & \"-\" & D59","v":"Michael Kidd-Gilchrist-103.732"},{"$f":"per_game!D58","v":16},{"$f":"per_game!E58","v":16},{"$f":"per_game!F58","v":27.2},{"$f":"per_game!G58","v":4.0999999999999996},{"$f":"per_game!H58","v":8.9},{"$f":"per_game!I58","v":0.45800000000000002},{"$f":"per_game!J58","v":0.1},{"$f":"per_game!K58","v":0.1},{"$f":"per_game!L58","v":0.5},{"$f":"per_game!M58","v":2.6},{"$f":"per_game!N58","v":3.3},{"$f":"per_game!O58","v":0.77400000000000002},{"$f":"per_game!P58","v":1.9},{"$f":"per_game!Q58","v":4.4000000000000004},{"$f":"per_game!R58","v":6.3},{"$f":"per_game!S58","v":1.6},{"$f":"per_game!T58","v":1.1000000000000001},{"$f":"per_game!U58","v":1.4},{"$f":"per_game!V58","v":1.4},{"$f":"per_game!W58","v":2.4},{"$f":"per_game!X58","v":10.8}]
[null,null,{"$f":"Roster!C59","v":"G"},64.945000000000022,{"$f":"per_game!B59 & \"-\" & D60","v":"Gerald Henderson-64.945"},{"$f":"per_game!D59","v":3},{"$f":"per_game!E59","v":2},{"$f":"per_game!F59","v":23.7},{"$f":"per_game!G59","v":3.3},{"$f":"per_game!H59","v":9},{"$f":"per_game!I59","v":0.37},{"$f":"per_game!J59","v":1},{"$f":"per_game!K59","v":2},{"$f":"per_game!L59","v":0.5},{"$f":"per_game!M59","v":2.2999999999999998},{"$f":"per_game!N59","v":2.7},{"$f":"per_game!O59","v":0.875},{"$f":"per_game!P59","v":0.7},{"$f":"per_game!Q59","v":1},{"$f":"per_game!R59","v":1.7},{"$f":"per_game!S59","v":1.7},{"$f":"per_game!T59","v":2},{"$f":"per_game!U59","v":0.7},{"$f":"per_game!V59","v":1.3},{"$f":"per_game!W59","v":2.2999999999999998},{"$f":"per_game!X59","v":10}]
[null,null,{"$f":"Roster!C60","v":"G"},84.096000000000004,{"$f":"per_game!B60 & \"-\" & D61","v":"Jeff Taylor-84.096"},{"$f":"per_game!D60","v":15},{"$f":"per_game!E60","v":14},{"$f":"per_game!F60","v":24.9},{"$f":"per_game!G60","v":3.1},{"$f":"per_game!H60","v":7},{"$f":"per_game!I60","v":0.438},{"$f":"per_game!J60","v":1},{"$f":"per_game!K60","v":2.6},{"$f":"per_game!L60","v":0.38500000000000001},{"$f":"per_game!M60","v":1.1000000000000001},{"$f":"per_game!N60","v":1.5},{"$f":"per_game!O60","v":0.77300000000000002},{"$f":"per_game!P60","v":1},{"$f":"per_game!Q60","v":1.4},{"$f":"per_game!R60","v":2.4},{"$f":"per_game!S60","v":0.9},{"$f":"per_game!T60","v":1.2},{"$f":"per_game!U60","v":0.3},{"$f":"per_game!V60","v":0.9},{"$f":"per_game!W60","v":2.2999999999999998},{"$f":"per_game!X60","v":8.3000000000000007}]
[null,null,{"$f":"Roster!C61","v":"F"},52.290000000000013,{"$f":"per_game!B61 & \"-\" & D62","v":"Tyrus Thomas-52.29"},{"$f":"per_game!D61","v":8},{"$f":"per_game!E61","v":0},{"$f":"per_game!F61","v":17.8},{"$f":"per_game!G61","v":2.2999999999999998},{"$f":"per_game!H61","v":6.6},{"$f":"per_game!I61","v":0.34},{"$f":"per_game!J61","v":0},{"$f":"per_game!K61","v":0},{"$f":"per_game!L61","v":0},{"$f":"per_game!M61","v":2.1},{"$f":"per_game!N61","v":2.5},{"$f":"per_game!O61","v":0.85},{"$f":"per_game!P61","v":1},{"$f":"per_game!Q61","v":2.1},{"$f":"per_game!R61","v":3.1},{"$f":"per_game!S61","v":1},{"$f":"per_game!T61","v":0.5},{"$f":"per_game!U61","v":1.4},{"$f":"per_game!V61","v":0.9},{"$f":"per_game!W61","v":3},{"$f":"per_game!X61","v":6.6}]
[null,null,{"$f":"Roster!C62","v":"C"},87.049000000000007,{"$f":"per_game!B62 & \"-\" & D63","v":"Brendan Haywood-87.049"},{"$f":"per_game!D62","v":15},{"$f":"per_game!E62","v":15},{"$f":"per_game!F62","v":27.7},{"$f":"per_game!G62","v":3},{"$f":"per_game!H62","v":5.5},{"$f":"per_game!I62","v":0.54900000000000004},{"$f":"per_game!J62","v":0},{"$f":"per_game!K62","v":0},{"$f":"per_game!L62","v":0},{"$f":"per_game!M62","v":0.5},{"$f":"per_game!N62","v":1.1000000000000001},{"$f":"per_game!O62","v":0.5},{"$f":"per_game!P62","v":2.9},{"$f":"per_game!Q62","v":3.9},{"$f":"per_game!R62","v":6.9},{"$f":"per_game!S62","v":0.7},{"$f":"per_game!T62","v":0.1},{"$f":"per_game!U62","v":1.1000000000000001},{"$f":"per_game!V62","v":1.4},{"$f":"per_game!W62","v":2.5},{"$f":"per_game!X62","v":6.5}]
[null,null,{"$f":"Roster!C63","v":"G"},57.30899999999999,{"$f":"per_game!B63 & \"-\" & D64","v":"Bismack Biyombo-57.309"},{"$f":"per_game!D63","v":14},{"$f":"per_game!E63","v":1},{"$f":"per_game!F63","v":20.5},{"$f":"per_game!G63","v":1.9},{"$f":"per_game!H63","v":3.4},{"$f":"per_game!I63","v":0.55300000000000005},{"$f":"per_game!J63","v":0},{"$f":"per_game!K63","v":0},{"$f":"per_game!L63","v":0},{"$f":"per_game!M63","v":0.7},{"$f":"per_game!N63","v":1.3},{"$f":"per_game!O63","v":0.55600000000000005},{"$f":"per_game!P63","v":1.6},{"$f":"per_game!Q63","v":3.5},{"$f":"per_game!R63","v":5.0999999999999996},{"$f":"per_game!S63","v":0.1},{"$f":"per_game!T63","v":0.3},{"$f":"per_game!U63","v":1.6},{"$f":"per_game!V63","v":1},{"$f":"per_game!W63","v":2.2000000000000002},{"$f":"per_game!X63","v":4.4000000000000004}]
[null,null,{"$f":"Roster!C64","v":"F"},37.412000000000006,{"$f":"per_game!B64 & \"-\" & D65","v":"Reggie Williams-37.412"},{"$f":"per_game!D64","v":11},{"$f":"per_game!E64","v":0},{"$f":"per_game!F64","v":10.1},{"$f":"per_game!G64","v":1.6},{"$f":"per_game!H64","v":3.5},{"$f":"per_game!I64","v":0.46200000000000002},{"$f":"per_game!J64","v":0.6},{"$f":"per_game!K64","v":1.8},{"$f":"per_game!L64","v":0.35},{"$f":"per_game!M64","v":0.2},{"$f":"per_game!N64","v":0.2},{"$f":"per_game!O64","v":1},{"$f":"per_game!P64","v":0.4},{"$f":"per_game!Q64","v":0.8},{"$f":"per_game!R64","v":1.2},{"$f":"per_game!S64","v":0.5},{"$f":"per_game!T64","v":0.7},{"$f":"per_game!U64","v":0},{"$f":"per_game!V64","v":0.5},{"$f":"per_game!W64","v":0.6},{"$f":"per_game!X64","v":4.0999999999999996}]
[null,null,{"$f":"Roster!C65","v":"F"},28.882999999999999,{"$f":"per_game!B65 & \"-\" & D66","v":"Hakim Warrick-28.883"},{"$f":"per_game!D65","v":6},{"$f":"per_game!E65","v":0},{"$f":"per_game!F65","v":10.7},{"$f":"per_game!G65","v":0.3},{"$f":"per_game!H65","v":2.5},{"$f":"per_game!I65","v":0.13300000000000001},{"$f":"per_game!J65","v":0},{"$f":"per_game!K65","v":0},{"$f":"per_game!L65","v":0},{"$f":"per_game!M65","v":1.5},{"$f":"per_game!N65","v":2},{"$f":"per_game!O65","v":0.75},{"$f":"per_game!P65","v":0.5},{"$f":"per_game!Q65","v":1.3},{"$f":"per_game!R65","v":1.8},{"$f":"per_game!S65","v":0.2},{"$f":"per_game!T65","v":0.2},{"$f":"per_game!U65","v":0.3},{"$f":"per_game!V65","v":0.5},{"$f":"per_game!W65","v":1},{"$f":"per_game!X65","v":2.2000000000000002}]
[null,null,{"$f":"Roster!C66","v":"G"},17.480999999999995,{"$f":"per_game!B66 & \"-\" & D67","v":"Cory Higgins-17.481"},{"$f":"per_game!D66","v":5},{"$f":"per_game!E66","v":0},{"$f":"per_game!F66","v":5.2},{"$f":"per_game!G66","v":0.6},{"$f":"per_game!H66","v":2.6},{"$f":"per_game!I66","v":0.23100000000000001},{"$f":"per_game!J66","v":0.2},{"$f":"per_game!K66","v":0.8},{"$f":"per_game!L66","v":0.25},{"$f":"per_game!M66","v":0},{"$f":"per_game!N66","v":0},{"$f":"per_game!O66","v":0},{"$f":"per_game!P66","v":0},{"$f":"per_game!Q66","v":0.4},{"$f":"per_game!R66","v":0.4},{"$f":"per_game!S66","v":0.8},{"$f":"per_game!T66","v":0.4},{"$f":"per_game!U66","v":0},{"$f":"per_game!V66","v":0},{"$f":"per_game!W66","v":0.8},{"$f":"per_game!X66","v":1.4}]
[null,null,{"$f":"Roster!C67","v":"F"},21.899999999999995,{"$f":"per_game!B67 & \"-\" & D68","v":"DeSagana Diop-21.9"},{"$f":"per_game!D67","v":8},{"$f":"per_game!E67","v":0},{"$f":"per_game!F67","v":8.8000000000000007},{"$f":"per_game!G67","v":0},{"$f":"per_game!H67","v":0.9},{"$f":"per_game!I67","v":0},{"$f":"per_game!J67","v":0},{"$f":"per_game!K67","v":0},{"$f":"per_game!L67","v":0},{"$f":"per_game!M67","v":0},{"$f":"per_game!N67","v":0},{"$f":"per_game!O67","v":0},{"$f":"per_game!P67","v":0.4},{"$f":"per_game!Q67","v":1.5},{"$f":"per_game!R67","v":1.9},{"$f":"per_game!S67","v":0.3},{"$f":"per_game!T67","v":0.3},{"$f":"per_game!U67","v":0.5},{"$f":"per_game!V67","v":0.1},{"$f":"per_game!W67","v":0.6},{"$f":"per_game!X67","v":0}]
[null,null,{"$f":"Roster!C68","v":"F"},{"$f":"F69*$B$21+G69*$B$20+H69*$B$19+I69*$B$13+J69*$B$14+K69*$B$6+L69*$B$17+M69*$B$18+N69*$B$8+O69*$B$15+P69*$B$16+Q69*$B$7+R69*$B$10+S69*$B$11+T69*$B$2+U69*$B$3+V69*$B$5+W69*$B$4+X69*$B$9+Y69*$B$12+Z69*$B$1","v":7},{"$f":"per_game!B68 & \"-\" & D69","v":"Matt Carroll-7"},{"$f":"per_game!D68","v":1},{"$f":"per_game!E68","v":0},{"$f":"per_game!F68","v":6},{"$f":"per_game!G68","v":0},{"$f":"per_game!H68","v":0},{"$f":"per_game!I68","v":0},{"$f":"per_game!J68","v":0},{"$f":"per_game!K68","v":0},{"$f":"per_game!L68","v":0},{"$f":"per_game!M68","v":0},{"$f":"per_game!N68","v":0},{"$f":"per_game!O68","v":0},{"$f":"per_game!P68","v":0},{"$f":"per_game!Q68","v":0},{"$f":"per_game!R68","v":0},{"$f":"per_game!S68","v":1},{"$f":"per_game!T68","v":0},{"$f":"per_game!U68","v":0},{"$f":"per_game!V68","v":0},{"$f":"per_game!W68","v":1},{"$f":"per_game!X68","v":0}]
[null,null,{"$f":"Roster!C69","v":0},0,null,{"$f":"per_game!D69","v":0},{"$f":"per_game!E69","v":0},{"$f":"per_game!F69","v":0},{"$f":"per_game!G69","v":0},{"$f":"per_game!H69","v":0},{"$f":"per_game!I69","v":0},{"$f":"per_game!J69","v":0},{"$f":"per_game!K69","v":0},{"$f":"per_game!L69","v":0},{"$f":"per_game!M69","v":0},{"$f":"per_game!N69","v":0},{"$f":"per_game!O69","v":0},{"$f":"per_game!P69","v":0},{"$f":"per_game!Q69","v":0},{"$f":"per_game!R69","v":0},{"$f":"per_game!S69","v":0},{"$f":"per_game!T69","v":0},{"$f":"per_game!U69","v":0},{"$f":"per_game!V69","v":0},{"$f":"per_game!W69","v":0},{"$f":"per_game!X69","v":0}]
[null,null,{"$f":"Roster!C70","v":0},0,null,{"$f":"per_game!D70","v":0},{"$f":"per_game!E70","v":0},{"$f":"per_game!F70","v":0},{"$f":"per_game!G70","v":0},{"$f":"per_game!H70","v":0},{"$f":"per_game!I70","v":0},{"$f":"per_game!J70","v":0},{"$f":"per_game!K70","v":0},{"$f":"per_game!L70","v":0},{"$f":"per_game!M70","v":0},{"$f":"per_game!N70","v":0},{"$f":"per_game!O70","v":0},{"$f":"per_game!P70","v":0},{"$f":"per_game!Q70","v":0},{"$f":"per_game!R70","v":0},{"$f":"per_game!S70","v":0},{"$f":"per_game!T70","v":0},{"$f":"per_game!U70","v":0},{"$f":"per_game!V70","v":0},{"$f":"per_game!W70","v":0},{"$f":"per_game!X70","v":0}]
[null,null,{"$f":"Roster!C71","v":"Pos"},null,null,{"$f":"per_game!D71","v":"G"},{"$f":"per_game!E71","v":"GS"},{"$f":"per_game!F71","v":"MP"},{"$f":"per_game!G71","v":"FG"},{"$f":"per_game!H71","v":"FGA"},{"$f":"per_game!I71","v":"FG%"},{"$f":"per_game!J71","v":"3P"},{"$f":"per_game!K71","v":"3PA"},{"$f":"per_game!L71","v":"3P%"},{"$f":"per_game!M71","v":"FT"},{"$f":"per_game!N71","v":"FTA"},{"$f":"per_game!O71","v":"FT%"},{"$f":"per_game!P71","v":"ORB"},{"$f":"per_game!Q71","v":"DRB"},{"$f":"per_game!R71","v":"TRB"},{"$f":"per_game!S71","v":"AST"},{"$f":"per_game!T71","v":"STL"},{"$f":"per_game!U71","v":"BLK"},{"$f":"per_game!V71","v":"TOV"},{"$f":"per_game!W71","v":"PF"},{"$f":"per_game!X71","v":"PTS"}]
[null,null,{"$f":"Roster!C72","v":"G"},138.37700000000001,{"$f":"per_game!B72 & \"-\" & D73","v":"Luol Deng-138.377"},{"$f":"per_game!D72","v":15},{"$f":"per_game!E72","v":15},{"$f":"per_game!F72","v":40.700000000000003},{"$f":"per_game!G72","v":6.9},{"$f":"per_game!H72","v":15},{"$f":"per_game!I72","v":0.46200000000000002},{"$f":"per_game!J72","v":0.9},{"$f":"per_game!K72","v":3.1},{"$f":"per_game!L72","v":0.29799999999999999},{"$f":"per_game!M72","v":3.3},{"$f":"per_game!N72","v":4},{"$f":"per_game!O72","v":0.81699999999999995},{"$f":"per_game!P72","v":2.1},{"$f":"per_game!Q72","v":5.3},{"$f":"per_game!R72","v":7.4},{"$f":"per_game!S72","v":2.7},{"$f":"per_game!T72","v":0.9},{"$f":"per_game!U72","v":0.3},{"$f":"per_game!V72","v":2.6},{"$f":"per_game!W72","v":1.3},{"$f":"per_game!X72","v":18.100000000000001}]
[null,null,{"$f":"Roster!C73","v":"F-C"},101.06000000000002,{"$f":"per_game!B73 & \"-\" & D74","v":"Richard Hamilton-101.06"},{"$f":"per_game!D73","v":15},{"$f":"per_game!E73","v":15},{"$f":"per_game!F73","v":27.1},{"$f":"per_game!G73","v":5.4},{"$f":"per_game!H73","v":11.9},{"$f":"per_game!I73","v":0.45500000000000002},{"$f":"per_game!J73","v":0.4},{"$f":"per_game!K73","v":1.1000000000000001},{"$f":"per_game!L73","v":0.375},{"$f":"per_game!M73","v":2.7},{"$f":"per_game!N73","v":2.9},{"$f":"per_game!O73","v":0.93},{"$f":"per_game!P73","v":0.4},{"$f":"per_game!Q73","v":1.9},{"$f":"per_game!R73","v":2.2999999999999998},{"$f":"per_game!S73","v":2.2999999999999998},{"$f":"per_game!T73","v":0.8},{"$f":"per_game!U73","v":0.1},{"$f":"per_game!V73","v":2.2000000000000002},{"$f":"per_game!W73","v":1.7},{"$f":"per_game!X73","v":13.9}]
[null,null,{"$f":"Roster!C74","v":"F"},115.36100000000003,{"$f":"per_game!B74 & \"-\" & D75","v":"Carlos Boozer-115.361"},{"$f":"per_game!D74","v":15},{"$f":"per_game!E74","v":15},{"$f":"per_game!F74","v":29.7},{"$f":"per_game!G74","v":5.9},{"$f":"per_game!H74","v":12.9},{"$f":"per_game!I74","v":0.45400000000000001},{"$f":"per_game!J74","v":0},{"$f":"per_game!K74","v":0},{"$f":"per_game!L74","v":0},{"$f":"per_game!M74","v":1.9},{"$f":"per_game!N74","v":2.7},{"$f":"per_game!O74","v":0.70699999999999996},{"$f":"per_game!P74","v":2.2999999999999998},{"$f":"per_game!Q74","v":7.4},{"$f":"per_game!R74","v":9.6999999999999993},{"$f":"per_game!S74","v":1.9},{"$f":"per_game!T74","v":0.7},{"$f":"per_game!U74","v":0.4},{"$f":"per_game!V74","v":2},{"$f":"per_game!W74","v":3},{"$f":"per_game!X74","v":13.7}]
[null,null,{"$f":"Roster!C75","v":"F"},129.05000000000001,{"$f":"per_game!B75 & \"-\" & D76","v":"Joakim Noah-129.05"},{"$f":"per_game!D75","v":15},{"$f":"per_game!E75","v":15},{"$f":"per_game!F75","v":39},{"$f":"per_game!G75","v":5},{"$f":"per_game!H75","v":10.6},{"$f":"per_game!I75","v":0.47199999999999998},{"$f":"per_game!J75","v":0},{"$f":"per_game!K75","v":0.1},{"$f":"per_game!L75","v":0},{"$f":"per_game!M75","v":3.3},{"$f":"per_game!N75","v":4.2},{"$f":"per_game!O75","v":0.77800000000000002},{"$f":"per_game!P75","v":3.9},{"$f":"per_game!Q75","v":6},{"$f":"per_game!R75","v":9.9},{"$f":"per_game!S75","v":4.3},{"$f":"per_game!T75","v":1.4},{"$f":"per_game!U75","v":2.2000000000000002},{"$f":"per_game!V75","v":2.5},{"$f":"per_game!W75","v":2.9},{"$f":"per_game!X75","v":13.3}]
[null,null,{"$f":"Roster!C76","v":"F"},75.446999999999989,{"$f":"per_game!B76 & \"-\" & D77","v":"Nate Robinson-75.447"},{"$f":"per_game!D76","v":15},{"$f":"per_game!E76","v":1},{"$f":"per_game!F76","v":20.9},{"$f":"per_game!G76","v":4.3},{"$f":"per_game!H76","v":9.3000000000000007},{"$f":"per_game!I76","v":0.46800000000000003},{"$f":"per_game!J76","v":1.1000000000000001},{"$f":"per_game!K76","v":2.9},{"$f":"per_game!L76","v":0.36399999999999999},{"$f":"per_game!M76","v":1.5},{"$f":"per_game!N76","v":1.8},{"$f":"per_game!O76","v":0.81499999999999995},{"$f":"per_game!P76","v":0.3},{"$f":"per_game!Q76","v":1.8},{"$f":"per_game!R76","v":2.1},{"$f":"per_game!S76","v":3.6},{"$f":"per_game!T76","v":0.9},{"$f":"per_game!U76","v":0},{"$f":"per_game!V76","v":1.7},{"$f":"per_game!W76","v":2.2000000000000002},{"$f":"per_game!X76","v":11.2}]
[null,null,{"$f":"Roster!C77","v":"G-F"},66.320999999999998,{"$f":"per_game!B77 & \"-\" & D78","v":"Taj Gibson-66.321"},{"$f":"per_game!D77","v":15},{"$f":"per_game!E77","v":0},{"$f":"per_game!F77","v":21.1},{"$f":"per_game!G77","v":2.7},{"$f":"per_game!H77","v":6.1},{"$f":"per_game!I77","v":0.44},{"$f":"per_game!J77","v":0},{"$f":"per_game!K77","v":0.1},{"$f":"per_game!L77","v":0},{"$f":"per_game!M77","v":1.7},{"$f":"per_game!N77","v":2.1},{"$f":"per_game!O77","v":0.78100000000000003},{"$f":"per_game!P77","v":1.4},{"$f":"per_game!Q77","v":3.5},{"$f":"per_game!R77","v":4.9000000000000004},{"$f":"per_game!S77","v":0.9},{"$f":"per_game!T77","v":0.6},{"$f":"per_game!U77","v":1.3},{"$f":"per_game!V77","v":1.2},{"$f":"per_game!W77","v":2.1},{"$f":"per_game!X77","v":7}]
[null,null,{"$f":"Roster!C78","v":"G"},84.937000000000026,{"$f":"per_game!B78 & \"-\" & D79","v":"Kirk Hinrich-84.937"},{"$f":"per_game!D78","v":14},{"$f":"per_game!E78","v":14},{"$f":"per_game!F78","v":27.1},{"$f":"per_game!G78","v":2.1},{"$f":"per_game!H78","v":6.4},{"$f":"per_game!I78","v":0.32200000000000001},{"$f":"per_game!J78","v":0.6},{"$f":"per_game!K78","v":2.2000000000000002},{"$f":"per_game!L78","v":0.28999999999999998},{"$f":"per_game!M78","v":1.4},{"$f":"per_game!N78","v":2.2999999999999998},{"$f":"per_game!O78","v":0.625},{"$f":"per_game!P78","v":0.4},{"$f":"per_game!Q78","v":2.2000000000000002},{"$f":"per_game!R78","v":2.6},{"$f":"per_game!S78","v":5.6},{"$f":"per_game!T78","v":0.9},{"$f":"per_game!U78","v":0.3},{"$f":"per_game!V78","v":2},{"$f":"per_game!W78","v":2.6},{"$f":"per_game!X78","v":6.2}]
[null,null,{"$f":"Roster!C79","v":"C"},52.611000000000011,{"$f":"per_game!B79 & \"-\" & D80","v":"Jimmy Butler-52.611"},{"$f":"per_game!D79","v":15},{"$f":"per_game!E79","v":0},{"$f":"per_game!F79","v":15.9},{"$f":"per_game!G79","v":1.8},{"$f":"per_game!H79","v":3.4},{"$f":"per_game!I79","v":0.52900000000000003},{"$f":"per_game!J79","v":0.1},{"$f":"per_game!K79","v":0.5},{"$f":"per_game!L79","v":0.14299999999999999},{"$f":"per_game!M79","v":1.7},{"$f":"per_game!N79","v":2.1},{"$f":"per_game!O79","v":0.83899999999999997},{"$f":"per_game!P79","v":1.3},{"$f":"per_game!Q79","v":1.2},{"$f":"per_game!R79","v":2.5},{"$f":"per_game!S79","v":0.7},{"$f":"per_game!T79","v":0.5},{"$f":"per_game!U79","v":0.2},{"$f":"per_game!V79","v":0.3},{"$f":"per_game!W79","v":0.9},{"$f":"per_game!X79","v":5.4}]
[null,null,{"$f":"Roster!C80","v":"C"},47.87,{"$f":"per_game!B80 & \"-\" & D81","v":"Marco Belinelli-47.87"},{"$f":"per_game!D80","v":14},{"$f":"per_game!E80","v":0},{"$f":"per_game!F80","v":14.7},{"$f":"per_game!G80","v":1.5},{"$f":"per_game!H80","v":4.0999999999999996},{"$f":"per_game!I80","v":0.36799999999999999},{"$f":"per_game!J80","v":0.8},{"$f":"per_game!K80","v":1.9},{"$f":"per_game!L80","v":0.40699999999999997},{"$f":"per_game!M80","v":1.2},{"$f":"per_game!N80","v":1.4},{"$f":"per_game!O80","v":0.89500000000000002},{"$f":"per_game!P80","v":0},{"$f":"per_game!Q80","v":0.9},{"$f":"per_game!R80","v":0.9},{"$f":"per_game!S80","v":0.7},{"$f":"per_game!T80","v":0.4},{"$f":"per_game!U80","v":0.1},{"$f":"per_game!V80","v":0.5},{"$f":"per_game!W80","v":0.9},{"$f":"per_game!X80","v":5}]
[null,null,{"$f":"Roster!C81","v":"F"},13.541999999999998,{"$f":"per_game!B81 & \"-\" & D82","v":"Vladimir Radmanovic-13.542"},{"$f":"per_game!D81","v":5},{"$f":"per_game!E81","v":0},{"$f":"per_game!F81","v":3.2},{"$f":"per_game!G81","v":0.6},{"$f":"per_game!H81","v":1.6},{"$f":"per_game!I81","v":0.375},{"$f":"per_game!J81","v":0.2},{"$f":"per_game!K81","v":1.2},{"$f":"per_game!L81","v":0.16700000000000001},{"$f":"per_game!M81","v":0},{"$f":"per_game!N81","v":0},{"$f":"per_game!O81","v":0},{"$f":"per_game!P81","v":0.4},{"$f":"per_game!Q81","v":0},{"$f":"per_game!R81","v":0.4},{"$f":"per_game!S81","v":0.2},{"$f":"per_game!T81","v":0},{"$f":"per_game!U81","v":0},{"$f":"per_game!V81","v":0.2},{"$f":"per_game!W81","v":1},{"$f":"per_game!X81","v":1.4}]
[null,null,{"$f":"Roster!C82","v":"G"},18.199999999999996,{"$f":"per_game!B82 & \"-\" & D83","v":"Marquis Teague-18.2"},{"$f":"per_game!D82","v":6},{"$f":"per_game!E82","v":0},{"$f":"per_game!F82","v":5.7},{"$f":"per_game!G82","v":0.3},{"$f":"per_game!H82","v":1.3},{"$f":"per_game!I82","v":0.25},{"$f":"per_game!J82","v":0},{"$f":"per_game!K82","v":0.2},{"$f":"per_game!L82","v":0},{"$f":"per_game!M82","v":0.5},{"$f":"per_game!N82","v":0.7},{"$f":"per_game!O82","v":0.75},{"$f":"per_game!P82","v":0},{"$f":"per_game!Q82","v":0.7},{"$f":"per_game!R82","v":0.7},{"$f":"per_game!S82","v":1.2},{"$f":"per_game!T82","v":0},{"$f":"per_game!U82","v":0},{"$f":"per_game!V82","v":0.3},{"$f":"per_game!W82","v":1},{"$f":"per_game!X82","v":1.2}]
[null,null,{"$f":"Roster!C83","v":"G"},25.517999999999997,{"$f":"per_game!B83 & \"-\" & D84","v":"Nazr Mohammed-25.518"},{"$f":"per_game!D83","v":11},{"$f":"per_game!E83","v":0},{"$f":"per_game!F83","v":6.8},{"$f":"per_game!G83","v":0.2},{"$f":"per_game!H83","v":1.5},{"$f":"per_game!I83","v":0.11799999999999999},{"$f":"per_game!J83","v":0},{"$f":"per_game!K83","v":0},{"$f":"per_game!L83","v":0},{"$f":"per_game!M83","v":0.4},{"$f":"per_game!N83","v":0.7},{"$f":"per_game!O83","v":0.5},{"$f":"per_game!P83","v":0.6},{"$f":"per_game!Q83","v":1.3},{"$f":"per_game!R83","v":1.9},{"$f":"per_game!S83","v":0.3},{"$f":"per_game!T83","v":0.2},{"$f":"per_game!U83","v":0.5},{"$f":"per_game!V83","v":0.2},{"$f":"per_game!W83","v":1},{"$f":"per_game!X83","v":0.7}]
[null,null,{"$f":"Roster!C84","v":0},0,null,{"$f":"per_game!D84","v":0},{"$f":"per_game!E84","v":0},{"$f":"per_game!F84","v":0},{"$f":"per_game!G84","v":0},{"$f":"per_game!H84","v":0},{"$f":"per_game!I84","v":0},{"$f":"per_game!J84","v":0},{"$f":"per_game!K84","v":0},{"$f":"per_game!L84","v":0},{"$f":"per_game!M84","v":0},{"$f":"per_game!N84","v":0},{"$f":"per_game!O84","v":0},{"$f":"per_game!P84","v":0},{"$f":"per_game!Q84","v":0},{"$f":"per_game!R84","v":0},{"$f":"per_game!S84","v":0},{"$f":"per_game!T84","v":0},{"$f":"per_game!U84","v":0},{"$f":"per_game!V84","v":0},{"$f":"per_game!W84","v":0},{"$f":"per_game!X84","v":0}]
[null,null,{"$f":"Roster!C85","v":0},0,null,{"$f":"per_game!D85","v":0},{"$f":"per_game!E85","v":0},{"$f":"per_game!F85","v":0},{"$f":"per_game!G85","v":0},{"$f":"per_game!H85","v":0},{"$f":"per_game!I85","v":0},{"$f":"per_game!J85","v":0},{"$f":"per_game!K85","v":0},{"$f":"per_game!L85","v":0},{"$f":"per_game!M85","v":0},{"$f":"per_game!N85","v":0},{"$f":"per_game!O85","v":0},{"$f":"per_game!P85","v":0},{"$f":"per_game!Q85","v":0},{"$f":"per_game!R85","v":0},{"$f":"per_game!S85","v":0},{"$f":"per_game!T85","v":0},{"$f":"per_game!U85","v":0},{"$f":"per_game!V85","v":0},{"$f":"per_game!W85","v":0},{"$f":"per_game!X85","v":0}]
[null,null,{"$f":"Roster!C86","v":"Pos"},null,null,{"$f":"per_game!D86","v":"G"},{"$f":"per_game!E86","v":"GS"},{"$f":"per_game!F86","v":"MP"},{"$f":"per_game!G86","v":"FG"},{"$f":"per_game!H86","v":"FGA"},{"$f":"per_game!I86","v":"FG%"},{"$f":"per_game!J86","v":"3P"},{"$f":"per_game!K86","v":"3PA"},{"$f":"per_game!L86","v":"3P%"},{"$f":"per_game!M86","v":"FT"},{"$f":"per_game!N86","v":"FTA"},{"$f":"per_game!O86","v":"FT%"},{"$f":"per_game!P86","v":"ORB"},{"$f":"per_game!Q86","v":"DRB"},{"$f":"per_game!R86","v":"TRB"},{"$f":"per_game!S86","v":"AST"},{"$f":"per_game!T86","v":"STL"},{"$f":"per_game!U86","v":"BLK"},{"$f":"per_game!V86","v":"TOV"},{"$f":"per_game!W86","v":"PF"},{"$f":"per_game!X86","v":"PTS"}]
[null,null,{"$f":"Roster!C87","v":"F"},129.87899999999999,{"$f":"per_game!B87 & \"-\" & D88","v":"Kyrie Irving-129.879"},{"$f":"per_game!D87","v":10},{"$f":"per_game!E87","v":10},{"$f":"per_game!F87","v":35.200000000000003},{"$f":"per_game!G87","v":8.1999999999999993},{"$f":"per_game!H87","v":17.7},{"$f":"per_game!I87","v":0.46300000000000002},{"$f":"per_game!J87","v":1.8},{"$f":"per_game!K87","v":4.5999999999999996},{"$f":"per_game!L87","v":0.39100000000000001},{"$f":"per_game!M87","v":4.7},{"$f":"per_game!N87","v":5.7},{"$f":"per_game!O87","v":0.82499999999999996},{"$f":"per_game!P87","v":0.5},{"$f":"per_game!Q87","v":3.2},{"$f":"per_game!R87","v":3.7},{"$f":"per_game!S87","v":5.6},{"$f":"per_game!T87","v":1.1000000000000001},{"$f":"per_game!U87","v":0.3},{"$f":"per_game!V87","v":4.0999999999999996},{"$f":"per_game!W87","v":2.9},{"$f":"per_game!X87","v":22.9}]
[null,null,{"$f":"Roster!C88","v":"G"},121.69800000000001,{"$f":"per_game!B88 & \"-\" & D89","v":"Dion Waiters-121.698"},{"$f":"per_game!D88","v":17},{"$f":"per_game!E88","v":17},{"$f":"per_game!F88","v":32},{"$f":"per_game!G88","v":5.5},{"$f":"per_game!H88","v":15.1},{"$f":"per_game!I88","v":0.36299999999999999},{"$f":"per_game!J88","v":1.9},{"$f":"per_game!K88","v":5.5},{"$f":"per_game!L88","v":0.35499999999999998},{"$f":"per_game!M88","v":2.2999999999999998},{"$f":"per_game!N88","v":2.9},{"$f":"per_game!O88","v":0.78},{"$f":"per_game!P88","v":0.1},{"$f":"per_game!Q88","v":2.2000000000000002},{"$f":"per_game!R88","v":2.2999999999999998},{"$f":"per_game!S88","v":3.4},{"$f":"per_game!T88","v":1.2},{"$f":"per_game!U88","v":0.2},{"$f":"per_game!V88","v":1.9},{"$f":"per_game!W88","v":1.7},{"$f":"per_game!X88","v":15.2}]
[null,null,{"$f":"Roster!C89","v":"G"},143.5,{"$f":"per_game!B89 & \"-\" & D90","v":"Anderson Varejao-143.5"},{"$f":"per_game!D89","v":17},{"$f":"per_game!E89","v":17},{"$f":"per_game!F89","v":36.6},{"$f":"per_game!G89","v":6.2},{"$f":"per_game!H89","v":11.8},{"$f":"per_game!I89","v":0.52200000000000002},{"$f":"per_game!J89","v":0},{"$f":"per_game!K89","v":0.2},{"$f":"per_game!L89","v":0},{"$f":"per_game!M89","v":2.9},{"$f":"per_game!N89","v":3.7},{"$f":"per_game!O89","v":0.77800000000000002},{"$f":"per_game!P89","v":6.2},{"$f":"per_game!Q89","v":9.1999999999999993},{"$f":"per_game!R89","v":15.4},{"$f":"per_game!S89","v":3.2},{"$f":"per_game!T89","v":1.5},{"$f":"per_game!U89","v":0.4},{"$f":"per_game!V89","v":1.8},{"$f":"per_game!W89","v":2.5},{"$f":"per_game!X89","v":15.2}]
[null,null,{"$f":"Roster!C90","v":"G"},113.94099999999999,{"$f":"per_game!B90 & \"-\" & D91","v":"Alonzo Gee-113.941"},{"$f":"per_game!D90","v":18},{"$f":"per_game!E90","v":18},{"$f":"per_game!F90","v":33.1},{"$f":"per_game!G90","v":4.2},{"$f":"per_game!H90","v":10.6},{"$f":"per_game!I90","v":0.39800000000000002},{"$f":"per_game!J90","v":0.9},{"$f":"per_game!K90","v":3.2},{"$f":"per_game!L90","v":0.29799999999999999},{"$f":"per_game!M90","v":2.7},{"$f":"per_game!N90","v":3.2},{"$f":"per_game!O90","v":0.84499999999999997},{"$f":"per_game!P90","v":1.1000000000000001},{"$f":"per_game!Q90","v":2.7},{"$f":"per_game!R90","v":3.7},{"$f":"per_game!S90","v":2.1},{"$f":"per_game!T90","v":1.7},{"$f":"per_game!U90","v":0.4},{"$f":"per_game!V90","v":2.4},{"$f":"per_game!W90","v":2.9},{"$f":"per_game!X90","v":12.1}]
[null,null,{"$f":"Roster!C91","v":"F"},86.129000000000005,{"$f":"per_game!B91 & \"-\" & D92","v":"Jeremy Pargo-86.129"},{"$f":"per_game!D91","v":11},{"$f":"per_game!E91","v":8},{"$f":"per_game!F91","v":26.2},{"$f":"per_game!G91","v":4.4000000000000004},{"$f":"per_game!H91","v":10.4},{"$f":"per_game!I91","v":0.42099999999999999},{"$f":"per_game!J91","v":1.5},{"$f":"per_game!K91","v":3.6},{"$f":"per_game!L91","v":0.4},{"$f":"per_game!M91","v":1.5},{"$f":"per_game!N91","v":2.2000000000000002},{"$f":"per_game!O91","v":0.70799999999999996},{"$f":"per_game!P91","v":0.5},{"$f":"per_game!Q91","v":1.5},{"$f":"per_game!R91","v":1.9},{"$f":"per_game!S91","v":3.8},{"$f":"per_game!T91","v":0.8},{"$f":"per_game!U91","v":0},{"$f":"per_game!V91","v":2.4},{"$f":"per_game!W91","v":2},{"$f":"per_game!X91","v":11.7}]
[null,null,{"$f":"Roster!C92","v":"G"},106.83299999999997,{"$f":"per_game!B92 & \"-\" & D93","v":"Tristan Thompson-106.833"},{"$f":"per_game!D92","v":18},{"$f":"per_game!E92","v":18},{"$f":"per_game!F92","v":30.4},{"$f":"per_game!G92","v":3.6},{"$f":"per_game!H92","v":8.1},{"$f":"per_game!I92","v":0.44500000000000001},{"$f":"per_game!J92","v":0},{"$f":"per_game!K92","v":0},{"$f":"per_game!L92","v":0},{"$f":"per_game!M92","v":1.7},{"$f":"per_game!N92","v":2.8},{"$f":"per_game!O92","v":0.58799999999999997},{"$f":"per_game!P92","v":3.5},{"$f":"per_game!Q92","v":4.5999999999999996},{"$f":"per_game!R92","v":8.1},{"$f":"per_game!S92","v":1.2},{"$f":"per_game!T92","v":0.8},{"$f":"per_game!U92","v":0.6},{"$f":"per_game!V92","v":1.4},{"$f":"per_game!W92","v":3.1},{"$f":"per_game!X92","v":8.9}]
[null,null,{"$f":"Roster!C93","v":"G"},71.158999999999992,{"$f":"per_game!B93 & \"-\" & D94","v":"Daniel Gibson-71.159"},{"$f":"per_game!D93","v":15},{"$f":"per_game!E93","v":0},{"$f":"per_game!F93","v":24.3},{"$f":"per_game!G93","v":2.8},{"$f":"per_game!H93","v":7.2},{"$f":"per_game!I93","v":0.38900000000000001},{"$f":"per_game!J93","v":1.9},{"$f":"per_game!K93","v":4.9000000000000004},{"$f":"per_game!L93","v":0.39200000000000002},{"$f":"per_game!M93","v":0.9},{"$f":"per_game!N93","v":1.2},{"$f":"per_game!O93","v":0.77800000000000002},{"$f":"per_game!P93","v":0.1},{"$f":"per_game!Q93","v":1.5},{"$f":"per_game!R93","v":1.7},{"$f":"per_game!S93","v":2.1},{"$f":"per_game!T93","v":1},{"$f":"per_game!U93","v":0.1},{"$f":"per_game!V93","v":0.7},{"$f":"per_game!W93","v":2.9},{"$f":"per_game!X93","v":8.5}]
[null,null,{"$f":"Roster!C94","v":"F"},63.295000000000009,{"$f":"per_game!B94 & \"-\" & D95","v":"Tyler Zeller-63.295"},{"$f":"per_game!D94","v":14},{"$f":"per_game!E94","v":0},{"$f":"per_game!F94","v":22.2},{"$f":"per_game!G94","v":2.7},{"$f":"per_game!H94","v":6.1},{"$f":"per_game!I94","v":0.44700000000000001},{"$f":"per_game!J94","v":0},{"$f":"per_game!K94","v":0},{"$f":"per_game!L94","v":0},{"$f":"per_game!M94","v":1.2},{"$f":"per_game!N94","v":2.2000000000000002},{"$f":"per_game!O94","v":0.54800000000000004},{"$f":"per_game!P94","v":1.9},{"$f":"per_game!Q94","v":2.9},{"$f":"per_game!R94","v":4.8},{"$f":"per_game!S94","v":0.9},{"$f":"per_game!T94","v":0.4},{"$f":"per_game!U94","v":0.6},{"$f":"per_game!V94","v":1.2},{"$f":"per_game!W94","v":3},{"$f":"per_game!X94","v":6.6}]
[null,null,{"$f":"Roster!C95","v":"G"},54.477999999999987,{"$f":"per_game!B95 & \"-\" & D96","v":"Omri Casspi-54.478"},{"$f":"per_game!D95","v":14},{"$f":"per_game!E95","v":1},{"$f":"per_game!F95","v":14.1},{"$f":"per_game!G95","v":2.1},{"$f":"per_game!H95","v":4.5999999999999996},{"$f":"per_game!I95","v":0.44600000000000001},{"$f":"per_game!J95","v":1.3},{"$f":"per_game!K95","v":2.6},{"$f":"per_game!L95","v":0.5},{"$f":"per_game!M95","v":0.9},{"$f":"per_game!N95","v":1.4},{"$f":"per_game!O95","v":0.63200000000000001},{"$f":"per_game!P95","v":0.6},{"$f":"per_game!Q95","v":1.9},{"$f":"per_game!R95","v":2.5},{"$f":"per_game!S95","v":0.4},{"$f":"per_game!T95","v":0.6},{"$f":"per_game!U95","v":0.4},{"$f":"per_game!V95","v":0.7},{"$f":"per_game!W95","v":1.1000000000000001},{"$f":"per_game!X95","v":6.3}]
[null,null,{"$f":"Roster!C96","v":"F"},51.858999999999995,{"$f":"per_game!B96 & \"-\" & D97","v":"C.J. Miles-51.859"},{"$f":"per_game!D96","v":12},{"$f":"per_game!E96","v":0},{"$f":"per_game!F96","v":15.4},{"$f":"per_game!G96","v":2.2999999999999998},{"$f":"per_game!H96","v":7.4},{"$f":"per_game!I96","v":0.30299999999999999},{"$f":"per_game!J96","v":0.9},{"$f":"per_game!K96","v":3.6},{"$f":"per_game!L96","v":0.25600000000000001},{"$f":"per_game!M96","v":0.3},{"$f":"per_game!N96","v":0.3},{"$f":"per_game!O96","v":1},{"$f":"per_game!P96","v":0.3},{"$f":"per_game!Q96","v":1.8},{"$f":"per_game!R96","v":2.1},{"$f":"per_game!S96","v":0.7},{"$f":"per_game!T96","v":0.4},{"$f":"per_game!U96","v":0.1},{"$f":"per_game!V96","v":1.3},{"$f":"per_game!W96","v":1.8},{"$f":"per_game!X96","v":5.8}]
[null,null,{"$f":"Roster!C97","v":"F-C"},38.288999999999994,{"$f":"per_game!B97 & \"-\" & D98","v":"Donald Sloan-38.289"},{"$f":"per_game!D97","v":12},{"$f":"per_game!E97","v":0},{"$f":"per_game!F97","v":10.8},{"$f":"per_game!G97","v":1.3},{"$f":"per_game!H97","v":3.4},{"$f":"per_game!I97","v":0.36599999999999999},{"$f":"per_game!J97","v":0.3},{"$f":"per_game!K97","v":0.9},{"$f":"per_game!L97","v":0.27300000000000002},{"$f":"per_game!M97","v":0.8},{"$f":"per_game!N97","v":1},{"$f":"per_game!O97","v":0.75},{"$f":"per_game!P97","v":0.3},{"$f":"per_game!Q97","v":0.8},{"$f":"per_game!R97","v":1.1000000000000001},{"$f":"per_game!S97","v":2},{"$f":"per_game!T97","v":0.1},{"$f":"per_game!U97","v":0},{"$f":"per_game!V97","v":0.7},{"$f":"per_game!W97","v":0.7},{"$f":"per_game!X97","v":3.5}]
[null,null,{"$f":"Roster!C98","v":"G"},36.76,{"$f":"per_game!B98 & \"-\" & D99","v":"Samardo Samuels-36.76"},{"$f":"per_game!D98","v":11},{"$f":"per_game!E98","v":1},{"$f":"per_game!F98","v":11.6},{"$f":"per_game!G98","v":1.3},{"$f":"per_game!H98","v":3.3},{"$f":"per_game!I98","v":0.38900000000000001},{"$f":"per_game!J98","v":0},{"$f":"per_game!K98","v":0},{"$f":"per_game!L98","v":0},{"$f":"per_game!M98","v":0.7},{"$f":"per_game!N98","v":1.3},{"$f":"per_game!O98","v":0.57099999999999995},{"$f":"per_game!P98","v":0.7},{"$f":"per_game!Q98","v":1},{"$f":"per_game!R98","v":1.7},{"$f":"per_game!S98","v":0.4},{"$f":"per_game!T98","v":0.2},{"$f":"per_game!U98","v":0.3},{"$f":"per_game!V98","v":0.5},{"$f":"per_game!W98","v":1.5},{"$f":"per_game!X98","v":3.3}]
[null,null,{"$f":"Roster!C99","v":"F"},33.265999999999991,{"$f":"per_game!B99 & \"-\" & D100","v":"Jon Leuer-33.266"},{"$f":"per_game!D99","v":5},{"$f":"per_game!E99","v":0},{"$f":"per_game!F99","v":14.4},{"$f":"per_game!G99","v":1.4},{"$f":"per_game!H99","v":4.2},{"$f":"per_game!I99","v":0.33300000000000002},{"$f":"per_game!J99","v":0},{"$f":"per_game!K99","v":0.4},{"$f":"per_game!L99","v":0},{"$f":"per_game!M99","v":0.4},{"$f":"per_game!N99","v":1.2},{"$f":"per_game!O99","v":0.33300000000000002},{"$f":"per_game!P99","v":0.8},{"$f":"per_game!Q99","v":1.2},{"$f":"per_game!R99","v":2},{"$f":"per_game!S99","v":0.6},{"$f":"per_game!T99","v":0.2},{"$f":"per_game!U99","v":0},{"$f":"per_game!V99","v":0.8},{"$f":"per_game!W99","v":1.6},{"$f":"per_game!X99","v":3.2}]
[null,null,{"$f":"Roster!C100","v":"F-C"},14.543000000000001,{"$f":"per_game!B100 & \"-\" & D101","v":"Luke Walton-14.543"},{"$f":"per_game!D100","v":5},{"$f":"per_game!E100","v":0},{"$f":"per_game!F100","v":6.4},{"$f":"per_game!G100","v":0.2},{"$f":"per_game!H100","v":1.4},{"$f":"per_game!I100","v":0.14299999999999999},{"$f":"per_game!J100","v":0},{"$f":"per_game!K100","v":0.6},{"$f":"per_game!L100","v":0},{"$f":"per_game!M100","v":0},{"$f":"per_game!N100","v":0},{"$f":"per_game!O100","v":0},{"$f":"per_game!P100","v":0.2},{"$f":"per_game!Q100","v":0.4},{"$f":"per_game!R100","v":0.6},{"$f":"per_game!S100","v":0.4},{"$f":"per_game!T100","v":0.4},{"$f":"per_game!U100","v":0},{"$f":"per_game!V100","v":0.6},{"$f":"per_game!W100","v":1},{"$f":"per_game!X100","v":0.4}]
[null,null,{"$f":"Roster!C101","v":0},0,null,{"$f":"per_game!D101","v":0},{"$f":"per_game!E101","v":0},{"$f":"per_game!F101","v":0},{"$f":"per_game!G101","v":0},{"$f":"per_game!H101","v":0},{"$f":"per_game!I101","v":0},{"$f":"per_game!J101","v":0},{"$f":"per_game!K101","v":0},{"$f":"per_game!L101","v":0},{"$f":"per_game!M101","v":0},{"$f":"per_game!N101","v":0},{"$f":"per_game!O101","v":0},{"$f":"per_game!P101","v":0},{"$f":"per_game!Q101","v":0},{"$f":"per_game!R101","v":0},{"$f":"per_game!S101","v":0},{"$f":"per_game!T101","v":0},{"$f":"per_game!U101","v":0},{"$f":"per_game!V101","v":0},{"$f":"per_game!W101","v":0},{"$f":"per_game!X101","v":0}]
[null,null,{"$f":"Roster!C102","v":0},0,null,{"$f":"per_game!D102","v":0},{"$f":"per_game!E102","v":0},{"$f":"per_game!F102","v":0},{"$f":"per_game!G102","v":0},{"$f":"per_game!H102","v":0},{"$f":"per_game!I102","v":0},{"$f":"per_game!J102","v":0},{"$f":"per_game!K102","v":0},{"$f":"per_game!L102","v":0},{"$f":"per_game!M102","v":0},{"$f":"per_game!N102","v":0},{"$f":"per_game!O102","v":0},{"$f":"per_game!P102","v":0},{"$f":"per_game!Q102","v":0},{"$f":"per_game!R102","v":0},{"$f":"per_game!S102","v":0},{"$f":"per_game!T102","v":0},{"$f":"per_game!U102","v":0},{"$f":"per_game!V102","v":0},{"$f":"per_game!W102","v":0},{"$f":"per_game!X102","v":0}]
[null,null,{"$f":"Roster!C103","v":"Pos"},null,null,{"$f":"per_game!D103","v":"G"},{"$f":"per_game!E103","v":"GS"},{"$f":"per_game!F103","v":"MP"},{"$f":"per_game!G103","v":"FG"},{"$f":"per_game!H103","v":"FGA"},{"$f":"per_game!I103","v":"FG%"},{"$f":"per_game!J103","v":"3P"},{"$f":"per_game!K103","v":"3PA"},{"$f":"per_game!L103","v":"3P%"},{"$f":"per_game!M103","v":"FT"},{"$f":"per_game!N103","v":"FTA"},{"$f":"per_game!O103","v":"FT%"},{"$f":"per_game!P103","v":"ORB"},{"$f":"per_game!Q103","v":"DRB"},{"$f":"per_game!R103","v":"TRB"},{"$f":"per_game!S103","v":"AST"},{"$f":"per_game!T103","v":"STL"},{"$f":"per_game!U103","v":"BLK"},{"$f":"per_game!V103","v":"TOV"},{"$f":"per_game!W103","v":"PF"},{"$f":"per_game!X103","v":"PTS"}]
[null,null,{"$f":"Roster!C104","v":"G"},134.351,{"$f":"per_game!B104 & \"-\" & D105","v":"O.J. Mayo-134.351"},{"$f":"per_game!D104","v":17},{"$f":"per_game!E104","v":17},{"$f":"per_game!F104","v":34.6},{"$f":"per_game!G104","v":7},{"$f":"per_game!H104","v":14.7},{"$f":"per_game!I104","v":0.47599999999999998},{"$f":"per_game!J104","v":2.9},{"$f":"per_game!K104","v":5.5},{"$f":"per_game!L104","v":0.52700000000000002},{"$f":"per_game!M104","v":3.3},{"$f":"per_game!N104","v":3.9},{"$f":"per_game!O104","v":0.84799999999999998},{"$f":"per_game!P104","v":0.7},{"$f":"per_game!Q104","v":2.8},{"$f":"per_game!R104","v":3.5},{"$f":"per_game!S104","v":3.2},{"$f":"per_game!T104","v":0.7},{"$f":"per_game!U104","v":0.2},{"$f":"per_game!V104","v":2.4},{"$f":"per_game!W104","v":2.2999999999999998},{"$f":"per_game!X104","v":20.2}]
[null,null,{"$f":"Roster!C105","v":"F"},99.028999999999996,{"$f":"per_game!B105 & \"-\" & D106","v":"Chris Kaman-99.029"},{"$f":"per_game!D105","v":15},{"$f":"per_game!E105","v":9},{"$f":"per_game!F105","v":27.1},{"$f":"per_game!G105","v":5.8},{"$f":"per_game!H105","v":11.2},{"$f":"per_game!I105","v":0.51800000000000002},{"$f":"per_game!J105","v":0},{"$f":"per_game!K105","v":0.1},{"$f":"per_game!L105","v":0},{"$f":"per_game!M105","v":2},{"$f":"per_game!N105","v":2.5},{"$f":"per_game!O105","v":0.81100000000000005},{"$f":"per_game!P105","v":1.7},{"$f":"per_game!Q105","v":5.3},{"$f":"per_game!R105","v":6.9},{"$f":"per_game!S105","v":1},{"$f":"per_game!T105","v":0.2},{"$f":"per_game!U105","v":1.1000000000000001},{"$f":"per_game!V105","v":2.1},{"$f":"per_game!W105","v":2.7},{"$f":"per_game!X105","v":13.6}]
[null,null,{"$f":"Roster!C106","v":"G-F"},86.899999999999977,{"$f":"per_game!B106 & \"-\" & D107","v":"Vince Carter-86.9"},{"$f":"per_game!D106","v":17},{"$f":"per_game!E106","v":0},{"$f":"per_game!F106","v":23.4},{"$f":"per_game!G106","v":4.5999999999999996},{"$f":"per_game!H106","v":10.8},{"$f":"per_game!I106","v":0.42599999999999999},{"$f":"per_game!J106","v":2.2999999999999998},{"$f":"per_game!K106","v":5.4},{"$f":"per_game!L106","v":0.42399999999999999},{"$f":"per_game!M106","v":1.6},{"$f":"per_game!N106","v":2.1},{"$f":"per_game!O106","v":0.75},{"$f":"per_game!P106","v":0.5},{"$f":"per_game!Q106","v":2.6},{"$f":"per_game!R106","v":3.1},{"$f":"per_game!S106","v":1.7},{"$f":"per_game!T106","v":0.8},{"$f":"per_game!U106","v":0.5},{"$f":"per_game!V106","v":1.1000000000000001},{"$f":"per_game!W106","v":3.1},{"$f":"per_game!X106","v":13.1}]
[null,null,{"$f":"Roster!C107","v":"G"},107.45600000000002,{"$f":"per_game!B107 & \"-\" & D108","v":"Darren Collison-107.456"},{"$f":"per_game!D107","v":16},{"$f":"per_game!E107","v":14},{"$f":"per_game!F107","v":32.299999999999997},{"$f":"per_game!G107","v":4.5},{"$f":"per_game!H107","v":10.3},{"$f":"per_game!I107","v":0.436},{"$f":"per_game!J107","v":0.4},{"$f":"per_game!K107","v":1.3},{"$f":"per_game!L107","v":0.33300000000000002},{"$f":"per_game!M107","v":2.9},{"$f":"per_game!N107","v":3.3},{"$f":"per_game!O107","v":0.88700000000000001},{"$f":"per_game!P107","v":0.2},{"$f":"per_game!Q107","v":2.1},{"$f":"per_game!R107","v":2.2999999999999998},{"$f":"per_game!S107","v":6.4},{"$f":"per_game!T107","v":1.4},{"$f":"per_game!U107","v":0},{"$f":"per_game!V107","v":2.4},{"$f":"per_game!W107","v":1.6},{"$f":"per_game!X107","v":12.4}]
[null,null,{"$f":"Roster!C108","v":"F"},95.051000000000016,{"$f":"per_game!B108 & \"-\" & D109","v":"Shawn Marion-95.051"},{"$f":"per_game!D108","v":12},{"$f":"per_game!E108","v":12},{"$f":"per_game!F108","v":28.9},{"$f":"per_game!G108","v":3.8},{"$f":"per_game!H108","v":7.8},{"$f":"per_game!I108","v":0.48399999999999999},{"$f":"per_game!J108","v":0.4},{"$f":"per_game!K108","v":1.1000000000000001},{"$f":"per_game!L108","v":0.38500000000000001},{"$f":"per_game!M108","v":1.3},{"$f":"per_game!N108","v":1.4},{"$f":"per_game!O108","v":0.88200000000000001},{"$f":"per_game!P108","v":1.4},{"$f":"per_game!Q108","v":6},{"$f":"per_game!R108","v":7.4},{"$f":"per_game!S108","v":2.8},{"$f":"per_game!T108","v":0.8},{"$f":"per_game!U108","v":0.7},{"$f":"per_game!V108","v":2.2999999999999998},{"$f":"per_game!W108","v":1.4},{"$f":"per_game!X108","v":9.1999999999999993}]
[null,null,{"$f":"Roster!C109","v":"G"},67.682999999999993,{"$f":"per_game!B109 & \"-\" & D110","v":"Brandan Wright-67.683"},{"$f":"per_game!D109","v":12},{"$f":"per_game!E109","v":9},{"$f":"per_game!F109","v":17.399999999999999},{"$f":"per_game!G109","v":3.7},{"$f":"per_game!H109","v":5.7},{"$f":"per_game!I109","v":0.64700000000000002},{"$f":"per_game!J109","v":0},{"$f":"per_game!K109","v":0},{"$f":"per_game!L109","v":0},{"$f":"per_game!M109","v":1.2},{"$f":"per_game!N109","v":1.8},{"$f":"per_game!O109","v":0.63600000000000001},{"$f":"per_game!P109","v":0.8},{"$f":"per_game!Q109","v":2.5},{"$f":"per_game!R109","v":3.3},{"$f":"per_game!S109","v":0.8},{"$f":"per_game!T109","v":0.5},{"$f":"per_game!U109","v":0.9},{"$f":"per_game!V109","v":0.7},{"$f":"per_game!W109","v":1},{"$f":"per_game!X109","v":8.5}]
[null,null,{"$f":"Roster!C110","v":"C"},84.490000000000009,{"$f":"per_game!B110 & \"-\" & D111","v":"Elton Brand-84.49"},{"$f":"per_game!D110","v":16},{"$f":"per_game!E110","v":12},{"$f":"per_game!F110","v":22.4},{"$f":"per_game!G110","v":2.6},{"$f":"per_game!H110","v":6.6},{"$f":"per_game!I110","v":0.39},{"$f":"per_game!J110","v":0},{"$f":"per_game!K110","v":0.1},{"$f":"per_game!L110","v":0},{"$f":"per_game!M110","v":1.8},{"$f":"per_game!N110","v":2.2000000000000002},{"$f":"per_game!O110","v":0.8},{"$f":"per_game!P110","v":2.2000000000000002},{"$f":"per_game!Q110","v":4.2},{"$f":"per_game!R110","v":6.4},{"$f":"per_game!S110","v":1.6},{"$f":"per_game!T110","v":0.8},{"$f":"per_game!U110","v":1.4},{"$f":"per_game!V110","v":1},{"$f":"per_game!W110","v":2.9},{"$f":"per_game!X110","v":6.9}]
[null,null,{"$f":"Roster!C111","v":"G"},71.021000000000001,{"$f":"per_game!B111 & \"-\" & D112","v":"Jae Crowder-71.021"},{"$f":"per_game!D111","v":16},{"$f":"per_game!E111","v":7},{"$f":"per_game!F111","v":20.100000000000001},{"$f":"per_game!G111","v":2.6},{"$f":"per_game!H111","v":6.1},{"$f":"per_game!I111","v":0.42299999999999999},{"$f":"per_game!J111","v":1.1000000000000001},{"$f":"per_game!K111","v":3.4},{"$f":"per_game!L111","v":0.32700000000000001},{"$f":"per_game!M111","v":0.5},{"$f":"per_game!N111","v":1.1000000000000001},{"$f":"per_game!O111","v":0.47099999999999997},{"$f":"per_game!P111","v":0.1},{"$f":"per_game!Q111","v":2.6},{"$f":"per_game!R111","v":2.7},{"$f":"per_game!S111","v":1.2},{"$f":"per_game!T111","v":1.1000000000000001},{"$f":"per_game!U111","v":0.3},{"$f":"per_game!V111","v":0.8},{"$f":"per_game!W111","v":2.1},{"$f":"per_game!X111","v":6.8}]
[null,null,{"$f":"Roster!C112","v":"C"},56.283999999999992,{"$f":"per_game!B112 & \"-\" & D113","v":"Troy Murphy-56.284"},{"$f":"per_game!D112","v":14},{"$f":"per_game!E112","v":1},{"$f":"per_game!F112","v":18.3},{"$f":"per_game!G112","v":1.6},{"$f":"per_game!H112","v":4.4000000000000004},{"$f":"per_game!I112","v":0.36099999999999999},{"$f":"per_game!J112","v":0.8},{"$f":"per_game!K112","v":2.5},{"$f":"per_game!L112","v":0.314},{"$f":"per_game!M112","v":0.7},{"$f":"per_game!N112","v":0.8},{"$f":"per_game!O112","v":0.90900000000000003},{"$f":"per_game!P112","v":0.5},{"$f":"per_game!Q112","v":3},{"$f":"per_game!R112","v":3.5},{"$f":"per_game!S112","v":0.5},{"$f":"per_game!T112","v":0.7},{"$f":"per_game!U112","v":0.4},{"$f":"per_game!V112","v":0.5},{"$f":"per_game!W112","v":2.1},{"$f":"per_game!X112","v":4.5999999999999996}]
[null,null,{"$f":"Roster!C113","v":"G"},27.25,{"$f":"per_game!B113 & \"-\" & D114","v":"Eddy Curry-27.25"},{"$f":"per_game!D113","v":2},{"$f":"per_game!E113","v":0},{"$f":"per_game!F113","v":12.5},{"$f":"per_game!G113","v":2},{"$f":"per_game!H113","v":4},{"$f":"per_game!I113","v":0.5},{"$f":"per_game!J113","v":0},{"$f":"per_game!K113","v":0},{"$f":"per_game!L113","v":0},{"$f":"per_game!M113","v":0.5},{"$f":"per_game!N113","v":2},{"$f":"per_game!O113","v":0.25},{"$f":"per_game!P113","v":1},{"$f":"per_game!Q113","v":1},{"$f":"per_game!R113","v":2},{"$f":"per_game!S113","v":0},{"$f":"per_game!T113","v":0},{"$f":"per_game!U113","v":0},{"$f":"per_game!V113","v":1.5},{"$f":"per_game!W113","v":3.5},{"$f":"per_game!X113","v":4.5}]
[null,null,{"$f":"Roster!C114","v":"G"},47.377000000000002,{"$f":"per_game!B114 & \"-\" & D115","v":"Rodrigue Beaubois-47.377"},{"$f":"per_game!D114","v":10},{"$f":"per_game!E114","v":0},{"$f":"per_game!F114","v":16.2},{"$f":"per_game!G114","v":1.6},{"$f":"per_game!H114","v":5.0999999999999996},{"$f":"per_game!I114","v":0.314},{"$f":"per_game!J114","v":0.5},{"$f":"per_game!K114","v":1.9},{"$f":"per_game!L114","v":0.26300000000000001},{"$f":"per_game!M114","v":0.8},{"$f":"per_game!N114","v":1},{"$f":"per_game!O114","v":0.8},{"$f":"per_game!P114","v":0.2},{"$f":"per_game!Q114","v":1.6},{"$f":"per_game!R114","v":1.8},{"$f":"per_game!S114","v":2.7},{"$f":"per_game!T114","v":0.7},{"$f":"per_game!U114","v":0.1},{"$f":"per_game!V114","v":0.9},{"$f":"per_game!W114","v":1.8},{"$f":"per_game!X114","v":4.5}]
[null,null,{"$f":"Roster!C115","v":"C"},45.481999999999999,{"$f":"per_game!B115 & \"-\" & D116","v":"Bernard James-45.482"},{"$f":"per_game!D115","v":13},{"$f":"per_game!E115","v":0},{"$f":"per_game!F115","v":12.5},{"$f":"per_game!G115","v":1.5},{"$f":"per_game!H115","v":3.1},{"$f":"per_game!I115","v":0.5},{"$f":"per_game!J115","v":0},{"$f":"per_game!K115","v":0.1},{"$f":"per_game!L115","v":0},{"$f":"per_game!M115","v":1.2},{"$f":"per_game!N115","v":1.7},{"$f":"per_game!O115","v":0.68200000000000005},{"$f":"per_game!P115","v":1.4},{"$f":"per_game!Q115","v":2.4},{"$f":"per_game!R115","v":3.8},{"$f":"per_game!S115","v":0},{"$f":"per_game!T115","v":0.2},{"$f":"per_game!U115","v":0.9},{"$f":"per_game!V115","v":0.5},{"$f":"per_game!W115","v":1.2},{"$f":"per_game!X115","v":4.2}]
[null,null,{"$f":"Roster!C116","v":"F"},47.433000000000007,{"$f":"per_game!B116 & \"-\" & D117","v":"Dominique Jones-47.433"},{"$f":"per_game!D116","v":12},{"$f":"per_game!E116","v":2},{"$f":"per_game!F116","v":12.5},{"$f":"per_game!G116","v":1.6},{"$f":"per_game!H116","v":4.8},{"$f":"per_game!I116","v":0.33300000000000002},{"$f":"per_game!J116","v":0},{"$f":"per_game!K116","v":0.6},{"$f":"per_game!L116","v":0},{"$f":"per_game!M116","v":1},{"$f":"per_game!N116","v":2},{"$f":"per_game!O116","v":0.5},{"$f":"per_game!P116","v":0.9},{"$f":"per_game!Q116","v":1.2},{"$f":"per_game!R116","v":2.1},{"$f":"per_game!S116","v":3.6},{"$f":"per_game!T116","v":0.8},{"$f":"per_game!U116","v":0.1},{"$f":"per_game!V116","v":1.5},{"$f":"per_game!W116","v":1.3},{"$f":"per_game!X116","v":4.2}]
[null,null,{"$f":"Roster!C117","v":"G"},41.222000000000008,{"$f":"per_game!B117 & \"-\" & D118","v":"Dahntay Jones-41.222"},{"$f":"per_game!D117","v":17},{"$f":"per_game!E117","v":1},{"$f":"per_game!F117","v":10.9},{"$f":"per_game!G117","v":0.7},{"$f":"per_game!H117","v":2.2000000000000002},{"$f":"per_game!I117","v":0.316},{"$f":"per_game!J117","v":0.2},{"$f":"per_game!K117","v":0.6},{"$f":"per_game!L117","v":0.27300000000000002},{"$f":"per_game!M117","v":1.2},{"$f":"per_game!N117","v":1.4},{"$f":"per_game!O117","v":0.83299999999999996},{"$f":"per_game!P117","v":0.3},{"$f":"per_game!Q117","v":1.2},{"$f":"per_game!R117","v":1.5},{"$f":"per_game!S117","v":0.4},{"$f":"per_game!T117","v":0.2},{"$f":"per_game!U117","v":0.1},{"$f":"per_game!V117","v":0.4},{"$f":"per_game!W117","v":1.5},{"$f":"per_game!X117","v":2.8}]
[null,null,{"$f":"Roster!C118","v":"F"},42.125,{"$f":"per_game!B118 & \"-\" & D119","v":"Derek Fisher-42.125"},{"$f":"per_game!D118","v":1},{"$f":"per_game!E118","v":1},{"$f":"per_game!F118","v":24},{"$f":"per_game!G118","v":1},{"$f":"per_game!H118","v":8},{"$f":"per_game!I118","v":0.125},{"$f":"per_game!J118","v":0},{"$f":"per_game!K118","v":1},{"$f":"per_game!L118","v":0},{"$f":"per_game!M118","v":0},{"$f":"per_game!N118","v":0},{"$f":"per_game!O118","v":0},{"$f":"per_game!P118","v":0},{"$f":"per_game!Q118","v":2},{"$f":"per_game!R118","v":2},{"$f":"per_game!S118","v":3},{"$f":"per_game!T118","v":2},{"$f":"per_game!U118","v":0},{"$f":"per_game!V118","v":3},{"$f":"per_game!W118","v":2},{"$f":"per_game!X118","v":2}]
[null,null,{"$f":"Roster!C119","v":"F"},15.930999999999999,null,{"$f":"per_game!D119","v":6},{"$f":"per_game!E119","v":0},{"$f":"per_game!F119","v":3.3},{"$f":"per_game!G119","v":0.7},{"$f":"per_game!H119","v":1.8},{"$f":"per_game!I119","v":0.36399999999999999},{"$f":"per_game!J119","v":0.3},{"$f":"per_game!K119","v":0.5},{"$f":"per_game!L119","v":0.66700000000000004},{"$f":"per_game!M119","v":0},{"$f":"per_game!N119","v":0},{"$f":"per_game!O119","v":0},{"$f":"per_game!P119","v":0.2},{"$f":"per_game!Q119","v":0.2},{"$f":"per_game!R119","v":0.3},{"$f":"per_game!S119","v":0.2},{"$f":"per_game!T119","v":0.2},{"$f":"per_game!U119","v":0},{"$f":"per_game!V119","v":0.2},{"$f":"per_game!W119","v":0.3},{"$f":"per_game!X119","v":1.7}]
[null,null,{"$f":"Roster!C120","v":0},0,null,{"$f":"per_game!D120","v":0},{"$f":"per_game!E120","v":0},{"$f":"per_game!F120","v":0},{"$f":"per_game!G120","v":0},{"$f":"per_game!H120","v":0},{"$f":"per_game!I120","v":0},{"$f":"per_game!J120","v":0},{"$f":"per_game!K120","v":0},{"$f":"per_game!L120","v":0},{"$f":"per_game!M120","v":0},{"$f":"per_game!N120","v":0},{"$f":"per_game!O120","v":0},{"$f":"per_game!P120","v":0},{"$f":"per_game!Q120","v":0},{"$f":"per_game!R120","v":0},{"$f":"per_game!S120","v":0},{"$f":"per_game!T120","v":0},{"$f":"per_game!U120","v":0},{"$f":"per_game!V120","v":0},{"$f":"per_game!W120","v":0},{"$f":"per_game!X120","v":0}]
[null,null,{"$f":"Roster!C121","v":0},null,null,{"$f":"per_game!D121","v":0},{"$f":"per_game!E121","v":0},{"$f":"per_game!F121","v":0},{"$f":"per_game!G121","v":0},{"$f":"per_game!H121","v":0},{"$f":"per_game!I121","v":0},{"$f":"per_game!J121","v":0},{"$f":"per_game!K121","v":0},{"$f":"per_game!L121","v":0},{"$f":"per_game!M121","v":0},{"$f":"per_game!N121","v":0},{"$f":"per_game!O121","v":0},{"$f":"per_game!P121","v":0},{"$f":"per_game!Q121","v":0},{"$f":"per_game!R121","v":0},{"$f":"per_game!S121","v":0},{"$f":"per_game!T121","v":0},{"$f":"per_game!U121","v":0},{"$f":"per_game!V121","v":0},{"$f":"per_game!W121","v":0},{"$f":"per_game!X121","v":0}]
[null,null,{"$f":"Roster!C122","v":"Pos"},null,{"$f":"per_game!B122 & \"-\" & D123","v":"Player-"},{"$f":"per_game!D122","v":"G"},{"$f":"per_game!E122","v":"GS"},{"$f":"per_game!F122","v":"MP"},{"$f":"per_game!G122","v":"FG"},{"$f":"per_game!H122","v":"FGA"},{"$f":"per_game!I122","v":"FG%"},{"$f":"per_game!J122","v":"3P"},{"$f":"per_game!K122","v":"3PA"},{"$f":"per_game!L122","v":"3P%"},{"$f":"per_game!M122","v":"FT"},{"$f":"per_game!N122","v":"FTA"},{"$f":"per_game!O122","v":"FT%"},{"$f":"per_game!P122","v":"ORB"},{"$f":"per_game!Q122","v":"DRB"},{"$f":"per_game!R122","v":"TRB"},{"$f":"per_game!S122","v":"AST"},{"$f":"per_game!T122","v":"STL"},{"$f":"per_game!U122","v":"BLK"},{"$f":"per_game!V122","v":"TOV"},{"$f":"per_game!W122","v":"PF"},{"$f":"per_game!X122","v":"PTS"}]
[null,null,{"$f":"Roster!C123","v":"F"},130.16200000000001,{"$f":"per_game!B123 & \"-\" & D124","v":"Danilo Gallinari-130.162"},{"$f":"per_game!D123","v":17},{"$f":"per_game!E123","v":17},{"$f":"per_game!F123","v":33.5},{"$f":"per_game!G123","v":5.2},{"$f":"per_game!H123","v":13.6},{"$f":"per_game!I123","v":0.38500000000000001},{"$f":"per_game!J123","v":1.6},{"$f":"per_game!K123","v":5.5},{"$f":"per_game!L123","v":0.28999999999999998},{"$f":"per_game!M123","v":3.5},{"$f":"per_game!N123","v":4.4000000000000004},{"$f":"per_game!O123","v":0.78700000000000003},{"$f":"per_game!P123","v":1},{"$f":"per_game!Q123","v":5.0999999999999996},{"$f":"per_game!R123","v":6.1},{"$f":"per_game!S123","v":2.4},{"$f":"per_game!T123","v":0.6},{"$f":"per_game!U123","v":0.6},{"$f":"per_game!V123","v":1.6},{"$f":"per_game!W123","v":2.2999999999999998},{"$f":"per_game!X123","v":15.5}]
[null,null,{"$f":"Roster!C124","v":"F"},128.72900000000001,{"$f":"per_game!B124 & \"-\" & D125","v":"Andre Iguodala-128.729"},{"$f":"per_game!D124","v":18},{"$f":"per_game!E124","v":18},{"$f":"per_game!F124","v":35.200000000000003},{"$f":"per_game!G124","v":5.7},{"$f":"per_game!H124","v":12.4},{"$f":"per_game!I124","v":0.45700000000000002},{"$f":"per_game!J124","v":1.4},{"$f":"per_game!K124","v":3.7},{"$f":"per_game!L124","v":0.38800000000000001},{"$f":"per_game!M124","v":2.2000000000000002},{"$f":"per_game!N124","v":3.2},{"$f":"per_game!O124","v":0.68400000000000005},{"$f":"per_game!P124","v":0.9},{"$f":"per_game!Q124","v":4.5999999999999996},{"$f":"per_game!R124","v":5.5},{"$f":"per_game!S124","v":3.8},{"$f":"per_game!T124","v":1.1000000000000001},{"$f":"per_game!U124","v":0.7},{"$f":"per_game!V124","v":2.7},{"$f":"per_game!W124","v":1.4},{"$f":"per_game!X124","v":14.9}]
[null,null,{"$f":"Roster!C125","v":"F"},123.77600000000002,{"$f":"per_game!B125 & \"-\" & D126","v":"Ty Lawson-123.776"},{"$f":"per_game!D125","v":18},{"$f":"per_game!E125","v":18},{"$f":"per_game!F125","v":36.1},{"$f":"per_game!G125","v":5.3},{"$f":"per_game!H125","v":13.2},{"$f":"per_game!I125","v":0.40300000000000002},{"$f":"per_game!J125","v":0.8},{"$f":"per_game!K125","v":2.8},{"$f":"per_game!L125","v":0.28000000000000003},{"$f":"per_game!M125","v":1.9},{"$f":"per_game!N125","v":3.3},{"$f":"per_game!O125","v":0.59299999999999997},{"$f":"per_game!P125","v":0.9},{"$f":"per_game!Q125","v":1.8},{"$f":"per_game!R125","v":2.7},{"$f":"per_game!S125","v":7.2},{"$f":"per_game!T125","v":1.9},{"$f":"per_game!U125","v":0.1},{"$f":"per_game!V125","v":3.3},{"$f":"per_game!W125","v":1.6},{"$f":"per_game!X125","v":13.4}]
[null,null,{"$f":"Roster!C126","v":"G-F"},121.943,{"$f":"per_game!B126 & \"-\" & D127","v":"Kenneth Faried-121.943"},{"$f":"per_game!D126","v":18},{"$f":"per_game!E126","v":18},{"$f":"per_game!F126","v":30.6},{"$f":"per_game!G126","v":5.3},{"$f":"per_game!H126","v":9.5},{"$f":"per_game!I126","v":0.56100000000000005},{"$f":"per_game!J126","v":0},{"$f":"per_game!K126","v":0},{"$f":"per_game!L126","v":0},{"$f":"per_game!M126","v":2.6},{"$f":"per_game!N126","v":4.4000000000000004},{"$f":"per_game!O126","v":0.58199999999999996},{"$f":"per_game!P126","v":4.8},{"$f":"per_game!Q126","v":5.7},{"$f":"per_game!R126","v":10.5},{"$f":"per_game!S126","v":0.7},{"$f":"per_game!T126","v":0.9},{"$f":"per_game!U126","v":1.1000000000000001},{"$f":"per_game!V126","v":1.4},{"$f":"per_game!W126","v":3.1},{"$f":"per_game!X126","v":13.2}]
[null,null,{"$f":"Roster!C127","v":"F"},77.281999999999996,{"$f":"per_game!B127 & \"-\" & D128","v":"JaVale McGee-77.282"},{"$f":"per_game!D127","v":18},{"$f":"per_game!E127","v":0},{"$f":"per_game!F127","v":19.100000000000001},{"$f":"per_game!G127","v":4.5},{"$f":"per_game!H127","v":8.1},{"$f":"per_game!I127","v":0.55500000000000005},{"$f":"per_game!J127","v":0},{"$f":"per_game!K127","v":0},{"$f":"per_game!L127","v":0},{"$f":"per_game!M127","v":1.8},{"$f":"per_game!N127","v":2.8},{"$f":"per_game!O127","v":0.627},{"$f":"per_game!P127","v":2.6},{"$f":"per_game!Q127","v":3.1},{"$f":"per_game!R127","v":5.7},{"$f":"per_game!S127","v":0.6},{"$f":"per_game!T127","v":0.2},{"$f":"per_game!U127","v":1.8},{"$f":"per_game!V127","v":1.2},{"$f":"per_game!W127","v":1.8},{"$f":"per_game!X127","v":10.8}]
[null,null,{"$f":"Roster!C128","v":"G-F"},79.983000000000004,{"$f":"per_game!B128 & \"-\" & D129","v":"Corey Brewer-79.983"},{"$f":"per_game!D128","v":18},{"$f":"per_game!E128","v":0},{"$f":"per_game!F128","v":22.8},{"$f":"per_game!G128","v":3.9},{"$f":"per_game!H128","v":9.6},{"$f":"per_game!I128","v":0.41299999999999998},{"$f":"per_game!J128","v":1.5},{"$f":"per_game!K128","v":3.9},{"$f":"per_game!L128","v":0.38},{"$f":"per_game!M128","v":1.1000000000000001},{"$f":"per_game!N128","v":1.6},{"$f":"per_game!O128","v":0.69},{"$f":"per_game!P128","v":0.6},{"$f":"per_game!Q128","v":2.4},{"$f":"per_game!R128","v":3.1},{"$f":"per_game!S128","v":0.7},{"$f":"per_game!T128","v":1.4},{"$f":"per_game!U128","v":0.3},{"$f":"per_game!V128","v":1.1000000000000001},{"$f":"per_game!W128","v":1.8},{"$f":"per_game!X128","v":10.5}]
[null,null,{"$f":"Roster!C129","v":"G-F"},75.391999999999996,{"$f":"per_game!B129 & \"-\" & D130","v":"Andre Miller-75.392"},{"$f":"per_game!D129","v":18},{"$f":"per_game!E129","v":0},{"$f":"per_game!F129","v":25},{"$f":"per_game!G129","v":3.1},{"$f":"per_game!H129","v":6.6},{"$f":"per_game!I129","v":0.47099999999999997},{"$f":"per_game!J129","v":0.2},{"$f":"per_game!K129","v":0.8},{"$f":"per_game!L129","v":0.26700000000000002},{"$f":"per_game!M129","v":1.9},{"$f":"per_game!N129","v":2.2999999999999998},{"$f":"per_game!O129","v":0.85399999999999998},{"$f":"per_game!P129","v":0.8},{"$f":"per_game!Q129","v":2},{"$f":"per_game!R129","v":2.8},{"$f":"per_game!S129","v":5.0999999999999996},{"$f":"per_game!T129","v":0.8},{"$f":"per_game!U129","v":0.2},{"$f":"per_game!V129","v":2.4},{"$f":"per_game!W129","v":1.8},{"$f":"per_game!X129","v":8.4}]
[null,null,{"$f":"Roster!C130","v":"C"},51.67199999999999,{"$f":"per_game!B130 & \"-\" & D131","v":"Jordan Hamilton-51.672"},{"$f":"per_game!D130","v":12},{"$f":"per_game!E130","v":1},{"$f":"per_game!F130","v":12.3},{"$f":"per_game!G130","v":2.5},{"$f":"per_game!H130","v":5.8},{"$f":"per_game!I130","v":0.42899999999999999},{"$f":"per_game!J130","v":0.9},{"$f":"per_game!K130","v":2.2999999999999998},{"$f":"per_game!L130","v":0.40699999999999997},{"$f":"per_game!M130","v":0.6},{"$f":"per_game!N130","v":0.9},{"$f":"per_game!O130","v":0.63600000000000001},{"$f":"per_game!P130","v":0.9},{"$f":"per_game!Q130","v":2},{"$f":"per_game!R130","v":2.9},{"$f":"per_game!S130","v":0.8},{"$f":"per_game!T130","v":0.3},{"$f":"per_game!U130","v":0.2},{"$f":"per_game!V130","v":0.7},{"$f":"per_game!W130","v":1},{"$f":"per_game!X130","v":6.5}]
[null,null,{"$f":"Roster!C131","v":"G"},51.363,{"$f":"per_game!B131 & \"-\" & D132","v":"Wilson Chandler-51.363"},{"$f":"per_game!D131","v":4},{"$f":"per_game!E131","v":0},{"$f":"per_game!F131","v":17.3},{"$f":"per_game!G131","v":2.5},{"$f":"per_game!H131","v":8},{"$f":"per_game!I131","v":0.313},{"$f":"per_game!J131","v":0.5},{"$f":"per_game!K131","v":2},{"$f":"per_game!L131","v":0.25},{"$f":"per_game!M131","v":1},{"$f":"per_game!N131","v":2},{"$f":"per_game!O131","v":0.5},{"$f":"per_game!P131","v":1.5},{"$f":"per_game!Q131","v":3.5},{"$f":"per_game!R131","v":5},{"$f":"per_game!S131","v":0},{"$f":"per_game!T131","v":0},{"$f":"per_game!U131","v":0.3},{"$f":"per_game!V131","v":1.3},{"$f":"per_game!W131","v":2.5},{"$f":"per_game!X131","v":6.5}]
[null,null,{"$f":"Roster!C132","v":"C"},{"$f":"F133*$B$21+G133*$B$20+H133*$B$19+I133*$B$13+J133*$B$14+K133*$B$6+L133*$B$17+M133*$B$18+N133*$B$8+O133*$B$15+P133*$B$16+Q133*$B$7+R133*$B$10+S133*$B$11+T133*$B$2+U133*$B$3+V133*$B$5+W133*$B$4+X133*$B$9+Y133*$B$12+Z133*$B$1","v":85.958999999999989},{"$f":"per_game!B132 & \"-\" & D133","v":"Kosta Koufos-85.959"},{"$f":"per_game!D132","v":18},{"$f":"per_game!E132","v":18},{"$f":"per_game!F132","v":21.6},{"$f":"per_game!G132","v":2.8},{"$f":"per_game!H132","v":5.3},{"$f":"per_game!I132","v":0.52100000000000002},{"$f":"per_game!J132","v":0},{"$f":"per_game!K132","v":0.1},{"$f":"per_game!L132","v":0},{"$f":"per_game!M132","v":0.8},{"$f":"per_game!N132","v":1.4},{"$f":"per_game!O132","v":0.53800000000000003},{"$f":"per_game!P132","v":2.2000000000000002},{"$f":"per_game!Q132","v":3.8},{"$f":"per_game!R132","v":5.9},{"$f":"per_game!S132","v":0.5},{"$f":"per_game!T132","v":0.6},{"$f":"per_game!U132","v":1.6},{"$f":"per_game!V132","v":0.7},{"$f":"per_game!W132","v":3.3},{"$f":"per_game!X132","v":6.3}]
[null,null,{"$f":"Roster!C133","v":"G"},26.099,{"$f":"per_game!B133 & \"-\" & D134","v":"Evan Fournier-26.099"},{"$f":"per_game!D133","v":7},{"$f":"per_game!E133","v":0},{"$f":"per_game!F133","v":8.1},{"$f":"per_game!G133","v":1.4},{"$f":"per_game!H133","v":2.7},{"$f":"per_game!I133","v":0.52600000000000002},{"$f":"per_game!J133","v":0.4},{"$f":"per_game!K133","v":1.6},{"$f":"per_game!L133","v":0.27300000000000002},{"$f":"per_game!M133","v":0.1},{"$f":"per_game!N133","v":0.3},{"$f":"per_game!O133","v":0.5},{"$f":"per_game!P133","v":0.1},{"$f":"per_game!Q133","v":0.3},{"$f":"per_game!R133","v":0.4},{"$f":"per_game!S133","v":0.9},{"$f":"per_game!T133","v":0},{"$f":"per_game!U133","v":0},{"$f":"per_game!V133","v":1},{"$f":"per_game!W133","v":0.9},{"$f":"per_game!X133","v":3.4}]
[null,null,{"$f":"Roster!C134","v":"C"},32.600000000000009,{"$f":"per_game!B134 & \"-\" & D135","v":"Timofey Mozgov-32.6"},{"$f":"per_game!D134","v":7},{"$f":"per_game!E134","v":0},{"$f":"per_game!F134","v":11.6},{"$f":"per_game!G134","v":1.3},{"$f":"per_game!H134","v":2.1},{"$f":"per_game!I134","v":0.6},{"$f":"per_game!J134","v":0},{"$f":"per_game!K134","v":0},{"$f":"per_game!L134","v":0},{"$f":"per_game!M134","v":0.6},{"$f":"per_game!N134","v":0.6},{"$f":"per_game!O134","v":1},{"$f":"per_game!P134","v":1.6},{"$f":"per_game!Q134","v":1.7},{"$f":"per_game!R134","v":3.3},{"$f":"per_game!S134","v":0.3},{"$f":"per_game!T134","v":0.3},{"$f":"per_game!U134","v":0.6},{"$f":"per_game!V134","v":0.7},{"$f":"per_game!W134","v":2.4},{"$f":"per_game!X134","v":3.1}]
[null,null,{"$f":"Roster!C135","v":"F"},13.633000000000001,null,{"$f":"per_game!D135","v":3},{"$f":"per_game!E135","v":0},{"$f":"per_game!F135","v":6},{"$f":"per_game!G135","v":0.3},{"$f":"per_game!H135","v":1},{"$f":"per_game!I135","v":0.33300000000000002},{"$f":"per_game!J135","v":0},{"$f":"per_game!K135","v":0},{"$f":"per_game!L135","v":0},{"$f":"per_game!M135","v":0},{"$f":"per_game!N135","v":0},{"$f":"per_game!O135","v":0},{"$f":"per_game!P135","v":0.7},{"$f":"per_game!Q135","v":0.3},{"$f":"per_game!R135","v":1},{"$f":"per_game!S135","v":1},{"$f":"per_game!T135","v":0},{"$f":"per_game!U135","v":0.3},{"$f":"per_game!V135","v":0.3},{"$f":"per_game!W135","v":0.7},{"$f":"per_game!X135","v":0.7}]
[null,null,{"$f":"Roster!C136","v":0},0,null,{"$f":"per_game!D136","v":0},{"$f":"per_game!E136","v":0},{"$f":"per_game!F136","v":0},{"$f":"per_game!G136","v":0},{"$f":"per_game!H136","v":0},{"$f":"per_game!I136","v":0},{"$f":"per_game!J136","v":0},{"$f":"per_game!K136","v":0},{"$f":"per_game!L136","v":0},{"$f":"per_game!M136","v":0},{"$f":"per_game!N136","v":0},{"$f":"per_game!O136","v":0},{"$f":"per_game!P136","v":0},{"$f":"per_game!Q136","v":0},{"$f":"per_game!R136","v":0},{"$f":"per_game!S136","v":0},{"$f":"per_game!T136","v":0},{"$f":"per_game!U136","v":0},{"$f":"per_game!V136","v":0},{"$f":"per_game!W136","v":0},{"$f":"per_game!X136","v":0}]
[null,null,{"$f":"Roster!C137","v":0},null,null,{"$f":"per_game!D137","v":0},{"$f":"per_game!E137","v":0},{"$f":"per_game!F137","v":0},{"$f":"per_game!G137","v":0},{"$f":"per_game!H137","v":0},{"$f":"per_game!I137","v":0},{"$f":"per_game!J137","v":0},{"$f":"per_game!K137","v":0},{"$f":"per_game!L137","v":0},{"$f":"per_game!M137","v":0},{"$f":"per_game!N137","v":0},{"$f":"per_game!O137","v":0},{"$f":"per_game!P137","v":0},{"$f":"per_game!Q137","v":0},{"$f":"per_game!R137","v":0},{"$f":"per_game!S137","v":0},{"$f":"per_game!T137","v":0},{"$f":"per_game!U137","v":0},{"$f":"per_game!V137","v":0},{"$f":"per_game!W137","v":0},{"$f":"per_game!X137","v":0}]
[null,null,{"$f":"Roster!C138","v":"Pos"},null,{"$f":"per_game!B138 & \"-\" & D139","v":"Player-"},{"$f":"per_game!D138","v":"G"},{"$f":"per_game!E138","v":"GS"},{"$f":"per_game!F138","v":"MP"},{"$f":"per_game!G138","v":"FG"},{"$f":"per_game!H138","v":"FGA"},{"$f":"per_game!I138","v":"FG%"},{"$f":"per_game!J138","v":"3P"},{"$f":"per_game!K138","v":"3PA"},{"$f":"per_game!L138","v":"3P%"},{"$f":"per_game!M138","v":"FT"},{"$f":"per_game!N138","v":"FTA"},{"$f":"per_game!O138","v":"FT%"},{"$f":"per_game!P138","v":"ORB"},{"$f":"per_game!Q138","v":"DRB"},{"$f":"per_game!R138","v":"TRB"},{"$f":"per_game!S138","v":"AST"},{"$f":"per_game!T138","v":"STL"},{"$f":"per_game!U138","v":"BLK"},{"$f":"per_game!V138","v":"TOV"},{"$f":"per_game!W138","v":"PF"},{"$f":"per_game!X138","v":"PTS"}]
[null,null,{"$f":"Roster!C139","v":"G"},135.56099999999998,{"$f":"per_game!B139 & \"-\" & D140","v":"Greg Monroe-135.561"},{"$f":"per_game!D139","v":19},{"$f":"per_game!E139","v":19},{"$f":"per_game!F139","v":33.299999999999997},{"$f":"per_game!G139","v":6.3},{"$f":"per_game!H139","v":13.5},{"$f":"per_game!I139","v":0.46300000000000002},{"$f":"per_game!J139","v":0},{"$f":"per_game!K139","v":0},{"$f":"per_game!L139","v":0},{"$f":"per_game!M139","v":3.2},{"$f":"per_game!N139","v":4.5},{"$f":"per_game!O139","v":0.69799999999999995},{"$f":"per_game!P139","v":2.6},{"$f":"per_game!Q139","v":7.3},{"$f":"per_game!R139","v":9.9},{"$f":"per_game!S139","v":3.5},{"$f":"per_game!T139","v":1.7},{"$f":"per_game!U139","v":0.8},{"$f":"per_game!V139","v":3.3},{"$f":"per_game!W139","v":2.6},{"$f":"per_game!X139","v":15.7}]
[null,null,{"$f":"Roster!C140","v":"F"},118.92099999999996,{"$f":"per_game!B140 & \"-\" & D141","v":"Brandon Knight-118.921"},{"$f":"per_game!D140","v":19},{"$f":"per_game!E140","v":19},{"$f":"per_game!F140","v":31.3},{"$f":"per_game!G140","v":4.5},{"$f":"per_game!H140","v":10.7},{"$f":"per_game!I140","v":0.42199999999999999},{"$f":"per_game!J140","v":1.6},{"$f":"per_game!K140","v":4},{"$f":"per_game!L140","v":0.40799999999999997},{"$f":"per_game!M140","v":2.8},{"$f":"per_game!N140","v":3.5},{"$f":"per_game!O140","v":0.79100000000000004},{"$f":"per_game!P140","v":0.3},{"$f":"per_game!Q140","v":3.3},{"$f":"per_game!R140","v":3.6},{"$f":"per_game!S140","v":5.3},{"$f":"per_game!T140","v":0.5},{"$f":"per_game!U140","v":0.1},{"$f":"per_game!V140","v":3.4},{"$f":"per_game!W140","v":2.2999999999999998},{"$f":"per_game!X140","v":13.5}]
[null,null,{"$f":"Roster!C141","v":"C"},115.69800000000002,{"$f":"per_game!B141 & \"-\" & D142","v":"Tayshaun Prince-115.698"},{"$f":"per_game!D141","v":19},{"$f":"per_game!E141","v":19},{"$f":"per_game!F141","v":32.5},{"$f":"per_game!G141","v":5},{"$f":"per_game!H141","v":10.9},{"$f":"per_game!I141","v":0.45900000000000002},{"$f":"per_game!J141","v":0.5},{"$f":"per_game!K141","v":1.1000000000000001},{"$f":"per_game!L141","v":0.42899999999999999},{"$f":"per_game!M141","v":1.8},{"$f":"per_game!N141","v":2.2000000000000002},{"$f":"per_game!O141","v":0.81},{"$f":"per_game!P141","v":0.8},{"$f":"per_game!Q141","v":3.4},{"$f":"per_game!R141","v":4.2},{"$f":"per_game!S141","v":2.4},{"$f":"per_game!T141","v":0.5},{"$f":"per_game!U141","v":0.3},{"$f":"per_game!V141","v":1.1000000000000001},{"$f":"per_game!W141","v":0.8},{"$f":"per_game!X141","v":12.3}]
[null,null,{"$f":"Roster!C142","v":"G"},93.128,{"$f":"per_game!B142 & \"-\" & D143","v":"Kyle Singler-93.128"},{"$f":"per_game!D142","v":19},{"$f":"per_game!E142","v":11},{"$f":"per_game!F142","v":27.3},{"$f":"per_game!G142","v":3.7},{"$f":"per_game!H142","v":7.4},{"$f":"per_game!I142","v":0.504},{"$f":"per_game!J142","v":1.2},{"$f":"per_game!K142","v":2.6},{"$f":"per_game!L142","v":0.44900000000000001},{"$f":"per_game!M142","v":1.6},{"$f":"per_game!N142","v":2.1},{"$f":"per_game!O142","v":0.77500000000000002},{"$f":"per_game!P142","v":0.9},{"$f":"per_game!Q142","v":2.7},{"$f":"per_game!R142","v":3.6},{"$f":"per_game!S142","v":1},{"$f":"per_game!T142","v":0.5},{"$f":"per_game!U142","v":0.6},{"$f":"per_game!V142","v":1},{"$f":"per_game!W142","v":3.1},{"$f":"per_game!X142","v":10.3}]
[null,null,{"$f":"Roster!C143","v":"F"},94.143999999999991,{"$f":"per_game!B143 & \"-\" & D144","v":"Rodney Stuckey-94.144"},{"$f":"per_game!D143","v":18},{"$f":"per_game!E143","v":8},{"$f":"per_game!F143","v":28.1},{"$f":"per_game!G143","v":3.2},{"$f":"per_game!H143","v":9.3000000000000007},{"$f":"per_game!I143","v":0.34699999999999998},{"$f":"per_game!J143","v":0.5},{"$f":"per_game!K143","v":2.5},{"$f":"per_game!L143","v":0.2},{"$f":"per_game!M143","v":2.6},{"$f":"per_game!N143","v":3.3},{"$f":"per_game!O143","v":0.79700000000000004},{"$f":"per_game!P143","v":0.7},{"$f":"per_game!Q143","v":2.2999999999999998},{"$f":"per_game!R143","v":3},{"$f":"per_game!S143","v":3.7},{"$f":"per_game!T143","v":0.3},{"$f":"per_game!U143","v":0.3},{"$f":"per_game!V143","v":1.3},{"$f":"per_game!W143","v":1.3},{"$f":"per_game!X143","v":9.6}]
[null,null,{"$f":"Roster!C144","v":"G"},101.49999999999999,{"$f":"per_game!B144 & \"-\" & D145","v":"Jason Maxiell-101.5"},{"$f":"per_game!D144","v":19},{"$f":"per_game!E144","v":19},{"$f":"per_game!F144","v":26.9},{"$f":"per_game!G144","v":3.6},{"$f":"per_game!H144","v":7.1},{"$f":"per_game!I144","v":0.51100000000000001},{"$f":"per_game!J144","v":0},{"$f":"per_game!K144","v":0},{"$f":"per_game!L144","v":0},{"$f":"per_game!M144","v":1.6},{"$f":"per_game!N144","v":2.4},{"$f":"per_game!O144","v":0.68899999999999995},{"$f":"per_game!P144","v":1.7},{"$f":"per_game!Q144","v":4.7},{"$f":"per_game!R144","v":6.5},{"$f":"per_game!S144","v":0.7},{"$f":"per_game!T144","v":0.4},{"$f":"per_game!U144","v":1.6},{"$f":"per_game!V144","v":1.4},{"$f":"per_game!W144","v":2.4},{"$f":"per_game!X144","v":8.9}]
[null,null,{"$f":"Roster!C145","v":"F"},49.99,{"$f":"per_game!B145 & \"-\" & D146","v":"Charlie Villanueva-49.99"},{"$f":"per_game!D145","v":9},{"$f":"per_game!E145","v":0},{"$f":"per_game!F145","v":12.9},{"$f":"per_game!G145","v":2.6},{"$f":"per_game!H145","v":6.3},{"$f":"per_game!I145","v":0.40400000000000003},{"$f":"per_game!J145","v":1.3},{"$f":"per_game!K145","v":3.7},{"$f":"per_game!L145","v":0.36399999999999999},{"$f":"per_game!M145","v":0.2},{"$f":"per_game!N145","v":1},{"$f":"per_game!O145","v":0.222},{"$f":"per_game!P145","v":0.4},{"$f":"per_game!Q145","v":2.1},{"$f":"per_game!R145","v":2.6},{"$f":"per_game!S145","v":0.9},{"$f":"per_game!T145","v":0.4},{"$f":"per_game!U145","v":0.3},{"$f":"per_game!V145","v":0.4},{"$f":"per_game!W145","v":1},{"$f":"per_game!X145","v":6.7}]
[null,null,{"$f":"Roster!C146","v":"F"},65.533000000000001,{"$f":"per_game!B146 & \"-\" & D147","v":"Andre Drummond-65.533"},{"$f":"per_game!D146","v":19},{"$f":"per_game!E146","v":0},{"$f":"per_game!F146","v":16.899999999999999},{"$f":"per_game!G146","v":2.6},{"$f":"per_game!H146","v":4.7},{"$f":"per_game!I146","v":0.55100000000000005},{"$f":"per_game!J146","v":0.1},{"$f":"per_game!K146","v":0.1},{"$f":"per_game!L146","v":0.5},{"$f":"per_game!M146","v":0.7},{"$f":"per_game!N146","v":1.8},{"$f":"per_game!O146","v":0.38200000000000001},{"$f":"per_game!P146","v":2.8},{"$f":"per_game!Q146","v":3.4},{"$f":"per_game!R146","v":6.2},{"$f":"per_game!S146","v":0.5},{"$f":"per_game!T146","v":0.8},{"$f":"per_game!U146","v":1.3},{"$f":"per_game!V146","v":0.8},{"$f":"per_game!W146","v":1.9},{"$f":"per_game!X146","v":5.9}]
[null,null,{"$f":"Roster!C147","v":"F"},54.896000000000001,{"$f":"per_game!B147 & \"-\" & D148","v":"Jonas Jerebko-54.896"},{"$f":"per_game!D147","v":13},{"$f":"per_game!E147","v":0},{"$f":"per_game!F147","v":17},{"$f":"per_game!G147","v":2.2000000000000002},{"$f":"per_game!H147","v":6},{"$f":"per_game!I147","v":0.35899999999999999},{"$f":"per_game!J147","v":0.4},{"$f":"per_game!K147","v":1.9},{"$f":"per_game!L147","v":0.2},{"$f":"per_game!M147","v":1.1000000000000001},{"$f":"per_game!N147","v":1.5},{"$f":"per_game!O147","v":0.73699999999999999},{"$f":"per_game!P147","v":1.5},{"$f":"per_game!Q147","v":1.4},{"$f":"per_game!R147","v":2.9},{"$f":"per_game!S147","v":0.5},{"$f":"per_game!T147","v":0.9},{"$f":"per_game!U147","v":0.2},{"$f":"per_game!V147","v":0.7},{"$f":"per_game!W147","v":2},{"$f":"per_game!X147","v":5.8}]
[null,null,{"$f":"Roster!C148","v":"F-C"},50.579000000000015,{"$f":"per_game!B148 & \"-\" & D149","v":"Will Bynum-50.579"},{"$f":"per_game!D148","v":16},{"$f":"per_game!E148","v":0},{"$f":"per_game!F148","v":14.6},{"$f":"per_game!G148","v":2.1},{"$f":"per_game!H148","v":5.7},{"$f":"per_game!I148","v":0.374},{"$f":"per_game!J148","v":0.1},{"$f":"per_game!K148","v":0.6},{"$f":"per_game!L148","v":0.2},{"$f":"per_game!M148","v":1.2},{"$f":"per_game!N148","v":1.3},{"$f":"per_game!O148","v":0.90500000000000003},{"$f":"per_game!P148","v":0.1},{"$f":"per_game!Q148","v":0.8},{"$f":"per_game!R148","v":0.9},{"$f":"per_game!S148","v":2.5},{"$f":"per_game!T148","v":0.6},{"$f":"per_game!U148","v":0.1},{"$f":"per_game!V148","v":1.2},{"$f":"per_game!W148","v":1.9},{"$f":"per_game!X148","v":5.6}]
[null,null,{"$f":"Roster!C149","v":"F"},44.166000000000004,{"$f":"per_game!B149 & \"-\" & D150","v":"Corey Maggette-44.166"},{"$f":"per_game!D149","v":11},{"$f":"per_game!E149","v":0},{"$f":"per_game!F149","v":14.5},{"$f":"per_game!G149","v":1.6},{"$f":"per_game!H149","v":4.3},{"$f":"per_game!I149","v":0.38300000000000001},{"$f":"per_game!J149","v":0.5},{"$f":"per_game!K149","v":1.3},{"$f":"per_game!L149","v":0.35699999999999998},{"$f":"per_game!M149","v":1.7},{"$f":"per_game!N149","v":2.1},{"$f":"per_game!O149","v":0.82599999999999996},{"$f":"per_game!P149","v":0.1},{"$f":"per_game!Q149","v":0.9},{"$f":"per_game!R149","v":1},{"$f":"per_game!S149","v":1.4},{"$f":"per_game!T149","v":0.4},{"$f":"per_game!U149","v":0.1},{"$f":"per_game!V149","v":1.3},{"$f":"per_game!W149","v":2.5},{"$f":"per_game!X149","v":5.5}]
[null,null,{"$f":"Roster!C150","v":"F"},31.979000000000003,{"$f":"per_game!B150 & \"-\" & D151","v":"Kim English-31.979"},{"$f":"per_game!D150","v":10},{"$f":"per_game!E150","v":0},{"$f":"per_game!F150","v":9.1999999999999993},{"$f":"per_game!G150","v":1.1000000000000001},{"$f":"per_game!H150","v":2.9},{"$f":"per_game!I150","v":0.379},{"$f":"per_game!J150","v":0.8},{"$f":"per_game!K150","v":1.6},{"$f":"per_game!L150","v":0.5},{"$f":"per_game!M150","v":0.2},{"$f":"per_game!N150","v":0.2},{"$f":"per_game!O150","v":1},{"$f":"per_game!P150","v":0.1},{"$f":"per_game!Q150","v":0.4},{"$f":"per_game!R150","v":0.5},{"$f":"per_game!S150","v":0.7},{"$f":"per_game!T150","v":0.3},{"$f":"per_game!U150","v":0.2},{"$f":"per_game!V150","v":0.4},{"$f":"per_game!W150","v":0.9},{"$f":"per_game!X150","v":3.2}]
[null,null,{"$f":"Roster!C151","v":"G"},18.823,{"$f":"per_game!B151 & \"-\" & D152","v":"Austin Daye-18.823"},{"$f":"per_game!D151","v":5},{"$f":"per_game!E151","v":0},{"$f":"per_game!F151","v":4.4000000000000004},{"$f":"per_game!G151","v":1},{"$f":"per_game!H151","v":1.8},{"$f":"per_game!I151","v":0.55600000000000005},{"$f":"per_game!J151","v":0.4},{"$f":"per_game!K151","v":0.6},{"$f":"per_game!L151","v":0.66700000000000004},{"$f":"per_game!M151","v":0},{"$f":"per_game!N151","v":0},{"$f":"per_game!O151","v":0},{"$f":"per_game!P151","v":0},{"$f":"per_game!Q151","v":1},{"$f":"per_game!R151","v":1},{"$f":"per_game!S151","v":0.4},{"$f":"per_game!T151","v":0},{"$f":"per_game!U151","v":0},{"$f":"per_game!V151","v":0.2},{"$f":"per_game!W151","v":0.2},{"$f":"per_game!X151","v":2.4}]
[null,null,{"$f":"Roster!C152","v":"F"},13,null,{"$f":"per_game!D152","v":3},{"$f":"per_game!E152","v":0},{"$f":"per_game!F152","v":4},{"$f":"per_game!G152","v":0.3},{"$f":"per_game!H152","v":1},{"$f":"per_game!I152","v":0.33300000000000002},{"$f":"per_game!J152","v":0},{"$f":"per_game!K152","v":0},{"$f":"per_game!L152","v":0},{"$f":"per_game!M152","v":0.7},{"$f":"per_game!N152","v":1},{"$f":"per_game!O152","v":0.66700000000000004},{"$f":"per_game!P152","v":0},{"$f":"per_game!Q152","v":0},{"$f":"per_game!R152","v":0},{"$f":"per_game!S152","v":0.7},{"$f":"per_game!T152","v":0.7},{"$f":"per_game!U152","v":0},{"$f":"per_game!V152","v":0},{"$f":"per_game!W152","v":0.7},{"$f":"per_game!X152","v":1.3}]
[null,null,{"$f":"Roster!C153","v":0},0,null,{"$f":"per_game!D153","v":0},{"$f":"per_game!E153","v":0},{"$f":"per_game!F153","v":0},{"$f":"per_game!G153","v":0},{"$f":"per_game!H153","v":0},{"$f":"per_game!I153","v":0},{"$f":"per_game!J153","v":0},{"$f":"per_game!K153","v":0},{"$f":"per_game!L153","v":0},{"$f":"per_game!M153","v":0},{"$f":"per_game!N153","v":0},{"$f":"per_game!O153","v":0},{"$f":"per_game!P153","v":0},{"$f":"per_game!Q153","v":0},{"$f":"per_game!R153","v":0},{"$f":"per_game!S153","v":0},{"$f":"per_game!T153","v":0},{"$f":"per_game!U153","v":0},{"$f":"per_game!V153","v":0},{"$f":"per_game!W153","v":0},{"$f":"per_game!X153","v":0}]
[null,null,{"$f":"Roster!C154","v":0},null,null,{"$f":"per_game!D154","v":0},{"$f":"per_game!E154","v":0},{"$f":"per_game!F154","v":0},{"$f":"per_game!G154","v":0},{"$f":"per_game!H154","v":0},{"$f":"per_game!I154","v":0},{"$f":"per_game!J154","v":0},{"$f":"per_game!K154","v":0},{"$f":"per_game!L154","v":0},{"$f":"per_game!M154","v":0},{"$f":"per_game!N154","v":0},{"$f":"per_game!O154","v":0},{"$f":"per_game!P154","v":0},{"$f":"per_game!Q154","v":0},{"$f":"per_game!R154","v":0},{"$f":"per_game!S154","v":0},{"$f":"per_game!T154","v":0},{"$f":"per_game!U154","v":0},{"$f":"per_game!V154","v":0},{"$f":"per_game!W154","v":0},{"$f":"per_game!X154","v":0}]
[null,null,{"$f":"Roster!C155","v":"Pos"},null,{"$f":"per_game!B155 & \"-\" & D156","v":"Player-"},{"$f":"per_game!D155","v":"G"},{"$f":"per_game!E155","v":"GS"},{"$f":"per_game!F155","v":"MP"},{"$f":"per_game!G155","v":"FG"},{"$f":"per_game!H155","v":"FGA"},{"$f":"per_game!I155","v":"FG%"},{"$f":"per_game!J155","v":"3P"},{"$f":"per_game!K155","v":"3PA"},{"$f":"per_game!L155","v":"3P%"},{"$f":"per_game!M155","v":"FT"},{"$f":"per_game!N155","v":"FTA"},{"$f":"per_game!O155","v":"FT%"},{"$f":"per_game!P155","v":"ORB"},{"$f":"per_game!Q155","v":"DRB"},{"$f":"per_game!R155","v":"TRB"},{"$f":"per_game!S155","v":"AST"},{"$f":"per_game!T155","v":"STL"},{"$f":"per_game!U155","v":"BLK"},{"$f":"per_game!V155","v":"TOV"},{"$f":"per_game!W155","v":"PF"},{"$f":"per_game!X155","v":"PTS"}]
[null,null,{"$f":"Roster!C156","v":"F"},139.625,{"$f":"per_game!B156 & \"-\" & D157","v":"Stephen Curry-139.625"},{"$f":"per_game!D156","v":17},{"$f":"per_game!E156","v":17},{"$f":"per_game!F156","v":37.1},{"$f":"per_game!G156","v":6.5},{"$f":"per_game!H156","v":15.5},{"$f":"per_game!I156","v":0.41799999999999998},{"$f":"per_game!J156","v":2.5},{"$f":"per_game!K156","v":6.1},{"$f":"per_game!L156","v":0.41299999999999998},{"$f":"per_game!M156","v":3.5},{"$f":"per_game!N156","v":3.9},{"$f":"per_game!O156","v":0.89400000000000002},{"$f":"per_game!P156","v":0.6},{"$f":"per_game!Q156","v":3.4},{"$f":"per_game!R156","v":3.9},{"$f":"per_game!S156","v":6.4},{"$f":"per_game!T156","v":1.6},{"$f":"per_game!U156","v":0.1},{"$f":"per_game!V156","v":3.2},{"$f":"per_game!W156","v":2.9},{"$f":"per_game!X156","v":18.899999999999999}]
[null,null,{"$f":"Roster!C157","v":"G"},139.35900000000001,{"$f":"per_game!B157 & \"-\" & D158","v":"David Lee-139.359"},{"$f":"per_game!D157","v":17},{"$f":"per_game!E157","v":17},{"$f":"per_game!F157","v":37.5},{"$f":"per_game!G157","v":7.2},{"$f":"per_game!H157","v":14.8},{"$f":"per_game!I157","v":0.49},{"$f":"per_game!J157","v":0},{"$f":"per_game!K157","v":0.1},{"$f":"per_game!L157","v":0},{"$f":"per_game!M157","v":2.9},{"$f":"per_game!N157","v":3.8},{"$f":"per_game!O157","v":0.76900000000000002},{"$f":"per_game!P157","v":2.7},{"$f":"per_game!Q157","v":8},{"$f":"per_game!R157","v":10.7},{"$f":"per_game!S157","v":3.8},{"$f":"per_game!T157","v":1.1000000000000001},{"$f":"per_game!U157","v":0.3},{"$f":"per_game!V157","v":2.6},{"$f":"per_game!W157","v":3.6},{"$f":"per_game!X157","v":17.399999999999999}]
[null,null,{"$f":"Roster!C158","v":"C"},126.197,{"$f":"per_game!B158 & \"-\" & D159","v":"Klay Thompson-126.197"},{"$f":"per_game!D158","v":17},{"$f":"per_game!E158","v":17},{"$f":"per_game!F158","v":35.1},{"$f":"per_game!G158","v":5.8},{"$f":"per_game!H158","v":15.4},{"$f":"per_game!I158","v":0.375},{"$f":"per_game!J158","v":2.2000000000000002},{"$f":"per_game!K158","v":6.8},{"$f":"per_game!L158","v":0.32200000000000001},{"$f":"per_game!M158","v":1.6},{"$f":"per_game!N158","v":2.1},{"$f":"per_game!O158","v":0.8},{"$f":"per_game!P158","v":0.5},{"$f":"per_game!Q158","v":3.5},{"$f":"per_game!R158","v":4.0999999999999996},{"$f":"per_game!S158","v":2.2000000000000002},{"$f":"per_game!T158","v":0.4},{"$f":"per_game!U158","v":0.4},{"$f":"per_game!V158","v":2.2000000000000002},{"$f":"per_game!W158","v":2.6},{"$f":"per_game!X158","v":15.4}]
[null,null,{"$f":"Roster!C159","v":"C"},93.264999999999986,{"$f":"per_game!B159 & \"-\" & D160","v":"Carl Landry-93.265"},{"$f":"per_game!D159","v":17},{"$f":"per_game!E159","v":0},{"$f":"per_game!F159","v":26.6},{"$f":"per_game!G159","v":5.0999999999999996},{"$f":"per_game!H159","v":8.9},{"$f":"per_game!I159","v":0.56999999999999995},{"$f":"per_game!J159","v":0},{"$f":"per_game!K159","v":0.1},{"$f":"per_game!L159","v":0},{"$f":"per_game!M159","v":3.9},{"$f":"per_game!N159","v":4.9000000000000004},{"$f":"per_game!O159","v":0.79500000000000004},{"$f":"per_game!P159","v":3.1},{"$f":"per_game!Q159","v":4},{"$f":"per_game!R159","v":7.1},{"$f":"per_game!S159","v":1.1000000000000001},{"$f":"per_game!T159","v":0.3},{"$f":"per_game!U159","v":0.5},{"$f":"per_game!V159","v":1.8},{"$f":"per_game!W159","v":2.9},{"$f":"per_game!X159","v":14}]
[null,null,{"$f":"Roster!C160","v":"G"},79.227000000000004,{"$f":"per_game!B160 & \"-\" & D161","v":"Jarrett Jack-79.227"},{"$f":"per_game!D160","v":17},{"$f":"per_game!E160","v":0},{"$f":"per_game!F160","v":25.2},{"$f":"per_game!G160","v":3.9},{"$f":"per_game!H160","v":8},{"$f":"per_game!I160","v":0.48499999999999999},{"$f":"per_game!J160","v":0.7},{"$f":"per_game!K160","v":1.9},{"$f":"per_game!L160","v":0.375},{"$f":"per_game!M160","v":1.5},{"$f":"per_game!N160","v":1.8},{"$f":"per_game!O160","v":0.86699999999999999},{"$f":"per_game!P160","v":0.1},{"$f":"per_game!Q160","v":2.9},{"$f":"per_game!R160","v":3},{"$f":"per_game!S160","v":4.5},{"$f":"per_game!T160","v":0.8},{"$f":"per_game!U160","v":0},{"$f":"per_game!V160","v":1.8},{"$f":"per_game!W160","v":2},{"$f":"per_game!X160","v":10}]
[null,null,{"$f":"Roster!C161","v":"C"},99.97199999999998,{"$f":"per_game!B161 & \"-\" & D162","v":"Harrison Barnes-99.972"},{"$f":"per_game!D161","v":17},{"$f":"per_game!E161","v":17},{"$f":"per_game!F161","v":27.8},{"$f":"per_game!G161","v":3.8},{"$f":"per_game!H161","v":8.1999999999999993},{"$f":"per_game!I161","v":0.46},{"$f":"per_game!J161","v":0.7},{"$f":"per_game!K161","v":2},{"$f":"per_game!L161","v":0.35299999999999998},{"$f":"per_game!M161","v":1.6},{"$f":"per_game!N161","v":2.4},{"$f":"per_game!O161","v":0.65900000000000003},{"$f":"per_game!P161","v":0.8},{"$f":"per_game!Q161","v":4},{"$f":"per_game!R161","v":4.8},{"$f":"per_game!S161","v":1.4},{"$f":"per_game!T161","v":0.6},{"$f":"per_game!U161","v":0.2},{"$f":"per_game!V161","v":1.4},{"$f":"per_game!W161","v":2.2000000000000002},{"$f":"per_game!X161","v":9.8000000000000007}]
[null,null,{"$f":"Roster!C162","v":"F"},31.834000000000003,{"$f":"per_game!B162 & \"-\" & D163","v":"Brandon Rush-31.834"},{"$f":"per_game!D162","v":2},{"$f":"per_game!E162","v":0},{"$f":"per_game!F162","v":12.5},{"$f":"per_game!G162","v":3},{"$f":"per_game!H162","v":4.5},{"$f":"per_game!I162","v":0.66700000000000004},{"$f":"per_game!J162","v":0},{"$f":"per_game!K162","v":1},{"$f":"per_game!L162","v":0},{"$f":"per_game!M162","v":1},{"$f":"per_game!N162","v":1.5},{"$f":"per_game!O162","v":0.66700000000000004},{"$f":"per_game!P162","v":0},{"$f":"per_game!Q162","v":0.5},{"$f":"per_game!R162","v":0.5},{"$f":"per_game!S162","v":1},{"$f":"per_game!T162","v":0},{"$f":"per_game!U162","v":0},{"$f":"per_game!V162","v":1.5},{"$f":"per_game!W162","v":2.5},{"$f":"per_game!X162","v":7}]
[null,null,{"$f":"Roster!C163","v":"G"},51.04999999999999,{"$f":"per_game!B163 & \"-\" & D164","v":"Andrew Bogut-51.05"},{"$f":"per_game!D163","v":4},{"$f":"per_game!E163","v":4},{"$f":"per_game!F163","v":18.3},{"$f":"per_game!G163","v":2.8},{"$f":"per_game!H163","v":5},{"$f":"per_game!I163","v":0.55000000000000004},{"$f":"per_game!J163","v":0},{"$f":"per_game!K163","v":0},{"$f":"per_game!L163","v":0},{"$f":"per_game!M163","v":0.5},{"$f":"per_game!N163","v":1},{"$f":"per_game!O163","v":0.5},{"$f":"per_game!P163","v":1},{"$f":"per_game!Q163","v":2.8},{"$f":"per_game!R163","v":3.8},{"$f":"per_game!S163","v":2},{"$f":"per_game!T163","v":0.3},{"$f":"per_game!U163","v":1},{"$f":"per_game!V163","v":1},{"$f":"per_game!W163","v":1.5},{"$f":"per_game!X163","v":6}]
[null,null,{"$f":"Roster!C164","v":"F"},44.350000000000009,{"$f":"per_game!B164 & \"-\" & D165","v":"Richard Jefferson-44.35"},{"$f":"per_game!D164","v":10},{"$f":"per_game!E164","v":0},{"$f":"per_game!F164","v":15.2},{"$f":"per_game!G164","v":1.5},{"$f":"per_game!H164","v":4.5},{"$f":"per_game!I164","v":0.33300000000000002},{"$f":"per_game!J164","v":0.3},{"$f":"per_game!K164","v":1.8},{"$f":"per_game!L164","v":0.16700000000000001},{"$f":"per_game!M164","v":0.9},{"$f":"per_game!N164","v":1.2},{"$f":"per_game!O164","v":0.75},{"$f":"per_game!P164","v":0.2},{"$f":"per_game!Q164","v":1.2},{"$f":"per_game!R164","v":1.4},{"$f":"per_game!S164","v":1.2},{"$f":"per_game!T164","v":0.5},{"$f":"per_game!U164","v":0.3},{"$f":"per_game!V164","v":0.3},{"$f":"per_game!W164","v":1},{"$f":"per_game!X164","v":4.2}]
[null,null,{"$f":"Roster!C165","v":"G"},65.66,{"$f":"per_game!B165 & \"-\" & D166","v":"Festus Ezeli-65.66"},{"$f":"per_game!D165","v":17},{"$f":"per_game!E165","v":13},{"$f":"per_game!F165","v":16.7},{"$f":"per_game!G165","v":1.5},{"$f":"per_game!H165","v":3},{"$f":"per_game!I165","v":0.49},{"$f":"per_game!J165","v":0},{"$f":"per_game!K165","v":0},{"$f":"per_game!L165","v":0},{"$f":"per_game!M165","v":0.6},{"$f":"per_game!N165","v":1.6},{"$f":"per_game!O165","v":0.37},{"$f":"per_game!P165","v":2.2999999999999998},{"$f":"per_game!Q165","v":2.4},{"$f":"per_game!R165","v":4.5999999999999996},{"$f":"per_game!S165","v":0.2},{"$f":"per_game!T165","v":0.4},{"$f":"per_game!U165","v":1},{"$f":"per_game!V165","v":0.9},{"$f":"per_game!W165","v":2.1},{"$f":"per_game!X165","v":3.5}]
[null,null,{"$f":"Roster!C166","v":"F"},41.175000000000004,{"$f":"per_game!B166 & \"-\" & D167","v":"Draymond Green-41.175"},{"$f":"per_game!D166","v":17},{"$f":"per_game!E166","v":0},{"$f":"per_game!F166","v":11.6},{"$f":"per_game!G166","v":0.8},{"$f":"per_game!H166","v":2.4},{"$f":"per_game!I166","v":0.32500000000000001},{"$f":"per_game!J166","v":0.2},{"$f":"per_game!K166","v":0.9},{"$f":"per_game!L166","v":0.25},{"$f":"per_game!M166","v":0.5},{"$f":"per_game!N166","v":0.6},{"$f":"per_game!O166","v":0.8},{"$f":"per_game!P166","v":0.5},{"$f":"per_game!Q166","v":2.1},{"$f":"per_game!R166","v":2.6},{"$f":"per_game!S166","v":0.4},{"$f":"per_game!T166","v":0.5},{"$f":"per_game!U166","v":0.1},{"$f":"per_game!V166","v":0.5},{"$f":"per_game!W166","v":2.1},{"$f":"per_game!X166","v":2.2000000000000002}]
[null,null,{"$f":"Roster!C167","v":"F"},24.836000000000002,{"$f":"per_game!B167 & \"-\" & D168","v":"Charles Jenkins-24.836"},{"$f":"per_game!D167","v":14},{"$f":"per_game!E167","v":0},{"$f":"per_game!F167","v":4.0999999999999996},{"$f":"per_game!G167","v":0.8},{"$f":"per_game!H167","v":1.3},{"$f":"per_game!I167","v":0.61099999999999999},{"$f":"per_game!J167","v":0},{"$f":"per_game!K167","v":0},{"$f":"per_game!L167","v":0},{"$f":"per_game!M167","v":0.4},{"$f":"per_game!N167","v":0.6},{"$f":"per_game!O167","v":0.625},{"$f":"per_game!P167","v":0.1},{"$f":"per_game!Q167","v":0.4},{"$f":"per_game!R167","v":0.4},{"$f":"per_game!S167","v":0.3},{"$f":"per_game!T167","v":0.1},{"$f":"per_game!U167","v":0},{"$f":"per_game!V167","v":0.5},{"$f":"per_game!W167","v":0.3},{"$f":"per_game!X167","v":1.9}]
[null,null,{"$f":"Roster!C168","v":"F"},12.999999999999998,{"$f":"per_game!B168 & \"-\" & D169","v":"Jeremy Tyler-13"},{"$f":"per_game!D168","v":5},{"$f":"per_game!E168","v":0},{"$f":"per_game!F168","v":2},{"$f":"per_game!G168","v":0.6},{"$f":"per_game!H168","v":1},{"$f":"per_game!I168","v":0.6},{"$f":"per_game!J168","v":0},{"$f":"per_game!K168","v":0},{"$f":"per_game!L168","v":0},{"$f":"per_game!M168","v":0.4},{"$f":"per_game!N168","v":0.4},{"$f":"per_game!O168","v":1},{"$f":"per_game!P168","v":0.2},{"$f":"per_game!Q168","v":0},{"$f":"per_game!R168","v":0.2},{"$f":"per_game!S168","v":0},{"$f":"per_game!T168","v":0.2},{"$f":"per_game!U168","v":0},{"$f":"per_game!V168","v":0.2},{"$f":"per_game!W168","v":0},{"$f":"per_game!X168","v":1.6}]
[null,null,{"$f":"Roster!C169","v":"G"},30.607999999999997,{"$f":"per_game!B169 & \"-\" & D170","v":"Andris Biedrins-30.608"},{"$f":"per_game!D169","v":14},{"$f":"per_game!E169","v":0},{"$f":"per_game!F169","v":9.5},{"$f":"per_game!G169","v":0.2},{"$f":"per_game!H169","v":0.6},{"$f":"per_game!I169","v":0.375},{"$f":"per_game!J169","v":0},{"$f":"per_game!K169","v":0},{"$f":"per_game!L169","v":0},{"$f":"per_game!M169","v":0.1},{"$f":"per_game!N169","v":0.4},{"$f":"per_game!O169","v":0.33300000000000002},{"$f":"per_game!P169","v":0.6},{"$f":"per_game!Q169","v":2.1},{"$f":"per_game!R169","v":2.7},{"$f":"per_game!S169","v":0.4},{"$f":"per_game!T169","v":0.4},{"$f":"per_game!U169","v":0.5},{"$f":"per_game!V169","v":0.6},{"$f":"per_game!W169","v":1.6},{"$f":"per_game!X169","v":0.6}]
[null,null,{"$f":"Roster!C170","v":"C"},10.500000000000002,null,{"$f":"per_game!D170","v":7},{"$f":"per_game!E170","v":0},{"$f":"per_game!F170","v":1.4},{"$f":"per_game!G170","v":0},{"$f":"per_game!H170","v":0.9},{"$f":"per_game!I170","v":0},{"$f":"per_game!J170","v":0},{"$f":"per_game!K170","v":0},{"$f":"per_game!L170","v":0},{"$f":"per_game!M170","v":0},{"$f":"per_game!N170","v":0},{"$f":"per_game!O170","v":0},{"$f":"per_game!P170","v":0.1},{"$f":"per_game!Q170","v":0.1},{"$f":"per_game!R170","v":0.3},{"$f":"per_game!S170","v":0.1},{"$f":"per_game!T170","v":0.3},{"$f":"per_game!U170","v":0.3},{"$f":"per_game!V170","v":0},{"$f":"per_game!W170","v":0},{"$f":"per_game!X170","v":0}]
[null,null,{"$f":"Roster!C171","v":0},0,null,{"$f":"per_game!D171","v":0},{"$f":"per_game!E171","v":0},{"$f":"per_game!F171","v":0},{"$f":"per_game!G171","v":0},{"$f":"per_game!H171","v":0},{"$f":"per_game!I171","v":0},{"$f":"per_game!J171","v":0},{"$f":"per_game!K171","v":0},{"$f":"per_game!L171","v":0},{"$f":"per_game!M171","v":0},{"$f":"per_game!N171","v":0},{"$f":"per_game!O171","v":0},{"$f":"per_game!P171","v":0},{"$f":"per_game!Q171","v":0},{"$f":"per_game!R171","v":0},{"$f":"per_game!S171","v":0},{"$f":"per_game!T171","v":0},{"$f":"per_game!U171","v":0},{"$f":"per_game!V171","v":0},{"$f":"per_game!W171","v":0},{"$f":"per_game!X171","v":0}]
[null,null,{"$f":"Roster!C172","v":0},null,null,{"$f":"per_game!D172","v":0},{"$f":"per_game!E172","v":0},{"$f":"per_game!F172","v":0},{"$f":"per_game!G172","v":0},{"$f":"per_game!H172","v":0},{"$f":"per_game!I172","v":0},{"$f":"per_game!J172","v":0},{"$f":"per_game!K172","v":0},{"$f":"per_game!L172","v":0},{"$f":"per_game!M172","v":0},{"$f":"per_game!N172","v":0},{"$f":"per_game!O172","v":0},{"$f":"per_game!P172","v":0},{"$f":"per_game!Q172","v":0},{"$f":"per_game!R172","v":0},{"$f":"per_game!S172","v":0},{"$f":"per_game!T172","v":0},{"$f":"per_game!U172","v":0},{"$f":"per_game!V172","v":0},{"$f":"per_game!W172","v":0},{"$f":"per_game!X172","v":0}]
[null,null,{"$f":"Roster!C173","v":"Pos"},null,{"$f":"per_game!B173 & \"-\" & D174","v":"Player-"},{"$f":"per_game!D173","v":"G"},{"$f":"per_game!E173","v":"GS"},{"$f":"per_game!F173","v":"MP"},{"$f":"per_game!G173","v":"FG"},{"$f":"per_game!H173","v":"FGA"},{"$f":"per_game!I173","v":"FG%"},{"$f":"per_game!J173","v":"3P"},{"$f":"per_game!K173","v":"3PA"},{"$f":"per_game!L173","v":"3P%"},{"$f":"per_game!M173","v":"FT"},{"$f":"per_game!N173","v":"FTA"},{"$f":"per_game!O173","v":"FT%"},{"$f":"per_game!P173","v":"ORB"},{"$f":"per_game!Q173","v":"DRB"},{"$f":"per_game!R173","v":"TRB"},{"$f":"per_game!S173","v":"AST"},{"$f":"per_game!T173","v":"STL"},{"$f":"per_game!U173","v":"BLK"},{"$f":"per_game!V173","v":"TOV"},{"$f":"per_game!W173","v":"PF"},{"$f":"per_game!X173","v":"PTS"}]
[null,null,{"$f":"Roster!C174","v":"C"},154.80199999999999,{"$f":"per_game!B174 & \"-\" & D175","v":"James Harden-154.802"},{"$f":"per_game!D174","v":16},{"$f":"per_game!E174","v":16},{"$f":"per_game!F174","v":38.799999999999997},{"$f":"per_game!G174","v":7.3},{"$f":"per_game!H174","v":17.100000000000001},{"$f":"per_game!I174","v":0.42699999999999999},{"$f":"per_game!J174","v":1.9},{"$f":"per_game!K174","v":5.7},{"$f":"per_game!L174","v":0.34100000000000003},{"$f":"per_game!M174","v":7.6},{"$f":"per_game!N174","v":9.1},{"$f":"per_game!O174","v":0.83399999999999996},{"$f":"per_game!P174","v":0.8},{"$f":"per_game!Q174","v":3.3},{"$f":"per_game!R174","v":4.0999999999999996},{"$f":"per_game!S174","v":5.4},{"$f":"per_game!T174","v":1.7},{"$f":"per_game!U174","v":0.6},{"$f":"per_game!V174","v":4.0999999999999996},{"$f":"per_game!W174","v":2.2000000000000002},{"$f":"per_game!X174","v":24.1}]
[null,null,{"$f":"Roster!C175","v":"C"},129.98400000000001,{"$f":"per_game!B175 & \"-\" & D176","v":"Chandler Parsons-129.984"},{"$f":"per_game!D175","v":15},{"$f":"per_game!E175","v":15},{"$f":"per_game!F175","v":38.200000000000003},{"$f":"per_game!G175","v":5.9},{"$f":"per_game!H175","v":12.1},{"$f":"per_game!I175","v":0.48399999999999999},{"$f":"per_game!J175","v":2.4},{"$f":"per_game!K175","v":5.6},{"$f":"per_game!L175","v":0.42899999999999999},{"$f":"per_game!M175","v":1.8},{"$f":"per_game!N175","v":2.2999999999999998},{"$f":"per_game!O175","v":0.77100000000000002},{"$f":"per_game!P175","v":1.2},{"$f":"per_game!Q175","v":5.5},{"$f":"per_game!R175","v":6.7},{"$f":"per_game!S175","v":3.5},{"$f":"per_game!T175","v":1.1000000000000001},{"$f":"per_game!U175","v":0.2},{"$f":"per_game!V175","v":2.1},{"$f":"per_game!W175","v":2},{"$f":"per_game!X175","v":15.9}]
[null,null,{"$f":"Roster!C176","v":"G"},110.15899999999996,{"$f":"per_game!B176 & \"-\" & D177","v":"Patrick Patterson-110.159"},{"$f":"per_game!D176","v":15},{"$f":"per_game!E176","v":15},{"$f":"per_game!F176","v":30.1},{"$f":"per_game!G176","v":6.3},{"$f":"per_game!H176","v":12.4},{"$f":"per_game!I176","v":0.51100000000000001},{"$f":"per_game!J176","v":0.8},{"$f":"per_game!K176","v":2.1},{"$f":"per_game!L176","v":0.375},{"$f":"per_game!M176","v":1.1000000000000001},{"$f":"per_game!N176","v":1.5},{"$f":"per_game!O176","v":0.77300000000000002},{"$f":"per_game!P176","v":2},{"$f":"per_game!Q176","v":3.3},{"$f":"per_game!R176","v":5.3},{"$f":"per_game!S176","v":1},{"$f":"per_game!T176","v":0.6},{"$f":"per_game!U176","v":0.6},{"$f":"per_game!V176","v":1.2},{"$f":"per_game!W176","v":2},{"$f":"per_game!X176","v":14.6}]
[null,null,{"$f":"Roster!C177","v":"G"},118.97899999999998,{"$f":"per_game!B177 & \"-\" & D178","v":"Omer Asik-118.979"},{"$f":"per_game!D177","v":16},{"$f":"per_game!E177","v":16},{"$f":"per_game!F177","v":32.799999999999997},{"$f":"per_game!G177","v":4.2},{"$f":"per_game!H177","v":8.4},{"$f":"per_game!I177","v":0.496},{"$f":"per_game!J177","v":0},{"$f":"per_game!K177","v":0},{"$f":"per_game!L177","v":0},{"$f":"per_game!M177","v":2.6},{"$f":"per_game!N177","v":4.5},{"$f":"per_game!O177","v":0.58299999999999996},{"$f":"per_game!P177","v":3.8},{"$f":"per_game!Q177","v":8.5},{"$f":"per_game!R177","v":12.3},{"$f":"per_game!S177","v":1.3},{"$f":"per_game!T177","v":0.8},{"$f":"per_game!U177","v":1.3},{"$f":"per_game!V177","v":3},{"$f":"per_game!W177","v":2.6},{"$f":"per_game!X177","v":11}]
[null,null,{"$f":"Roster!C178","v":"G"},113.57100000000003,{"$f":"per_game!B178 & \"-\" & D179","v":"Jeremy Lin-113.571"},{"$f":"per_game!D178","v":16},{"$f":"per_game!E178","v":16},{"$f":"per_game!F178","v":34.4},{"$f":"per_game!G178","v":4.0999999999999996},{"$f":"per_game!H178","v":10.5},{"$f":"per_game!I178","v":0.39300000000000002},{"$f":"per_game!J178","v":0.7},{"$f":"per_game!K178","v":2.6},{"$f":"per_game!L178","v":0.26200000000000001},{"$f":"per_game!M178","v":1.9},{"$f":"per_game!N178","v":2.4},{"$f":"per_game!O178","v":0.81599999999999995},{"$f":"per_game!P178","v":0.7},{"$f":"per_game!Q178","v":3.7},{"$f":"per_game!R178","v":4.4000000000000004},{"$f":"per_game!S178","v":6.6},{"$f":"per_game!T178","v":2},{"$f":"per_game!U178","v":0.4},{"$f":"per_game!V178","v":2.9},{"$f":"per_game!W178","v":2.2999999999999998},{"$f":"per_game!X178","v":10.9}]
[null,null,{"$f":"Roster!C179","v":"G"},72.037999999999997,{"$f":"per_game!B179 & \"-\" & D180","v":"Marcus Morris-72.038"},{"$f":"per_game!D179","v":16},{"$f":"per_game!E179","v":1},{"$f":"per_game!F179","v":20.7},{"$f":"per_game!G179","v":3.4},{"$f":"per_game!H179","v":7.5},{"$f":"per_game!I179","v":0.45},{"$f":"per_game!J179","v":1.2},{"$f":"per_game!K179","v":3.1},{"$f":"per_game!L179","v":0.38800000000000001},{"$f":"per_game!M179","v":0.8},{"$f":"per_game!N179","v":1.3},{"$f":"per_game!O179","v":0.6},{"$f":"per_game!P179","v":1.6},{"$f":"per_game!Q179","v":2.6},{"$f":"per_game!R179","v":4.2},{"$f":"per_game!S179","v":0.8},{"$f":"per_game!T179","v":0.5},{"$f":"per_game!U179","v":0.5},{"$f":"per_game!V179","v":0.7},{"$f":"per_game!W179","v":2.6},{"$f":"per_game!X179","v":8.6999999999999993}]
[null,null,{"$f":"Roster!C180","v":"F"},71.365999999999971,{"$f":"per_game!B180 & \"-\" & D181","v":"Carlos Delfino-71.366"},{"$f":"per_game!D180","v":9},{"$f":"per_game!E180","v":0},{"$f":"per_game!F180","v":22.9},{"$f":"per_game!G180","v":3},{"$f":"per_game!H180","v":8.1},{"$f":"per_game!I180","v":0.37},{"$f":"per_game!J180","v":2},{"$f":"per_game!K180","v":5.8},{"$f":"per_game!L180","v":0.34599999999999997},{"$f":"per_game!M180","v":0.7},{"$f":"per_game!N180","v":0.9},{"$f":"per_game!O180","v":0.75},{"$f":"per_game!P180","v":0.2},{"$f":"per_game!Q180","v":3.8},{"$f":"per_game!R180","v":4},{"$f":"per_game!S180","v":2},{"$f":"per_game!T180","v":1},{"$f":"per_game!U180","v":0.1},{"$f":"per_game!V180","v":1.1000000000000001},{"$f":"per_game!W180","v":1.2},{"$f":"per_game!X180","v":8.6999999999999993}]
[null,null,{"$f":"Roster!C181","v":"G"},45.678999999999995,{"$f":"per_game!B181 & \"-\" & D182","v":"Greg Smith-45.679"},{"$f":"per_game!D181","v":11},{"$f":"per_game!E181","v":0},{"$f":"per_game!F181","v":12.2},{"$f":"per_game!G181","v":2},{"$f":"per_game!H181","v":3.5},{"$f":"per_game!I181","v":0.57899999999999996},{"$f":"per_game!J181","v":0},{"$f":"per_game!K181","v":0},{"$f":"per_game!L181","v":0},{"$f":"per_game!M181","v":1.8},{"$f":"per_game!N181","v":2.2999999999999998},{"$f":"per_game!O181","v":0.8},{"$f":"per_game!P181","v":1.8},{"$f":"per_game!Q181","v":1.7},{"$f":"per_game!R181","v":3.5},{"$f":"per_game!S181","v":0.7},{"$f":"per_game!T181","v":0.3},{"$f":"per_game!U181","v":0.4},{"$f":"per_game!V181","v":0.3},{"$f":"per_game!W181","v":2.4},{"$f":"per_game!X181","v":5.8}]
[null,null,{"$f":"Roster!C182","v":"G"},53.137,{"$f":"per_game!B182 & \"-\" & D183","v":"Toney Douglas-53.137"},{"$f":"per_game!D182","v":15},{"$f":"per_game!E182","v":0},{"$f":"per_game!F182","v":15.5},{"$f":"per_game!G182","v":1.6},{"$f":"per_game!H182","v":5.3},{"$f":"per_game!I182","v":0.30399999999999999},{"$f":"per_game!J182","v":0.8},{"$f":"per_game!K182","v":2.4},{"$f":"per_game!L182","v":0.33300000000000002},{"$f":"per_game!M182","v":1.7},{"$f":"per_game!N182","v":1.7},{"$f":"per_game!O182","v":1},{"$f":"per_game!P182","v":0.4},{"$f":"per_game!Q182","v":0.8},{"$f":"per_game!R182","v":1.2},{"$f":"per_game!S182","v":1.7},{"$f":"per_game!T182","v":0.9},{"$f":"per_game!U182","v":0},{"$f":"per_game!V182","v":1.5},{"$f":"per_game!W182","v":1.7},{"$f":"per_game!X182","v":5.7}]
[null,null,{"$f":"Roster!C183","v":"F"},44.372,{"$f":"per_game!B183 & \"-\" & D184","v":"Daequan Cook-44.372"},{"$f":"per_game!D183","v":8},{"$f":"per_game!E183","v":1},{"$f":"per_game!F183","v":13.9},{"$f":"per_game!G183","v":2},{"$f":"per_game!H183","v":5.3},{"$f":"per_game!I183","v":0.38100000000000001},{"$f":"per_game!J183","v":1.1000000000000001},{"$f":"per_game!K183","v":2.9},{"$f":"per_game!L183","v":0.39100000000000001},{"$f":"per_game!M183","v":0.1},{"$f":"per_game!N183","v":0.3},{"$f":"per_game!O183","v":0.5},{"$f":"per_game!P183","v":0.5},{"$f":"per_game!Q183","v":1.1000000000000001},{"$f":"per_game!R183","v":1.6},{"$f":"per_game!S183","v":1},{"$f":"per_game!T183","v":0.5},{"$f":"per_game!U183","v":0.3},{"$f":"per_game!V183","v":0.4},{"$f":"per_game!W183","v":1.4},{"$f":"per_game!X183","v":5.3}]
[null,null,{"$f":"Roster!C184","v":"F"},35.032999999999987,{"$f":"per_game!B184 & \"-\" & D185","v":"Terrence Jones-35.033"},{"$f":"per_game!D184","v":7},{"$f":"per_game!E184","v":0},{"$f":"per_game!F184","v":10.4},{"$f":"per_game!G184","v":1.3},{"$f":"per_game!H184","v":3.9},{"$f":"per_game!I184","v":0.33300000000000002},{"$f":"per_game!J184","v":0.1},{"$f":"per_game!K184","v":0.7},{"$f":"per_game!L184","v":0.2},{"$f":"per_game!M184","v":0.9},{"$f":"per_game!N184","v":0.9},{"$f":"per_game!O184","v":1},{"$f":"per_game!P184","v":0.9},{"$f":"per_game!Q184","v":1.1000000000000001},{"$f":"per_game!R184","v":2},{"$f":"per_game!S184","v":0.4},{"$f":"per_game!T184","v":0.4},{"$f":"per_game!U184","v":0.6},{"$f":"per_game!V184","v":0.3},{"$f":"per_game!W184","v":0.4},{"$f":"per_game!X184","v":3.6}]
[null,null,{"$f":"Roster!C185","v":"F"},28.391000000000005,{"$f":"per_game!B185 & \"-\" & D186","v":"Cole Aldrich-28.391"},{"$f":"per_game!D185","v":8},{"$f":"per_game!E185","v":0},{"$f":"per_game!F185","v":8.6},{"$f":"per_game!G185","v":1.4},{"$f":"per_game!H185","v":2.6},{"$f":"per_game!I185","v":0.52400000000000002},{"$f":"per_game!J185","v":0},{"$f":"per_game!K185","v":0},{"$f":"per_game!L185","v":0},{"$f":"per_game!M185","v":0.3},{"$f":"per_game!N185","v":0.4},{"$f":"per_game!O185","v":0.66700000000000004},{"$f":"per_game!P185","v":0.8},{"$f":"per_game!Q185","v":1.4},{"$f":"per_game!R185","v":2.1},{"$f":"per_game!S185","v":0.3},{"$f":"per_game!T185","v":0.1},{"$f":"per_game!U185","v":0.3},{"$f":"per_game!V185","v":0.3},{"$f":"per_game!W185","v":1.8},{"$f":"per_game!X185","v":3}]
[null,null,{"$f":"Roster!C186","v":"F"},12,{"$f":"per_game!B186 & \"-\" & D187","v":"Scott Machado-12"},{"$f":"per_game!D186","v":1},{"$f":"per_game!E186","v":0},{"$f":"per_game!F186","v":3},{"$f":"per_game!G186","v":0},{"$f":"per_game!H186","v":0},{"$f":"per_game!I186","v":0},{"$f":"per_game!J186","v":0},{"$f":"per_game!K186","v":0},{"$f":"per_game!L186","v":0},{"$f":"per_game!M186","v":2},{"$f":"per_game!N186","v":2},{"$f":"per_game!O186","v":1},{"$f":"per_game!P186","v":0},{"$f":"per_game!Q186","v":0},{"$f":"per_game!R186","v":0},{"$f":"per_game!S186","v":1},{"$f":"per_game!T186","v":0},{"$f":"per_game!U186","v":0},{"$f":"per_game!V186","v":0},{"$f":"per_game!W186","v":0},{"$f":"per_game!X186","v":2}]
[null,null,{"$f":"Roster!C187","v":"C"},9.9000000000000021,null,{"$f":"per_game!D187","v":3},{"$f":"per_game!E187","v":0},{"$f":"per_game!F187","v":3},{"$f":"per_game!G187","v":0.3},{"$f":"per_game!H187","v":0.7},{"$f":"per_game!I187","v":0.5},{"$f":"per_game!J187","v":0},{"$f":"per_game!K187","v":0},{"$f":"per_game!L187","v":0},{"$f":"per_game!M187","v":0.3},{"$f":"per_game!N187","v":0.7},{"$f":"per_game!O187","v":0.5},{"$f":"per_game!P187","v":0},{"$f":"per_game!Q187","v":0.3},{"$f":"per_game!R187","v":0.3},{"$f":"per_game!S187","v":0},{"$f":"per_game!T187","v":0},{"$f":"per_game!U187","v":0},{"$f":"per_game!V187","v":0},{"$f":"per_game!W187","v":0.7},{"$f":"per_game!X187","v":1}]
[null,null,{"$f":"Roster!C188","v":0},0,null,{"$f":"per_game!D188","v":0},{"$f":"per_game!E188","v":0},{"$f":"per_game!F188","v":0},{"$f":"per_game!G188","v":0},{"$f":"per_game!H188","v":0},{"$f":"per_game!I188","v":0},{"$f":"per_game!J188","v":0},{"$f":"per_game!K188","v":0},{"$f":"per_game!L188","v":0},{"$f":"per_game!M188","v":0},{"$f":"per_game!N188","v":0},{"$f":"per_game!O188","v":0},{"$f":"per_game!P188","v":0},{"$f":"per_game!Q188","v":0},{"$f":"per_game!R188","v":0},{"$f":"per_game!S188","v":0},{"$f":"per_game!T188","v":0},{"$f":"per_game!U188","v":0},{"$f":"per_game!V188","v":0},{"$f":"per_game!W188","v":0},{"$f":"per_game!X188","v":0}]
[null,null,{"$f":"Roster!C189","v":0},null,null,{"$f":"per_game!D189","v":0},{"$f":"per_game!E189","v":0},{"$f":"per_game!F189","v":0},{"$f":"per_game!G189","v":0},{"$f":"per_game!H189","v":0},{"$f":"per_game!I189","v":0},{"$f":"per_game!J189","v":0},{"$f":"per_game!K189","v":0},{"$f":"per_game!L189","v":0},{"$f":"per_game!M189","v":0},{"$f":"per_game!N189","v":0},{"$f":"per_game!O189","v":0},{"$f":"per_game!P189","v":0},{"$f":"per_game!Q189","v":0},{"$f":"per_game!R189","v":0},{"$f":"per_game!S189","v":0},{"$f":"per_game!T189","v":0},{"$f":"per_game!U189","v":0},{"$f":"per_game!V189","v":0},{"$f":"per_game!W189","v":0},{"$f":"per_game!X189","v":0}]
[null,null,{"$f":"Roster!C190","v":"Pos"},null,{"$f":"per_game!B190 & \"-\" & D191","v":"Player-"},{"$f":"per_game!D190","v":"G"},{"$f":"per_game!E190","v":"GS"},{"$f":"per_game!F190","v":"MP"},{"$f":"per_game!G190","v":"FG"},{"$f":"per_game!H190","v":"FGA"},{"$f":"per_game!I190","v":"FG%"},{"$f":"per_game!J190","v":"3P"},{"$f":"per_game!K190","v":"3PA"},{"$f":"per_game!L190","v":"3P%"},{"$f":"per_game!M190","v":"FT"},{"$f":"per_game!N190","v":"FTA"},{"$f":"per_game!O190","v":"FT%"},{"$f":"per_game!P190","v":"ORB"},{"$f":"per_game!Q190","v":"DRB"},{"$f":"per_game!R190","v":"TRB"},{"$f":"per_game!S190","v":"AST"},{"$f":"per_game!T190","v":"STL"},{"$f":"per_game!U190","v":"BLK"},{"$f":"per_game!V190","v":"TOV"},{"$f":"per_game!W190","v":"PF"},{"$f":"per_game!X190","v":"PTS"}]
[null,null,{"$f":"Roster!C191","v":"G"},134.44900000000001,{"$f":"per_game!B191 & \"-\" & D192","v":"David West-134.449"},{"$f":"per_game!D191","v":17},{"$f":"per_game!E191","v":17},{"$f":"per_game!F191","v":34.299999999999997},{"$f":"per_game!G191","v":7.2},{"$f":"per_game!H191","v":14.7},{"$f":"per_game!I191","v":0.49199999999999999},{"$f":"per_game!J191","v":0},{"$f":"per_game!K191","v":0.2},{"$f":"per_game!L191","v":0},{"$f":"per_game!M191","v":3.3},{"$f":"per_game!N191","v":4.4000000000000004},{"$f":"per_game!O191","v":0.75700000000000001},{"$f":"per_game!P191","v":2},{"$f":"per_game!Q191","v":6.3},{"$f":"per_game!R191","v":8.3000000000000007},{"$f":"per_game!S191","v":2.5},{"$f":"per_game!T191","v":0.6},{"$f":"per_game!U191","v":1.2},{"$f":"per_game!V191","v":1.8},{"$f":"per_game!W191","v":1.8},{"$f":"per_game!X191","v":17.8}]
[null,null,{"$f":"Roster!C192","v":"F"},126.39100000000002,{"$f":"per_game!B192 & \"-\" & D193","v":"George Hill-126.391"},{"$f":"per_game!D192","v":17},{"$f":"per_game!E192","v":17},{"$f":"per_game!F192","v":35.200000000000003},{"$f":"per_game!G192","v":5.2},{"$f":"per_game!H192","v":12.4},{"$f":"per_game!I192","v":0.42399999999999999},{"$f":"per_game!J192","v":1.5},{"$f":"per_game!K192","v":4.5},{"$f":"per_game!L192","v":0.32500000000000001},{"$f":"per_game!M192","v":2.8},{"$f":"per_game!N192","v":3.4},{"$f":"per_game!O192","v":0.84199999999999997},{"$f":"per_game!P192","v":0.6},{"$f":"per_game!Q192","v":3.4},{"$f":"per_game!R192","v":4.0999999999999996},{"$f":"per_game!S192","v":5.3},{"$f":"per_game!T192","v":0.9},{"$f":"per_game!U192","v":0.4},{"$f":"per_game!V192","v":1.8},{"$f":"per_game!W192","v":1.9},{"$f":"per_game!X192","v":14.8}]
[null,null,{"$f":"Roster!C193","v":"F"},125.44000000000003,{"$f":"per_game!B193 & \"-\" & D194","v":"Paul George-125.44"},{"$f":"per_game!D193","v":17},{"$f":"per_game!E193","v":17},{"$f":"per_game!F193","v":34.700000000000003},{"$f":"per_game!G193","v":5},{"$f":"per_game!H193","v":13},{"$f":"per_game!I193","v":0.38500000000000001},{"$f":"per_game!J193","v":1.9},{"$f":"per_game!K193","v":5.3},{"$f":"per_game!L193","v":0.36699999999999999},{"$f":"per_game!M193","v":1.5},{"$f":"per_game!N193","v":1.9},{"$f":"per_game!O193","v":0.78800000000000003},{"$f":"per_game!P193","v":0.9},{"$f":"per_game!Q193","v":5.6},{"$f":"per_game!R193","v":6.5},{"$f":"per_game!S193","v":3.4},{"$f":"per_game!T193","v":1.2},{"$f":"per_game!U193","v":0.6},{"$f":"per_game!V193","v":2.5},{"$f":"per_game!W193","v":2.6},{"$f":"per_game!X193","v":13.5}]
[null,null,{"$f":"Roster!C194","v":"G"},108.56500000000001,{"$f":"per_game!B194 & \"-\" & D195","v":"Roy Hibbert-108.565"},{"$f":"per_game!D194","v":17},{"$f":"per_game!E194","v":17},{"$f":"per_game!F194","v":29.1},{"$f":"per_game!G194","v":4.2},{"$f":"per_game!H194","v":10.7},{"$f":"per_game!I194","v":0.39},{"$f":"per_game!J194","v":0},{"$f":"per_game!K194","v":0.1},{"$f":"per_game!L194","v":0},{"$f":"per_game!M194","v":1.4},{"$f":"per_game!N194","v":2.4},{"$f":"per_game!O194","v":0.57499999999999996},{"$f":"per_game!P194","v":4},{"$f":"per_game!Q194","v":4.2},{"$f":"per_game!R194","v":8.1999999999999993},{"$f":"per_game!S194","v":1.4},{"$f":"per_game!T194","v":0.7},{"$f":"per_game!U194","v":3.1},{"$f":"per_game!V194","v":1.9},{"$f":"per_game!W194","v":3.7},{"$f":"per_game!X194","v":9.6999999999999993}]
[null,null,{"$f":"Roster!C195","v":"F"},75.978999999999999,{"$f":"per_game!B195 & \"-\" & D196","v":"Gerald Green-75.979"},{"$f":"per_game!D195","v":17},{"$f":"per_game!E195","v":3},{"$f":"per_game!F195","v":22.8},{"$f":"per_game!G195","v":2.8},{"$f":"per_game!H195","v":7.5},{"$f":"per_game!I195","v":0.375},{"$f":"per_game!J195","v":1.1000000000000001},{"$f":"per_game!K195","v":3.1},{"$f":"per_game!L195","v":0.36499999999999999},{"$f":"per_game!M195","v":1},{"$f":"per_game!N195","v":1.4},{"$f":"per_game!O195","v":0.73899999999999999},{"$f":"per_game!P195","v":1},{"$f":"per_game!Q195","v":3.1},{"$f":"per_game!R195","v":4.0999999999999996},{"$f":"per_game!S195","v":0.5},{"$f":"per_game!T195","v":0.2},{"$f":"per_game!U195","v":0.4},{"$f":"per_game!V195","v":1.1000000000000001},{"$f":"per_game!W195","v":1.2},{"$f":"per_game!X195","v":7.8}]
[null,null,{"$f":"Roster!C196","v":"C"},{"$f":"F197*$B$21+G197*$B$20+H197*$B$19+I197*$B$13+J197*$B$14+K197*$B$6+L197*$B$17+M197*$B$18+N197*$B$8+O197*$B$15+P197*$B$16+Q197*$B$7+R197*$B$10+S197*$B$11+T197*$B$2+U197*$B$3+V197*$B$5+W197*$B$4+X197*$B$9+Y197*$B$12+Z197*$B$1","v":80.641000000000005},{"$f":"per_game!B196 & \"-\" & D197","v":"Lance Stephenson-80.641"},{"$f":"per_game!D196","v":17},{"$f":"per_game!E196","v":11},{"$f":"per_game!F196","v":24.9},{"$f":"per_game!G196","v":2.9},{"$f":"per_game!H196","v":6.1},{"$f":"per_game!I196","v":0.48099999999999998},{"$f":"per_game!J196","v":0.9},{"$f":"per_game!K196","v":2.2999999999999998},{"$f":"per_game!L196","v":0.41},{"$f":"per_game!M196","v":0.4},{"$f":"per_game!N196","v":0.5},{"$f":"per_game!O196","v":0.75},{"$f":"per_game!P196","v":0.2},{"$f":"per_game!Q196","v":2.7},{"$f":"per_game!R196","v":2.9},{"$f":"per_game!S196","v":2.5},{"$f":"per_game!T196","v":0.6},{"$f":"per_game!U196","v":0.1},{"$f":"per_game!V196","v":1.5},{"$f":"per_game!W196","v":1.7},{"$f":"per_game!X196","v":7.2}]
[null,null,{"$f":"Roster!C197","v":"G"},63.304000000000009,{"$f":"per_game!B197 & \"-\" & D198","v":"Tyler Hansbrough-63.304"},{"$f":"per_game!D197","v":17},{"$f":"per_game!E197","v":0},{"$f":"per_game!F197","v":17.399999999999999},{"$f":"per_game!G197","v":1.6},{"$f":"per_game!H197","v":4.3},{"$f":"per_game!I197","v":0.38400000000000001},{"$f":"per_game!J197","v":0},{"$f":"per_game!K197","v":0.1},{"$f":"per_game!L197","v":0},{"$f":"per_game!M197","v":3.2},{"$f":"per_game!N197","v":4.4000000000000004},{"$f":"per_game!O197","v":0.72},{"$f":"per_game!P197","v":1.7},{"$f":"per_game!Q197","v":3},{"$f":"per_game!R197","v":4.7},{"$f":"per_game!S197","v":0.2},{"$f":"per_game!T197","v":0.4},{"$f":"per_game!U197","v":0.2},{"$f":"per_game!V197","v":0.8},{"$f":"per_game!W197","v":1.7},{"$f":"per_game!X197","v":6.5}]
[null,null,{"$f":"Roster!C198","v":"G"},58.286000000000001,{"$f":"per_game!B198 & \"-\" & D199","v":"Sam Young-58.286"},{"$f":"per_game!D198","v":15},{"$f":"per_game!E198","v":3},{"$f":"per_game!F198","v":17.100000000000001},{"$f":"per_game!G198","v":2},{"$f":"per_game!H198","v":4.9000000000000004},{"$f":"per_game!I198","v":0.40500000000000003},{"$f":"per_game!J198","v":0.6},{"$f":"per_game!K198","v":2.1},{"$f":"per_game!L198","v":0.28100000000000003},{"$f":"per_game!M198","v":0.4},{"$f":"per_game!N198","v":1},{"$f":"per_game!O198","v":0.4},{"$f":"per_game!P198","v":0.7},{"$f":"per_game!Q198","v":2.8},{"$f":"per_game!R198","v":3.5},{"$f":"per_game!S198","v":0.9},{"$f":"per_game!T198","v":0.5},{"$f":"per_game!U198","v":0.1},{"$f":"per_game!V198","v":1.1000000000000001},{"$f":"per_game!W198","v":1.3},{"$f":"per_game!X198","v":5}]
[null,null,{"$f":"Roster!C199","v":"C"},52.660000000000011,{"$f":"per_game!B199 & \"-\" & D200","v":"Ian Mahinmi-52.66"},{"$f":"per_game!D199","v":17},{"$f":"per_game!E199","v":0},{"$f":"per_game!F199","v":14.8},{"$f":"per_game!G199","v":1.4},{"$f":"per_game!H199","v":3.6},{"$f":"per_game!I199","v":0.39300000000000002},{"$f":"per_game!J199","v":0},{"$f":"per_game!K199","v":0.1},{"$f":"per_game!L199","v":0},{"$f":"per_game!M199","v":1.9},{"$f":"per_game!N199","v":2.8},{"$f":"per_game!O199","v":0.66700000000000004},{"$f":"per_game!P199","v":1.4},{"$f":"per_game!Q199","v":2.2000000000000002},{"$f":"per_game!R199","v":3.6},{"$f":"per_game!S199","v":0.2},{"$f":"per_game!T199","v":0.3},{"$f":"per_game!U199","v":1.1000000000000001},{"$f":"per_game!V199","v":1.2},{"$f":"per_game!W199","v":2.2999999999999998},{"$f":"per_game!X199","v":4.7}]
[null,null,{"$f":"Roster!C200","v":"F"},21.214000000000002,{"$f":"per_game!B200 & \"-\" & D201","v":"Jeff Pendergraph-21.214"},{"$f":"per_game!D200","v":3},{"$f":"per_game!E200","v":0},{"$f":"per_game!F200","v":4},{"$f":"per_game!G200","v":1.7},{"$f":"per_game!H200","v":2.2999999999999998},{"$f":"per_game!I200","v":0.71399999999999997},{"$f":"per_game!J200","v":0},{"$f":"per_game!K200","v":0},{"$f":"per_game!L200","v":0},{"$f":"per_game!M200","v":0.3},{"$f":"per_game!N200","v":0.3},{"$f":"per_game!O200","v":1},{"$f":"per_game!P200","v":1},{"$f":"per_game!Q200","v":1.3},{"$f":"per_game!R200","v":2.2999999999999998},{"$f":"per_game!S200","v":0.3},{"$f":"per_game!T200","v":0},{"$f":"per_game!U200","v":0.3},{"$f":"per_game!V200","v":0.7},{"$f":"per_game!W200","v":0.3},{"$f":"per_game!X200","v":3.7}]
[null,null,{"$f":"Roster!C201","v":"F"},48.70900000000001,{"$f":"per_game!B201 & \"-\" & D202","v":"D.J. Augustin-48.709"},{"$f":"per_game!D201","v":17},{"$f":"per_game!E201","v":0},{"$f":"per_game!F201","v":13.4},{"$f":"per_game!G201","v":1.1000000000000001},{"$f":"per_game!H201","v":4.0999999999999996},{"$f":"per_game!I201","v":0.27100000000000002},{"$f":"per_game!J201","v":0.6},{"$f":"per_game!K201","v":2.5},{"$f":"per_game!L201","v":0.23799999999999999},{"$f":"per_game!M201","v":0.7},{"$f":"per_game!N201","v":0.9},{"$f":"per_game!O201","v":0.8},{"$f":"per_game!P201","v":0.1},{"$f":"per_game!Q201","v":1},{"$f":"per_game!R201","v":1.1000000000000001},{"$f":"per_game!S201","v":2.4},{"$f":"per_game!T201","v":0.6},{"$f":"per_game!U201","v":0.1},{"$f":"per_game!V201","v":0.9},{"$f":"per_game!W201","v":0.8},{"$f":"per_game!X201","v":3.5}]
[null,null,{"$f":"Roster!C202","v":"G"},11.767000000000005,{"$f":"per_game!B202 & \"-\" & D203","v":"Ben Hansbrough-11.767"},{"$f":"per_game!D202","v":3},{"$f":"per_game!E202","v":0},{"$f":"per_game!F202","v":4.3},{"$f":"per_game!G202","v":0.7},{"$f":"per_game!H202","v":1},{"$f":"per_game!I202","v":0.66700000000000004},{"$f":"per_game!J202","v":0},{"$f":"per_game!K202","v":0.3},{"$f":"per_game!L202","v":0},{"$f":"per_game!M202","v":0},{"$f":"per_game!N202","v":0},{"$f":"per_game!O202","v":0},{"$f":"per_game!P202","v":0},{"$f":"per_game!Q202","v":0.3},{"$f":"per_game!R202","v":0.3},{"$f":"per_game!S202","v":1.3},{"$f":"per_game!T202","v":0.3},{"$f":"per_game!U202","v":0},{"$f":"per_game!V202","v":1},{"$f":"per_game!W202","v":0.7},{"$f":"per_game!X202","v":1.3}]
[null,null,{"$f":"Roster!C203","v":"F"},15.900000000000002,{"$f":"per_game!B203 & \"-\" & D204","v":"Miles Plumlee-15.9"},{"$f":"per_game!D203","v":4},{"$f":"per_game!E203","v":0},{"$f":"per_game!F203","v":4},{"$f":"per_game!G203","v":0.3},{"$f":"per_game!H203","v":1.3},{"$f":"per_game!I203","v":0.2},{"$f":"per_game!J203","v":0},{"$f":"per_game!K203","v":0},{"$f":"per_game!L203","v":0},{"$f":"per_game!M203","v":0.5},{"$f":"per_game!N203","v":0.5},{"$f":"per_game!O203","v":1},{"$f":"per_game!P203","v":0.8},{"$f":"per_game!Q203","v":0.5},{"$f":"per_game!R203","v":1.3},{"$f":"per_game!S203","v":0.3},{"$f":"per_game!T203","v":0},{"$f":"per_game!U203","v":0.5},{"$f":"per_game!V203","v":0},{"$f":"per_game!W203","v":0.3},{"$f":"per_game!X203","v":1}]
[null,null,{"$f":"Roster!C204","v":"F"},5.5,null,{"$f":"per_game!D204","v":2},{"$f":"per_game!E204","v":0},{"$f":"per_game!F204","v":3},{"$f":"per_game!G204","v":0},{"$f":"per_game!H204","v":0.5},{"$f":"per_game!I204","v":0},{"$f":"per_game!J204","v":0},{"$f":"per_game!K204","v":0},{"$f":"per_game!L204","v":0},{"$f":"per_game!M204","v":0},{"$f":"per_game!N204","v":0},{"$f":"per_game!O204","v":0},{"$f":"per_game!P204","v":0},{"$f":"per_game!Q204","v":0.5},{"$f":"per_game!R204","v":0.5},{"$f":"per_game!S204","v":0},{"$f":"per_game!T204","v":0},{"$f":"per_game!U204","v":0},{"$f":"per_game!V204","v":1},{"$f":"per_game!W204","v":0},{"$f":"per_game!X204","v":0}]
[null,null,{"$f":"Roster!C205","v":0},0,null,{"$f":"per_game!D205","v":0},{"$f":"per_game!E205","v":0},{"$f":"per_game!F205","v":0},{"$f":"per_game!G205","v":0},{"$f":"per_game!H205","v":0},{"$f":"per_game!I205","v":0},{"$f":"per_game!J205","v":0},{"$f":"per_game!K205","v":0},{"$f":"per_game!L205","v":0},{"$f":"per_game!M205","v":0},{"$f":"per_game!N205","v":0},{"$f":"per_game!O205","v":0},{"$f":"per_game!P205","v":0},{"$f":"per_game!Q205","v":0},{"$f":"per_game!R205","v":0},{"$f":"per_game!S205","v":0},{"$f":"per_game!T205","v":0},{"$f":"per_game!U205","v":0},{"$f":"per_game!V205","v":0},{"$f":"per_game!W205","v":0},{"$f":"per_game!X205","v":0}]
[null,null,{"$f":"Roster!C206","v":0},null,null,{"$f":"per_game!D206","v":0},{"$f":"per_game!E206","v":0},{"$f":"per_game!F206","v":0},{"$f":"per_game!G206","v":0},{"$f":"per_game!H206","v":0},{"$f":"per_game!I206","v":0},{"$f":"per_game!J206","v":0},{"$f":"per_game!K206","v":0},{"$f":"per_game!L206","v":0},{"$f":"per_game!M206","v":0},{"$f":"per_game!N206","v":0},{"$f":"per_game!O206","v":0},{"$f":"per_game!P206","v":0},{"$f":"per_game!Q206","v":0},{"$f":"per_game!R206","v":0},{"$f":"per_game!S206","v":0},{"$f":"per_game!T206","v":0},{"$f":"per_game!U206","v":0},{"$f":"per_game!V206","v":0},{"$f":"per_game!W206","v":0},{"$f":"per_game!X206","v":0}]
[null,null,{"$f":"Roster!C207","v":"Pos"},null,{"$f":"per_game!B207 & \"-\" & D208","v":"Player-"},{"$f":"per_game!D207","v":"G"},{"$f":"per_game!E207","v":"GS"},{"$f":"per_game!F207","v":"MP"},{"$f":"per_game!G207","v":"FG"},{"$f":"per_game!H207","v":"FGA"},{"$f":"per_game!I207","v":"FG%"},{"$f":"per_game!J207","v":"3P"},{"$f":"per_game!K207","v":"3PA"},{"$f":"per_game!L207","v":"3P%"},{"$f":"per_game!M207","v":"FT"},{"$f":"per_game!N207","v":"FTA"},{"$f":"per_game!O207","v":"FT%"},{"$f":"per_game!P207","v":"ORB"},{"$f":"per_game!Q207","v":"DRB"},{"$f":"per_game!R207","v":"TRB"},{"$f":"per_game!S207","v":"AST"},{"$f":"per_game!T207","v":"STL"},{"$f":"per_game!U207","v":"BLK"},{"$f":"per_game!V207","v":"TOV"},{"$f":"per_game!W207","v":"PF"},{"$f":"per_game!X207","v":"PTS"}]
[null,null,{"$f":"Roster!C208","v":"F"},103.28799999999995,{"$f":"per_game!B208 & \"-\" & D209","v":"Jamal Crawford-103.288"},{"$f":"per_game!D208","v":17},{"$f":"per_game!E208","v":0},{"$f":"per_game!F208","v":28.9},{"$f":"per_game!G208","v":5.8},{"$f":"per_game!H208","v":12.9},{"$f":"per_game!I208","v":0.44500000000000001},{"$f":"per_game!J208","v":2.1},{"$f":"per_game!K208","v":5.2},{"$f":"per_game!L208","v":0.39800000000000002},{"$f":"per_game!M208","v":4.0999999999999996},{"$f":"per_game!N208","v":4.3},{"$f":"per_game!O208","v":0.94499999999999995},{"$f":"per_game!P208","v":0.1},{"$f":"per_game!Q208","v":1.7},{"$f":"per_game!R208","v":1.8},{"$f":"per_game!S208","v":1.7},{"$f":"per_game!T208","v":1.1000000000000001},{"$f":"per_game!U208","v":0.1},{"$f":"per_game!V208","v":1.8},{"$f":"per_game!W208","v":1.1000000000000001},{"$f":"per_game!X208","v":17.600000000000001}]
[null,null,{"$f":"Roster!C209","v":"G"},132.23699999999999,{"$f":"per_game!B209 & \"-\" & D210","v":"Blake Griffin-132.237"},{"$f":"per_game!D209","v":17},{"$f":"per_game!E209","v":17},{"$f":"per_game!F209","v":33.200000000000003},{"$f":"per_game!G209","v":7.2},{"$f":"per_game!H209","v":14},{"$f":"per_game!I209","v":0.51300000000000001},{"$f":"per_game!J209","v":0},{"$f":"per_game!K209","v":0.2},{"$f":"per_game!L209","v":0},{"$f":"per_game!M209","v":3.1},{"$f":"per_game!N209","v":5},{"$f":"per_game!O209","v":0.624},{"$f":"per_game!P209","v":1.6},{"$f":"per_game!Q209","v":7.3},{"$f":"per_game!R209","v":8.9},{"$f":"per_game!S209","v":3.1},{"$f":"per_game!T209","v":1.2},{"$f":"per_game!U209","v":0.6},{"$f":"per_game!V209","v":2.6},{"$f":"per_game!W209","v":3.2},{"$f":"per_game!X209","v":17.5}]
[null,null,{"$f":"Roster!C210","v":"G"},129.995,{"$f":"per_game!B210 & \"-\" & D211","v":"Chris Paul-129.995"},{"$f":"per_game!D210","v":17},{"$f":"per_game!E210","v":17},{"$f":"per_game!F210","v":34.200000000000003},{"$f":"per_game!G210","v":5.7},{"$f":"per_game!H210","v":11.8},{"$f":"per_game!I210","v":0.48299999999999998},{"$f":"per_game!J210","v":0.9},{"$f":"per_game!K210","v":2.9},{"$f":"per_game!L210","v":0.32},{"$f":"per_game!M210","v":3.9},{"$f":"per_game!N210","v":4.4000000000000004},{"$f":"per_game!O210","v":0.89200000000000002},{"$f":"per_game!P210","v":0.6},{"$f":"per_game!Q210","v":3.1},{"$f":"per_game!R210","v":3.6},{"$f":"per_game!S210","v":9.3000000000000007},{"$f":"per_game!T210","v":2.6},{"$f":"per_game!U210","v":0},{"$f":"per_game!V210","v":2.2999999999999998},{"$f":"per_game!W210","v":2.6},{"$f":"per_game!X210","v":16.2}]
[null,null,{"$f":"Roster!C211","v":"F"},99.742999999999995,{"$f":"per_game!B211 & \"-\" & D212","v":"DeAndre Jordan-99.743"},{"$f":"per_game!D211","v":17},{"$f":"per_game!E211","v":17},{"$f":"per_game!F211","v":26},{"$f":"per_game!G211","v":4.4000000000000004},{"$f":"per_game!H211","v":7.4},{"$f":"per_game!I211","v":0.59199999999999997},{"$f":"per_game!J211","v":0},{"$f":"per_game!K211","v":0},{"$f":"per_game!L211","v":0},{"$f":"per_game!M211","v":1.4},{"$f":"per_game!N211","v":3},{"$f":"per_game!O211","v":0.45100000000000001},{"$f":"per_game!P211","v":2.8},{"$f":"per_game!Q211","v":4},{"$f":"per_game!R211","v":6.8},{"$f":"per_game!S211","v":0.3},{"$f":"per_game!T211","v":0.8},{"$f":"per_game!U211","v":2},{"$f":"per_game!V211","v":1.5},{"$f":"per_game!W211","v":2.8},{"$f":"per_game!X211","v":10.1}]
[null,null,{"$f":"Roster!C212","v":"G"},70.944000000000003,{"$f":"per_game!B212 & \"-\" & D213","v":"Eric Bledsoe-70.944"},{"$f":"per_game!D212","v":17},{"$f":"per_game!E212","v":0},{"$f":"per_game!F212","v":18.5},{"$f":"per_game!G212","v":3.9},{"$f":"per_game!H212","v":7.8},{"$f":"per_game!I212","v":0.496},{"$f":"per_game!J212","v":0.4},{"$f":"per_game!K212","v":1},{"$f":"per_game!L212","v":0.35299999999999998},{"$f":"per_game!M212","v":1.8},{"$f":"per_game!N212","v":2.2999999999999998},{"$f":"per_game!O212","v":0.79500000000000004},{"$f":"per_game!P212","v":1.2},{"$f":"per_game!Q212","v":1.5},{"$f":"per_game!R212","v":2.7},{"$f":"per_game!S212","v":2.6},{"$f":"per_game!T212","v":1.4},{"$f":"per_game!U212","v":0.6},{"$f":"per_game!V212","v":1.8},{"$f":"per_game!W212","v":1.5},{"$f":"per_game!X212","v":9.9}]
[null,null,{"$f":"Roster!C213","v":"G"},91.158000000000001,{"$f":"per_game!B213 & \"-\" & D214","v":"Caron Butler-91.158"},{"$f":"per_game!D213","v":16},{"$f":"per_game!E213","v":16},{"$f":"per_game!F213","v":24.6},{"$f":"per_game!G213","v":3.8},{"$f":"per_game!H213","v":8.9},{"$f":"per_game!I213","v":0.42},{"$f":"per_game!J213","v":1.8},{"$f":"per_game!K213","v":4},{"$f":"per_game!L213","v":0.438},{"$f":"per_game!M213","v":0.4},{"$f":"per_game!N213","v":0.6},{"$f":"per_game!O213","v":0.7},{"$f":"per_game!P213","v":0.5},{"$f":"per_game!Q213","v":1.9},{"$f":"per_game!R213","v":2.4},{"$f":"per_game!S213","v":1},{"$f":"per_game!T213","v":0.5},{"$f":"per_game!U213","v":0.3},{"$f":"per_game!V213","v":0.9},{"$f":"per_game!W213","v":1.9},{"$f":"per_game!X213","v":9.6999999999999993}]
[null,null,{"$f":"Roster!C214","v":"F"},78.942999999999984,{"$f":"per_game!B214 & \"-\" & D215","v":"Matt Barnes-78.943"},{"$f":"per_game!D214","v":16},{"$f":"per_game!E214","v":1},{"$f":"per_game!F214","v":25.4},{"$f":"per_game!G214","v":3.1},{"$f":"per_game!H214","v":7.1},{"$f":"per_game!I214","v":0.442},{"$f":"per_game!J214","v":0.8},{"$f":"per_game!K214","v":3.1},{"$f":"per_game!L214","v":0.26},{"$f":"per_game!M214","v":1.3},{"$f":"per_game!N214","v":1.7},{"$f":"per_game!O214","v":0.74099999999999999},{"$f":"per_game!P214","v":1.5},{"$f":"per_game!Q214","v":3.8},{"$f":"per_game!R214","v":5.3},{"$f":"per_game!S214","v":1.2},{"$f":"per_game!T214","v":1.3},{"$f":"per_game!U214","v":0.8},{"$f":"per_game!V214","v":1.3},{"$f":"per_game!W214","v":2.9},{"$f":"per_game!X214","v":8.3000000000000007}]
[null,null,{"$f":"Roster!C215","v":"C"},55.286000000000001,{"$f":"per_game!B215 & \"-\" & D216","v":"Chauncey Billups-55.286"},{"$f":"per_game!D215","v":3},{"$f":"per_game!E215","v":3},{"$f":"per_game!F215","v":20},{"$f":"per_game!G215","v":1.7},{"$f":"per_game!H215","v":5},{"$f":"per_game!I215","v":0.33300000000000002},{"$f":"per_game!J215","v":1.3},{"$f":"per_game!K215","v":3.7},{"$f":"per_game!L215","v":0.36399999999999999},{"$f":"per_game!M215","v":2.7},{"$f":"per_game!N215","v":3},{"$f":"per_game!O215","v":0.88900000000000001},{"$f":"per_game!P215","v":0},{"$f":"per_game!Q215","v":1},{"$f":"per_game!R215","v":1},{"$f":"per_game!S215","v":2.2999999999999998},{"$f":"per_game!T215","v":0.7},{"$f":"per_game!U215","v":0},{"$f":"per_game!V215","v":1.3},{"$f":"per_game!W215","v":0.7},{"$f":"per_game!X215","v":7.3}]
[null,null,{"$f":"Roster!C216","v":"C"},68.587000000000003,{"$f":"per_game!B216 & \"-\" & D217","v":"Willie Green-68.587"},{"$f":"per_game!D216","v":14},{"$f":"per_game!E216","v":14},{"$f":"per_game!F216","v":18.399999999999999},{"$f":"per_game!G216","v":2.5},{"$f":"per_game!H216","v":5.2},{"$f":"per_game!I216","v":0.47899999999999998},{"$f":"per_game!J216","v":1.1000000000000001},{"$f":"per_game!K216","v":2.4},{"$f":"per_game!L216","v":0.441},{"$f":"per_game!M216","v":0.3},{"$f":"per_game!N216","v":0.4},{"$f":"per_game!O216","v":0.66700000000000004},{"$f":"per_game!P216","v":0.2},{"$f":"per_game!Q216","v":1.1000000000000001},{"$f":"per_game!R216","v":1.4},{"$f":"per_game!S216","v":1.1000000000000001},{"$f":"per_game!T216","v":0.3},{"$f":"per_game!U216","v":0.4},{"$f":"per_game!V216","v":0.6},{"$f":"per_game!W216","v":1.6},{"$f":"per_game!X216","v":6.4}]
[null,null,{"$f":"Roster!C217","v":"F"},40.17799999999999,{"$f":"per_game!B217 & \"-\" & D218","v":"Ryan Hollins-40.178"},{"$f":"per_game!D217","v":16},{"$f":"per_game!E217","v":0},{"$f":"per_game!F217","v":13.3},{"$f":"per_game!G217","v":0.9},{"$f":"per_game!H217","v":1.4},{"$f":"per_game!I217","v":0.63600000000000001},{"$f":"per_game!J217","v":0},{"$f":"per_game!K217","v":0},{"$f":"per_game!L217","v":0},{"$f":"per_game!M217","v":1},{"$f":"per_game!N217","v":1.2},{"$f":"per_game!O217","v":0.84199999999999997},{"$f":"per_game!P217","v":0.9},{"$f":"per_game!Q217","v":1.6},{"$f":"per_game!R217","v":2.4},{"$f":"per_game!S217","v":0.1},{"$f":"per_game!T217","v":0.3},{"$f":"per_game!U217","v":0.8},{"$f":"per_game!V217","v":0.9},{"$f":"per_game!W217","v":3.1},{"$f":"per_game!X217","v":2.8}]
[null,null,{"$f":"Roster!C218","v":"G"},45.756000000000007,{"$f":"per_game!B218 & \"-\" & D219","v":"Lamar Odom-45.756"},{"$f":"per_game!D218","v":17},{"$f":"per_game!E218","v":0},{"$f":"per_game!F218","v":13.8},{"$f":"per_game!G218","v":1},{"$f":"per_game!H218","v":3.4},{"$f":"per_game!I218","v":0.29799999999999999},{"$f":"per_game!J218","v":0.1},{"$f":"per_game!K218","v":0.9},{"$f":"per_game!L218","v":0.125},{"$f":"per_game!M218","v":0.1},{"$f":"per_game!N218","v":0.2},{"$f":"per_game!O218","v":0.33300000000000002},{"$f":"per_game!P218","v":0.7},{"$f":"per_game!Q218","v":2.6},{"$f":"per_game!R218","v":3.3},{"$f":"per_game!S218","v":1},{"$f":"per_game!T218","v":0.6},{"$f":"per_game!U218","v":0.4},{"$f":"per_game!V218","v":0.7},{"$f":"per_game!W218","v":1.6},{"$f":"per_game!X218","v":2.2000000000000002}]
[null,null,{"$f":"Roster!C219","v":"F"},34.377000000000002,null,{"$f":"per_game!D219","v":15},{"$f":"per_game!E219","v":0},{"$f":"per_game!F219","v":9.9},{"$f":"per_game!G219","v":0.5},{"$f":"per_game!H219","v":0.7},{"$f":"per_game!I219","v":0.72699999999999998},{"$f":"per_game!J219","v":0},{"$f":"per_game!K219","v":0},{"$f":"per_game!L219","v":0},{"$f":"per_game!M219","v":0.4},{"$f":"per_game!N219","v":0.5},{"$f":"per_game!O219","v":0.75},{"$f":"per_game!P219","v":0.5},{"$f":"per_game!Q219","v":1.5},{"$f":"per_game!R219","v":2.1},{"$f":"per_game!S219","v":0.5},{"$f":"per_game!T219","v":0.5},{"$f":"per_game!U219","v":0.7},{"$f":"per_game!V219","v":0.3},{"$f":"per_game!W219","v":1.1000000000000001},{"$f":"per_game!X219","v":1.5}]
[null,null,{"$f":"Roster!C220","v":0},0,null,{"$f":"per_game!D220","v":0},{"$f":"per_game!E220","v":0},{"$f":"per_game!F220","v":0},{"$f":"per_game!G220","v":0},{"$f":"per_game!H220","v":0},{"$f":"per_game!I220","v":0},{"$f":"per_game!J220","v":0},{"$f":"per_game!K220","v":0},{"$f":"per_game!L220","v":0},{"$f":"per_game!M220","v":0},{"$f":"per_game!N220","v":0},{"$f":"per_game!O220","v":0},{"$f":"per_game!P220","v":0},{"$f":"per_game!Q220","v":0},{"$f":"per_game!R220","v":0},{"$f":"per_game!S220","v":0},{"$f":"per_game!T220","v":0},{"$f":"per_game!U220","v":0},{"$f":"per_game!V220","v":0},{"$f":"per_game!W220","v":0},{"$f":"per_game!X220","v":0}]
[null,null,{"$f":"Roster!C221","v":0},null,null,{"$f":"per_game!D221","v":0},{"$f":"per_game!E221","v":0},{"$f":"per_game!F221","v":0},{"$f":"per_game!G221","v":0},{"$f":"per_game!H221","v":0},{"$f":"per_game!I221","v":0},{"$f":"per_game!J221","v":0},{"$f":"per_game!K221","v":0},{"$f":"per_game!L221","v":0},{"$f":"per_game!M221","v":0},{"$f":"per_game!N221","v":0},{"$f":"per_game!O221","v":0},{"$f":"per_game!P221","v":0},{"$f":"per_game!Q221","v":0},{"$f":"per_game!R221","v":0},{"$f":"per_game!S221","v":0},{"$f":"per_game!T221","v":0},{"$f":"per_game!U221","v":0},{"$f":"per_game!V221","v":0},{"$f":"per_game!W221","v":0},{"$f":"per_game!X221","v":0}]
[null,null,{"$f":"Roster!C222","v":"Pos"},null,{"$f":"per_game!B222 & \"-\" & D223","v":"Player-"},{"$f":"per_game!D222","v":"G"},{"$f":"per_game!E222","v":"GS"},{"$f":"per_game!F222","v":"MP"},{"$f":"per_game!G222","v":"FG"},{"$f":"per_game!H222","v":"FGA"},{"$f":"per_game!I222","v":"FG%"},{"$f":"per_game!J222","v":"3P"},{"$f":"per_game!K222","v":"3PA"},{"$f":"per_game!L222","v":"3P%"},{"$f":"per_game!M222","v":"FT"},{"$f":"per_game!N222","v":"FTA"},{"$f":"per_game!O222","v":"FT%"},{"$f":"per_game!P222","v":"ORB"},{"$f":"per_game!Q222","v":"DRB"},{"$f":"per_game!R222","v":"TRB"},{"$f":"per_game!S222","v":"AST"},{"$f":"per_game!T222","v":"STL"},{"$f":"per_game!U222","v":"BLK"},{"$f":"per_game!V222","v":"TOV"},{"$f":"per_game!W222","v":"PF"},{"$f":"per_game!X222","v":"PTS"}]
[null,null,{"$f":"Roster!C223","v":"G"},160.06199999999998,{"$f":"per_game!B223 & \"-\" & D224","v":"Kobe Bryant-160.062"},{"$f":"per_game!D223","v":17},{"$f":"per_game!E223","v":17},{"$f":"per_game!F223","v":37.1},{"$f":"per_game!G223","v":9.1},{"$f":"per_game!H223","v":18.600000000000001},{"$f":"per_game!I223","v":0.48899999999999999},{"$f":"per_game!J223","v":1.9},{"$f":"per_game!K223","v":4.8},{"$f":"per_game!L223","v":0.39500000000000002},{"$f":"per_game!M223","v":7.2},{"$f":"per_game!N223","v":8.1999999999999993},{"$f":"per_game!O223","v":0.878},{"$f":"per_game!P223","v":0.7},{"$f":"per_game!Q223","v":4.5},{"$f":"per_game!R223","v":5.2},{"$f":"per_game!S223","v":5.0999999999999996},{"$f":"per_game!T223","v":1.5},{"$f":"per_game!U223","v":0},{"$f":"per_game!V223","v":4},{"$f":"per_game!W223","v":2.9},{"$f":"per_game!X223","v":27.3}]
[null,null,{"$f":"Roster!C224","v":"G"},146.56399999999996,{"$f":"per_game!B224 & \"-\" & D225","v":"Dwight Howard-146.564"},{"$f":"per_game!D224","v":17},{"$f":"per_game!E224","v":17},{"$f":"per_game!F224","v":36.200000000000003},{"$f":"per_game!G224","v":6.8},{"$f":"per_game!H224","v":11.3},{"$f":"per_game!I224","v":0.59899999999999998},{"$f":"per_game!J224","v":0.1},{"$f":"per_game!K224","v":0.1},{"$f":"per_game!L224","v":1},{"$f":"per_game!M224","v":5.0999999999999996},{"$f":"per_game!N224","v":11},{"$f":"per_game!O224","v":0.46500000000000002},{"$f":"per_game!P224","v":3.6},{"$f":"per_game!Q224","v":7.6},{"$f":"per_game!R224","v":11.3},{"$f":"per_game!S224","v":1.7},{"$f":"per_game!T224","v":1.2},{"$f":"per_game!U224","v":2.6},{"$f":"per_game!V224","v":3.1},{"$f":"per_game!W224","v":3.7},{"$f":"per_game!X224","v":18.7}]
[null,null,{"$f":"Roster!C225","v":"F"},123.76100000000001,{"$f":"per_game!B225 & \"-\" & D226","v":"Metta World Peace-123.761"},{"$f":"per_game!D225","v":17},{"$f":"per_game!E225","v":17},{"$f":"per_game!F225","v":35.6},{"$f":"per_game!G225","v":4.4000000000000004},{"$f":"per_game!H225","v":10.6},{"$f":"per_game!I225","v":0.40899999999999997},{"$f":"per_game!J225","v":2.4},{"$f":"per_game!K225","v":6.2},{"$f":"per_game!L225","v":0.38100000000000001},{"$f":"per_game!M225","v":2.2000000000000002},{"$f":"per_game!N225","v":2.8},{"$f":"per_game!O225","v":0.77100000000000002},{"$f":"per_game!P225","v":1},{"$f":"per_game!Q225","v":4.4000000000000004},{"$f":"per_game!R225","v":5.4},{"$f":"per_game!S225","v":2.2999999999999998},{"$f":"per_game!T225","v":1.6},{"$f":"per_game!U225","v":0.3},{"$f":"per_game!V225","v":1.8},{"$f":"per_game!W225","v":2.4},{"$f":"per_game!X225","v":13.2}]
[null,null,{"$f":"Roster!C226","v":"G"},125.265,{"$f":"per_game!B226 & \"-\" & D227","v":"Pau Gasol-125.265"},{"$f":"per_game!D226","v":17},{"$f":"per_game!E226","v":17},{"$f":"per_game!F226","v":34.799999999999997},{"$f":"per_game!G226","v":4.9000000000000004},{"$f":"per_game!H226","v":11.8},{"$f":"per_game!I226","v":0.42},{"$f":"per_game!J226","v":0.1},{"$f":"per_game!K226","v":0.4},{"$f":"per_game!L226","v":0.28599999999999998},{"$f":"per_game!M226","v":2.6},{"$f":"per_game!N226","v":3.4},{"$f":"per_game!O226","v":0.75900000000000001},{"$f":"per_game!P226","v":2.5},{"$f":"per_game!Q226","v":6.4},{"$f":"per_game!R226","v":8.8000000000000007},{"$f":"per_game!S226","v":3.5},{"$f":"per_game!T226","v":0.5},{"$f":"per_game!U226","v":1.2},{"$f":"per_game!V226","v":1.8},{"$f":"per_game!W226","v":1.9},{"$f":"per_game!X226","v":12.6}]
[null,null,{"$f":"Roster!C227","v":"F"},68.067999999999998,{"$f":"per_game!B227 & \"-\" & D228","v":"Antawn Jamison-68.068"},{"$f":"per_game!D227","v":17},{"$f":"per_game!E227","v":0},{"$f":"per_game!F227","v":18.899999999999999},{"$f":"per_game!G227","v":2.8},{"$f":"per_game!H227","v":5.9},{"$f":"per_game!I227","v":0.48},{"$f":"per_game!J227","v":0.9},{"$f":"per_game!K227","v":2.9},{"$f":"per_game!L227","v":0.30599999999999999},{"$f":"per_game!M227","v":0.9},{"$f":"per_game!N227","v":1.3},{"$f":"per_game!O227","v":0.68200000000000005},{"$f":"per_game!P227","v":1.1000000000000001},{"$f":"per_game!Q227","v":3.5},{"$f":"per_game!R227","v":4.5999999999999996},{"$f":"per_game!S227","v":0.6},{"$f":"per_game!T227","v":0.5},{"$f":"per_game!U227","v":0.4},{"$f":"per_game!V227","v":0.8},{"$f":"per_game!W227","v":1.3},{"$f":"per_game!X227","v":7.4}]
[null,null,{"$f":"Roster!C228","v":"F-C"},71.116,{"$f":"per_game!B228 & \"-\" & D229","v":"Darius Morris-71.116"},{"$f":"per_game!D228","v":15},{"$f":"per_game!E228","v":10},{"$f":"per_game!F228","v":22.3},{"$f":"per_game!G228","v":2.1},{"$f":"per_game!H228","v":5.7},{"$f":"per_game!I228","v":0.372},{"$f":"per_game!J228","v":0.7},{"$f":"per_game!K228","v":1.9},{"$f":"per_game!L228","v":0.379},{"$f":"per_game!M228","v":0.9},{"$f":"per_game!N228","v":1.5},{"$f":"per_game!O228","v":0.56499999999999995},{"$f":"per_game!P228","v":0.9},{"$f":"per_game!Q228","v":0.9},{"$f":"per_game!R228","v":1.7},{"$f":"per_game!S228","v":2.5},{"$f":"per_game!T228","v":0.9},{"$f":"per_game!U228","v":0.1},{"$f":"per_game!V228","v":1.7},{"$f":"per_game!W228","v":1.5},{"$f":"per_game!X228","v":5.9}]
[null,null,{"$f":"Roster!C229","v":"F"},54.965999999999994,{"$f":"per_game!B229 & \"-\" & D230","v":"Jordan Hill-54.966"},{"$f":"per_game!D229","v":16},{"$f":"per_game!E229","v":0},{"$f":"per_game!F229","v":14.5},{"$f":"per_game!G229","v":2},{"$f":"per_game!H229","v":4.4000000000000004},{"$f":"per_game!I229","v":0.45100000000000001},{"$f":"per_game!J229","v":0},{"$f":"per_game!K229","v":0.1},{"$f":"per_game!L229","v":0},{"$f":"per_game!M229","v":1.5},{"$f":"per_game!N229","v":2.4},{"$f":"per_game!O229","v":0.61499999999999999},{"$f":"per_game!P229","v":2.5},{"$f":"per_game!Q229","v":2.1},{"$f":"per_game!R229","v":4.5999999999999996},{"$f":"per_game!S229","v":0.4},{"$f":"per_game!T229","v":0.3},{"$f":"per_game!U229","v":0.4},{"$f":"per_game!V229","v":1.1000000000000001},{"$f":"per_game!W229","v":1.7},{"$f":"per_game!X229","v":5.5}]
[null,null,{"$f":"Roster!C230","v":"C-F"},47.714999999999996,{"$f":"per_game!B230 & \"-\" & D231","v":"Jodie Meeks-47.715"},{"$f":"per_game!D230","v":15},{"$f":"per_game!E230","v":0},{"$f":"per_game!F230","v":11.7},{"$f":"per_game!G230","v":1.9},{"$f":"per_game!H230","v":4.8},{"$f":"per_game!I230","v":0.40300000000000002},{"$f":"per_game!J230","v":1.4},{"$f":"per_game!K230","v":3.4},{"$f":"per_game!L230","v":0.41199999999999998},{"$f":"per_game!M230","v":0.1},{"$f":"per_game!N230","v":0.1},{"$f":"per_game!O230","v":1},{"$f":"per_game!P230","v":0.1},{"$f":"per_game!Q230","v":1.2},{"$f":"per_game!R230","v":1.3},{"$f":"per_game!S230","v":0.9},{"$f":"per_game!T230","v":0.3},{"$f":"per_game!U230","v":0},{"$f":"per_game!V230","v":0.9},{"$f":"per_game!W230","v":0.8},{"$f":"per_game!X230","v":5.4}]
[null,null,{"$f":"Roster!C231","v":"F"},62.553000000000004,{"$f":"per_game!B231 & \"-\" & D232","v":"Steve Blake-62.553"},{"$f":"per_game!D231","v":7},{"$f":"per_game!E231","v":5},{"$f":"per_game!F231","v":26},{"$f":"per_game!G231","v":1.7},{"$f":"per_game!H231","v":4.9000000000000004},{"$f":"per_game!I231","v":0.35299999999999998},{"$f":"per_game!J231","v":1.1000000000000001},{"$f":"per_game!K231","v":2.9},{"$f":"per_game!L231","v":0.4},{"$f":"per_game!M231","v":0.6},{"$f":"per_game!N231","v":0.6},{"$f":"per_game!O231","v":1},{"$f":"per_game!P231","v":0.4},{"$f":"per_game!Q231","v":2},{"$f":"per_game!R231","v":2.4},{"$f":"per_game!S231","v":3.4},{"$f":"per_game!T231","v":1.3},{"$f":"per_game!U231","v":0},{"$f":"per_game!V231","v":1.3},{"$f":"per_game!W231","v":2.2999999999999998},{"$f":"per_game!X231","v":5.0999999999999996}]
[null,null,{"$f":"Roster!C232","v":"G"},53.533000000000001,{"$f":"per_game!B232 & \"-\" & D233","v":"Steve Nash-53.533"},{"$f":"per_game!D232","v":2},{"$f":"per_game!E232","v":2},{"$f":"per_game!F232","v":25},{"$f":"per_game!G232","v":2},{"$f":"per_game!H232","v":6},{"$f":"per_game!I232","v":0.33300000000000002},{"$f":"per_game!J232","v":0.5},{"$f":"per_game!K232","v":2.5},{"$f":"per_game!L232","v":0.2},{"$f":"per_game!M232","v":0},{"$f":"per_game!N232","v":0},{"$f":"per_game!O232","v":0},{"$f":"per_game!P232","v":0},{"$f":"per_game!Q232","v":3},{"$f":"per_game!R232","v":3},{"$f":"per_game!S232","v":4},{"$f":"per_game!T232","v":0.5},{"$f":"per_game!U232","v":0.5},{"$f":"per_game!V232","v":1.5},{"$f":"per_game!W232","v":1},{"$f":"per_game!X232","v":4.5}]
[null,null,{"$f":"Roster!C233","v":"G"},30.668999999999997,{"$f":"per_game!B233 & \"-\" & D234","v":"Devin Ebanks-30.669"},{"$f":"per_game!D233","v":6},{"$f":"per_game!E233","v":0},{"$f":"per_game!F233","v":9.6999999999999993},{"$f":"per_game!G233","v":1.2},{"$f":"per_game!H233","v":3.5},{"$f":"per_game!I233","v":0.33300000000000002},{"$f":"per_game!J233","v":0.3},{"$f":"per_game!K233","v":1.2},{"$f":"per_game!L233","v":0.28599999999999998},{"$f":"per_game!M233","v":0.5},{"$f":"per_game!N233","v":0.7},{"$f":"per_game!O233","v":0.75},{"$f":"per_game!P233","v":1},{"$f":"per_game!Q233","v":1},{"$f":"per_game!R233","v":2},{"$f":"per_game!S233","v":0.8},{"$f":"per_game!T233","v":0},{"$f":"per_game!U233","v":0.2},{"$f":"per_game!V233","v":0.7},{"$f":"per_game!W233","v":1.3},{"$f":"per_game!X233","v":3.2}]
[null,null,{"$f":"Roster!C234","v":"G"},46.533000000000008,{"$f":"per_game!B234 & \"-\" & D235","v":"Chris Duhon-46.533"},{"$f":"per_game!D234","v":13},{"$f":"per_game!E234","v":0},{"$f":"per_game!F234","v":19},{"$f":"per_game!G234","v":1.1000000000000001},{"$f":"per_game!H234","v":2.5},{"$f":"per_game!I234","v":0.42399999999999999},{"$f":"per_game!J234","v":0.7},{"$f":"per_game!K234","v":1.7},{"$f":"per_game!L234","v":0.40899999999999997},{"$f":"per_game!M234","v":0.2},{"$f":"per_game!N234","v":0.3},{"$f":"per_game!O234","v":0.5},{"$f":"per_game!P234","v":0.2},{"$f":"per_game!Q234","v":1.2},{"$f":"per_game!R234","v":1.4},{"$f":"per_game!S234","v":2.8},{"$f":"per_game!T234","v":0.5},{"$f":"per_game!U234","v":0},{"$f":"per_game!V234","v":0.6},{"$f":"per_game!W234","v":1.8},{"$f":"per_game!X234","v":3}]
[null,null,{"$f":"Roster!C235","v":"G"},10.133000000000001,{"$f":"per_game!B235 & \"-\" & D236","v":"Earl Clark-10.133"},{"$f":"per_game!D235","v":4},{"$f":"per_game!E235","v":0},{"$f":"per_game!F235","v":2.2999999999999998},{"$f":"per_game!G235","v":0.3},{"$f":"per_game!H235","v":0.8},{"$f":"per_game!I235","v":0.33300000000000002},{"$f":"per_game!J235","v":0},{"$f":"per_game!K235","v":0},{"$f":"per_game!L235","v":0},{"$f":"per_game!M235","v":0.3},{"$f":"per_game!N235","v":0.5},{"$f":"per_game!O235","v":0.5},{"$f":"per_game!P235","v":0},{"$f":"per_game!Q235","v":0.5},{"$f":"per_game!R235","v":0.5},{"$f":"per_game!S235","v":0},{"$f":"per_game!T235","v":0},{"$f":"per_game!U235","v":0.3},{"$f":"per_game!V235","v":0},{"$f":"per_game!W235","v":1},{"$f":"per_game!X235","v":0.8}]
[null,null,{"$f":"Roster!C236","v":"C"},11.250000000000002,{"$f":"per_game!B236 & \"-\" & D237","v":"Robert Sacre-11.25"},{"$f":"per_game!D236","v":8},{"$f":"per_game!E236","v":0},{"$f":"per_game!F236","v":2.4},{"$f":"per_game!G236","v":0.1},{"$f":"per_game!H236","v":0.5},{"$f":"per_game!I236","v":0.25},{"$f":"per_game!J236","v":0},{"$f":"per_game!K236","v":0},{"$f":"per_game!L236","v":0},{"$f":"per_game!M236","v":0},{"$f":"per_game!N236","v":0},{"$f":"per_game!O236","v":0},{"$f":"per_game!P236","v":0},{"$f":"per_game!Q236","v":0.3},{"$f":"per_game!R236","v":0.3},{"$f":"per_game!S236","v":0.1},{"$f":"per_game!T236","v":0},{"$f":"per_game!U236","v":0.3},{"$f":"per_game!V236","v":0.3},{"$f":"per_game!W236","v":1},{"$f":"per_game!X236","v":0.3}]
[null,null,{"$f":"Roster!C237","v":"F"},9.1999999999999993,null,{"$f":"per_game!D237","v":4},{"$f":"per_game!E237","v":0},{"$f":"per_game!F237","v":1.5},{"$f":"per_game!G237","v":0},{"$f":"per_game!H237","v":1},{"$f":"per_game!I237","v":0},{"$f":"per_game!J237","v":0},{"$f":"per_game!K237","v":0.3},{"$f":"per_game!L237","v":0},{"$f":"per_game!M237","v":0},{"$f":"per_game!N237","v":0},{"$f":"per_game!O237","v":0},{"$f":"per_game!P237","v":0.3},{"$f":"per_game!Q237","v":0.8},{"$f":"per_game!R237","v":1},{"$f":"per_game!S237","v":0.3},{"$f":"per_game!T237","v":0},{"$f":"per_game!U237","v":0},{"$f":"per_game!V237","v":0},{"$f":"per_game!W237","v":0},{"$f":"per_game!X237","v":0}]
[null,null,{"$f":"Roster!C238","v":0},0,null,{"$f":"per_game!D238","v":0},{"$f":"per_game!E238","v":0},{"$f":"per_game!F238","v":0},{"$f":"per_game!G238","v":0},{"$f":"per_game!H238","v":0},{"$f":"per_game!I238","v":0},{"$f":"per_game!J238","v":0},{"$f":"per_game!K238","v":0},{"$f":"per_game!L238","v":0},{"$f":"per_game!M238","v":0},{"$f":"per_game!N238","v":0},{"$f":"per_game!O238","v":0},{"$f":"per_game!P238","v":0},{"$f":"per_game!Q238","v":0},{"$f":"per_game!R238","v":0},{"$f":"per_game!S238","v":0},{"$f":"per_game!T238","v":0},{"$f":"per_game!U238","v":0},{"$f":"per_game!V238","v":0},{"$f":"per_game!W238","v":0},{"$f":"per_game!X238","v":0}]
[null,null,{"$f":"Roster!C239","v":0},null,null,{"$f":"per_game!D239","v":0},{"$f":"per_game!E239","v":0},{"$f":"per_game!F239","v":0},{"$f":"per_game!G239","v":0},{"$f":"per_game!H239","v":0},{"$f":"per_game!I239","v":0},{"$f":"per_game!J239","v":0},{"$f":"per_game!K239","v":0},{"$f":"per_game!L239","v":0},{"$f":"per_game!M239","v":0},{"$f":"per_game!N239","v":0},{"$f":"per_game!O239","v":0},{"$f":"per_game!P239","v":0},{"$f":"per_game!Q239","v":0},{"$f":"per_game!R239","v":0},{"$f":"per_game!S239","v":0},{"$f":"per_game!T239","v":0},{"$f":"per_game!U239","v":0},{"$f":"per_game!V239","v":0},{"$f":"per_game!W239","v":0},{"$f":"per_game!X239","v":0}]
[null,null,{"$f":"Roster!C240","v":"Pos"},null,{"$f":"per_game!B240 & \"-\" & D241","v":"Player-"},{"$f":"per_game!D240","v":"G"},{"$f":"per_game!E240","v":"GS"},{"$f":"per_game!F240","v":"MP"},{"$f":"per_game!G240","v":"FG"},{"$f":"per_game!H240","v":"FGA"},{"$f":"per_game!I240","v":"FG%"},{"$f":"per_game!J240","v":"3P"},{"$f":"per_game!K240","v":"3PA"},{"$f":"per_game!L240","v":"3P%"},{"$f":"per_game!M240","v":"FT"},{"$f":"per_game!N240","v":"FTA"},{"$f":"per_game!O240","v":"FT%"},{"$f":"per_game!P240","v":"ORB"},{"$f":"per_game!Q240","v":"DRB"},{"$f":"per_game!R240","v":"TRB"},{"$f":"per_game!S240","v":"AST"},{"$f":"per_game!T240","v":"STL"},{"$f":"per_game!U240","v":"BLK"},{"$f":"per_game!V240","v":"TOV"},{"$f":"per_game!W240","v":"PF"},{"$f":"per_game!X240","v":"PTS"}]
[null,null,{"$f":"Roster!C241","v":"G"},135.00500000000002,{"$f":"per_game!B241 & \"-\" & D242","v":"Rudy Gay-135.005"},{"$f":"per_game!D241","v":15},{"$f":"per_game!E241","v":15},{"$f":"per_game!F241","v":36.6},{"$f":"per_game!G241","v":7.2},{"$f":"per_game!H241","v":17.100000000000001},{"$f":"per_game!I241","v":0.42199999999999999},{"$f":"per_game!J241","v":1.3},{"$f":"per_game!K241","v":3.2},{"$f":"per_game!L241","v":0.39600000000000002},{"$f":"per_game!M241","v":3.2},{"$f":"per_game!N241","v":4.0999999999999996},{"$f":"per_game!O241","v":0.78700000000000003},{"$f":"per_game!P241","v":1.5},{"$f":"per_game!Q241","v":4.4000000000000004},{"$f":"per_game!R241","v":5.9},{"$f":"per_game!S241","v":2.2999999999999998},{"$f":"per_game!T241","v":1.4},{"$f":"per_game!U241","v":0.9},{"$f":"per_game!V241","v":2.4},{"$f":"per_game!W241","v":2.2000000000000002},{"$f":"per_game!X241","v":18.899999999999999}]
[null,null,{"$f":"Roster!C242","v":"F"},135.81900000000002,{"$f":"per_game!B242 & \"-\" & D243","v":"Zach Randolph-135.819"},{"$f":"per_game!D242","v":15},{"$f":"per_game!E242","v":15},{"$f":"per_game!F242","v":36.299999999999997},{"$f":"per_game!G242","v":6.3},{"$f":"per_game!H242","v":13.6},{"$f":"per_game!I242","v":0.46600000000000003},{"$f":"per_game!J242","v":0},{"$f":"per_game!K242","v":0.2},{"$f":"per_game!L242","v":0},{"$f":"per_game!M242","v":3.7},{"$f":"per_game!N242","v":4.9000000000000004},{"$f":"per_game!O242","v":0.753},{"$f":"per_game!P242","v":4.9000000000000004},{"$f":"per_game!Q242","v":7.9},{"$f":"per_game!R242","v":12.7},{"$f":"per_game!S242","v":1.5},{"$f":"per_game!T242","v":0.7},{"$f":"per_game!U242","v":0.5},{"$f":"per_game!V242","v":2.4},{"$f":"per_game!W242","v":2.5},{"$f":"per_game!X242","v":16.3}]
[null,null,{"$f":"Roster!C243","v":"G"},126.40000000000002,{"$f":"per_game!B243 & \"-\" & D244","v":"Marc Gasol-126.4"},{"$f":"per_game!D243","v":15},{"$f":"per_game!E243","v":15},{"$f":"per_game!F243","v":36.5},{"$f":"per_game!G243","v":5.6},{"$f":"per_game!H243","v":11.1},{"$f":"per_game!I243","v":0.503},{"$f":"per_game!J243","v":0},{"$f":"per_game!K243","v":0.1},{"$f":"per_game!L243","v":0},{"$f":"per_game!M243","v":4.7},{"$f":"per_game!N243","v":5.2},{"$f":"per_game!O243","v":0.89700000000000002},{"$f":"per_game!P243","v":2.2000000000000002},{"$f":"per_game!Q243","v":4.9000000000000004},{"$f":"per_game!R243","v":7.1},{"$f":"per_game!S243","v":4.4000000000000004},{"$f":"per_game!T243","v":0.7},{"$f":"per_game!U243","v":1.4},{"$f":"per_game!V243","v":1.5},{"$f":"per_game!W243","v":3.3},{"$f":"per_game!X243","v":15.9}]
[null,null,{"$f":"Roster!C244","v":"G"},117.28999999999999,{"$f":"per_game!B244 & \"-\" & D245","v":"Mike Conley-117.29"},{"$f":"per_game!D244","v":14},{"$f":"per_game!E244","v":14},{"$f":"per_game!F244","v":34},{"$f":"per_game!G244","v":5.4},{"$f":"per_game!H244","v":10.8},{"$f":"per_game!I244","v":0.497},{"$f":"per_game!J244","v":1.8},{"$f":"per_game!K244","v":3.9},{"$f":"per_game!L244","v":0.46300000000000002},{"$f":"per_game!M244","v":2.8},{"$f":"per_game!N244","v":3.4},{"$f":"per_game!O244","v":0.83},{"$f":"per_game!P244","v":0.6},{"$f":"per_game!Q244","v":2.2000000000000002},{"$f":"per_game!R244","v":2.8},{"$f":"per_game!S244","v":6.7},{"$f":"per_game!T244","v":2.6},{"$f":"per_game!U244","v":0.3},{"$f":"per_game!V244","v":3},{"$f":"per_game!W244","v":2.1},{"$f":"per_game!X244","v":15.3}]
[null,null,{"$f":"Roster!C245","v":"G"},81.827999999999989,{"$f":"per_game!B245 & \"-\" & D246","v":"Tony Allen-81.828"},{"$f":"per_game!D245","v":13},{"$f":"per_game!E245","v":13},{"$f":"per_game!F245","v":24.4},{"$f":"per_game!G245","v":2.9},{"$f":"per_game!H245","v":7.7},{"$f":"per_game!I245","v":0.38},{"$f":"per_game!J245","v":0},{"$f":"per_game!K245","v":0.5},{"$f":"per_game!L245","v":0},{"$f":"per_game!M245","v":2.2000000000000002},{"$f":"per_game!N245","v":2.5},{"$f":"per_game!O245","v":0.84799999999999998},{"$f":"per_game!P245","v":0.8},{"$f":"per_game!Q245","v":2.7},{"$f":"per_game!R245","v":3.5},{"$f":"per_game!S245","v":0.6},{"$f":"per_game!T245","v":2},{"$f":"per_game!U245","v":0.6},{"$f":"per_game!V245","v":1},{"$f":"per_game!W245","v":2.8},{"$f":"per_game!X245","v":8}]
[null,null,{"$f":"Roster!C246","v":"C"},59.558,{"$f":"per_game!B246 & \"-\" & D247","v":"Jerryd Bayless-59.558"},{"$f":"per_game!D246","v":15},{"$f":"per_game!E246","v":1},{"$f":"per_game!F246","v":17.5},{"$f":"per_game!G246","v":2.6},{"$f":"per_game!H246","v":6.1},{"$f":"per_game!I246","v":0.42399999999999999},{"$f":"per_game!J246","v":0.7},{"$f":"per_game!K246","v":2.2999999999999998},{"$f":"per_game!L246","v":0.32400000000000001},{"$f":"per_game!M246","v":1.1000000000000001},{"$f":"per_game!N246","v":1.4},{"$f":"per_game!O246","v":0.81},{"$f":"per_game!P246","v":0.1},{"$f":"per_game!Q246","v":1.3},{"$f":"per_game!R246","v":1.4},{"$f":"per_game!S246","v":3.1},{"$f":"per_game!T246","v":0.9},{"$f":"per_game!U246","v":0.5},{"$f":"per_game!V246","v":1.5},{"$f":"per_game!W246","v":2.6},{"$f":"per_game!X246","v":7.1}]
[null,null,{"$f":"Roster!C247","v":"F"},61.87,{"$f":"per_game!B247 & \"-\" & D248","v":"Marreese Speights-61.87"},{"$f":"per_game!D247","v":15},{"$f":"per_game!E247","v":0},{"$f":"per_game!F247","v":16.5},{"$f":"per_game!G247","v":2.5},{"$f":"per_game!H247","v":6.4},{"$f":"per_game!I247","v":0.39600000000000002},{"$f":"per_game!J247","v":0.1},{"$f":"per_game!K247","v":0.1},{"$f":"per_game!L247","v":1},{"$f":"per_game!M247","v":1.6},{"$f":"per_game!N247","v":2.1},{"$f":"per_game!O247","v":0.77400000000000002},{"$f":"per_game!P247","v":1.9},{"$f":"per_game!Q247","v":3.4},{"$f":"per_game!R247","v":5.3},{"$f":"per_game!S247","v":0.6},{"$f":"per_game!T247","v":0.3},{"$f":"per_game!U247","v":0.9},{"$f":"per_game!V247","v":1},{"$f":"per_game!W247","v":2.7},{"$f":"per_game!X247","v":6.7}]
[null,null,{"$f":"Roster!C248","v":"C"},37.745000000000005,{"$f":"per_game!B248 & \"-\" & D249","v":"Darrell Arthur-37.745"},{"$f":"per_game!D248","v":4},{"$f":"per_game!E248","v":0},{"$f":"per_game!F248","v":14},{"$f":"per_game!G248","v":3},{"$f":"per_game!H248","v":5.5},{"$f":"per_game!I248","v":0.54500000000000004},{"$f":"per_game!J248","v":0},{"$f":"per_game!K248","v":0},{"$f":"per_game!L248","v":0},{"$f":"per_game!M248","v":0.3},{"$f":"per_game!N248","v":0.3},{"$f":"per_game!O248","v":1},{"$f":"per_game!P248","v":1},{"$f":"per_game!Q248","v":0.8},{"$f":"per_game!R248","v":1.8},{"$f":"per_game!S248","v":0.5},{"$f":"per_game!T248","v":0},{"$f":"per_game!U248","v":0.5},{"$f":"per_game!V248","v":0.5},{"$f":"per_game!W248","v":1.3},{"$f":"per_game!X248","v":6.3}]
[null,null,{"$f":"Roster!C249","v":"G-F"},62.252999999999993,{"$f":"per_game!B249 & \"-\" & D250","v":"Quincy Pondexter-62.253"},{"$f":"per_game!D249","v":15},{"$f":"per_game!E249","v":0},{"$f":"per_game!F249","v":23.1},{"$f":"per_game!G249","v":2.1},{"$f":"per_game!H249","v":5.3},{"$f":"per_game!I249","v":0.40500000000000003},{"$f":"per_game!J249","v":1.1000000000000001},{"$f":"per_game!K249","v":2.8},{"$f":"per_game!L249","v":0.38100000000000001},{"$f":"per_game!M249","v":0.5},{"$f":"per_game!N249","v":0.8},{"$f":"per_game!O249","v":0.66700000000000004},{"$f":"per_game!P249","v":0.5},{"$f":"per_game!Q249","v":1.4},{"$f":"per_game!R249","v":1.9},{"$f":"per_game!S249","v":1.5},{"$f":"per_game!T249","v":0.9},{"$f":"per_game!U249","v":0.1},{"$f":"per_game!V249","v":0.5},{"$f":"per_game!W249","v":1.6},{"$f":"per_game!X249","v":5.9}]
[null,null,{"$f":"Roster!C250","v":"F"},53.834000000000003,{"$f":"per_game!B250 & \"-\" & D251","v":"Wayne Ellington-53.834"},{"$f":"per_game!D250","v":15},{"$f":"per_game!E250","v":2},{"$f":"per_game!F250","v":16.5},{"$f":"per_game!G250","v":1.9},{"$f":"per_game!H250","v":5.0999999999999996},{"$f":"per_game!I250","v":0.36799999999999999},{"$f":"per_game!J250","v":0.9},{"$f":"per_game!K250","v":2.6},{"$f":"per_game!L250","v":0.33300000000000002},{"$f":"per_game!M250","v":0.3},{"$f":"per_game!N250","v":0.4},{"$f":"per_game!O250","v":0.83299999999999996},{"$f":"per_game!P250","v":0.2},{"$f":"per_game!Q250","v":1},{"$f":"per_game!R250","v":1.2},{"$f":"per_game!S250","v":1.2},{"$f":"per_game!T250","v":0.4},{"$f":"per_game!U250","v":0.1},{"$f":"per_game!V250","v":0.3},{"$f":"per_game!W250","v":1.1000000000000001},{"$f":"per_game!X250","v":4.9000000000000004}]
[null,null,{"$f":"Roster!C251","v":"G"},9,{"$f":"per_game!B251 & \"-\" & D252","v":"Hamed Haddadi-9"},{"$f":"per_game!D251","v":2},{"$f":"per_game!E251","v":0},{"$f":"per_game!F251","v":5},{"$f":"per_game!G251","v":0.5},{"$f":"per_game!H251","v":1},{"$f":"per_game!I251","v":0.5},{"$f":"per_game!J251","v":0},{"$f":"per_game!K251","v":0},{"$f":"per_game!L251","v":0},{"$f":"per_game!M251","v":0},{"$f":"per_game!N251","v":0},{"$f":"per_game!O251","v":0},{"$f":"per_game!P251","v":0},{"$f":"per_game!Q251","v":0},{"$f":"per_game!R251","v":0},{"$f":"per_game!S251","v":0},{"$f":"per_game!T251","v":0},{"$f":"per_game!U251","v":0},{"$f":"per_game!V251","v":0.5},{"$f":"per_game!W251","v":0.5},{"$f":"per_game!X251","v":1}]
[null,null,{"$f":"Roster!C252","v":"F"},8.5999999999999979,{"$f":"per_game!B252 & \"-\" & D253","v":"Josh Selby-8.6"},{"$f":"per_game!D252","v":5},{"$f":"per_game!E252","v":0},{"$f":"per_game!F252","v":3},{"$f":"per_game!G252","v":0},{"$f":"per_game!H252","v":1},{"$f":"per_game!I252","v":0},{"$f":"per_game!J252","v":0},{"$f":"per_game!K252","v":0.2},{"$f":"per_game!L252","v":0},{"$f":"per_game!M252","v":0},{"$f":"per_game!N252","v":0},{"$f":"per_game!O252","v":0},{"$f":"per_game!P252","v":0},{"$f":"per_game!Q252","v":0.2},{"$f":"per_game!R252","v":0.2},{"$f":"per_game!S252","v":0.4},{"$f":"per_game!T252","v":0.2},{"$f":"per_game!U252","v":0},{"$f":"per_game!V252","v":0.6},{"$f":"per_game!W252","v":1},{"$f":"per_game!X252","v":0}]
[null,null,{"$f":"Roster!C253","v":"G"},7.6,null,{"$f":"per_game!D253","v":3},{"$f":"per_game!E253","v":0},{"$f":"per_game!F253","v":2.7},{"$f":"per_game!G253","v":0},{"$f":"per_game!H253","v":1.3},{"$f":"per_game!I253","v":0},{"$f":"per_game!J253","v":0},{"$f":"per_game!K253","v":0},{"$f":"per_game!L253","v":0},{"$f":"per_game!M253","v":0},{"$f":"per_game!N253","v":0},{"$f":"per_game!O253","v":0},{"$f":"per_game!P253","v":0.3},{"$f":"per_game!Q253","v":0},{"$f":"per_game!R253","v":0.3},{"$f":"per_game!S253","v":0},{"$f":"per_game!T253","v":0.3},{"$f":"per_game!U253","v":0},{"$f":"per_game!V253","v":0},{"$f":"per_game!W253","v":0.3},{"$f":"per_game!X253","v":0}]
[null,null,{"$f":"Roster!C254","v":0},0,null,{"$f":"per_game!D254","v":0},{"$f":"per_game!E254","v":0},{"$f":"per_game!F254","v":0},{"$f":"per_game!G254","v":0},{"$f":"per_game!H254","v":0},{"$f":"per_game!I254","v":0},{"$f":"per_game!J254","v":0},{"$f":"per_game!K254","v":0},{"$f":"per_game!L254","v":0},{"$f":"per_game!M254","v":0},{"$f":"per_game!N254","v":0},{"$f":"per_game!O254","v":0},{"$f":"per_game!P254","v":0},{"$f":"per_game!Q254","v":0},{"$f":"per_game!R254","v":0},{"$f":"per_game!S254","v":0},{"$f":"per_game!T254","v":0},{"$f":"per_game!U254","v":0},{"$f":"per_game!V254","v":0},{"$f":"per_game!W254","v":0},{"$f":"per_game!X254","v":0}]
[null,null,{"$f":"Roster!C255","v":0},null,null,{"$f":"per_game!D255","v":0},{"$f":"per_game!E255","v":0},{"$f":"per_game!F255","v":0},{"$f":"per_game!G255","v":0},{"$f":"per_game!H255","v":0},{"$f":"per_game!I255","v":0},{"$f":"per_game!J255","v":0},{"$f":"per_game!K255","v":0},{"$f":"per_game!L255","v":0},{"$f":"per_game!M255","v":0},{"$f":"per_game!N255","v":0},{"$f":"per_game!O255","v":0},{"$f":"per_game!P255","v":0},{"$f":"per_game!Q255","v":0},{"$f":"per_game!R255","v":0},{"$f":"per_game!S255","v":0},{"$f":"per_game!T255","v":0},{"$f":"per_game!U255","v":0},{"$f":"per_game!V255","v":0},{"$f":"per_game!W255","v":0},{"$f":"per_game!X255","v":0}]
[null,null,{"$f":"Roster!C256","v":"Pos"},null,{"$f":"per_game!B256 & \"-\" & D257","v":"Player-"},{"$f":"per_game!D256","v":"G"},{"$f":"per_game!E256","v":"GS"},{"$f":"per_game!F256","v":"MP"},{"$f":"per_game!G256","v":"FG"},{"$f":"per_game!H256","v":"FGA"},{"$f":"per_game!I256","v":"FG%"},{"$f":"per_game!J256","v":"3P"},{"$f":"per_game!K256","v":"3PA"},{"$f":"per_game!L256","v":"3P%"},{"$f":"per_game!M256","v":"FT"},{"$f":"per_game!N256","v":"FTA"},{"$f":"per_game!O256","v":"FT%"},{"$f":"per_game!P256","v":"ORB"},{"$f":"per_game!Q256","v":"DRB"},{"$f":"per_game!R256","v":"TRB"},{"$f":"per_game!S256","v":"AST"},{"$f":"per_game!T256","v":"STL"},{"$f":"per_game!U256","v":"BLK"},{"$f":"per_game!V256","v":"TOV"},{"$f":"per_game!W256","v":"PF"},{"$f":"per_game!X256","v":"PTS"}]
[null,null,{"$f":"Roster!C257","v":"G"},157.83000000000001,{"$f":"per_game!B257 & \"-\" & D258","v":"LeBron James-157.83"},{"$f":"per_game!D257","v":15},{"$f":"per_game!E257","v":15},{"$f":"per_game!F257","v":37.299999999999997},{"$f":"per_game!G257","v":9.6999999999999993},{"$f":"per_game!H257","v":18.3},{"$f":"per_game!I257","v":0.53300000000000003},{"$f":"per_game!J257","v":1.4},{"$f":"per_game!K257","v":3.2},{"$f":"per_game!L257","v":0.438},{"$f":"per_game!M257","v":3.9},{"$f":"per_game!N257","v":5.9},{"$f":"per_game!O257","v":0.65900000000000003},{"$f":"per_game!P257","v":1.5},{"$f":"per_game!Q257","v":7.3},{"$f":"per_game!R257","v":8.9},{"$f":"per_game!S257","v":6.5},{"$f":"per_game!T257","v":1.1000000000000001},{"$f":"per_game!U257","v":0.9},{"$f":"per_game!V257","v":2.5},{"$f":"per_game!W257","v":1.9},{"$f":"per_game!X257","v":24.7}]
[null,null,{"$f":"Roster!C258","v":"C"},123.57299999999999,{"$f":"per_game!B258 & \"-\" & D259","v":"Dwyane Wade-123.573"},{"$f":"per_game!D258","v":12},{"$f":"per_game!E258","v":12},{"$f":"per_game!F258","v":33.799999999999997},{"$f":"per_game!G258","v":7.7},{"$f":"per_game!H258","v":15.7},{"$f":"per_game!I258","v":0.48899999999999999},{"$f":"per_game!J258","v":0.2},{"$f":"per_game!K258","v":0.8},{"$f":"per_game!L258","v":0.222},{"$f":"per_game!M258","v":4},{"$f":"per_game!N258","v":5.3},{"$f":"per_game!O258","v":0.76200000000000001},{"$f":"per_game!P258","v":1.1000000000000001},{"$f":"per_game!Q258","v":3},{"$f":"per_game!R258","v":4.0999999999999996},{"$f":"per_game!S258","v":4.9000000000000004},{"$f":"per_game!T258","v":1.3},{"$f":"per_game!U258","v":0.8},{"$f":"per_game!V258","v":2.2999999999999998},{"$f":"per_game!W258","v":1.8},{"$f":"per_game!X258","v":19.5}]
[null,null,{"$f":"Roster!C259","v":"F"},131.28499999999997,{"$f":"per_game!B259 & \"-\" & D260","v":"Chris Bosh-131.285"},{"$f":"per_game!D259","v":15},{"$f":"per_game!E259","v":15},{"$f":"per_game!F259","v":33.700000000000003},{"$f":"per_game!G259","v":6.9},{"$f":"per_game!H259","v":12.6},{"$f":"per_game!I259","v":0.55000000000000004},{"$f":"per_game!J259","v":0.1},{"$f":"per_game!K259","v":0.8},{"$f":"per_game!L259","v":0.16700000000000001},{"$f":"per_game!M259","v":5.3},{"$f":"per_game!N259","v":6.1},{"$f":"per_game!O259","v":0.86799999999999999},{"$f":"per_game!P259","v":2.2999999999999998},{"$f":"per_game!Q259","v":5.6},{"$f":"per_game!R259","v":7.9},{"$f":"per_game!S259","v":1.3},{"$f":"per_game!T259","v":0.7},{"$f":"per_game!U259","v":1.4},{"$f":"per_game!V259","v":1.9},{"$f":"per_game!W259","v":2.4},{"$f":"per_game!X259","v":19.3}]
[null,null,{"$f":"Roster!C260","v":"F-C"},{"$f":"F261*$B$21+G261*$B$20+H261*$B$19+I261*$B$13+J261*$B$14+K261*$B$6+L261*$B$17+M261*$B$18+N261*$B$8+O261*$B$15+P261*$B$16+Q261*$B$7+R261*$B$10+S261*$B$11+T261*$B$2+U261*$B$3+V261*$B$5+W261*$B$4+X261*$B$9+Y261*$B$12+Z261*$B$1","v":87.092999999999975},{"$f":"per_game!B260 & \"-\" & D261","v":"Ray Allen-87.093"},{"$f":"per_game!D260","v":15},{"$f":"per_game!E260","v":0},{"$f":"per_game!F260","v":26.7},{"$f":"per_game!G260","v":4.3},{"$f":"per_game!H260","v":8.4},{"$f":"per_game!I260","v":0.51600000000000001},{"$f":"per_game!J260","v":2},{"$f":"per_game!K260","v":3.8},{"$f":"per_game!L260","v":0.52600000000000002},{"$f":"per_game!M260","v":2.7},{"$f":"per_game!N260","v":3.1},{"$f":"per_game!O260","v":0.85099999999999998},{"$f":"per_game!P260","v":0.6},{"$f":"per_game!Q260","v":2.4},{"$f":"per_game!R260","v":3},{"$f":"per_game!S260","v":2.1},{"$f":"per_game!T260","v":1.1000000000000001},{"$f":"per_game!U260","v":0.1},{"$f":"per_game!V260","v":1.2},{"$f":"per_game!W260","v":2.2000000000000002},{"$f":"per_game!X260","v":13.3}]
[null,null,{"$f":"Roster!C261","v":"G"},80.072999999999993,{"$f":"per_game!B261 & \"-\" & D262","v":"Shane Battier-80.073"},{"$f":"per_game!D261","v":13},{"$f":"per_game!E261","v":13},{"$f":"per_game!F261","v":26.5},{"$f":"per_game!G261","v":2.2999999999999998},{"$f":"per_game!H261","v":5.2},{"$f":"per_game!I261","v":0.44800000000000001},{"$f":"per_game!J261","v":2.1},{"$f":"per_game!K261","v":4.5},{"$f":"per_game!L261","v":0.45800000000000002},{"$f":"per_game!M261","v":0.3},{"$f":"per_game!N261","v":0.5},{"$f":"per_game!O261","v":0.66700000000000004},{"$f":"per_game!P261","v":0.5},{"$f":"per_game!Q261","v":2},{"$f":"per_game!R261","v":2.5},{"$f":"per_game!S261","v":0.8},{"$f":"per_game!T261","v":0.6},{"$f":"per_game!U261","v":1},{"$f":"per_game!V261","v":0.8},{"$f":"per_game!W261","v":2.5},{"$f":"per_game!X261","v":7}]
[null,null,{"$f":"Roster!C262","v":"G"},85.903999999999996,{"$f":"per_game!B262 & \"-\" & D263","v":"Mario Chalmers-85.904"},{"$f":"per_game!D262","v":15},{"$f":"per_game!E262","v":15},{"$f":"per_game!F262","v":25.9},{"$f":"per_game!G262","v":2.5},{"$f":"per_game!H262","v":6.3},{"$f":"per_game!I262","v":0.40400000000000003},{"$f":"per_game!J262","v":0.8},{"$f":"per_game!K262","v":2.4},{"$f":"per_game!L262","v":0.33300000000000002},{"$f":"per_game!M262","v":0.9},{"$f":"per_game!N262","v":1.4},{"$f":"per_game!O262","v":0.66700000000000004},{"$f":"per_game!P262","v":0.2},{"$f":"per_game!Q262","v":2.6},{"$f":"per_game!R262","v":2.8},{"$f":"per_game!S262","v":4.3},{"$f":"per_game!T262","v":1.8},{"$f":"per_game!U262","v":0.2},{"$f":"per_game!V262","v":1.7},{"$f":"per_game!W262","v":2.7},{"$f":"per_game!X262","v":6.8}]
[null,null,{"$f":"Roster!C263","v":"C"},53.316000000000003,{"$f":"per_game!B263 & \"-\" & D264","v":"Rashard Lewis-53.316"},{"$f":"per_game!D263","v":13},{"$f":"per_game!E263","v":2},{"$f":"per_game!F263","v":15.9},{"$f":"per_game!G263","v":2.5},{"$f":"per_game!H263","v":4.8},{"$f":"per_game!I263","v":0.51600000000000001},{"$f":"per_game!J263","v":1.2},{"$f":"per_game!K263","v":2.5},{"$f":"per_game!L263","v":0.5},{"$f":"per_game!M263","v":0.3},{"$f":"per_game!N263","v":0.6},{"$f":"per_game!O263","v":0.5},{"$f":"per_game!P263","v":0.3},{"$f":"per_game!Q263","v":1.7},{"$f":"per_game!R263","v":2},{"$f":"per_game!S263","v":0.5},{"$f":"per_game!T263","v":0.5},{"$f":"per_game!U263","v":0.1},{"$f":"per_game!V263","v":0.8},{"$f":"per_game!W263","v":1.8},{"$f":"per_game!X263","v":6.5}]
[null,null,{"$f":"Roster!C264","v":"G"},52.904000000000003,{"$f":"per_game!B264 & \"-\" & D265","v":"Norris Cole-52.904"},{"$f":"per_game!D264","v":14},{"$f":"per_game!E264","v":0},{"$f":"per_game!F264","v":19.600000000000001},{"$f":"per_game!G264","v":2},{"$f":"per_game!H264","v":5.4},{"$f":"per_game!I264","v":0.36799999999999999},{"$f":"per_game!J264","v":0.3},{"$f":"per_game!K264","v":1.1000000000000001},{"$f":"per_game!L264","v":0.25},{"$f":"per_game!M264","v":0.8},{"$f":"per_game!N264","v":1},{"$f":"per_game!O264","v":0.78600000000000003},{"$f":"per_game!P264","v":0.4},{"$f":"per_game!Q264","v":1.1000000000000001},{"$f":"per_game!R264","v":1.4},{"$f":"per_game!S264","v":2.2999999999999998},{"$f":"per_game!T264","v":0.6},{"$f":"per_game!U264","v":0.1},{"$f":"per_game!V264","v":1.4},{"$f":"per_game!W264","v":2.2999999999999998},{"$f":"per_game!X264","v":5.0999999999999996}]
[null,null,{"$f":"Roster!C265","v":"F"},51.6,{"$f":"per_game!B265 & \"-\" & D266","v":"Udonis Haslem-51.6"},{"$f":"per_game!D265","v":15},{"$f":"per_game!E265","v":0},{"$f":"per_game!F265","v":17.899999999999999},{"$f":"per_game!G265","v":1.7},{"$f":"per_game!H265","v":3.3},{"$f":"per_game!I265","v":0.5},{"$f":"per_game!J265","v":0},{"$f":"per_game!K265","v":0},{"$f":"per_game!L265","v":0},{"$f":"per_game!M265","v":0.4},{"$f":"per_game!N265","v":0.7},{"$f":"per_game!O265","v":0.6},{"$f":"per_game!P265","v":1.2},{"$f":"per_game!Q265","v":3.9},{"$f":"per_game!R265","v":5.0999999999999996},{"$f":"per_game!S265","v":0.4},{"$f":"per_game!T265","v":0.3},{"$f":"per_game!U265","v":0.1},{"$f":"per_game!V265","v":1},{"$f":"per_game!W265","v":2.2000000000000002},{"$f":"per_game!X265","v":3.7}]
[null,null,{"$f":"Roster!C266","v":"F-G"},47.650999999999996,{"$f":"per_game!B266 & \"-\" & D267","v":"Mike Miller-47.651"},{"$f":"per_game!D266","v":13},{"$f":"per_game!E266","v":3},{"$f":"per_game!F266","v":14},{"$f":"per_game!G266","v":1.2},{"$f":"per_game!H266","v":2.8},{"$f":"per_game!I266","v":0.44400000000000001},{"$f":"per_game!J266","v":0.8},{"$f":"per_game!K266","v":2.1},{"$f":"per_game!L266","v":0.40699999999999997},{"$f":"per_game!M266","v":0.1},{"$f":"per_game!N266","v":0.1},{"$f":"per_game!O266","v":1},{"$f":"per_game!P266","v":0.4},{"$f":"per_game!Q266","v":1.9},{"$f":"per_game!R266","v":2.2999999999999998},{"$f":"per_game!S266","v":1.5},{"$f":"per_game!T266","v":0.4},{"$f":"per_game!U266","v":0},{"$f":"per_game!V266","v":0.4},{"$f":"per_game!W266","v":0.8},{"$f":"per_game!X266","v":3.4}]
[null,null,{"$f":"Roster!C267","v":"F"},16.288,{"$f":"per_game!B267 & \"-\" & D268","v":"James Jones-16.288"},{"$f":"per_game!D267","v":6},{"$f":"per_game!E267","v":0},{"$f":"per_game!F267","v":3.2},{"$f":"per_game!G267","v":0.7},{"$f":"per_game!H267","v":1.5},{"$f":"per_game!I267","v":0.44400000000000001},{"$f":"per_game!J267","v":0.7},{"$f":"per_game!K267","v":1.5},{"$f":"per_game!L267","v":0.44400000000000001},{"$f":"per_game!M267","v":0},{"$f":"per_game!N267","v":0},{"$f":"per_game!O267","v":0},{"$f":"per_game!P267","v":0},{"$f":"per_game!Q267","v":0},{"$f":"per_game!R267","v":0},{"$f":"per_game!S267","v":0},{"$f":"per_game!T267","v":0},{"$f":"per_game!U267","v":0},{"$f":"per_game!V267","v":0},{"$f":"per_game!W267","v":0.2},{"$f":"per_game!X267","v":2}]
[null,null,{"$f":"Roster!C268","v":"F"},15.066999999999998,{"$f":"per_game!B268 & \"-\" & D269","v":"Josh Harrellson-15.067"},{"$f":"per_game!D268","v":3},{"$f":"per_game!E268","v":0},{"$f":"per_game!F268","v":3.3},{"$f":"per_game!G268","v":0.7},{"$f":"per_game!H268","v":1},{"$f":"per_game!I268","v":0.66700000000000004},{"$f":"per_game!J268","v":0.3},{"$f":"per_game!K268","v":0.3},{"$f":"per_game!L268","v":1},{"$f":"per_game!M268","v":0},{"$f":"per_game!N268","v":0},{"$f":"per_game!O268","v":0},{"$f":"per_game!P268","v":0.7},{"$f":"per_game!Q268","v":1},{"$f":"per_game!R268","v":1.7},{"$f":"per_game!S268","v":0},{"$f":"per_game!T268","v":0.3},{"$f":"per_game!U268","v":0},{"$f":"per_game!V268","v":0.3},{"$f":"per_game!W268","v":0.3},{"$f":"per_game!X268","v":1.7}]
[null,null,{"$f":"Roster!C269","v":"F"},12.632999999999999,{"$f":"per_game!B269 & \"-\" & D270","v":"Terrel Harris-12.633"},{"$f":"per_game!D269","v":3},{"$f":"per_game!E269","v":0},{"$f":"per_game!F269","v":3.3},{"$f":"per_game!G269","v":0.3},{"$f":"per_game!H269","v":1},{"$f":"per_game!I269","v":0.33300000000000002},{"$f":"per_game!J269","v":0},{"$f":"per_game!K269","v":0},{"$f":"per_game!L269","v":0},{"$f":"per_game!M269","v":0.7},{"$f":"per_game!N269","v":0.7},{"$f":"per_game!O269","v":1},{"$f":"per_game!P269","v":0.7},{"$f":"per_game!Q269","v":0.3},{"$f":"per_game!R269","v":1},{"$f":"per_game!S269","v":0},{"$f":"per_game!T269","v":0},{"$f":"per_game!U269","v":0},{"$f":"per_game!V269","v":0.7},{"$f":"per_game!W269","v":0.3},{"$f":"per_game!X269","v":1.3}]
[null,null,{"$f":"Roster!C270","v":"C"},18.329000000000004,null,{"$f":"per_game!D270","v":11},{"$f":"per_game!E270","v":0},{"$f":"per_game!F270","v":4.5},{"$f":"per_game!G270","v":0.3},{"$f":"per_game!H270","v":0.6},{"$f":"per_game!I270","v":0.42899999999999999},{"$f":"per_game!J270","v":0},{"$f":"per_game!K270","v":0},{"$f":"per_game!L270","v":0},{"$f":"per_game!M270","v":0},{"$f":"per_game!N270","v":0},{"$f":"per_game!O270","v":0},{"$f":"per_game!P270","v":0.1},{"$f":"per_game!Q270","v":0.5},{"$f":"per_game!R270","v":0.5},{"$f":"per_game!S270","v":0.1},{"$f":"per_game!T270","v":0},{"$f":"per_game!U270","v":0.5},{"$f":"per_game!V270","v":0.3},{"$f":"per_game!W270","v":0.4},{"$f":"per_game!X270","v":0.5}]
[null,null,{"$f":"Roster!C271","v":"G"},2,null,{"$f":"per_game!D271","v":1},{"$f":"per_game!E271","v":0},{"$f":"per_game!F271","v":1},{"$f":"per_game!G271","v":0},{"$f":"per_game!H271","v":0},{"$f":"per_game!I271","v":0},{"$f":"per_game!J271","v":0},{"$f":"per_game!K271","v":0},{"$f":"per_game!L271","v":0},{"$f":"per_game!M271","v":0},{"$f":"per_game!N271","v":0},{"$f":"per_game!O271","v":0},{"$f":"per_game!P271","v":0},{"$f":"per_game!Q271","v":0},{"$f":"per_game!R271","v":0},{"$f":"per_game!S271","v":0},{"$f":"per_game!T271","v":0},{"$f":"per_game!U271","v":0},{"$f":"per_game!V271","v":0},{"$f":"per_game!W271","v":0},{"$f":"per_game!X271","v":0}]
[null,null,{"$f":"Roster!C272","v":0},null,null,{"$f":"per_game!D272","v":0},{"$f":"per_game!E272","v":0},{"$f":"per_game!F272","v":0},{"$f":"per_game!G272","v":0},{"$f":"per_game!H272","v":0},{"$f":"per_game!I272","v":0},{"$f":"per_game!J272","v":0},{"$f":"per_game!K272","v":0},{"$f":"per_game!L272","v":0},{"$f":"per_game!M272","v":0},{"$f":"per_game!N272","v":0},{"$f":"per_game!O272","v":0},{"$f":"per_game!P272","v":0},{"$f":"per_game!Q272","v":0},{"$f":"per_game!R272","v":0},{"$f":"per_game!S272","v":0},{"$f":"per_game!T272","v":0},{"$f":"per_game!U272","v":0},{"$f":"per_game!V272","v":0},{"$f":"per_game!W272","v":0},{"$f":"per_game!X272","v":0}]
[null,null,{"$f":"Roster!C273","v":0},0,{"$f":"per_game!B273 & \"-\" & D274","v":"-0"},{"$f":"per_game!D273","v":0},{"$f":"per_game!E273","v":0},{"$f":"per_game!F273","v":0},{"$f":"per_game!G273","v":0},{"$f":"per_game!H273","v":0},{"$f":"per_game!I273","v":0},{"$f":"per_game!J273","v":0},{"$f":"per_game!K273","v":0},{"$f":"per_game!L273","v":0},{"$f":"per_game!M273","v":0},{"$f":"per_game!N273","v":0},{"$f":"per_game!O273","v":0},{"$f":"per_game!P273","v":0},{"$f":"per_game!Q273","v":0},{"$f":"per_game!R273","v":0},{"$f":"per_game!S273","v":0},{"$f":"per_game!T273","v":0},{"$f":"per_game!U273","v":0},{"$f":"per_game!V273","v":0},{"$f":"per_game!W273","v":0},{"$f":"per_game!X273","v":0}]
[null,null,{"$f":"Roster!C274","v":"Pos"},null,{"$f":"per_game!B274 & \"-\" & D275","v":"Player-"},{"$f":"per_game!D274","v":"G"},{"$f":"per_game!E274","v":"GS"},{"$f":"per_game!F274","v":"MP"},{"$f":"per_game!G274","v":"FG"},{"$f":"per_game!H274","v":"FGA"},{"$f":"per_game!I274","v":"FG%"},{"$f":"per_game!J274","v":"3P"},{"$f":"per_game!K274","v":"3PA"},{"$f":"per_game!L274","v":"3P%"},{"$f":"per_game!M274","v":"FT"},{"$f":"per_game!N274","v":"FTA"},{"$f":"per_game!O274","v":"FT%"},{"$f":"per_game!P274","v":"ORB"},{"$f":"per_game!Q274","v":"DRB"},{"$f":"per_game!R274","v":"TRB"},{"$f":"per_game!S274","v":"AST"},{"$f":"per_game!T274","v":"STL"},{"$f":"per_game!U274","v":"BLK"},{"$f":"per_game!V274","v":"TOV"},{"$f":"per_game!W274","v":"PF"},{"$f":"per_game!X274","v":"PTS"}]
[null,null,{"$f":"Roster!C275","v":"C"},133.26499999999996,{"$f":"per_game!B275 & \"-\" & D276","v":"Monta Ellis-133.265"},{"$f":"per_game!D275","v":16},{"$f":"per_game!E275","v":16},{"$f":"per_game!F275","v":35.1},{"$f":"per_game!G275","v":7.1},{"$f":"per_game!H275","v":17.8},{"$f":"per_game!I275","v":0.40100000000000002},{"$f":"per_game!J275","v":0.8},{"$f":"per_game!K275","v":3.6},{"$f":"per_game!L275","v":0.21099999999999999},{"$f":"per_game!M275","v":3.6},{"$f":"per_game!N275","v":4.3},{"$f":"per_game!O275","v":0.85299999999999998},{"$f":"per_game!P275","v":0.5},{"$f":"per_game!Q275","v":2.6},{"$f":"per_game!R275","v":3.1},{"$f":"per_game!S275","v":5.0999999999999996},{"$f":"per_game!T275","v":1.4},{"$f":"per_game!U275","v":0.6},{"$f":"per_game!V275","v":2.8},{"$f":"per_game!W275","v":1.6},{"$f":"per_game!X275","v":18.600000000000001}]
[null,null,{"$f":"Roster!C276","v":"G-F"},132.58499999999998,{"$f":"per_game!B276 & \"-\" & D277","v":"Brandon Jennings-132.585"},{"$f":"per_game!D276","v":16},{"$f":"per_game!E276","v":16},{"$f":"per_game!F276","v":36},{"$f":"per_game!G276","v":6.6},{"$f":"per_game!H276","v":15.8},{"$f":"per_game!I276","v":0.41499999999999998},{"$f":"per_game!J276","v":1.9},{"$f":"per_game!K276","v":5.0999999999999996},{"$f":"per_game!L276","v":0.37},{"$f":"per_game!M276","v":2},{"$f":"per_game!N276","v":2.5},{"$f":"per_game!O276","v":0.8},{"$f":"per_game!P276","v":0.6},{"$f":"per_game!Q276","v":2.8},{"$f":"per_game!R276","v":3.4},{"$f":"per_game!S276","v":6.3},{"$f":"per_game!T276","v":2.5},{"$f":"per_game!U276","v":0.3},{"$f":"per_game!V276","v":2.2999999999999998},{"$f":"per_game!W276","v":1.5},{"$f":"per_game!X276","v":17}]
[null,null,{"$f":"Roster!C277","v":"F-G"},86.570000000000007,{"$f":"per_game!B277 & \"-\" & D278","v":"Mike Dunleavy-86.57"},{"$f":"per_game!D277","v":15},{"$f":"per_game!E277","v":0},{"$f":"per_game!F277","v":26.7},{"$f":"per_game!G277","v":3.8},{"$f":"per_game!H277","v":8.5},{"$f":"per_game!I277","v":0.44900000000000001},{"$f":"per_game!J277","v":1.7},{"$f":"per_game!K277","v":3.9},{"$f":"per_game!L277","v":0.42399999999999999},{"$f":"per_game!M277","v":1.5},{"$f":"per_game!N277","v":2.2000000000000002},{"$f":"per_game!O277","v":0.69699999999999995},{"$f":"per_game!P277","v":0.6},{"$f":"per_game!Q277","v":4.5},{"$f":"per_game!R277","v":5.0999999999999996},{"$f":"per_game!S277","v":2.4},{"$f":"per_game!T277","v":0.7},{"$f":"per_game!U277","v":0.4},{"$f":"per_game!V277","v":1.1000000000000001},{"$f":"per_game!W277","v":1.7},{"$f":"per_game!X277","v":10.8}]
[null,null,{"$f":"Roster!C278","v":"G"},63.814999999999998,{"$f":"per_game!B278 & \"-\" & D279","v":"Beno Udrih-63.815"},{"$f":"per_game!D278","v":13},{"$f":"per_game!E278","v":0},{"$f":"per_game!F278","v":18.8},{"$f":"per_game!G278","v":3.5},{"$f":"per_game!H278","v":7.2},{"$f":"per_game!I278","v":0.47899999999999998},{"$f":"per_game!J278","v":0.5},{"$f":"per_game!K278","v":1.6},{"$f":"per_game!L278","v":0.28599999999999998},{"$f":"per_game!M278","v":0.9},{"$f":"per_game!N278","v":1.2},{"$f":"per_game!O278","v":0.75},{"$f":"per_game!P278","v":0.5},{"$f":"per_game!Q278","v":2.2999999999999998},{"$f":"per_game!R278","v":2.8},{"$f":"per_game!S278","v":3.3},{"$f":"per_game!T278","v":0.8},{"$f":"per_game!U278","v":0.2},{"$f":"per_game!V278","v":1.5},{"$f":"per_game!W278","v":1.1000000000000001},{"$f":"per_game!X278","v":8.3000000000000007}]
[null,null,{"$f":"Roster!C279","v":"F"},75.562999999999988,{"$f":"per_game!B279 & \"-\" & D280","v":"Larry Sanders-75.563"},{"$f":"per_game!D279","v":16},{"$f":"per_game!E279","v":0},{"$f":"per_game!F279","v":23.1},{"$f":"per_game!G279","v":3.4},{"$f":"per_game!H279","v":6.3},{"$f":"per_game!I279","v":0.55000000000000004},{"$f":"per_game!J279","v":0},{"$f":"per_game!K279","v":0.1},{"$f":"per_game!L279","v":0},{"$f":"per_game!M279","v":1.2},{"$f":"per_game!N279","v":1.9},{"$f":"per_game!O279","v":0.61299999999999999},{"$f":"per_game!P279","v":2.2000000000000002},{"$f":"per_game!Q279","v":5.4},{"$f":"per_game!R279","v":7.6},{"$f":"per_game!S279","v":0.8},{"$f":"per_game!T279","v":0.6},{"$f":"per_game!U279","v":3},{"$f":"per_game!V279","v":1.3},{"$f":"per_game!W279","v":4},{"$f":"per_game!X279","v":8.1}]
[null,null,{"$f":"Roster!C280","v":"F"},53.466999999999999,{"$f":"per_game!B280 & \"-\" & D281","v":"Luc Mbah a Moute-53.467"},{"$f":"per_game!D280","v":2},{"$f":"per_game!E280","v":0},{"$f":"per_game!F280","v":17},{"$f":"per_game!G280","v":3.5},{"$f":"per_game!H280","v":7.5},{"$f":"per_game!I280","v":0.46700000000000003},{"$f":"per_game!J280","v":0},{"$f":"per_game!K280","v":0.5},{"$f":"per_game!L280","v":0},{"$f":"per_game!M280","v":0.5},{"$f":"per_game!N280","v":1},{"$f":"per_game!O280","v":0.5},{"$f":"per_game!P280","v":4.5},{"$f":"per_game!Q280","v":2.5},{"$f":"per_game!R280","v":7},{"$f":"per_game!S280","v":2},{"$f":"per_game!T280","v":0},{"$f":"per_game!U280","v":0},{"$f":"per_game!V280","v":2},{"$f":"per_game!W280","v":1},{"$f":"per_game!X280","v":7.5}]
[null,null,{"$f":"Roster!C281","v":"F"},72.171999999999983,{"$f":"per_game!B281 & \"-\" & D282","v":"Tobias Harris-72.172"},{"$f":"per_game!D281","v":15},{"$f":"per_game!E281","v":14},{"$f":"per_game!F281","v":17.3},{"$f":"per_game!G281","v":2.9},{"$f":"per_game!H281","v":5.7},{"$f":"per_game!I281","v":0.50600000000000001},{"$f":"per_game!J281","v":0.4},{"$f":"per_game!K281","v":1.2},{"$f":"per_game!L281","v":0.33300000000000002},{"$f":"per_game!M281","v":1},{"$f":"per_game!N281","v":1.2},{"$f":"per_game!O281","v":0.83299999999999996},{"$f":"per_game!P281","v":0.6},{"$f":"per_game!Q281","v":2.4},{"$f":"per_game!R281","v":3},{"$f":"per_game!S281","v":0.7},{"$f":"per_game!T281","v":0.3},{"$f":"per_game!U281","v":0.3},{"$f":"per_game!V281","v":0.9},{"$f":"per_game!W281","v":1.7},{"$f":"per_game!X281","v":7.1}]
[null,null,{"$f":"Roster!C282","v":"G"},81.691000000000017,{"$f":"per_game!B282 & \"-\" & D283","v":"Ersan Ilyasova-81.691"},{"$f":"per_game!D282","v":15},{"$f":"per_game!E282","v":11},{"$f":"per_game!F282","v":22.8},{"$f":"per_game!G282","v":2.8},{"$f":"per_game!H282","v":7.9},{"$f":"per_game!I282","v":0.35299999999999998},{"$f":"per_game!J282","v":0.5},{"$f":"per_game!K282","v":2.1},{"$f":"per_game!L282","v":0.219},{"$f":"per_game!M282","v":0.9},{"$f":"per_game!N282","v":1.4},{"$f":"per_game!O282","v":0.61899999999999999},{"$f":"per_game!P282","v":1.3},{"$f":"per_game!Q282","v":3.4},{"$f":"per_game!R282","v":4.7},{"$f":"per_game!S282","v":1.5},{"$f":"per_game!T282","v":0.4},{"$f":"per_game!U282","v":0.3},{"$f":"per_game!V282","v":0.6},{"$f":"per_game!W282","v":1.8},{"$f":"per_game!X282","v":6.9}]
[null,null,{"$f":"Roster!C283","v":"G"},69.436000000000021,{"$f":"per_game!B283 & \"-\" & D284","v":"Samuel Dalembert-69.436"},{"$f":"per_game!D283","v":13},{"$f":"per_game!E283","v":13},{"$f":"per_game!F283","v":17.2},{"$f":"per_game!G283","v":2.7},{"$f":"per_game!H283","v":4.5},{"$f":"per_game!I283","v":0.60299999999999998},{"$f":"per_game!J283","v":0.1},{"$f":"per_game!K283","v":0.1},{"$f":"per_game!L283","v":1},{"$f":"per_game!M283","v":0.8},{"$f":"per_game!N283","v":0.9},{"$f":"per_game!O283","v":0.83299999999999996},{"$f":"per_game!P283","v":1.7},{"$f":"per_game!Q283","v":3.2},{"$f":"per_game!R283","v":4.8},{"$f":"per_game!S283","v":0.7},{"$f":"per_game!T283","v":0.2},{"$f":"per_game!U283","v":1},{"$f":"per_game!V283","v":1.3},{"$f":"per_game!W283","v":1.8},{"$f":"per_game!X283","v":6.2}]
[null,null,{"$f":"Roster!C284","v":"F"},53.396000000000008,{"$f":"per_game!B284 & \"-\" & D285","v":"John Henson-53.396"},{"$f":"per_game!D284","v":11},{"$f":"per_game!E284","v":5},{"$f":"per_game!F284","v":13.6},{"$f":"per_game!G284","v":2.6},{"$f":"per_game!H284","v":5.5},{"$f":"per_game!I284","v":0.47499999999999998},{"$f":"per_game!J284","v":0},{"$f":"per_game!K284","v":0.1},{"$f":"per_game!L284","v":0},{"$f":"per_game!M284","v":0.7},{"$f":"per_game!N284","v":1.7},{"$f":"per_game!O284","v":0.42099999999999999},{"$f":"per_game!P284","v":1.9},{"$f":"per_game!Q284","v":1.8},{"$f":"per_game!R284","v":3.7},{"$f":"per_game!S284","v":0.5},{"$f":"per_game!T284","v":0.3},{"$f":"per_game!U284","v":0.6},{"$f":"per_game!V284","v":0.6},{"$f":"per_game!W284","v":1.9},{"$f":"per_game!X284","v":6}]
[null,null,{"$f":"Roster!C285","v":"C"},51.986000000000004,{"$f":"per_game!B285 & \"-\" & D286","v":"Marquis Daniels-51.986"},{"$f":"per_game!D285","v":12},{"$f":"per_game!E285","v":2},{"$f":"per_game!F285","v":16.100000000000001},{"$f":"per_game!G285","v":2.4},{"$f":"per_game!H285","v":5.8},{"$f":"per_game!I285","v":0.41399999999999998},{"$f":"per_game!J285","v":0.1},{"$f":"per_game!K285","v":1},{"$f":"per_game!L285","v":8.3000000000000004E-2},{"$f":"per_game!M285","v":0.7},{"$f":"per_game!N285","v":0.8},{"$f":"per_game!O285","v":0.88900000000000001},{"$f":"per_game!P285","v":0.5},{"$f":"per_game!Q285","v":1.1000000000000001},{"$f":"per_game!R285","v":1.6},{"$f":"per_game!S285","v":1.3},{"$f":"per_game!T285","v":1},{"$f":"per_game!U285","v":0.3},{"$f":"per_game!V285","v":0.8},{"$f":"per_game!W285","v":0.9},{"$f":"per_game!X285","v":5.6}]
[null,null,{"$f":"Roster!C286","v":"F"},63.793000000000013,null,{"$f":"per_game!D286","v":16},{"$f":"per_game!E286","v":2},{"$f":"per_game!F286","v":22.2},{"$f":"per_game!G286","v":2.1},{"$f":"per_game!H286","v":4.7},{"$f":"per_game!I286","v":0.45300000000000001},{"$f":"per_game!J286","v":0},{"$f":"per_game!K286","v":0},{"$f":"per_game!L286","v":0},{"$f":"per_game!M286","v":1.3},{"$f":"per_game!N286","v":1.6},{"$f":"per_game!O286","v":0.84},{"$f":"per_game!P286","v":1.5},{"$f":"per_game!Q286","v":2.2999999999999998},{"$f":"per_game!R286","v":3.8},{"$f":"per_game!S286","v":0.9},{"$f":"per_game!T286","v":0.6},{"$f":"per_game!U286","v":1.1000000000000001},{"$f":"per_game!V286","v":0.9},{"$f":"per_game!W286","v":2.2999999999999998},{"$f":"per_game!X286","v":5.6}]
[null,null,{"$f":"Roster!C287","v":"F"},33.717999999999996,null,{"$f":"per_game!D287","v":10},{"$f":"per_game!E287","v":0},{"$f":"per_game!F287","v":11.9},{"$f":"per_game!G287","v":1.6},{"$f":"per_game!H287","v":3.7},{"$f":"per_game!I287","v":0.432},{"$f":"per_game!J287","v":0.2},{"$f":"per_game!K287","v":0.7},{"$f":"per_game!L287","v":0.28599999999999998},{"$f":"per_game!M287","v":0.2},{"$f":"per_game!N287","v":0.2},{"$f":"per_game!O287","v":1},{"$f":"per_game!P287","v":0},{"$f":"per_game!Q287","v":0.4},{"$f":"per_game!R287","v":0.4},{"$f":"per_game!S287","v":0.9},{"$f":"per_game!T287","v":0.1},{"$f":"per_game!U287","v":0},{"$f":"per_game!V287","v":0.7},{"$f":"per_game!W287","v":1.2},{"$f":"per_game!X287","v":3.6}]
[null,null,{"$f":"Roster!C288","v":"G"},null,null,{"$f":"per_game!D288","v":6},{"$f":"per_game!E288","v":1},{"$f":"per_game!F288","v":6.3},{"$f":"per_game!G288","v":0.2},{"$f":"per_game!H288","v":0.5},{"$f":"per_game!I288","v":0.33300000000000002},{"$f":"per_game!J288","v":0},{"$f":"per_game!K288","v":0},{"$f":"per_game!L288","v":0},{"$f":"per_game!M288","v":0},{"$f":"per_game!N288","v":0.3},{"$f":"per_game!O288","v":0},{"$f":"per_game!P288","v":0.5},{"$f":"per_game!Q288","v":1.5},{"$f":"per_game!R288","v":2},{"$f":"per_game!S288","v":0.5},{"$f":"per_game!T288","v":0.2},{"$f":"per_game!U288","v":0.2},{"$f":"per_game!V288","v":0.3},{"$f":"per_game!W288","v":0.8},{"$f":"per_game!X288","v":0.3}]
[null,null,{"$f":"Roster!C289","v":0},0,{"$f":"per_game!B289 & \"-\" & D290","v":"-0"},{"$f":"per_game!D289","v":0},{"$f":"per_game!E289","v":0},{"$f":"per_game!F289","v":0},{"$f":"per_game!G289","v":0},{"$f":"per_game!H289","v":0},{"$f":"per_game!I289","v":0},{"$f":"per_game!J289","v":0},{"$f":"per_game!K289","v":0},{"$f":"per_game!L289","v":0},{"$f":"per_game!M289","v":0},{"$f":"per_game!N289","v":0},{"$f":"per_game!O289","v":0},{"$f":"per_game!P289","v":0},{"$f":"per_game!Q289","v":0},{"$f":"per_game!R289","v":0},{"$f":"per_game!S289","v":0},{"$f":"per_game!T289","v":0},{"$f":"per_game!U289","v":0},{"$f":"per_game!V289","v":0},{"$f":"per_game!W289","v":0},{"$f":"per_game!X289","v":0}]
[null,null,{"$f":"Roster!C290","v":0},0,{"$f":"per_game!B290 & \"-\" & D291","v":"-0"},{"$f":"per_game!D290","v":0},{"$f":"per_game!E290","v":0},{"$f":"per_game!F290","v":0},{"$f":"per_game!G290","v":0},{"$f":"per_game!H290","v":0},{"$f":"per_game!I290","v":0},{"$f":"per_game!J290","v":0},{"$f":"per_game!K290","v":0},{"$f":"per_game!L290","v":0},{"$f":"per_game!M290","v":0},{"$f":"per_game!N290","v":0},{"$f":"per_game!O290","v":0},{"$f":"per_game!P290","v":0},{"$f":"per_game!Q290","v":0},{"$f":"per_game!R290","v":0},{"$f":"per_game!S290","v":0},{"$f":"per_game!T290","v":0},{"$f":"per_game!U290","v":0},{"$f":"per_game!V290","v":0},{"$f":"per_game!W290","v":0},{"$f":"per_game!X290","v":0}]
[null,null,{"$f":"Roster!C291","v":"Pos"},null,{"$f":"per_game!B291 & \"-\" & D292","v":"Player-"},{"$f":"per_game!D291","v":"G"},{"$f":"per_game!E291","v":"GS"},{"$f":"per_game!F291","v":"MP"},{"$f":"per_game!G291","v":"FG"},{"$f":"per_game!H291","v":"FGA"},{"$f":"per_game!I291","v":"FG%"},{"$f":"per_game!J291","v":"3P"},{"$f":"per_game!K291","v":"3PA"},{"$f":"per_game!L291","v":"3P%"},{"$f":"per_game!M291","v":"FT"},{"$f":"per_game!N291","v":"FTA"},{"$f":"per_game!O291","v":"FT%"},{"$f":"per_game!P291","v":"ORB"},{"$f":"per_game!Q291","v":"DRB"},{"$f":"per_game!R291","v":"TRB"},{"$f":"per_game!S291","v":"AST"},{"$f":"per_game!T291","v":"STL"},{"$f":"per_game!U291","v":"BLK"},{"$f":"per_game!V291","v":"TOV"},{"$f":"per_game!W291","v":"PF"},{"$f":"per_game!X291","v":"PTS"}]
[null,null,{"$f":"Roster!C292","v":"F"},149.64700000000002,{"$f":"per_game!B292 & \"-\" & D293","v":"Kevin Love-149.647"},{"$f":"per_game!D292","v":6},{"$f":"per_game!E292","v":6},{"$f":"per_game!F292","v":35.700000000000003},{"$f":"per_game!G292","v":6.7},{"$f":"per_game!H292","v":18},{"$f":"per_game!I292","v":0.37},{"$f":"per_game!J292","v":1.2},{"$f":"per_game!K292","v":6},{"$f":"per_game!L292","v":0.19400000000000001},{"$f":"per_game!M292","v":7.2},{"$f":"per_game!N292","v":10.5},{"$f":"per_game!O292","v":0.68300000000000005},{"$f":"per_game!P292","v":3.8},{"$f":"per_game!Q292","v":11.5},{"$f":"per_game!R292","v":15.3},{"$f":"per_game!S292","v":1.7},{"$f":"per_game!T292","v":1.3},{"$f":"per_game!U292","v":0.5},{"$f":"per_game!V292","v":2},{"$f":"per_game!W292","v":2.7},{"$f":"per_game!X292","v":21.7}]
[null,null,{"$f":"Roster!C293","v":"G"},112.32099999999997,{"$f":"per_game!B293 & \"-\" & D294","v":"Nikola Pekovic-112.321"},{"$f":"per_game!D293","v":13},{"$f":"per_game!E293","v":13},{"$f":"per_game!F293","v":31.5},{"$f":"per_game!G293","v":5.6},{"$f":"per_game!H293","v":11.5},{"$f":"per_game!I293","v":0.48699999999999999},{"$f":"per_game!J293","v":0},{"$f":"per_game!K293","v":0},{"$f":"per_game!L293","v":0},{"$f":"per_game!M293","v":3.6},{"$f":"per_game!N293","v":4.9000000000000004},{"$f":"per_game!O293","v":0.73399999999999999},{"$f":"per_game!P293","v":3},{"$f":"per_game!Q293","v":4.5999999999999996},{"$f":"per_game!R293","v":7.6},{"$f":"per_game!S293","v":1.2},{"$f":"per_game!T293","v":0.8},{"$f":"per_game!U293","v":1},{"$f":"per_game!V293","v":2.2000000000000002},{"$f":"per_game!W293","v":2.8},{"$f":"per_game!X293","v":14.8}]
[null,null,{"$f":"Roster!C294","v":"F"},118.99699999999997,{"$f":"per_game!B294 & \"-\" & D295","v":"Andrei Kirilenko-118.997"},{"$f":"per_game!D294","v":13},{"$f":"per_game!E294","v":13},{"$f":"per_game!F294","v":36.4},{"$f":"per_game!G294","v":4.5999999999999996},{"$f":"per_game!H294","v":9.1},{"$f":"per_game!I294","v":0.50800000000000001},{"$f":"per_game!J294","v":0.7},{"$f":"per_game!K294","v":1.8},{"$f":"per_game!L294","v":0.375},{"$f":"per_game!M294","v":3.1},{"$f":"per_game!N294","v":4.3},{"$f":"per_game!O294","v":0.71399999999999997},{"$f":"per_game!P294","v":2.2000000000000002},{"$f":"per_game!Q294","v":5.6},{"$f":"per_game!R294","v":7.8},{"$f":"per_game!S294","v":3.3},{"$f":"per_game!T294","v":1.5},{"$f":"per_game!U294","v":1.8},{"$f":"per_game!V294","v":2.6},{"$f":"per_game!W294","v":1.2},{"$f":"per_game!X294","v":13}]
[null,null,{"$f":"Roster!C295","v":"G"},73.683999999999983,{"$f":"per_game!B295 & \"-\" & D296","v":"Chase Budinger-73.684"},{"$f":"per_game!D295","v":6},{"$f":"per_game!E295","v":1},{"$f":"per_game!F295","v":23.5},{"$f":"per_game!G295","v":4},{"$f":"per_game!H295","v":8.3000000000000007},{"$f":"per_game!I295","v":0.48},{"$f":"per_game!J295","v":1.2},{"$f":"per_game!K295","v":3.8},{"$f":"per_game!L295","v":0.30399999999999999},{"$f":"per_game!M295","v":2.7},{"$f":"per_game!N295","v":3.3},{"$f":"per_game!O295","v":0.8},{"$f":"per_game!P295","v":0.7},{"$f":"per_game!Q295","v":2.8},{"$f":"per_game!R295","v":3.5},{"$f":"per_game!S295","v":1.5},{"$f":"per_game!T295","v":1},{"$f":"per_game!U295","v":0.5},{"$f":"per_game!V295","v":2},{"$f":"per_game!W295","v":1.5},{"$f":"per_game!X295","v":11.8}]
[null,null,{"$f":"Roster!C296","v":"F"},105.12100000000001,{"$f":"per_game!B296 & \"-\" & D297","v":"Luke Ridnour-105.121"},{"$f":"per_game!D296","v":15},{"$f":"per_game!E296","v":15},{"$f":"per_game!F296","v":31.8},{"$f":"per_game!G296","v":4.3},{"$f":"per_game!H296","v":9.6999999999999993},{"$f":"per_game!I296","v":0.441},{"$f":"per_game!J296","v":0.9},{"$f":"per_game!K296","v":2.9},{"$f":"per_game!L296","v":0.318},{"$f":"per_game!M296","v":2.1},{"$f":"per_game!N296","v":2.8},{"$f":"per_game!O296","v":0.76200000000000001},{"$f":"per_game!P296","v":0.4},{"$f":"per_game!Q296","v":2.5},{"$f":"per_game!R296","v":2.9},{"$f":"per_game!S296","v":4.4000000000000004},{"$f":"per_game!T296","v":1.3},{"$f":"per_game!U296","v":0.3},{"$f":"per_game!V296","v":1.8},{"$f":"per_game!W296","v":2.5},{"$f":"per_game!X296","v":11.6}]
[null,null,{"$f":"Roster!C297","v":"F-G"},80.67,{"$f":"per_game!B297 & \"-\" & D298","v":"Alexey Shved-80.67"},{"$f":"per_game!D297","v":15},{"$f":"per_game!E297","v":0},{"$f":"per_game!F297","v":24.4},{"$f":"per_game!G297","v":3.4},{"$f":"per_game!H297","v":8.6999999999999993},{"$f":"per_game!I297","v":0.38900000000000001},{"$f":"per_game!J297","v":1.4},{"$f":"per_game!K297","v":4.5},{"$f":"per_game!L297","v":0.313},{"$f":"per_game!M297","v":2.2000000000000002},{"$f":"per_game!N297","v":2.5},{"$f":"per_game!O297","v":0.86799999999999999},{"$f":"per_game!P297","v":0.7},{"$f":"per_game!Q297","v":1.9},{"$f":"per_game!R297","v":2.6},{"$f":"per_game!S297","v":3.7},{"$f":"per_game!T297","v":0.6},{"$f":"per_game!U297","v":0.5},{"$f":"per_game!V297","v":1.9},{"$f":"per_game!W297","v":1.5},{"$f":"per_game!X297","v":10.4}]
[null,null,{"$f":"Roster!C298","v":"F"},83.457000000000008,{"$f":"per_game!B298 & \"-\" & D299","v":"Derrick Williams-83.457"},{"$f":"per_game!D298","v":12},{"$f":"per_game!E298","v":9},{"$f":"per_game!F298","v":21.1},{"$f":"per_game!G298","v":3.3},{"$f":"per_game!H298","v":8.8000000000000007},{"$f":"per_game!I298","v":0.38100000000000001},{"$f":"per_game!J298","v":0.7},{"$f":"per_game!K298","v":2},{"$f":"per_game!L298","v":0.33300000000000002},{"$f":"per_game!M298","v":2.2000000000000002},{"$f":"per_game!N298","v":2.9},{"$f":"per_game!O298","v":0.74299999999999999},{"$f":"per_game!P298","v":1.3},{"$f":"per_game!Q298","v":4.2},{"$f":"per_game!R298","v":5.5},{"$f":"per_game!S298","v":0.7},{"$f":"per_game!T298","v":0.3},{"$f":"per_game!U298","v":1},{"$f":"per_game!V298","v":1.5},{"$f":"per_game!W298","v":1},{"$f":"per_game!X298","v":9.5}]
[null,null,{"$f":"Roster!C299","v":"G"},68.472000000000008,{"$f":"per_game!B299 & \"-\" & D300","v":"Jose Barea-68.472"},{"$f":"per_game!D299","v":10},{"$f":"per_game!E299","v":1},{"$f":"per_game!F299","v":21.2},{"$f":"per_game!G299","v":2.9},{"$f":"per_game!H299","v":7.5},{"$f":"per_game!I299","v":0.38700000000000001},{"$f":"per_game!J299","v":0.8},{"$f":"per_game!K299","v":2.9},{"$f":"per_game!L299","v":0.27600000000000002},{"$f":"per_game!M299","v":2},{"$f":"per_game!N299","v":2.2000000000000002},{"$f":"per_game!O299","v":0.90900000000000003},{"$f":"per_game!P299","v":1},{"$f":"per_game!Q299","v":2.2000000000000002},{"$f":"per_game!R299","v":3.2},{"$f":"per_game!S299","v":4.4000000000000004},{"$f":"per_game!T299","v":0.5},{"$f":"per_game!U299","v":0},{"$f":"per_game!V299","v":1.8},{"$f":"per_game!W299","v":1.7},{"$f":"per_game!X299","v":8.6}]
[null,null,{"$f":"Roster!C300","v":"F"},67.841000000000008,{"$f":"per_game!B300 & \"-\" & D301","v":"Dante Cunningham-67.841"},{"$f":"per_game!D300","v":15},{"$f":"per_game!E300","v":0},{"$f":"per_game!F300","v":22.3},{"$f":"per_game!G300","v":3.6},{"$f":"per_game!H300","v":7.3},{"$f":"per_game!I300","v":0.49099999999999999},{"$f":"per_game!J300","v":0},{"$f":"per_game!K300","v":0},{"$f":"per_game!L300","v":0},{"$f":"per_game!M300","v":0.6},{"$f":"per_game!N300","v":0.8},{"$f":"per_game!O300","v":0.75},{"$f":"per_game!P300","v":1.8},{"$f":"per_game!Q300","v":3.2},{"$f":"per_game!R300","v":5},{"$f":"per_game!S300","v":0.6},{"$f":"per_game!T300","v":0.7},{"$f":"per_game!U300","v":0.7},{"$f":"per_game!V300","v":0.5},{"$f":"per_game!W300","v":2.2999999999999998},{"$f":"per_game!X300","v":7.8}]
[null,null,{"$f":"Roster!C301","v":"C-F"},50.196999999999996,{"$f":"per_game!B301 & \"-\" & D302","v":"Josh Howard-50.197"},{"$f":"per_game!D301","v":7},{"$f":"per_game!E301","v":2},{"$f":"per_game!F301","v":17},{"$f":"per_game!G301","v":2.4},{"$f":"per_game!H301","v":6.4},{"$f":"per_game!I301","v":0.378},{"$f":"per_game!J301","v":0.3},{"$f":"per_game!K301","v":1},{"$f":"per_game!L301","v":0.28599999999999998},{"$f":"per_game!M301","v":0.7},{"$f":"per_game!N301","v":0.9},{"$f":"per_game!O301","v":0.83299999999999996},{"$f":"per_game!P301","v":1},{"$f":"per_game!Q301","v":2},{"$f":"per_game!R301","v":3},{"$f":"per_game!S301","v":0.6},{"$f":"per_game!T301","v":0.7},{"$f":"per_game!U301","v":0.4},{"$f":"per_game!V301","v":0.7},{"$f":"per_game!W301","v":1.9},{"$f":"per_game!X301","v":5.9}]
[null,null,{"$f":"Roster!C302","v":"G"},64.01400000000001,{"$f":"per_game!B302 & \"-\" & D303","v":"Brandon Roy-64.014"},{"$f":"per_game!D302","v":5},{"$f":"per_game!E302","v":5},{"$f":"per_game!F302","v":24.4},{"$f":"per_game!G302","v":2.2000000000000002},{"$f":"per_game!H302","v":7},{"$f":"per_game!I302","v":0.314},{"$f":"per_game!J302","v":0},{"$f":"per_game!K302","v":1.8},{"$f":"per_game!L302","v":0},{"$f":"per_game!M302","v":1.4},{"$f":"per_game!N302","v":2},{"$f":"per_game!O302","v":0.7},{"$f":"per_game!P302","v":0.6},{"$f":"per_game!Q302","v":2.2000000000000002},{"$f":"per_game!R302","v":2.8},{"$f":"per_game!S302","v":4.5999999999999996},{"$f":"per_game!T302","v":0.6},{"$f":"per_game!U302","v":0},{"$f":"per_game!V302","v":1.4},{"$f":"per_game!W302","v":1},{"$f":"per_game!X302","v":5.8}]
[null,null,{"$f":"Roster!C303","v":"G"},57.843999999999987,{"$f":"per_game!B303 & \"-\" & D304","v":"Malcolm Lee-57.844"},{"$f":"per_game!D303","v":12},{"$f":"per_game!E303","v":8},{"$f":"per_game!F303","v":18},{"$f":"per_game!G303","v":1.8},{"$f":"per_game!H303","v":5},{"$f":"per_game!I303","v":0.36699999999999999},{"$f":"per_game!J303","v":0.4},{"$f":"per_game!K303","v":1.4},{"$f":"per_game!L303","v":0.29399999999999998},{"$f":"per_game!M303","v":0.6},{"$f":"per_game!N303","v":1},{"$f":"per_game!O303","v":0.58299999999999996},{"$f":"per_game!P303","v":1},{"$f":"per_game!Q303","v":1.2},{"$f":"per_game!R303","v":2.2000000000000002},{"$f":"per_game!S303","v":1.3},{"$f":"per_game!T303","v":0.6},{"$f":"per_game!U303","v":0.3},{"$f":"per_game!V303","v":0.7},{"$f":"per_game!W303","v":2.2000000000000002},{"$f":"per_game!X303","v":4.7}]
[null,null,{"$f":"Roster!C304","v":"G"},41.997000000000007,null,{"$f":"per_game!D304","v":13},{"$f":"per_game!E304","v":2},{"$f":"per_game!F304","v":12.5},{"$f":"per_game!G304","v":1.3},{"$f":"per_game!H304","v":3.7},{"$f":"per_game!I304","v":0.35399999999999998},{"$f":"per_game!J304","v":0},{"$f":"per_game!K304","v":0},{"$f":"per_game!L304","v":0},{"$f":"per_game!M304","v":0.7},{"$f":"per_game!N304","v":1.1000000000000001},{"$f":"per_game!O304","v":0.64300000000000002},{"$f":"per_game!P304","v":0.6},{"$f":"per_game!Q304","v":1.7},{"$f":"per_game!R304","v":2.2999999999999998},{"$f":"per_game!S304","v":0.4},{"$f":"per_game!T304","v":0.2},{"$f":"per_game!U304","v":1.1000000000000001},{"$f":"per_game!V304","v":0.8},{"$f":"per_game!W304","v":2.1},{"$f":"per_game!X304","v":3.3}]
[null,null,{"$f":"Roster!C305","v":"C"},26.582000000000001,null,{"$f":"per_game!D305","v":8},{"$f":"per_game!E305","v":0},{"$f":"per_game!F305","v":10},{"$f":"per_game!G305","v":0.3},{"$f":"per_game!H305","v":1.4},{"$f":"per_game!I305","v":0.182},{"$f":"per_game!J305","v":0},{"$f":"per_game!K305","v":0},{"$f":"per_game!L305","v":0},{"$f":"per_game!M305","v":0.4},{"$f":"per_game!N305","v":1.3},{"$f":"per_game!O305","v":0.3},{"$f":"per_game!P305","v":1.1000000000000001},{"$f":"per_game!Q305","v":1.3},{"$f":"per_game!R305","v":2.4},{"$f":"per_game!S305","v":0.1},{"$f":"per_game!T305","v":0.6},{"$f":"per_game!U305","v":0.6},{"$f":"per_game!V305","v":0.8},{"$f":"per_game!W305","v":1.5},{"$f":"per_game!X305","v":0.9}]
[null,null,{"$f":"Roster!C306","v":"F"},null,null,{"$f":"per_game!D306","v":4},{"$f":"per_game!E306","v":0},{"$f":"per_game!F306","v":5},{"$f":"per_game!G306","v":0},{"$f":"per_game!H306","v":2.2999999999999998},{"$f":"per_game!I306","v":0},{"$f":"per_game!J306","v":0},{"$f":"per_game!K306","v":0.8},{"$f":"per_game!L306","v":0},{"$f":"per_game!M306","v":0.3},{"$f":"per_game!N306","v":0.5},{"$f":"per_game!O306","v":0.5},{"$f":"per_game!P306","v":0.3},{"$f":"per_game!Q306","v":0},{"$f":"per_game!R306","v":0.3},{"$f":"per_game!S306","v":0},{"$f":"per_game!T306","v":0},{"$f":"per_game!U306","v":0},{"$f":"per_game!V306","v":0},{"$f":"per_game!W306","v":0.3},{"$f":"per_game!X306","v":0.3}]
[null,null,{"$f":"Roster!C307","v":0},0,{"$f":"per_game!B307 & \"-\" & D308","v":"-0"},{"$f":"per_game!D307","v":0},{"$f":"per_game!E307","v":0},{"$f":"per_game!F307","v":0},{"$f":"per_game!G307","v":0},{"$f":"per_game!H307","v":0},{"$f":"per_game!I307","v":0},{"$f":"per_game!J307","v":0},{"$f":"per_game!K307","v":0},{"$f":"per_game!L307","v":0},{"$f":"per_game!M307","v":0},{"$f":"per_game!N307","v":0},{"$f":"per_game!O307","v":0},{"$f":"per_game!P307","v":0},{"$f":"per_game!Q307","v":0},{"$f":"per_game!R307","v":0},{"$f":"per_game!S307","v":0},{"$f":"per_game!T307","v":0},{"$f":"per_game!U307","v":0},{"$f":"per_game!V307","v":0},{"$f":"per_game!W307","v":0},{"$f":"per_game!X307","v":0}]
[null,null,{"$f":"Roster!C308","v":0},0,{"$f":"per_game!B308 & \"-\" & D309","v":"-0"},{"$f":"per_game!D308","v":0},{"$f":"per_game!E308","v":0},{"$f":"per_game!F308","v":0},{"$f":"per_game!G308","v":0},{"$f":"per_game!H308","v":0},{"$f":"per_game!I308","v":0},{"$f":"per_game!J308","v":0},{"$f":"per_game!K308","v":0},{"$f":"per_game!L308","v":0},{"$f":"per_game!M308","v":0},{"$f":"per_game!N308","v":0},{"$f":"per_game!O308","v":0},{"$f":"per_game!P308","v":0},{"$f":"per_game!Q308","v":0},{"$f":"per_game!R308","v":0},{"$f":"per_game!S308","v":0},{"$f":"per_game!T308","v":0},{"$f":"per_game!U308","v":0},{"$f":"per_game!V308","v":0},{"$f":"per_game!W308","v":0},{"$f":"per_game!X308","v":0}]
[null,null,{"$f":"Roster!C309","v":"Pos"},null,{"$f":"per_game!B309 & \"-\" & D310","v":"Player-"},{"$f":"per_game!D309","v":"G"},{"$f":"per_game!E309","v":"GS"},{"$f":"per_game!F309","v":"MP"},{"$f":"per_game!G309","v":"FG"},{"$f":"per_game!H309","v":"FGA"},{"$f":"per_game!I309","v":"FG%"},{"$f":"per_game!J309","v":"3P"},{"$f":"per_game!K309","v":"3PA"},{"$f":"per_game!L309","v":"3P%"},{"$f":"per_game!M309","v":"FT"},{"$f":"per_game!N309","v":"FTA"},{"$f":"per_game!O309","v":"FT%"},{"$f":"per_game!P309","v":"ORB"},{"$f":"per_game!Q309","v":"DRB"},{"$f":"per_game!R309","v":"TRB"},{"$f":"per_game!S309","v":"AST"},{"$f":"per_game!T309","v":"STL"},{"$f":"per_game!U309","v":"BLK"},{"$f":"per_game!V309","v":"TOV"},{"$f":"per_game!W309","v":"PF"},{"$f":"per_game!X309","v":"PTS"}]
[null,null,{"$f":"Roster!C310","v":"F"},126.15100000000001,{"$f":"per_game!B310 & \"-\" & D311","v":"Ryan Anderson-126.151"},{"$f":"per_game!D310","v":16},{"$f":"per_game!E310","v":10},{"$f":"per_game!F310","v":32.799999999999997},{"$f":"per_game!G310","v":6.6},{"$f":"per_game!H310","v":13.9},{"$f":"per_game!I310","v":0.47099999999999997},{"$f":"per_game!J310","v":3.3},{"$f":"per_game!K310","v":7.7},{"$f":"per_game!L310","v":0.42299999999999999},{"$f":"per_game!M310","v":1.1000000000000001},{"$f":"per_game!N310","v":1.3},{"$f":"per_game!O310","v":0.85699999999999998},{"$f":"per_game!P310","v":2.2999999999999998},{"$f":"per_game!Q310","v":5.6},{"$f":"per_game!R310","v":7.9},{"$f":"per_game!S310","v":1.4},{"$f":"per_game!T310","v":0.4},{"$f":"per_game!U310","v":0.3},{"$f":"per_game!V310","v":1.1000000000000001},{"$f":"per_game!W310","v":2.6},{"$f":"per_game!X310","v":17.5}]
[null,null,{"$f":"Roster!C311","v":"F"},102.33199999999998,{"$f":"per_game!B311 & \"-\" & D312","v":"Anthony Davis-102.332"},{"$f":"per_game!D311","v":6},{"$f":"per_game!E311","v":6},{"$f":"per_game!F311","v":28.3},{"$f":"per_game!G311","v":5.8},{"$f":"per_game!H311","v":11.8},{"$f":"per_game!I311","v":0.49299999999999999},{"$f":"per_game!J311","v":0},{"$f":"per_game!K311","v":0.3},{"$f":"per_game!L311","v":0},{"$f":"per_game!M311","v":4.3},{"$f":"per_game!N311","v":5.2},{"$f":"per_game!O311","v":0.83899999999999997},{"$f":"per_game!P311","v":3.3},{"$f":"per_game!Q311","v":5},{"$f":"per_game!R311","v":8.3000000000000007},{"$f":"per_game!S311","v":0.8},{"$f":"per_game!T311","v":1},{"$f":"per_game!U311","v":2.2000000000000002},{"$f":"per_game!V311","v":1.5},{"$f":"per_game!W311","v":1.8},{"$f":"per_game!X311","v":16}]
[null,null,{"$f":"Roster!C312","v":"F-C"},115.096,{"$f":"per_game!B312 & \"-\" & D313","v":"Greivis Vasquez-115.096"},{"$f":"per_game!D312","v":16},{"$f":"per_game!E312","v":16},{"$f":"per_game!F312","v":32.799999999999997},{"$f":"per_game!G312","v":5},{"$f":"per_game!H312","v":11.8},{"$f":"per_game!I312","v":0.42299999999999999},{"$f":"per_game!J312","v":1.1000000000000001},{"$f":"per_game!K312","v":2.8},{"$f":"per_game!L312","v":0.378},{"$f":"per_game!M312","v":1.9},{"$f":"per_game!N312","v":2.4},{"$f":"per_game!O312","v":0.79500000000000004},{"$f":"per_game!P312","v":0.4},{"$f":"per_game!Q312","v":3.3},{"$f":"per_game!R312","v":3.7},{"$f":"per_game!S312","v":8.6999999999999993},{"$f":"per_game!T312","v":0.4},{"$f":"per_game!U312","v":0.1},{"$f":"per_game!V312","v":3.4},{"$f":"per_game!W312","v":2.5},{"$f":"per_game!X312","v":13}]
[null,null,{"$f":"Roster!C313","v":"G"},103.38599999999997,{"$f":"per_game!B313 & \"-\" & D314","v":"Robin Lopez-103.386"},{"$f":"per_game!D313","v":16},{"$f":"per_game!E313","v":16},{"$f":"per_game!F313","v":27.5},{"$f":"per_game!G313","v":4.8},{"$f":"per_game!H313","v":8.9},{"$f":"per_game!I313","v":0.53100000000000003},{"$f":"per_game!J313","v":0},{"$f":"per_game!K313","v":0},{"$f":"per_game!L313","v":0},{"$f":"per_game!M313","v":2.2999999999999998},{"$f":"per_game!N313","v":3.1},{"$f":"per_game!O313","v":0.755},{"$f":"per_game!P313","v":2.2999999999999998},{"$f":"per_game!Q313","v":3.3},{"$f":"per_game!R313","v":5.6},{"$f":"per_game!S313","v":1.1000000000000001},{"$f":"per_game!T313","v":0.8},{"$f":"per_game!U313","v":1.9},{"$f":"per_game!V313","v":1.4},{"$f":"per_game!W313","v":1.9},{"$f":"per_game!X313","v":11.8}]
[null,null,{"$f":"Roster!C314","v":"C"},105.05999999999999,{"$f":"per_game!B314 & \"-\" & D315","v":"Al-Farouq Aminu-105.06"},{"$f":"per_game!D314","v":16},{"$f":"per_game!E314","v":16},{"$f":"per_game!F314","v":31},{"$f":"per_game!G314","v":4.3},{"$f":"per_game!H314","v":8.9},{"$f":"per_game!I314","v":0.48599999999999999},{"$f":"per_game!J314","v":0.1},{"$f":"per_game!K314","v":0.5},{"$f":"per_game!L314","v":0.25},{"$f":"per_game!M314","v":1.3},{"$f":"per_game!N314","v":1.8},{"$f":"per_game!O314","v":0.72399999999999998},{"$f":"per_game!P314","v":1.8},{"$f":"per_game!Q314","v":5.4},{"$f":"per_game!R314","v":7.2},{"$f":"per_game!S314","v":2},{"$f":"per_game!T314","v":1.6},{"$f":"per_game!U314","v":0.6},{"$f":"per_game!V314","v":2.6},{"$f":"per_game!W314","v":2.4},{"$f":"per_game!X314","v":10.1}]
[null,null,{"$f":"Roster!C315","v":"G"},63.543999999999997,{"$f":"per_game!B315 & \"-\" & D316","v":"Jason Smith-63.544"},{"$f":"per_game!D315","v":16},{"$f":"per_game!E315","v":0},{"$f":"per_game!F315","v":17.3},{"$f":"per_game!G315","v":2.8},{"$f":"per_game!H315","v":6.4},{"$f":"per_game!I315","v":0.42699999999999999},{"$f":"per_game!J315","v":0},{"$f":"per_game!K315","v":0.1},{"$f":"per_game!L315","v":0},{"$f":"per_game!M315","v":2.8},{"$f":"per_game!N315","v":3},{"$f":"per_game!O315","v":0.91700000000000004},{"$f":"per_game!P315","v":1.2},{"$f":"per_game!Q315","v":2.4},{"$f":"per_game!R315","v":3.6},{"$f":"per_game!S315","v":0.6},{"$f":"per_game!T315","v":0.3},{"$f":"per_game!U315","v":0.9},{"$f":"per_game!V315","v":1.3},{"$f":"per_game!W315","v":2.2000000000000002},{"$f":"per_game!X315","v":8.3000000000000007}]
[null,null,{"$f":"Roster!C316","v":"F"},57.81900000000001,{"$f":"per_game!B316 & \"-\" & D317","v":"Brian Roberts-57.819"},{"$f":"per_game!D316","v":16},{"$f":"per_game!E316","v":0},{"$f":"per_game!F316","v":15.6},{"$f":"per_game!G316","v":3.1},{"$f":"per_game!H316","v":6.5},{"$f":"per_game!I316","v":0.48099999999999998},{"$f":"per_game!J316","v":0.6},{"$f":"per_game!K316","v":1.4},{"$f":"per_game!L316","v":0.39100000000000001},{"$f":"per_game!M316","v":1.1000000000000001},{"$f":"per_game!N316","v":1.2},{"$f":"per_game!O316","v":0.94699999999999995},{"$f":"per_game!P316","v":0.2},{"$f":"per_game!Q316","v":0.7},{"$f":"per_game!R316","v":0.9},{"$f":"per_game!S316","v":2.4},{"$f":"per_game!T316","v":0.3},{"$f":"per_game!U316","v":0.1},{"$f":"per_game!V316","v":1},{"$f":"per_game!W316","v":1},{"$f":"per_game!X316","v":7.9}]
[null,null,{"$f":"Roster!C317","v":"G"},79.593000000000004,{"$f":"per_game!B317 & \"-\" & D318","v":"Austin Rivers-79.593"},{"$f":"per_game!D317","v":15},{"$f":"per_game!E317","v":9},{"$f":"per_game!F317","v":27.3},{"$f":"per_game!G317","v":2.1},{"$f":"per_game!H317","v":7.2},{"$f":"per_game!I317","v":0.29599999999999999},{"$f":"per_game!J317","v":0.6},{"$f":"per_game!K317","v":1.9},{"$f":"per_game!L317","v":0.32100000000000001},{"$f":"per_game!M317","v":1.5},{"$f":"per_game!N317","v":2.2999999999999998},{"$f":"per_game!O317","v":0.67600000000000005},{"$f":"per_game!P317","v":0.3},{"$f":"per_game!Q317","v":2.1},{"$f":"per_game!R317","v":2.4},{"$f":"per_game!S317","v":3},{"$f":"per_game!T317","v":0.7},{"$f":"per_game!U317","v":0.2},{"$f":"per_game!V317","v":1.5},{"$f":"per_game!W317","v":2.2000000000000002},{"$f":"per_game!X317","v":6.4}]
[null,null,{"$f":"Roster!C318","v":"G"},67.054999999999993,{"$f":"per_game!B318 & \"-\" & D319","v":"Roger Mason-67.055"},{"$f":"per_game!D318","v":16},{"$f":"per_game!E318","v":6},{"$f":"per_game!F318","v":20.9},{"$f":"per_game!G318","v":1.9},{"$f":"per_game!H318","v":4.9000000000000004},{"$f":"per_game!I318","v":0.38500000000000001},{"$f":"per_game!J318","v":1.1000000000000001},{"$f":"per_game!K318","v":2.9},{"$f":"per_game!L318","v":0.37},{"$f":"per_game!M318","v":0.9},{"$f":"per_game!N318","v":0.9},{"$f":"per_game!O318","v":1},{"$f":"per_game!P318","v":0.1},{"$f":"per_game!Q318","v":2},{"$f":"per_game!R318","v":2.1},{"$f":"per_game!S318","v":1.3},{"$f":"per_game!T318","v":0.4},{"$f":"per_game!U318","v":0.1},{"$f":"per_game!V318","v":0.5},{"$f":"per_game!W318","v":1.4},{"$f":"per_game!X318","v":5.7}]
[null,null,{"$f":"Roster!C319","v":"F"},41.265999999999998,{"$f":"per_game!B319 & \"-\" & D320","v":"Lance Thomas-41.266"},{"$f":"per_game!D319","v":11},{"$f":"per_game!E319","v":0},{"$f":"per_game!F319","v":12},{"$f":"per_game!G319","v":1.3},{"$f":"per_game!H319","v":2.8},{"$f":"per_game!I319","v":0.45200000000000001},{"$f":"per_game!J319","v":0},{"$f":"per_game!K319","v":0},{"$f":"per_game!L319","v":0},{"$f":"per_game!M319","v":1.8},{"$f":"per_game!N319","v":2.5},{"$f":"per_game!O319","v":0.71399999999999997},{"$f":"per_game!P319","v":1.1000000000000001},{"$f":"per_game!Q319","v":1.5},{"$f":"per_game!R319","v":2.5},{"$f":"per_game!S319","v":0.1},{"$f":"per_game!T319","v":0.3},{"$f":"per_game!U319","v":0.2},{"$f":"per_game!V319","v":0.2},{"$f":"per_game!W319","v":1.2},{"$f":"per_game!X319","v":4.4000000000000004}]
[null,null,{"$f":"Roster!C320","v":"F"},21.5,null,{"$f":"per_game!D320","v":1},{"$f":"per_game!E320","v":0},{"$f":"per_game!F320","v":7},{"$f":"per_game!G320","v":1},{"$f":"per_game!H320","v":2},{"$f":"per_game!I320","v":0.5},{"$f":"per_game!J320","v":0},{"$f":"per_game!K320","v":0},{"$f":"per_game!L320","v":0},{"$f":"per_game!M320","v":2},{"$f":"per_game!N320","v":2},{"$f":"per_game!O320","v":1},{"$f":"per_game!P320","v":0},{"$f":"per_game!Q320","v":0},{"$f":"per_game!R320","v":0},{"$f":"per_game!S320","v":0},{"$f":"per_game!T320","v":1},{"$f":"per_game!U320","v":0},{"$f":"per_game!V320","v":0},{"$f":"per_game!W320","v":0},{"$f":"per_game!X320","v":4}]
[null,null,{"$f":"Roster!C321","v":"G"},35.743000000000009,null,{"$f":"per_game!D321","v":9},{"$f":"per_game!E321","v":0},{"$f":"per_game!F321","v":12.7},{"$f":"per_game!G321","v":1.3},{"$f":"per_game!H321","v":3.9},{"$f":"per_game!I321","v":0.34300000000000003},{"$f":"per_game!J321","v":0.1},{"$f":"per_game!K321","v":0.1},{"$f":"per_game!L321","v":1},{"$f":"per_game!M321","v":0.4},{"$f":"per_game!N321","v":1.1000000000000001},{"$f":"per_game!O321","v":0.4},{"$f":"per_game!P321","v":0.4},{"$f":"per_game!Q321","v":1.2},{"$f":"per_game!R321","v":1.7},{"$f":"per_game!S321","v":0.2},{"$f":"per_game!T321","v":0.3},{"$f":"per_game!U321","v":0},{"$f":"per_game!V321","v":0.3},{"$f":"per_game!W321","v":1.3},{"$f":"per_game!X321","v":3.2}]
[null,null,{"$f":"Roster!C322","v":"F"},null,null,{"$f":"per_game!D322","v":15},{"$f":"per_game!E322","v":1},{"$f":"per_game!F322","v":14},{"$f":"per_game!G322","v":0.7},{"$f":"per_game!H322","v":1.9},{"$f":"per_game!I322","v":0.379},{"$f":"per_game!J322","v":0.5},{"$f":"per_game!K322","v":1.3},{"$f":"per_game!L322","v":0.42099999999999999},{"$f":"per_game!M322","v":0.2},{"$f":"per_game!N322","v":0.2},{"$f":"per_game!O322","v":1},{"$f":"per_game!P322","v":0.2},{"$f":"per_game!Q322","v":1.5},{"$f":"per_game!R322","v":1.7},{"$f":"per_game!S322","v":1.1000000000000001},{"$f":"per_game!T322","v":0.5},{"$f":"per_game!U322","v":0.1},{"$f":"per_game!V322","v":0.3},{"$f":"per_game!W322","v":1.7},{"$f":"per_game!X322","v":2.2000000000000002}]
[null,null,{"$f":"Roster!C323","v":0},0,{"$f":"per_game!B323 & \"-\" & D324","v":"-0"},{"$f":"per_game!D323","v":0},{"$f":"per_game!E323","v":0},{"$f":"per_game!F323","v":0},{"$f":"per_game!G323","v":0},{"$f":"per_game!H323","v":0},{"$f":"per_game!I323","v":0},{"$f":"per_game!J323","v":0},{"$f":"per_game!K323","v":0},{"$f":"per_game!L323","v":0},{"$f":"per_game!M323","v":0},{"$f":"per_game!N323","v":0},{"$f":"per_game!O323","v":0},{"$f":"per_game!P323","v":0},{"$f":"per_game!Q323","v":0},{"$f":"per_game!R323","v":0},{"$f":"per_game!S323","v":0},{"$f":"per_game!T323","v":0},{"$f":"per_game!U323","v":0},{"$f":"per_game!V323","v":0},{"$f":"per_game!W323","v":0},{"$f":"per_game!X323","v":0}]
[null,null,{"$f":"Roster!C324","v":0},{"$f":"F325*$B$21+G325*$B$20+H325*$B$19+I325*$B$13+J325*$B$14+K325*$B$6+L325*$B$17+M325*$B$18+N325*$B$8+O325*$B$15+P325*$B$16+Q325*$B$7+R325*$B$10+S325*$B$11+T325*$B$2+U325*$B$3+V325*$B$5+W325*$B$4+X325*$B$9+Y325*$B$12+Z325*$B$1","v":0},{"$f":"per_game!B324 & \"-\" & D325","v":"-0"},{"$f":"per_game!D324","v":0},{"$f":"per_game!E324","v":0},{"$f":"per_game!F324","v":0},{"$f":"per_game!G324","v":0},{"$f":"per_game!H324","v":0},{"$f":"per_game!I324","v":0},{"$f":"per_game!J324","v":0},{"$f":"per_game!K324","v":0},{"$f":"per_game!L324","v":0},{"$f":"per_game!M324","v":0},{"$f":"per_game!N324","v":0},{"$f":"per_game!O324","v":0},{"$f":"per_game!P324","v":0},{"$f":"per_game!Q324","v":0},{"$f":"per_game!R324","v":0},{"$f":"per_game!S324","v":0},{"$f":"per_game!T324","v":0},{"$f":"per_game!U324","v":0},{"$f":"per_game!V324","v":0},{"$f":"per_game!W324","v":0},{"$f":"per_game!X324","v":0}]
[null,null,{"$f":"Roster!C325","v":"Pos"},null,{"$f":"per_game!B325 & \"-\" & D326","v":"Player-"},{"$f":"per_game!D325","v":"G"},{"$f":"per_game!E325","v":"GS"},{"$f":"per_game!F325","v":"MP"},{"$f":"per_game!G325","v":"FG"},{"$f":"per_game!H325","v":"FGA"},{"$f":"per_game!I325","v":"FG%"},{"$f":"per_game!J325","v":"3P"},{"$f":"per_game!K325","v":"3PA"},{"$f":"per_game!L325","v":"3P%"},{"$f":"per_game!M325","v":"FT"},{"$f":"per_game!N325","v":"FTA"},{"$f":"per_game!O325","v":"FT%"},{"$f":"per_game!P325","v":"ORB"},{"$f":"per_game!Q325","v":"DRB"},{"$f":"per_game!R325","v":"TRB"},{"$f":"per_game!S325","v":"AST"},{"$f":"per_game!T325","v":"STL"},{"$f":"per_game!U325","v":"BLK"},{"$f":"per_game!V325","v":"TOV"},{"$f":"per_game!W325","v":"PF"},{"$f":"per_game!X325","v":"PTS"}]
[null,null,{"$f":"Roster!C326","v":"F"},156.702,{"$f":"per_game!B326 & \"-\" & D327","v":"Carmelo Anthony-156.702"},{"$f":"per_game!D326","v":16},{"$f":"per_game!E326","v":16},{"$f":"per_game!F326","v":35.5},{"$f":"per_game!G326","v":9.1999999999999993},{"$f":"per_game!H326","v":19.8},{"$f":"per_game!I326","v":0.46400000000000002},{"$f":"per_game!J326","v":2.2999999999999998},{"$f":"per_game!K326","v":5.3},{"$f":"per_game!L326","v":0.435},{"$f":"per_game!M326","v":5.9},{"$f":"per_game!N326","v":7.3},{"$f":"per_game!O326","v":0.80300000000000005},{"$f":"per_game!P326","v":2.1},{"$f":"per_game!Q326","v":4.8},{"$f":"per_game!R326","v":6.9},{"$f":"per_game!S326","v":2.1},{"$f":"per_game!T326","v":0.8},{"$f":"per_game!U326","v":0.6},{"$f":"per_game!V326","v":3.1},{"$f":"per_game!W326","v":3.1},{"$f":"per_game!X326","v":26.6}]
[null,null,{"$f":"Roster!C327","v":"G-F"},120.40899999999999,{"$f":"per_game!B327 & \"-\" & D328","v":"Raymond Felton-120.409"},{"$f":"per_game!D327","v":16},{"$f":"per_game!E327","v":16},{"$f":"per_game!F327","v":33.299999999999997},{"$f":"per_game!G327","v":6.2},{"$f":"per_game!H327","v":14.4},{"$f":"per_game!I327","v":0.43},{"$f":"per_game!J327","v":1.8},{"$f":"per_game!K327","v":4.3},{"$f":"per_game!L327","v":0.41199999999999998},{"$f":"per_game!M327","v":1},{"$f":"per_game!N327","v":1.5},{"$f":"per_game!O327","v":0.66700000000000004},{"$f":"per_game!P327","v":0.6},{"$f":"per_game!Q327","v":2},{"$f":"per_game!R327","v":2.6},{"$f":"per_game!S327","v":6.8},{"$f":"per_game!T327","v":1.4},{"$f":"per_game!U327","v":0.1},{"$f":"per_game!V327","v":2.4},{"$f":"per_game!W327","v":1.8},{"$f":"per_game!X327","v":15.1}]
[null,null,{"$f":"Roster!C328","v":"C-F"},101.65900000000002,{"$f":"per_game!B328 & \"-\" & D329","v":"J.R. Smith-101.659"},{"$f":"per_game!D328","v":16},{"$f":"per_game!E328","v":0},{"$f":"per_game!F328","v":33.299999999999997},{"$f":"per_game!G328","v":4.9000000000000004},{"$f":"per_game!H328","v":11.8},{"$f":"per_game!I328","v":0.41799999999999998},{"$f":"per_game!J328","v":1.3},{"$f":"per_game!K328","v":2.9},{"$f":"per_game!L328","v":0.45700000000000002},{"$f":"per_game!M328","v":2.4},{"$f":"per_game!N328","v":2.7},{"$f":"per_game!O328","v":0.88400000000000001},{"$f":"per_game!P328","v":0.4},{"$f":"per_game!Q328","v":4.7},{"$f":"per_game!R328","v":5.0999999999999996},{"$f":"per_game!S328","v":2.8},{"$f":"per_game!T328","v":1.3},{"$f":"per_game!U328","v":0.4},{"$f":"per_game!V328","v":1.1000000000000001},{"$f":"per_game!W328","v":2.6},{"$f":"per_game!X328","v":13.6}]
[null,null,{"$f":"Roster!C329","v":"C"},109.19799999999996,{"$f":"per_game!B329 & \"-\" & D330","v":"Tyson Chandler-109.198"},{"$f":"per_game!D329","v":16},{"$f":"per_game!E329","v":16},{"$f":"per_game!F329","v":29.6},{"$f":"per_game!G329","v":4.5},{"$f":"per_game!H329","v":6.3},{"$f":"per_game!I329","v":0.71299999999999997},{"$f":"per_game!J329","v":0},{"$f":"per_game!K329","v":0},{"$f":"per_game!L329","v":0},{"$f":"per_game!M329","v":3.2},{"$f":"per_game!N329","v":4.0999999999999996},{"$f":"per_game!O329","v":0.78500000000000003},{"$f":"per_game!P329","v":3.8},{"$f":"per_game!Q329","v":5.0999999999999996},{"$f":"per_game!R329","v":8.9},{"$f":"per_game!S329","v":0.5},{"$f":"per_game!T329","v":0.6},{"$f":"per_game!U329","v":0.7},{"$f":"per_game!V329","v":0.9},{"$f":"per_game!W329","v":2.9},{"$f":"per_game!X329","v":12.2}]
[null,null,{"$f":"Roster!C330","v":"F"},70.84099999999998,{"$f":"per_game!B330 & \"-\" & D331","v":"Steve Novak-70.841"},{"$f":"per_game!D330","v":16},{"$f":"per_game!E330","v":0},{"$f":"per_game!F330","v":23.8},{"$f":"per_game!G330","v":2.8},{"$f":"per_game!H330","v":6.7},{"$f":"per_game!I330","v":0.41099999999999998},{"$f":"per_game!J330","v":2.2999999999999998},{"$f":"per_game!K330","v":5.4},{"$f":"per_game!L330","v":0.43},{"$f":"per_game!M330","v":0.3},{"$f":"per_game!N330","v":0.3},{"$f":"per_game!O330","v":1},{"$f":"per_game!P330","v":0.1},{"$f":"per_game!Q330","v":1.7},{"$f":"per_game!R330","v":1.8},{"$f":"per_game!S330","v":0.4},{"$f":"per_game!T330","v":0.6},{"$f":"per_game!U330","v":0.3},{"$f":"per_game!V330","v":0.2},{"$f":"per_game!W330","v":1.4},{"$f":"per_game!X330","v":8.1}]
[null,null,{"$f":"Roster!C331","v":"G"},85.917999999999992,{"$f":"per_game!B331 & \"-\" & D332","v":"Jason Kidd-85.918"},{"$f":"per_game!D331","v":12},{"$f":"per_game!E331","v":12},{"$f":"per_game!F331","v":26.1},{"$f":"per_game!G331","v":2.4},{"$f":"per_game!H331","v":4.7},{"$f":"per_game!I331","v":0.51800000000000002},{"$f":"per_game!J331","v":1.8},{"$f":"per_game!K331","v":3.7},{"$f":"per_game!L331","v":0.5},{"$f":"per_game!M331","v":1.3},{"$f":"per_game!N331","v":1.3},{"$f":"per_game!O331","v":1},{"$f":"per_game!P331","v":0.4},{"$f":"per_game!Q331","v":2.8},{"$f":"per_game!R331","v":3.3},{"$f":"per_game!S331","v":3.4},{"$f":"per_game!T331","v":2.1},{"$f":"per_game!U331","v":0.5},{"$f":"per_game!V331","v":0.7},{"$f":"per_game!W331","v":1.2},{"$f":"per_game!X331","v":8}]
[null,null,{"$f":"Roster!C332","v":"G"},61.445000000000007,{"$f":"per_game!B332 & \"-\" & D333","v":"Rasheed Wallace-61.445"},{"$f":"per_game!D332","v":15},{"$f":"per_game!E332","v":0},{"$f":"per_game!F332","v":14.9},{"$f":"per_game!G332","v":2.7},{"$f":"per_game!H332","v":6.9},{"$f":"per_game!I332","v":0.39800000000000002},{"$f":"per_game!J332","v":1.1000000000000001},{"$f":"per_game!K332","v":3.4},{"$f":"per_game!L332","v":0.314},{"$f":"per_game!M332","v":0.7},{"$f":"per_game!N332","v":0.8},{"$f":"per_game!O332","v":0.83299999999999996},{"$f":"per_game!P332","v":0.4},{"$f":"per_game!Q332","v":3.7},{"$f":"per_game!R332","v":4.0999999999999996},{"$f":"per_game!S332","v":0.3},{"$f":"per_game!T332","v":0.6},{"$f":"per_game!U332","v":0.7},{"$f":"per_game!V332","v":0.5},{"$f":"per_game!W332","v":2.1},{"$f":"per_game!X332","v":7.2}]
[null,null,{"$f":"Roster!C333","v":"F"},85.605999999999995,{"$f":"per_game!B333 & \"-\" & D334","v":"Ronnie Brewer-85.606"},{"$f":"per_game!D333","v":16},{"$f":"per_game!E333","v":16},{"$f":"per_game!F333","v":22.8},{"$f":"per_game!G333","v":2.8},{"$f":"per_game!H333","v":6.1},{"$f":"per_game!I333","v":0.45400000000000001},{"$f":"per_game!J333","v":0.9},{"$f":"per_game!K333","v":2.2999999999999998},{"$f":"per_game!L333","v":0.41699999999999998},{"$f":"per_game!M333","v":0.6},{"$f":"per_game!N333","v":1.4},{"$f":"per_game!O333","v":0.435},{"$f":"per_game!P333","v":1.1000000000000001},{"$f":"per_game!Q333","v":2.4},{"$f":"per_game!R333","v":3.6},{"$f":"per_game!S333","v":1.4},{"$f":"per_game!T333","v":1.1000000000000001},{"$f":"per_game!U333","v":0.1},{"$f":"per_game!V333","v":0.3},{"$f":"per_game!W333","v":1.1000000000000001},{"$f":"per_game!X333","v":7.1}]
[null,null,{"$f":"Roster!C334","v":"G"},29.297000000000004,{"$f":"per_game!B334 & \"-\" & D335","v":"Chris Copeland-29.297"},{"$f":"per_game!D334","v":11},{"$f":"per_game!E334","v":0},{"$f":"per_game!F334","v":5.6},{"$f":"per_game!G334","v":1.5},{"$f":"per_game!H334","v":3.3},{"$f":"per_game!I334","v":0.47199999999999998},{"$f":"per_game!J334","v":0.1},{"$f":"per_game!K334","v":0.5},{"$f":"per_game!L334","v":0.2},{"$f":"per_game!M334","v":0.5},{"$f":"per_game!N334","v":0.7},{"$f":"per_game!O334","v":0.625},{"$f":"per_game!P334","v":0.3},{"$f":"per_game!Q334","v":0.4},{"$f":"per_game!R334","v":0.6},{"$f":"per_game!S334","v":0.4},{"$f":"per_game!T334","v":0.2},{"$f":"per_game!U334","v":0.1},{"$f":"per_game!V334","v":0.3},{"$f":"per_game!W334","v":0.5},{"$f":"per_game!X334","v":3.6}]
[null,null,{"$f":"Roster!C335","v":"G"},44.728999999999992,{"$f":"per_game!B335 & \"-\" & D336","v":"Pablo Prigioni-44.729"},{"$f":"per_game!D335","v":15},{"$f":"per_game!E335","v":0},{"$f":"per_game!F335","v":14.5},{"$f":"per_game!G335","v":1.2},{"$f":"per_game!H335","v":2.7},{"$f":"per_game!I335","v":0.439},{"$f":"per_game!J335","v":0.5},{"$f":"per_game!K335","v":1.4},{"$f":"per_game!L335","v":0.33300000000000002},{"$f":"per_game!M335","v":0.4},{"$f":"per_game!N335","v":0.5},{"$f":"per_game!O335","v":0.85699999999999998},{"$f":"per_game!P335","v":0.2},{"$f":"per_game!Q335","v":1},{"$f":"per_game!R335","v":1.2},{"$f":"per_game!S335","v":2.9},{"$f":"per_game!T335","v":1},{"$f":"per_game!U335","v":0},{"$f":"per_game!V335","v":1.5},{"$f":"per_game!W335","v":1.2},{"$f":"per_game!X335","v":3.3}]
[null,null,{"$f":"Roster!C336","v":"F"},23.628999999999994,null,{"$f":"per_game!D336","v":11},{"$f":"per_game!E336","v":0},{"$f":"per_game!F336","v":5.0999999999999996},{"$f":"per_game!G336","v":0.5},{"$f":"per_game!H336","v":1.4},{"$f":"per_game!I336","v":0.4},{"$f":"per_game!J336","v":0.3},{"$f":"per_game!K336","v":0.6},{"$f":"per_game!L336","v":0.42899999999999999},{"$f":"per_game!M336","v":0.2},{"$f":"per_game!N336","v":0.4},{"$f":"per_game!O336","v":0.5},{"$f":"per_game!P336","v":0},{"$f":"per_game!Q336","v":0.7},{"$f":"per_game!R336","v":0.7},{"$f":"per_game!S336","v":0.2},{"$f":"per_game!T336","v":0.2},{"$f":"per_game!U336","v":0},{"$f":"per_game!V336","v":0},{"$f":"per_game!W336","v":0.5},{"$f":"per_game!X336","v":1.5}]
[null,null,{"$f":"Roster!C337","v":"F-C"},34.045000000000002,null,{"$f":"per_game!D337","v":9},{"$f":"per_game!E337","v":4},{"$f":"per_game!F337","v":10.8},{"$f":"per_game!G337","v":0.6},{"$f":"per_game!H337","v":2},{"$f":"per_game!I337","v":0.27800000000000002},{"$f":"per_game!J337","v":0},{"$f":"per_game!K337","v":0},{"$f":"per_game!L337","v":0},{"$f":"per_game!M337","v":0.2},{"$f":"per_game!N337","v":0.3},{"$f":"per_game!O337","v":0.66700000000000004},{"$f":"per_game!P337","v":0.8},{"$f":"per_game!Q337","v":1.9},{"$f":"per_game!R337","v":2.7},{"$f":"per_game!S337","v":0.4},{"$f":"per_game!T337","v":0.1},{"$f":"per_game!U337","v":0.4},{"$f":"per_game!V337","v":0.1},{"$f":"per_game!W337","v":1.3},{"$f":"per_game!X337","v":1.3}]
[null,null,{"$f":"Roster!C338","v":"G-F"},null,null,{"$f":"per_game!D338","v":6},{"$f":"per_game!E338","v":0},{"$f":"per_game!F338","v":7.7},{"$f":"per_game!G338","v":0},{"$f":"per_game!H338","v":0.7},{"$f":"per_game!I338","v":0},{"$f":"per_game!J338","v":0},{"$f":"per_game!K338","v":0},{"$f":"per_game!L338","v":0},{"$f":"per_game!M338","v":0.3},{"$f":"per_game!N338","v":0.7},{"$f":"per_game!O338","v":0.5},{"$f":"per_game!P338","v":0.8},{"$f":"per_game!Q338","v":1.7},{"$f":"per_game!R338","v":2.5},{"$f":"per_game!S338","v":0.3},{"$f":"per_game!T338","v":0},{"$f":"per_game!U338","v":0.3},{"$f":"per_game!V338","v":0.7},{"$f":"per_game!W338","v":1},{"$f":"per_game!X338","v":0.3}]
[null,null,{"$f":"Roster!C339","v":0},0,{"$f":"per_game!B339 & \"-\" & D340","v":"-0"},{"$f":"per_game!D339","v":0},{"$f":"per_game!E339","v":0},{"$f":"per_game!F339","v":0},{"$f":"per_game!G339","v":0},{"$f":"per_game!H339","v":0},{"$f":"per_game!I339","v":0},{"$f":"per_game!J339","v":0},{"$f":"per_game!K339","v":0},{"$f":"per_game!L339","v":0},{"$f":"per_game!M339","v":0},{"$f":"per_game!N339","v":0},{"$f":"per_game!O339","v":0},{"$f":"per_game!P339","v":0},{"$f":"per_game!Q339","v":0},{"$f":"per_game!R339","v":0},{"$f":"per_game!S339","v":0},{"$f":"per_game!T339","v":0},{"$f":"per_game!U339","v":0},{"$f":"per_game!V339","v":0},{"$f":"per_game!W339","v":0},{"$f":"per_game!X339","v":0}]
[null,null,{"$f":"Roster!C340","v":0},0,{"$f":"per_game!B340 & \"-\" & D341","v":"-0"},{"$f":"per_game!D340","v":0},{"$f":"per_game!E340","v":0},{"$f":"per_game!F340","v":0},{"$f":"per_game!G340","v":0},{"$f":"per_game!H340","v":0},{"$f":"per_game!I340","v":0},{"$f":"per_game!J340","v":0},{"$f":"per_game!K340","v":0},{"$f":"per_game!L340","v":0},{"$f":"per_game!M340","v":0},{"$f":"per_game!N340","v":0},{"$f":"per_game!O340","v":0},{"$f":"per_game!P340","v":0},{"$f":"per_game!Q340","v":0},{"$f":"per_game!R340","v":0},{"$f":"per_game!S340","v":0},{"$f":"per_game!T340","v":0},{"$f":"per_game!U340","v":0},{"$f":"per_game!V340","v":0},{"$f":"per_game!W340","v":0},{"$f":"per_game!X340","v":0}]
[null,null,{"$f":"Roster!C341","v":"Pos"},null,{"$f":"per_game!B341 & \"-\" & D342","v":"Player-"},{"$f":"per_game!D341","v":"G"},{"$f":"per_game!E341","v":"GS"},{"$f":"per_game!F341","v":"MP"},{"$f":"per_game!G341","v":"FG"},{"$f":"per_game!H341","v":"FGA"},{"$f":"per_game!I341","v":"FG%"},{"$f":"per_game!J341","v":"3P"},{"$f":"per_game!K341","v":"3PA"},{"$f":"per_game!L341","v":"3P%"},{"$f":"per_game!M341","v":"FT"},{"$f":"per_game!N341","v":"FTA"},{"$f":"per_game!O341","v":"FT%"},{"$f":"per_game!P341","v":"ORB"},{"$f":"per_game!Q341","v":"DRB"},{"$f":"per_game!R341","v":"TRB"},{"$f":"per_game!S341","v":"AST"},{"$f":"per_game!T341","v":"STL"},{"$f":"per_game!U341","v":"BLK"},{"$f":"per_game!V341","v":"TOV"},{"$f":"per_game!W341","v":"PF"},{"$f":"per_game!X341","v":"PTS"}]
[null,null,{"$f":"Roster!C342","v":"F"},169.44499999999996,{"$f":"per_game!B342 & \"-\" & D343","v":"Kevin Durant-169.445"},{"$f":"per_game!D342","v":18},{"$f":"per_game!E342","v":18},{"$f":"per_game!F342","v":39},{"$f":"per_game!G342","v":8.5},{"$f":"per_game!H342","v":16.600000000000001},{"$f":"per_game!I342","v":0.51200000000000001},{"$f":"per_game!J342","v":1.6},{"$f":"per_game!K342","v":3.6},{"$f":"per_game!L342","v":0.438},{"$f":"per_game!M342","v":7.6},{"$f":"per_game!N342","v":8.5},{"$f":"per_game!O342","v":0.89500000000000002},{"$f":"per_game!P342","v":0.7},{"$f":"per_game!Q342","v":8},{"$f":"per_game!R342","v":8.6999999999999993},{"$f":"per_game!S342","v":4.3},{"$f":"per_game!T342","v":1.6},{"$f":"per_game!U342","v":1.6},{"$f":"per_game!V342","v":3.4},{"$f":"per_game!W342","v":1.5},{"$f":"per_game!X342","v":26.2}]
[null,null,{"$f":"Roster!C343","v":"F"},150.03399999999999,{"$f":"per_game!B343 & \"-\" & D344","v":"Russell Westbrook-150.034"},{"$f":"per_game!D343","v":18},{"$f":"per_game!E343","v":18},{"$f":"per_game!F343","v":35.799999999999997},{"$f":"per_game!G343","v":7.4},{"$f":"per_game!H343","v":17.899999999999999},{"$f":"per_game!I343","v":0.41499999999999998},{"$f":"per_game!J343","v":1.4},{"$f":"per_game!K343","v":4.2},{"$f":"per_game!L343","v":0.34699999999999998},{"$f":"per_game!M343","v":4.3},{"$f":"per_game!N343","v":5.6},{"$f":"per_game!O343","v":0.77200000000000002},{"$f":"per_game!P343","v":1.4},{"$f":"per_game!Q343","v":3.7},{"$f":"per_game!R343","v":5.0999999999999996},{"$f":"per_game!S343","v":8.6999999999999993},{"$f":"per_game!T343","v":2.1},{"$f":"per_game!U343","v":0.3},{"$f":"per_game!V343","v":3.4},{"$f":"per_game!W343","v":2.7},{"$f":"per_game!X343","v":20.7}]
[null,null,{"$f":"Roster!C344","v":"F"},101.167,{"$f":"per_game!B344 & \"-\" & D345","v":"Kevin Martin-101.167"},{"$f":"per_game!D344","v":18},{"$f":"per_game!E344","v":0},{"$f":"per_game!F344","v":29.7},{"$f":"per_game!G344","v":4.8},{"$f":"per_game!H344","v":10.3},{"$f":"per_game!I344","v":0.46200000000000002},{"$f":"per_game!J344","v":2.2999999999999998},{"$f":"per_game!K344","v":4.8},{"$f":"per_game!L344","v":0.47699999999999998},{"$f":"per_game!M344","v":4.3},{"$f":"per_game!N344","v":4.5999999999999996},{"$f":"per_game!O344","v":0.92800000000000005},{"$f":"per_game!P344","v":0.2},{"$f":"per_game!Q344","v":2.2999999999999998},{"$f":"per_game!R344","v":2.4},{"$f":"per_game!S344","v":1.7},{"$f":"per_game!T344","v":1.2},{"$f":"per_game!U344","v":0.2},{"$f":"per_game!V344","v":1.6},{"$f":"per_game!W344","v":2},{"$f":"per_game!X344","v":16.100000000000001}]
[null,null,{"$f":"Roster!C345","v":"G"},118.804,{"$f":"per_game!B345 & \"-\" & D346","v":"Serge Ibaka-118.804"},{"$f":"per_game!D345","v":18},{"$f":"per_game!E345","v":18},{"$f":"per_game!F345","v":31.2},{"$f":"per_game!G345","v":6},{"$f":"per_game!H345","v":10.199999999999999},{"$f":"per_game!I345","v":0.59},{"$f":"per_game!J345","v":0.2},{"$f":"per_game!K345","v":0.7},{"$f":"per_game!L345","v":0.25},{"$f":"per_game!M345","v":2.1},{"$f":"per_game!N345","v":2.4},{"$f":"per_game!O345","v":0.86399999999999999},{"$f":"per_game!P345","v":2.2999999999999998},{"$f":"per_game!Q345","v":5.3},{"$f":"per_game!R345","v":7.6},{"$f":"per_game!S345","v":0.3},{"$f":"per_game!T345","v":0.2},{"$f":"per_game!U345","v":3.3},{"$f":"per_game!V345","v":1.7},{"$f":"per_game!W345","v":3.3},{"$f":"per_game!X345","v":14.3}]
[null,null,{"$f":"Roster!C346","v":"F"},95.001999999999981,{"$f":"per_game!B346 & \"-\" & D347","v":"Thabo Sefolosha-95.002"},{"$f":"per_game!D346","v":18},{"$f":"per_game!E346","v":18},{"$f":"per_game!F346","v":27.7},{"$f":"per_game!G346","v":2.6},{"$f":"per_game!H346","v":5.3},{"$f":"per_game!I346","v":0.48399999999999999},{"$f":"per_game!J346","v":1.3},{"$f":"per_game!K346","v":2.8},{"$f":"per_game!L346","v":0.45100000000000001},{"$f":"per_game!M346","v":0.7},{"$f":"per_game!N346","v":0.8},{"$f":"per_game!O346","v":0.86699999999999999},{"$f":"per_game!P346","v":0.6},{"$f":"per_game!Q346","v":3.8},{"$f":"per_game!R346","v":4.4000000000000004},{"$f":"per_game!S346","v":1.9},{"$f":"per_game!T346","v":0.8},{"$f":"per_game!U346","v":0.4},{"$f":"per_game!V346","v":1.1000000000000001},{"$f":"per_game!W346","v":1.9},{"$f":"per_game!X346","v":7.1}]
[null,null,{"$f":"Roster!C347","v":"G-F"},57.901000000000003,{"$f":"per_game!B347 & \"-\" & D348","v":"Nick Collison-57.901"},{"$f":"per_game!D347","v":18},{"$f":"per_game!E347","v":0},{"$f":"per_game!F347","v":18.600000000000001},{"$f":"per_game!G347","v":2.5},{"$f":"per_game!H347","v":3.9},{"$f":"per_game!I347","v":0.63400000000000001},{"$f":"per_game!J347","v":0},{"$f":"per_game!K347","v":0},{"$f":"per_game!L347","v":0},{"$f":"per_game!M347","v":0.9},{"$f":"per_game!N347","v":1.3},{"$f":"per_game!O347","v":0.66700000000000004},{"$f":"per_game!P347","v":1.6},{"$f":"per_game!Q347","v":2.2000000000000002},{"$f":"per_game!R347","v":3.7},{"$f":"per_game!S347","v":1.2},{"$f":"per_game!T347","v":0.6},{"$f":"per_game!U347","v":0.3},{"$f":"per_game!V347","v":1.2},{"$f":"per_game!W347","v":2.9},{"$f":"per_game!X347","v":5.9}]
[null,null,{"$f":"Roster!C348","v":"G"},85.201999999999998,{"$f":"per_game!B348 & \"-\" & D349","v":"Kendrick Perkins-85.202"},{"$f":"per_game!D348","v":18},{"$f":"per_game!E348","v":18},{"$f":"per_game!F348","v":25.3},{"$f":"per_game!G348","v":2.2000000000000002},{"$f":"per_game!H348","v":3.8},{"$f":"per_game!I348","v":0.57999999999999996},{"$f":"per_game!J348","v":0},{"$f":"per_game!K348","v":0},{"$f":"per_game!L348","v":0},{"$f":"per_game!M348","v":0.7},{"$f":"per_game!N348","v":1.3},{"$f":"per_game!O348","v":0.52200000000000002},{"$f":"per_game!P348","v":1.5},{"$f":"per_game!Q348","v":3.5},{"$f":"per_game!R348","v":5},{"$f":"per_game!S348","v":1.7},{"$f":"per_game!T348","v":0.5},{"$f":"per_game!U348","v":0.9},{"$f":"per_game!V348","v":1},{"$f":"per_game!W348","v":2.4},{"$f":"per_game!X348","v":5.0999999999999996}]
[null,null,{"$f":"Roster!C349","v":"G"},48.743000000000009,{"$f":"per_game!B349 & \"-\" & D350","v":"Eric Maynor-48.743"},{"$f":"per_game!D349","v":18},{"$f":"per_game!E349","v":0},{"$f":"per_game!F349","v":13.6},{"$f":"per_game!G349","v":1.2},{"$f":"per_game!H349","v":4.3},{"$f":"per_game!I349","v":0.28599999999999998},{"$f":"per_game!J349","v":0.6},{"$f":"per_game!K349","v":1.8},{"$f":"per_game!L349","v":0.34399999999999997},{"$f":"per_game!M349","v":0.7},{"$f":"per_game!N349","v":0.9},{"$f":"per_game!O349","v":0.81299999999999994},{"$f":"per_game!P349","v":0.2},{"$f":"per_game!Q349","v":0.6},{"$f":"per_game!R349","v":0.8},{"$f":"per_game!S349","v":2.1},{"$f":"per_game!T349","v":0.2},{"$f":"per_game!U349","v":0},{"$f":"per_game!V349","v":0.9},{"$f":"per_game!W349","v":0.6},{"$f":"per_game!X349","v":3.8}]
[null,null,{"$f":"Roster!C350","v":"G"},45.088999999999992,{"$f":"per_game!B350 & \"-\" & D351","v":"Hasheem Thabeet-45.089"},{"$f":"per_game!D350","v":16},{"$f":"per_game!E350","v":0},{"$f":"per_game!F350","v":13.1},{"$f":"per_game!G350","v":1.1000000000000001},{"$f":"per_game!H350","v":1.6},{"$f":"per_game!I350","v":0.72},{"$f":"per_game!J350","v":0},{"$f":"per_game!K350","v":0},{"$f":"per_game!L350","v":0},{"$f":"per_game!M350","v":1.3},{"$f":"per_game!N350","v":1.6},{"$f":"per_game!O350","v":0.76900000000000002},{"$f":"per_game!P350","v":1.4},{"$f":"per_game!Q350","v":2.4},{"$f":"per_game!R350","v":3.8},{"$f":"per_game!S350","v":0.1},{"$f":"per_game!T350","v":0.5},{"$f":"per_game!U350","v":0.9},{"$f":"per_game!V350","v":1},{"$f":"per_game!W350","v":2.7},{"$f":"per_game!X350","v":3.5}]
[null,null,{"$f":"Roster!C351","v":"F"},21.132999999999999,{"$f":"per_game!B351 & \"-\" & D352","v":"Jeremy Lamb-21.133"},{"$f":"per_game!D351","v":8},{"$f":"per_game!E351","v":0},{"$f":"per_game!F351","v":4.3},{"$f":"per_game!G351","v":0.6},{"$f":"per_game!H351","v":1.9},{"$f":"per_game!I351","v":0.33300000000000002},{"$f":"per_game!J351","v":0.5},{"$f":"per_game!K351","v":1},{"$f":"per_game!L351","v":0.5},{"$f":"per_game!M351","v":0.4},{"$f":"per_game!N351","v":0.4},{"$f":"per_game!O351","v":1},{"$f":"per_game!P351","v":0},{"$f":"per_game!Q351","v":0.4},{"$f":"per_game!R351","v":0.4},{"$f":"per_game!S351","v":0.3},{"$f":"per_game!T351","v":0},{"$f":"per_game!U351","v":0},{"$f":"per_game!V351","v":0.4},{"$f":"per_game!W351","v":0.6},{"$f":"per_game!X351","v":2.1}]
[null,null,{"$f":"Roster!C352","v":"C"},9,{"$f":"per_game!B352 & \"-\" & D353","v":"Daniel Orton-9"},{"$f":"per_game!D352","v":1},{"$f":"per_game!E352","v":0},{"$f":"per_game!F352","v":2},{"$f":"per_game!G352","v":1},{"$f":"per_game!H352","v":1},{"$f":"per_game!I352","v":1},{"$f":"per_game!J352","v":0},{"$f":"per_game!K352","v":0},{"$f":"per_game!L352","v":0},{"$f":"per_game!M352","v":0},{"$f":"per_game!N352","v":0},{"$f":"per_game!O352","v":0},{"$f":"per_game!P352","v":0},{"$f":"per_game!Q352","v":0},{"$f":"per_game!R352","v":0},{"$f":"per_game!S352","v":0},{"$f":"per_game!T352","v":0},{"$f":"per_game!U352","v":1},{"$f":"per_game!V352","v":0},{"$f":"per_game!W352","v":0},{"$f":"per_game!X352","v":2}]
[null,null,{"$f":"Roster!C353","v":"G"},23.782999999999998,null,{"$f":"per_game!D353","v":10},{"$f":"per_game!E353","v":0},{"$f":"per_game!F353","v":5.6},{"$f":"per_game!G353","v":0.7},{"$f":"per_game!H353","v":1.7},{"$f":"per_game!I353","v":0.41199999999999998},{"$f":"per_game!J353","v":0.4},{"$f":"per_game!K353","v":0.7},{"$f":"per_game!L353","v":0.57099999999999995},{"$f":"per_game!M353","v":0},{"$f":"per_game!N353","v":0},{"$f":"per_game!O353","v":0},{"$f":"per_game!P353","v":0.2},{"$f":"per_game!Q353","v":0.8},{"$f":"per_game!R353","v":1},{"$f":"per_game!S353","v":0.7},{"$f":"per_game!T353","v":0},{"$f":"per_game!U353","v":0},{"$f":"per_game!V353","v":0.3},{"$f":"per_game!W353","v":0.5},{"$f":"per_game!X353","v":1.8}]
[null,null,{"$f":"Roster!C354","v":"C"},23.400000000000006,null,{"$f":"per_game!D354","v":10},{"$f":"per_game!E354","v":0},{"$f":"per_game!F354","v":7.6},{"$f":"per_game!G354","v":0.6},{"$f":"per_game!H354","v":2},{"$f":"per_game!I354","v":0.3},{"$f":"per_game!J354","v":0},{"$f":"per_game!K354","v":0},{"$f":"per_game!L354","v":0},{"$f":"per_game!M354","v":0},{"$f":"per_game!N354","v":0},{"$f":"per_game!O354","v":0},{"$f":"per_game!P354","v":0.1},{"$f":"per_game!Q354","v":1.3},{"$f":"per_game!R354","v":1.4},{"$f":"per_game!S354","v":0.4},{"$f":"per_game!T354","v":0.1},{"$f":"per_game!U354","v":0.2},{"$f":"per_game!V354","v":0.9},{"$f":"per_game!W354","v":0.9},{"$f":"per_game!X354","v":1.2}]
[null,null,{"$f":"Roster!C355","v":"G"},null,null,{"$f":"per_game!D355","v":5},{"$f":"per_game!E355","v":0},{"$f":"per_game!F355","v":3.4},{"$f":"per_game!G355","v":0.2},{"$f":"per_game!H355","v":0.2},{"$f":"per_game!I355","v":1},{"$f":"per_game!J355","v":0},{"$f":"per_game!K355","v":0},{"$f":"per_game!L355","v":0},{"$f":"per_game!M355","v":0.2},{"$f":"per_game!N355","v":0.2},{"$f":"per_game!O355","v":1},{"$f":"per_game!P355","v":0.4},{"$f":"per_game!Q355","v":1},{"$f":"per_game!R355","v":1.4},{"$f":"per_game!S355","v":0.2},{"$f":"per_game!T355","v":0},{"$f":"per_game!U355","v":0},{"$f":"per_game!V355","v":0.4},{"$f":"per_game!W355","v":0.4},{"$f":"per_game!X355","v":0.6}]
[null,null,{"$f":"Roster!C356","v":0},0,{"$f":"per_game!B356 & \"-\" & D357","v":"-0"},{"$f":"per_game!D356","v":0},{"$f":"per_game!E356","v":0},{"$f":"per_game!F356","v":0},{"$f":"per_game!G356","v":0},{"$f":"per_game!H356","v":0},{"$f":"per_game!I356","v":0},{"$f":"per_game!J356","v":0},{"$f":"per_game!K356","v":0},{"$f":"per_game!L356","v":0},{"$f":"per_game!M356","v":0},{"$f":"per_game!N356","v":0},{"$f":"per_game!O356","v":0},{"$f":"per_game!P356","v":0},{"$f":"per_game!Q356","v":0},{"$f":"per_game!R356","v":0},{"$f":"per_game!S356","v":0},{"$f":"per_game!T356","v":0},{"$f":"per_game!U356","v":0},{"$f":"per_game!V356","v":0},{"$f":"per_game!W356","v":0},{"$f":"per_game!X356","v":0}]
[null,null,{"$f":"Roster!C357","v":0},0,{"$f":"per_game!B357 & \"-\" & D358","v":"-0"},{"$f":"per_game!D357","v":0},{"$f":"per_game!E357","v":0},{"$f":"per_game!F357","v":0},{"$f":"per_game!G357","v":0},{"$f":"per_game!H357","v":0},{"$f":"per_game!I357","v":0},{"$f":"per_game!J357","v":0},{"$f":"per_game!K357","v":0},{"$f":"per_game!L357","v":0},{"$f":"per_game!M357","v":0},{"$f":"per_game!N357","v":0},{"$f":"per_game!O357","v":0},{"$f":"per_game!P357","v":0},{"$f":"per_game!Q357","v":0},{"$f":"per_game!R357","v":0},{"$f":"per_game!S357","v":0},{"$f":"per_game!T357","v":0},{"$f":"per_game!U357","v":0},{"$f":"per_game!V357","v":0},{"$f":"per_game!W357","v":0},{"$f":"per_game!X357","v":0}]
[null,null,{"$f":"Roster!C358","v":"Pos"},null,{"$f":"per_game!B358 & \"-\" & D359","v":"Player-"},{"$f":"per_game!D358","v":"G"},{"$f":"per_game!E358","v":"GS"},{"$f":"per_game!F358","v":"MP"},{"$f":"per_game!G358","v":"FG"},{"$f":"per_game!H358","v":"FGA"},{"$f":"per_game!I358","v":"FG%"},{"$f":"per_game!J358","v":"3P"},{"$f":"per_game!K358","v":"3PA"},{"$f":"per_game!L358","v":"3P%"},{"$f":"per_game!M358","v":"FT"},{"$f":"per_game!N358","v":"FTA"},{"$f":"per_game!O358","v":"FT%"},{"$f":"per_game!P358","v":"ORB"},{"$f":"per_game!Q358","v":"DRB"},{"$f":"per_game!R358","v":"TRB"},{"$f":"per_game!S358","v":"AST"},{"$f":"per_game!T358","v":"STL"},{"$f":"per_game!U358","v":"BLK"},{"$f":"per_game!V358","v":"TOV"},{"$f":"per_game!W358","v":"PF"},{"$f":"per_game!X358","v":"PTS"}]
[null,null,{"$f":"Roster!C359","v":"G"},123.923,{"$f":"per_game!B359 & \"-\" & D360","v":"Arron Afflalo-123.923"},{"$f":"per_game!D359","v":17},{"$f":"per_game!E359","v":17},{"$f":"per_game!F359","v":34.700000000000003},{"$f":"per_game!G359","v":6.2},{"$f":"per_game!H359","v":14},{"$f":"per_game!I359","v":0.44500000000000001},{"$f":"per_game!J359","v":1.4},{"$f":"per_game!K359","v":3.9},{"$f":"per_game!L359","v":0.34799999999999998},{"$f":"per_game!M359","v":2.2999999999999998},{"$f":"per_game!N359","v":2.8},{"$f":"per_game!O359","v":0.83},{"$f":"per_game!P359","v":0.5},{"$f":"per_game!Q359","v":3.3},{"$f":"per_game!R359","v":3.8},{"$f":"per_game!S359","v":2.5},{"$f":"per_game!T359","v":0.8},{"$f":"per_game!U359","v":0.3},{"$f":"per_game!V359","v":2.2000000000000002},{"$f":"per_game!W359","v":2.1},{"$f":"per_game!X359","v":16.100000000000001}]
[null,null,{"$f":"Roster!C360","v":"C"},126.58399999999997,{"$f":"per_game!B360 & \"-\" & D361","v":"Glen Davis-126.584"},{"$f":"per_game!D360","v":17},{"$f":"per_game!E360","v":17},{"$f":"per_game!F360","v":32},{"$f":"per_game!G360","v":6.6},{"$f":"per_game!H360","v":15.2},{"$f":"per_game!I360","v":0.434},{"$f":"per_game!J360","v":0},{"$f":"per_game!K360","v":0.1},{"$f":"per_game!L360","v":0},{"$f":"per_game!M360","v":2.6},{"$f":"per_game!N360","v":3.5},{"$f":"per_game!O360","v":0.75},{"$f":"per_game!P360","v":2.1},{"$f":"per_game!Q360","v":6.1},{"$f":"per_game!R360","v":8.1999999999999993},{"$f":"per_game!S360","v":2.1},{"$f":"per_game!T360","v":0.9},{"$f":"per_game!U360","v":0.5},{"$f":"per_game!V360","v":1.6},{"$f":"per_game!W360","v":2.7},{"$f":"per_game!X360","v":15.8}]
[null,null,{"$f":"Roster!C361","v":"F"},98.920999999999992,{"$f":"per_game!B361 & \"-\" & D362","v":"J.J. Redick-98.921"},{"$f":"per_game!D361","v":16},{"$f":"per_game!E361","v":4},{"$f":"per_game!F361","v":30.3},{"$f":"per_game!G361","v":4.8},{"$f":"per_game!H361","v":10.8},{"$f":"per_game!I361","v":0.44500000000000001},{"$f":"per_game!J361","v":1.6},{"$f":"per_game!K361","v":4.5},{"$f":"per_game!L361","v":0.36099999999999999},{"$f":"per_game!M361","v":2.7},{"$f":"per_game!N361","v":2.9},{"$f":"per_game!O361","v":0.91500000000000004},{"$f":"per_game!P361","v":0.1},{"$f":"per_game!Q361","v":1.9},{"$f":"per_game!R361","v":2.1},{"$f":"per_game!S361","v":5.0999999999999996},{"$f":"per_game!T361","v":0.4},{"$f":"per_game!U361","v":0.1},{"$f":"per_game!V361","v":2.1},{"$f":"per_game!W361","v":1.9},{"$f":"per_game!X361","v":13.9}]
[null,null,{"$f":"Roster!C362","v":"G-F"},107.633,{"$f":"per_game!B362 & \"-\" & D363","v":"Jameer Nelson-107.633"},{"$f":"per_game!D362","v":10},{"$f":"per_game!E362","v":10},{"$f":"per_game!F362","v":33.299999999999997},{"$f":"per_game!G362","v":4.8},{"$f":"per_game!H362","v":12.3},{"$f":"per_game!I362","v":0.39},{"$f":"per_game!J362","v":1.6},{"$f":"per_game!K362","v":5.4},{"$f":"per_game!L362","v":0.29599999999999999},{"$f":"per_game!M362","v":1.8},{"$f":"per_game!N362","v":1.9},{"$f":"per_game!O362","v":0.94699999999999995},{"$f":"per_game!P362","v":0.7},{"$f":"per_game!Q362","v":3.8},{"$f":"per_game!R362","v":4.5},{"$f":"per_game!S362","v":6.7},{"$f":"per_game!T362","v":1.6},{"$f":"per_game!U362","v":0.1},{"$f":"per_game!V362","v":2.5},{"$f":"per_game!W362","v":3},{"$f":"per_game!X362","v":13}]
[null,null,{"$f":"Roster!C363","v":"F"},108.11199999999999,{"$f":"per_game!B363 & \"-\" & D364","v":"Nikola Vucevic-108.112"},{"$f":"per_game!D363","v":17},{"$f":"per_game!E363","v":17},{"$f":"per_game!F363","v":29.4},{"$f":"per_game!G363","v":4.5999999999999996},{"$f":"per_game!H363","v":9.6999999999999993},{"$f":"per_game!I363","v":0.47299999999999998},{"$f":"per_game!J363","v":0},{"$f":"per_game!K363","v":0},{"$f":"per_game!L363","v":0},{"$f":"per_game!M363","v":1},{"$f":"per_game!N363","v":1.4},{"$f":"per_game!O363","v":0.73899999999999999},{"$f":"per_game!P363","v":2.5},{"$f":"per_game!Q363","v":6.1},{"$f":"per_game!R363","v":8.6},{"$f":"per_game!S363","v":1.6},{"$f":"per_game!T363","v":0.8},{"$f":"per_game!U363","v":1.3},{"$f":"per_game!V363","v":1.6},{"$f":"per_game!W363","v":2.7},{"$f":"per_game!X363","v":10.199999999999999}]
[null,null,{"$f":"Roster!C364","v":"F"},86.549999999999983,{"$f":"per_game!B364 & \"-\" & D365","v":"E'Twaun Moore-86.55"},{"$f":"per_game!D364","v":17},{"$f":"per_game!E364","v":7},{"$f":"per_game!F364","v":26.5},{"$f":"per_game!G364","v":4.0999999999999996},{"$f":"per_game!H364","v":9.5},{"$f":"per_game!I364","v":0.42899999999999999},{"$f":"per_game!J364","v":1.3},{"$f":"per_game!K364","v":3.2},{"$f":"per_game!L364","v":0.40699999999999997},{"$f":"per_game!M364","v":0.6},{"$f":"per_game!N364","v":0.8},{"$f":"per_game!O364","v":0.71399999999999997},{"$f":"per_game!P364","v":0.8},{"$f":"per_game!Q364","v":1.8},{"$f":"per_game!R364","v":2.6},{"$f":"per_game!S364","v":3.2},{"$f":"per_game!T364","v":0.4},{"$f":"per_game!U364","v":0.3},{"$f":"per_game!V364","v":2.2999999999999998},{"$f":"per_game!W364","v":1.8},{"$f":"per_game!X364","v":10}]
[null,null,{"$f":"Roster!C365","v":"F"},50.756999999999991,{"$f":"per_game!B365 & \"-\" & D366","v":"Andrew Nicholson-50.757"},{"$f":"per_game!D365","v":16},{"$f":"per_game!E365","v":0},{"$f":"per_game!F365","v":13.1},{"$f":"per_game!G365","v":2.7},{"$f":"per_game!H365","v":5.0999999999999996},{"$f":"per_game!I365","v":0.52400000000000002},{"$f":"per_game!J365","v":0},{"$f":"per_game!K365","v":0},{"$f":"per_game!L365","v":0},{"$f":"per_game!M365","v":1.3},{"$f":"per_game!N365","v":1.5},{"$f":"per_game!O365","v":0.83299999999999996},{"$f":"per_game!P365","v":0.5},{"$f":"per_game!Q365","v":1.8},{"$f":"per_game!R365","v":2.2999999999999998},{"$f":"per_game!S365","v":0.4},{"$f":"per_game!T365","v":0.1},{"$f":"per_game!U365","v":0.4},{"$f":"per_game!V365","v":0.8},{"$f":"per_game!W365","v":1.6},{"$f":"per_game!X365","v":6.6}]
[null,null,{"$f":"Roster!C366","v":"G"},37.75,{"$f":"per_game!B366 & \"-\" & D367","v":"Hedo Turkoglu-37.75"},{"$f":"per_game!D366","v":1},{"$f":"per_game!E366","v":1},{"$f":"per_game!F366","v":17},{"$f":"per_game!G366","v":3},{"$f":"per_game!H366","v":4},{"$f":"per_game!I366","v":0.75},{"$f":"per_game!J366","v":0},{"$f":"per_game!K366","v":1},{"$f":"per_game!L366","v":0},{"$f":"per_game!M366","v":0},{"$f":"per_game!N366","v":0},{"$f":"per_game!O366","v":0},{"$f":"per_game!P366","v":1},{"$f":"per_game!Q366","v":1},{"$f":"per_game!R366","v":2},{"$f":"per_game!S366","v":1},{"$f":"per_game!T366","v":2},{"$f":"per_game!U366","v":0},{"$f":"per_game!V366","v":0},{"$f":"per_game!W366","v":3},{"$f":"per_game!X366","v":6}]
[null,null,{"$f":"Roster!C367","v":"F"},61.007999999999988,{"$f":"per_game!B367 & \"-\" & D368","v":"Maurice Harkless-61.008"},{"$f":"per_game!D367","v":14},{"$f":"per_game!E367","v":7},{"$f":"per_game!F367","v":18.399999999999999},{"$f":"per_game!G367","v":2},{"$f":"per_game!H367","v":4},{"$f":"per_game!I367","v":0.5},{"$f":"per_game!J367","v":0.1},{"$f":"per_game!K367","v":0.4},{"$f":"per_game!L367","v":0.2},{"$f":"per_game!M367","v":0.3},{"$f":"per_game!N367","v":0.9},{"$f":"per_game!O367","v":0.308},{"$f":"per_game!P367","v":1.3},{"$f":"per_game!Q367","v":3},{"$f":"per_game!R367","v":4.3},{"$f":"per_game!S367","v":0.6},{"$f":"per_game!T367","v":0.6},{"$f":"per_game!U367","v":0.9},{"$f":"per_game!V367","v":0.6},{"$f":"per_game!W367","v":1.6},{"$f":"per_game!X367","v":4.4000000000000004}]
[null,null,{"$f":"Roster!C368","v":"C"},54.176999999999978,{"$f":"per_game!B368 & \"-\" & D369","v":"Josh McRoberts-54.177"},{"$f":"per_game!D368","v":16},{"$f":"per_game!E368","v":2},{"$f":"per_game!F368","v":15.8},{"$f":"per_game!G368","v":1.6},{"$f":"per_game!H368","v":3.4},{"$f":"per_game!I368","v":0.46300000000000002},{"$f":"per_game!J368","v":0.3},{"$f":"per_game!K368","v":0.7},{"$f":"per_game!L368","v":0.36399999999999999},{"$f":"per_game!M368","v":0.6},{"$f":"per_game!N368","v":0.8},{"$f":"per_game!O368","v":0.75},{"$f":"per_game!P368","v":1.1000000000000001},{"$f":"per_game!Q368","v":2.8},{"$f":"per_game!R368","v":3.8},{"$f":"per_game!S368","v":1.3},{"$f":"per_game!T368","v":0.3},{"$f":"per_game!U368","v":0.4},{"$f":"per_game!V368","v":0.6},{"$f":"per_game!W368","v":1.6},{"$f":"per_game!X368","v":3.9}]
[null,null,{"$f":"Roster!C369","v":"G"},36.322999999999986,{"$f":"per_game!B369 & \"-\" & D370","v":"DeQuan Jones-36.323"},{"$f":"per_game!D369","v":9},{"$f":"per_game!E369","v":3},{"$f":"per_game!F369","v":10.7},{"$f":"per_game!G369","v":1.2},{"$f":"per_game!H369","v":2.9},{"$f":"per_game!I369","v":0.42299999999999999},{"$f":"per_game!J369","v":0.2},{"$f":"per_game!K369","v":0.4},{"$f":"per_game!L369","v":0.5},{"$f":"per_game!M369","v":0.3},{"$f":"per_game!N369","v":0.7},{"$f":"per_game!O369","v":0.5},{"$f":"per_game!P369","v":0.2},{"$f":"per_game!Q369","v":1.7},{"$f":"per_game!R369","v":1.9},{"$f":"per_game!S369","v":0.1},{"$f":"per_game!T369","v":0.2},{"$f":"per_game!U369","v":0.3},{"$f":"per_game!V369","v":0.2},{"$f":"per_game!W369","v":0.7},{"$f":"per_game!X369","v":3}]
[null,null,{"$f":"Roster!C370","v":"G"},41.187999999999995,null,{"$f":"per_game!D370","v":16},{"$f":"per_game!E370","v":0},{"$f":"per_game!F370","v":11.6},{"$f":"per_game!G370","v":1.3},{"$f":"per_game!H370","v":2.7},{"$f":"per_game!I370","v":0.48799999999999999},{"$f":"per_game!J370","v":0},{"$f":"per_game!K370","v":0},{"$f":"per_game!L370","v":0},{"$f":"per_game!M370","v":0.4},{"$f":"per_game!N370","v":0.8},{"$f":"per_game!O370","v":0.5},{"$f":"per_game!P370","v":0.9},{"$f":"per_game!Q370","v":2},{"$f":"per_game!R370","v":2.9},{"$f":"per_game!S370","v":0.9},{"$f":"per_game!T370","v":0.2},{"$f":"per_game!U370","v":0.1},{"$f":"per_game!V370","v":0.6},{"$f":"per_game!W370","v":2},{"$f":"per_game!X370","v":3}]
[null,null,{"$f":"Roster!C371","v":"F"},29.332999999999998,null,{"$f":"per_game!D371","v":9},{"$f":"per_game!E371","v":0},{"$f":"per_game!F371","v":6.4},{"$f":"per_game!G371","v":0.6},{"$f":"per_game!H371","v":1.7},{"$f":"per_game!I371","v":0.33300000000000002},{"$f":"per_game!J371","v":0},{"$f":"per_game!K371","v":0},{"$f":"per_game!L371","v":0},{"$f":"per_game!M371","v":1.3},{"$f":"per_game!N371","v":1.3},{"$f":"per_game!O371","v":1},{"$f":"per_game!P371","v":0.8},{"$f":"per_game!Q371","v":1.7},{"$f":"per_game!R371","v":2.4},{"$f":"per_game!S371","v":0.7},{"$f":"per_game!T371","v":0.1},{"$f":"per_game!U371","v":0.8},{"$f":"per_game!V371","v":0.3},{"$f":"per_game!W371","v":0.9},{"$f":"per_game!X371","v":2.4}]
[null,null,{"$f":"Roster!C372","v":"F"},null,null,{"$f":"per_game!D372","v":11},{"$f":"per_game!E372","v":0},{"$f":"per_game!F372","v":11.5},{"$f":"per_game!G372","v":0.5},{"$f":"per_game!H372","v":2.7},{"$f":"per_game!I372","v":0.16700000000000001},{"$f":"per_game!J372","v":0},{"$f":"per_game!K372","v":0.5},{"$f":"per_game!L372","v":0},{"$f":"per_game!M372","v":0},{"$f":"per_game!N372","v":0},{"$f":"per_game!O372","v":0},{"$f":"per_game!P372","v":0.3},{"$f":"per_game!Q372","v":1.3},{"$f":"per_game!R372","v":1.5},{"$f":"per_game!S372","v":1.5},{"$f":"per_game!T372","v":0.4},{"$f":"per_game!U372","v":0.1},{"$f":"per_game!V372","v":0.8},{"$f":"per_game!W372","v":0.5},{"$f":"per_game!X372","v":0.9}]
[null,null,{"$f":"Roster!C373","v":0},0,{"$f":"per_game!B373 & \"-\" & D374","v":"-0"},{"$f":"per_game!D373","v":0},{"$f":"per_game!E373","v":0},{"$f":"per_game!F373","v":0},{"$f":"per_game!G373","v":0},{"$f":"per_game!H373","v":0},{"$f":"per_game!I373","v":0},{"$f":"per_game!J373","v":0},{"$f":"per_game!K373","v":0},{"$f":"per_game!L373","v":0},{"$f":"per_game!M373","v":0},{"$f":"per_game!N373","v":0},{"$f":"per_game!O373","v":0},{"$f":"per_game!P373","v":0},{"$f":"per_game!Q373","v":0},{"$f":"per_game!R373","v":0},{"$f":"per_game!S373","v":0},{"$f":"per_game!T373","v":0},{"$f":"per_game!U373","v":0},{"$f":"per_game!V373","v":0},{"$f":"per_game!W373","v":0},{"$f":"per_game!X373","v":0}]
[null,null,{"$f":"Roster!C374","v":0},0,{"$f":"per_game!B374 & \"-\" & D375","v":"-0"},{"$f":"per_game!D374","v":0},{"$f":"per_game!E374","v":0},{"$f":"per_game!F374","v":0},{"$f":"per_game!G374","v":0},{"$f":"per_game!H374","v":0},{"$f":"per_game!I374","v":0},{"$f":"per_game!J374","v":0},{"$f":"per_game!K374","v":0},{"$f":"per_game!L374","v":0},{"$f":"per_game!M374","v":0},{"$f":"per_game!N374","v":0},{"$f":"per_game!O374","v":0},{"$f":"per_game!P374","v":0},{"$f":"per_game!Q374","v":0},{"$f":"per_game!R374","v":0},{"$f":"per_game!S374","v":0},{"$f":"per_game!T374","v":0},{"$f":"per_game!U374","v":0},{"$f":"per_game!V374","v":0},{"$f":"per_game!W374","v":0},{"$f":"per_game!X374","v":0}]
[null,null,{"$f":"Roster!C375","v":"Pos"},null,{"$f":"per_game!B375 & \"-\" & D376","v":"Player-"},{"$f":"per_game!D375","v":"G"},{"$f":"per_game!E375","v":"GS"},{"$f":"per_game!F375","v":"MP"},{"$f":"per_game!G375","v":"FG"},{"$f":"per_game!H375","v":"FGA"},{"$f":"per_game!I375","v":"FG%"},{"$f":"per_game!J375","v":"3P"},{"$f":"per_game!K375","v":"3PA"},{"$f":"per_game!L375","v":"3P%"},{"$f":"per_game!M375","v":"FT"},{"$f":"per_game!N375","v":"FTA"},{"$f":"per_game!O375","v":"FT%"},{"$f":"per_game!P375","v":"ORB"},{"$f":"per_game!Q375","v":"DRB"},{"$f":"per_game!R375","v":"TRB"},{"$f":"per_game!S375","v":"AST"},{"$f":"per_game!T375","v":"STL"},{"$f":"per_game!U375","v":"BLK"},{"$f":"per_game!V375","v":"TOV"},{"$f":"per_game!W375","v":"PF"},{"$f":"per_game!X375","v":"PTS"}]
[null,null,{"$f":"Roster!C376","v":"F"},138.03000000000003,{"$f":"per_game!B376 & \"-\" & D377","v":"Jrue Holiday-138.03"},{"$f":"per_game!D376","v":17},{"$f":"per_game!E376","v":17},{"$f":"per_game!F376","v":38.5},{"$f":"per_game!G376","v":7.2},{"$f":"per_game!H376","v":15.7},{"$f":"per_game!I376","v":0.45700000000000002},{"$f":"per_game!J376","v":1.2},{"$f":"per_game!K376","v":3},{"$f":"per_game!L376","v":0.39200000000000002},{"$f":"per_game!M376","v":2.9},{"$f":"per_game!N376","v":3.8},{"$f":"per_game!O376","v":0.78100000000000003},{"$f":"per_game!P376","v":0.9},{"$f":"per_game!Q376","v":2.6},{"$f":"per_game!R376","v":3.5},{"$f":"per_game!S376","v":9.3000000000000007},{"$f":"per_game!T376","v":1.4},{"$f":"per_game!U376","v":0.5},{"$f":"per_game!V376","v":4.0999999999999996},{"$f":"per_game!W376","v":2.5},{"$f":"per_game!X376","v":18.5}]
[null,null,{"$f":"Roster!C377","v":"F"},123.72800000000002,{"$f":"per_game!B377 & \"-\" & D378","v":"Thaddeus Young-123.728"},{"$f":"per_game!D377","v":17},{"$f":"per_game!E377","v":17},{"$f":"per_game!F377","v":35.6},{"$f":"per_game!G377","v":6.4},{"$f":"per_game!H377","v":12.2},{"$f":"per_game!I377","v":0.52400000000000002},{"$f":"per_game!J377","v":0},{"$f":"per_game!K377","v":0},{"$f":"per_game!L377","v":0},{"$f":"per_game!M377","v":1.7},{"$f":"per_game!N377","v":2.8},{"$f":"per_game!O377","v":0.60399999999999998},{"$f":"per_game!P377","v":2.2000000000000002},{"$f":"per_game!Q377","v":5.5},{"$f":"per_game!R377","v":7.7},{"$f":"per_game!S377","v":1.4},{"$f":"per_game!T377","v":1.6},{"$f":"per_game!U377","v":0.9},{"$f":"per_game!V377","v":1.3},{"$f":"per_game!W377","v":2.6},{"$f":"per_game!X377","v":14.5}]
[null,null,{"$f":"Roster!C378","v":"C"},125.19499999999999,{"$f":"per_game!B378 & \"-\" & D379","v":"Evan Turner-125.195"},{"$f":"per_game!D378","v":17},{"$f":"per_game!E378","v":17},{"$f":"per_game!F378","v":34.5},{"$f":"per_game!G378","v":5.3},{"$f":"per_game!H378","v":12},{"$f":"per_game!I378","v":0.441},{"$f":"per_game!J378","v":0.6},{"$f":"per_game!K378","v":1.5},{"$f":"per_game!L378","v":0.42299999999999999},{"$f":"per_game!M378","v":2.9},{"$f":"per_game!N378","v":3.5},{"$f":"per_game!O378","v":0.83099999999999996},{"$f":"per_game!P378","v":0.8},{"$f":"per_game!Q378","v":6.3},{"$f":"per_game!R378","v":7.1},{"$f":"per_game!S378","v":4.0999999999999996},{"$f":"per_game!T378","v":0.9},{"$f":"per_game!U378","v":0.3},{"$f":"per_game!V378","v":1.8},{"$f":"per_game!W378","v":2.6},{"$f":"per_game!X378","v":14.1}]
[null,null,{"$f":"Roster!C379","v":"G"},104.95400000000001,{"$f":"per_game!B379 & \"-\" & D380","v":"Jason Richardson-104.954"},{"$f":"per_game!D379","v":13},{"$f":"per_game!E379","v":13},{"$f":"per_game!F379","v":29.1},{"$f":"per_game!G379","v":4.8},{"$f":"per_game!H379","v":11.2},{"$f":"per_game!I379","v":0.42499999999999999},{"$f":"per_game!J379","v":2.5},{"$f":"per_game!K379","v":5.9},{"$f":"per_game!L379","v":0.42899999999999999},{"$f":"per_game!M379","v":0.6},{"$f":"per_game!N379","v":0.8},{"$f":"per_game!O379","v":0.8},{"$f":"per_game!P379","v":0.7},{"$f":"per_game!Q379","v":3.5},{"$f":"per_game!R379","v":4.2},{"$f":"per_game!S379","v":1.2},{"$f":"per_game!T379","v":1.7},{"$f":"per_game!U379","v":0.7},{"$f":"per_game!V379","v":0.6},{"$f":"per_game!W379","v":1.7},{"$f":"per_game!X379","v":12.7}]
[null,null,{"$f":"Roster!C380","v":"G"},74.802999999999983,{"$f":"per_game!B380 & \"-\" & D381","v":"Nick Young-74.803"},{"$f":"per_game!D380","v":16},{"$f":"per_game!E380","v":0},{"$f":"per_game!F380","v":23.3},{"$f":"per_game!G380","v":3.3},{"$f":"per_game!H380","v":8.6999999999999993},{"$f":"per_game!I380","v":0.38100000000000001},{"$f":"per_game!J380","v":1.1000000000000001},{"$f":"per_game!K380","v":3.3},{"$f":"per_game!L380","v":0.34},{"$f":"per_game!M380","v":1.9},{"$f":"per_game!N380","v":2.1},{"$f":"per_game!O380","v":0.88200000000000001},{"$f":"per_game!P380","v":0.3},{"$f":"per_game!Q380","v":1.5},{"$f":"per_game!R380","v":1.8},{"$f":"per_game!S380","v":1.3},{"$f":"per_game!T380","v":0.6},{"$f":"per_game!U380","v":0.4},{"$f":"per_game!V380","v":0.9},{"$f":"per_game!W380","v":1.1000000000000001},{"$f":"per_game!X380","v":9.6}]
[null,null,{"$f":"Roster!C381","v":"F"},80.210000000000022,{"$f":"per_game!B381 & \"-\" & D382","v":"Dorell Wright-80.21"},{"$f":"per_game!D381","v":17},{"$f":"per_game!E381","v":4},{"$f":"per_game!F381","v":21.9},{"$f":"per_game!G381","v":2.4},{"$f":"per_game!H381","v":7.1},{"$f":"per_game!I381","v":0.33300000000000002},{"$f":"per_game!J381","v":1.5},{"$f":"per_game!K381","v":4.0999999999999996},{"$f":"per_game!L381","v":0.371},{"$f":"per_game!M381","v":1.7},{"$f":"per_game!N381","v":1.9},{"$f":"per_game!O381","v":0.90600000000000003},{"$f":"per_game!P381","v":0.9},{"$f":"per_game!Q381","v":3.5},{"$f":"per_game!R381","v":4.4000000000000004},{"$f":"per_game!S381","v":0.9},{"$f":"per_game!T381","v":1.2},{"$f":"per_game!U381","v":0.5},{"$f":"per_game!V381","v":1.1000000000000001},{"$f":"per_game!W381","v":1.2},{"$f":"per_game!X381","v":7.9}]
[null,null,{"$f":"Roster!C382","v":"G"},68.661999999999992,{"$f":"per_game!B382 & \"-\" & D383","v":"Spencer Hawes-68.662"},{"$f":"per_game!D382","v":17},{"$f":"per_game!E382","v":0},{"$f":"per_game!F382","v":20.100000000000001},{"$f":"per_game!G382","v":3.1},{"$f":"per_game!H382","v":7},{"$f":"per_game!I382","v":0.437},{"$f":"per_game!J382","v":0.2},{"$f":"per_game!K382","v":0.6},{"$f":"per_game!L382","v":0.4},{"$f":"per_game!M382","v":0.9},{"$f":"per_game!N382","v":1.4},{"$f":"per_game!O382","v":0.625},{"$f":"per_game!P382","v":1.4},{"$f":"per_game!Q382","v":3.8},{"$f":"per_game!R382","v":5.2},{"$f":"per_game!S382","v":1.4},{"$f":"per_game!T382","v":0.3},{"$f":"per_game!U382","v":1.2},{"$f":"per_game!V382","v":1.1000000000000001},{"$f":"per_game!W382","v":2.5},{"$f":"per_game!X382","v":7.2}]
[null,null,{"$f":"Roster!C383","v":"G"},77.286999999999992,{"$f":"per_game!B383 & \"-\" & D384","v":"Lavoy Allen-77.287"},{"$f":"per_game!D383","v":17},{"$f":"per_game!E383","v":11},{"$f":"per_game!F383","v":23},{"$f":"per_game!G383","v":2.6},{"$f":"per_game!H383","v":5.9},{"$f":"per_game!I383","v":0.44600000000000001},{"$f":"per_game!J383","v":0},{"$f":"per_game!K383","v":0},{"$f":"per_game!L383","v":0},{"$f":"per_game!M383","v":0.9},{"$f":"per_game!N383","v":1},{"$f":"per_game!O383","v":0.94099999999999995},{"$f":"per_game!P383","v":2.2000000000000002},{"$f":"per_game!Q383","v":2.4},{"$f":"per_game!R383","v":4.5999999999999996},{"$f":"per_game!S383","v":1.1000000000000001},{"$f":"per_game!T383","v":0.1},{"$f":"per_game!U383","v":1.2},{"$f":"per_game!V383","v":0.8},{"$f":"per_game!W383","v":2.5},{"$f":"per_game!X383","v":6.2}]
[null,null,{"$f":"Roster!C384","v":"G"},38.818000000000005,{"$f":"per_game!B384 & \"-\" & D385","v":"Royal Ivey-38.818"},{"$f":"per_game!D384","v":11},{"$f":"per_game!E384","v":0},{"$f":"per_game!F384","v":12.7},{"$f":"per_game!G384","v":1.2},{"$f":"per_game!H384","v":3.1},{"$f":"per_game!I384","v":0.38200000000000001},{"$f":"per_game!J384","v":0.4},{"$f":"per_game!K384","v":1.3},{"$f":"per_game!L384","v":0.28599999999999998},{"$f":"per_game!M384","v":0.5},{"$f":"per_game!N384","v":0.7},{"$f":"per_game!O384","v":0.75},{"$f":"per_game!P384","v":0.6},{"$f":"per_game!Q384","v":1},{"$f":"per_game!R384","v":1.6},{"$f":"per_game!S384","v":0.7},{"$f":"per_game!T384","v":0.6},{"$f":"per_game!U384","v":0.1},{"$f":"per_game!V384","v":0.3},{"$f":"per_game!W384","v":1.1000000000000001},{"$f":"per_game!X384","v":3.3}]
[null,null,{"$f":"Roster!C385","v":"F"},27.175000000000004,{"$f":"per_game!B385 & \"-\" & D386","v":"Maalik Wayns-27.175"},{"$f":"per_game!D385","v":10},{"$f":"per_game!E385","v":0},{"$f":"per_game!F385","v":6.8},{"$f":"per_game!G385","v":0.8},{"$f":"per_game!H385","v":3.3},{"$f":"per_game!I385","v":0.24199999999999999},{"$f":"per_game!J385","v":0.4},{"$f":"per_game!K385","v":1.2},{"$f":"per_game!L385","v":0.33300000000000002},{"$f":"per_game!M385","v":0.6},{"$f":"per_game!N385","v":0.6},{"$f":"per_game!O385","v":1},{"$f":"per_game!P385","v":0},{"$f":"per_game!Q385","v":0.1},{"$f":"per_game!R385","v":0.1},{"$f":"per_game!S385","v":0.5},{"$f":"per_game!T385","v":0},{"$f":"per_game!U385","v":0},{"$f":"per_game!V385","v":0.6},{"$f":"per_game!W385","v":0.8},{"$f":"per_game!X385","v":2.6}]
[null,null,{"$f":"Roster!C386","v":"G-F"},40.460999999999999,null,{"$f":"per_game!D386","v":10},{"$f":"per_game!E386","v":6},{"$f":"per_game!F386","v":12.1},{"$f":"per_game!G386","v":1},{"$f":"per_game!H386","v":2.4},{"$f":"per_game!I386","v":0.41699999999999998},{"$f":"per_game!J386","v":0},{"$f":"per_game!K386","v":0},{"$f":"per_game!L386","v":0},{"$f":"per_game!M386","v":0.4},{"$f":"per_game!N386","v":0.9},{"$f":"per_game!O386","v":0.44400000000000001},{"$f":"per_game!P386","v":1.2},{"$f":"per_game!Q386","v":1.5},{"$f":"per_game!R386","v":2.7},{"$f":"per_game!S386","v":0.5},{"$f":"per_game!T386","v":0.3},{"$f":"per_game!U386","v":0.4},{"$f":"per_game!V386","v":0.2},{"$f":"per_game!W386","v":2},{"$f":"per_game!X386","v":2.4}]
[null,null,{"$f":"Roster!C387","v":"G"},19.750000000000007,null,{"$f":"per_game!D387","v":9},{"$f":"per_game!E387","v":0},{"$f":"per_game!F387","v":5.4},{"$f":"per_game!G387","v":0.3},{"$f":"per_game!H387","v":1.3},{"$f":"per_game!I387","v":0.25},{"$f":"per_game!J387","v":0},{"$f":"per_game!K387","v":0.1},{"$f":"per_game!L387","v":0},{"$f":"per_game!M387","v":0.3},{"$f":"per_game!N387","v":0.7},{"$f":"per_game!O387","v":0.5},{"$f":"per_game!P387","v":0},{"$f":"per_game!Q387","v":0.6},{"$f":"per_game!R387","v":0.6},{"$f":"per_game!S387","v":0.1},{"$f":"per_game!T387","v":0.1},{"$f":"per_game!U387","v":0.1},{"$f":"per_game!V387","v":0},{"$f":"per_game!W387","v":0.6},{"$f":"per_game!X387","v":1}]
[null,null,{"$f":"Roster!C388","v":"F"},null,null,{"$f":"per_game!D388","v":5},{"$f":"per_game!E388","v":0},{"$f":"per_game!F388","v":5.2},{"$f":"per_game!G388","v":0.2},{"$f":"per_game!H388","v":0.8},{"$f":"per_game!I388","v":0.25},{"$f":"per_game!J388","v":0},{"$f":"per_game!K388","v":0},{"$f":"per_game!L388","v":0},{"$f":"per_game!M388","v":0.4},{"$f":"per_game!N388","v":0.8},{"$f":"per_game!O388","v":0.5},{"$f":"per_game!P388","v":0.8},{"$f":"per_game!Q388","v":0.4},{"$f":"per_game!R388","v":1.2},{"$f":"per_game!S388","v":0},{"$f":"per_game!T388","v":0.2},{"$f":"per_game!U388","v":0},{"$f":"per_game!V388","v":0.2},{"$f":"per_game!W388","v":0.6},{"$f":"per_game!X388","v":0.8}]
[null,null,{"$f":"Roster!C389","v":0},{"$f":"F390*$B$21+G390*$B$20+H390*$B$19+I390*$B$13+J390*$B$14+K390*$B$6+L390*$B$17+M390*$B$18+N390*$B$8+O390*$B$15+P390*$B$16+Q390*$B$7+R390*$B$10+S390*$B$11+T390*$B$2+U390*$B$3+V390*$B$5+W390*$B$4+X390*$B$9+Y390*$B$12+Z390*$B$1","v":0},{"$f":"per_game!B389 & \"-\" & D390","v":"-0"},{"$f":"per_game!D389","v":0},{"$f":"per_game!E389","v":0},{"$f":"per_game!F389","v":0},{"$f":"per_game!G389","v":0},{"$f":"per_game!H389","v":0},{"$f":"per_game!I389","v":0},{"$f":"per_game!J389","v":0},{"$f":"per_game!K389","v":0},{"$f":"per_game!L389","v":0},{"$f":"per_game!M389","v":0},{"$f":"per_game!N389","v":0},{"$f":"per_game!O389","v":0},{"$f":"per_game!P389","v":0},{"$f":"per_game!Q389","v":0},{"$f":"per_game!R389","v":0},{"$f":"per_game!S389","v":0},{"$f":"per_game!T389","v":0},{"$f":"per_game!U389","v":0},{"$f":"per_game!V389","v":0},{"$f":"per_game!W389","v":0},{"$f":"per_game!X389","v":0}]
[null,null,{"$f":"Roster!C390","v":0},0,{"$f":"per_game!B390 & \"-\" & D391","v":"-0"},{"$f":"per_game!D390","v":0},{"$f":"per_game!E390","v":0},{"$f":"per_game!F390","v":0},{"$f":"per_game!G390","v":0},{"$f":"per_game!H390","v":0},{"$f":"per_game!I390","v":0},{"$f":"per_game!J390","v":0},{"$f":"per_game!K390","v":0},{"$f":"per_game!L390","v":0},{"$f":"per_game!M390","v":0},{"$f":"per_game!N390","v":0},{"$f":"per_game!O390","v":0},{"$f":"per_game!P390","v":0},{"$f":"per_game!Q390","v":0},{"$f":"per_game!R390","v":0},{"$f":"per_game!S390","v":0},{"$f":"per_game!T390","v":0},{"$f":"per_game!U390","v":0},{"$f":"per_game!V390","v":0},{"$f":"per_game!W390","v":0},{"$f":"per_game!X390","v":0}]
[null,null,{"$f":"Roster!C391","v":"Pos"},null,{"$f":"per_game!B391 & \"-\" & D392","v":"Player-"},{"$f":"per_game!D391","v":"G"},{"$f":"per_game!E391","v":"GS"},{"$f":"per_game!F391","v":"MP"},{"$f":"per_game!G391","v":"FG"},{"$f":"per_game!H391","v":"FGA"},{"$f":"per_game!I391","v":"FG%"},{"$f":"per_game!J391","v":"3P"},{"$f":"per_game!K391","v":"3PA"},{"$f":"per_game!L391","v":"3P%"},{"$f":"per_game!M391","v":"FT"},{"$f":"per_game!N391","v":"FTA"},{"$f":"per_game!O391","v":"FT%"},{"$f":"per_game!P391","v":"ORB"},{"$f":"per_game!Q391","v":"DRB"},{"$f":"per_game!R391","v":"TRB"},{"$f":"per_game!S391","v":"AST"},{"$f":"per_game!T391","v":"STL"},{"$f":"per_game!U391","v":"BLK"},{"$f":"per_game!V391","v":"TOV"},{"$f":"per_game!W391","v":"PF"},{"$f":"per_game!X391","v":"PTS"}]
[null,null,{"$f":"Roster!C392","v":"F"},124.38799999999999,{"$f":"per_game!B392 & \"-\" & D393","v":"Goran Dragic-124.388"},{"$f":"per_game!D392","v":18},{"$f":"per_game!E392","v":18},{"$f":"per_game!F392","v":31.6},{"$f":"per_game!G392","v":5.3},{"$f":"per_game!H392","v":11.2},{"$f":"per_game!I392","v":0.47},{"$f":"per_game!J392","v":1.7},{"$f":"per_game!K392","v":4.4000000000000004},{"$f":"per_game!L392","v":0.375},{"$f":"per_game!M392","v":3.1},{"$f":"per_game!N392","v":4.0999999999999996},{"$f":"per_game!O392","v":0.74299999999999999},{"$f":"per_game!P392","v":0.9},{"$f":"per_game!Q392","v":2.2000000000000002},{"$f":"per_game!R392","v":3.1},{"$f":"per_game!S392","v":6.6},{"$f":"per_game!T392","v":1.9},{"$f":"per_game!U392","v":0.3},{"$f":"per_game!V392","v":2.2999999999999998},{"$f":"per_game!W392","v":2.6},{"$f":"per_game!X392","v":15.3}]
[null,null,{"$f":"Roster!C393","v":"G"},103.44399999999997,{"$f":"per_game!B393 & \"-\" & D394","v":"Luis Scola-103.444"},{"$f":"per_game!D393","v":18},{"$f":"per_game!E393","v":11},{"$f":"per_game!F393","v":26.9},{"$f":"per_game!G393","v":5.3},{"$f":"per_game!H393","v":11.4},{"$f":"per_game!I393","v":0.46100000000000002},{"$f":"per_game!J393","v":0.1},{"$f":"per_game!K393","v":0.2},{"$f":"per_game!L393","v":0.33300000000000002},{"$f":"per_game!M393","v":1.9},{"$f":"per_game!N393","v":2.2000000000000002},{"$f":"per_game!O393","v":0.85},{"$f":"per_game!P393","v":1.9},{"$f":"per_game!Q393","v":4.8},{"$f":"per_game!R393","v":6.8},{"$f":"per_game!S393","v":1.6},{"$f":"per_game!T393","v":0.8},{"$f":"per_game!U393","v":0.6},{"$f":"per_game!V393","v":1.4},{"$f":"per_game!W393","v":2.8},{"$f":"per_game!X393","v":12.5}]
[null,null,{"$f":"Roster!C394","v":"G"},92.130000000000024,{"$f":"per_game!B394 & \"-\" & D395","v":"Shannon Brown-92.13"},{"$f":"per_game!D394","v":18},{"$f":"per_game!E394","v":7},{"$f":"per_game!F394","v":23.9},{"$f":"per_game!G394","v":4.3},{"$f":"per_game!H394","v":10.7},{"$f":"per_game!I394","v":0.40600000000000003},{"$f":"per_game!J394","v":1},{"$f":"per_game!K394","v":3.2},{"$f":"per_game!L394","v":0.316},{"$f":"per_game!M394","v":2.2999999999999998},{"$f":"per_game!N394","v":2.9},{"$f":"per_game!O394","v":0.80800000000000005},{"$f":"per_game!P394","v":0.7},{"$f":"per_game!Q394","v":1.9},{"$f":"per_game!R394","v":2.6},{"$f":"per_game!S394","v":2.1},{"$f":"per_game!T394","v":0.7},{"$f":"per_game!U394","v":0.2},{"$f":"per_game!V394","v":1.3},{"$f":"per_game!W394","v":1.6},{"$f":"per_game!X394","v":12}]
[null,null,{"$f":"Roster!C395","v":"F"},108.00399999999999,{"$f":"per_game!B395 & \"-\" & D396","v":"Michael Beasley-108.004"},{"$f":"per_game!D395","v":18},{"$f":"per_game!E395","v":18},{"$f":"per_game!F395","v":27.7},{"$f":"per_game!G395","v":4.7},{"$f":"per_game!H395","v":12.1},{"$f":"per_game!I395","v":0.39},{"$f":"per_game!J395","v":0.7},{"$f":"per_game!K395","v":2.5},{"$f":"per_game!L395","v":0.28899999999999998},{"$f":"per_game!M395","v":1.6},{"$f":"per_game!N395","v":2.2000000000000002},{"$f":"per_game!O395","v":0.72499999999999998},{"$f":"per_game!P395","v":1.1000000000000001},{"$f":"per_game!Q395","v":3.1},{"$f":"per_game!R395","v":4.2},{"$f":"per_game!S395","v":2.5},{"$f":"per_game!T395","v":0.5},{"$f":"per_game!U395","v":0.7},{"$f":"per_game!V395","v":2.7},{"$f":"per_game!W395","v":2.1},{"$f":"per_game!X395","v":11.8}]
[null,null,{"$f":"Roster!C396","v":"G"},115.30999999999999,{"$f":"per_game!B396 & \"-\" & D397","v":"Marcin Gortat-115.31"},{"$f":"per_game!D396","v":18},{"$f":"per_game!E396","v":18},{"$f":"per_game!F396","v":31.2},{"$f":"per_game!G396","v":5},{"$f":"per_game!H396","v":9.3000000000000007},{"$f":"per_game!I396","v":0.53600000000000003},{"$f":"per_game!J396","v":0},{"$f":"per_game!K396","v":0.1},{"$f":"per_game!L396","v":0},{"$f":"per_game!M396","v":1.7},{"$f":"per_game!N396","v":2.6},{"$f":"per_game!O396","v":0.67400000000000004},{"$f":"per_game!P396","v":2.2999999999999998},{"$f":"per_game!Q396","v":6},{"$f":"per_game!R396","v":8.3000000000000007},{"$f":"per_game!S396","v":1},{"$f":"per_game!T396","v":0.7},{"$f":"per_game!U396","v":2.1},{"$f":"per_game!V396","v":1.7},{"$f":"per_game!W396","v":2.2000000000000002},{"$f":"per_game!X396","v":11.7}]
[null,null,{"$f":"Roster!C397","v":"C-F"},82.016000000000005,{"$f":"per_game!B397 & \"-\" & D398","v":"Markieff Morris-82.016"},{"$f":"per_game!D397","v":18},{"$f":"per_game!E397","v":7},{"$f":"per_game!F397","v":21.6},{"$f":"per_game!G397","v":3.7},{"$f":"per_game!H397","v":8.8000000000000007},{"$f":"per_game!I397","v":0.42099999999999999},{"$f":"per_game!J397","v":0.6},{"$f":"per_game!K397","v":1.6},{"$f":"per_game!L397","v":0.34499999999999997},{"$f":"per_game!M397","v":1},{"$f":"per_game!N397","v":1.3},{"$f":"per_game!O397","v":0.75},{"$f":"per_game!P397","v":1.8},{"$f":"per_game!Q397","v":2.7},{"$f":"per_game!R397","v":4.5999999999999996},{"$f":"per_game!S397","v":1.3},{"$f":"per_game!T397","v":0.9},{"$f":"per_game!U397","v":0.3},{"$f":"per_game!V397","v":0.9},{"$f":"per_game!W397","v":2.8},{"$f":"per_game!X397","v":9}]
[null,null,{"$f":"Roster!C398","v":"F"},87.248999999999995,{"$f":"per_game!B398 & \"-\" & D399","v":"Jared Dudley-87.249"},{"$f":"per_game!D398","v":18},{"$f":"per_game!E398","v":11},{"$f":"per_game!F398","v":25.8},{"$f":"per_game!G398","v":3.4},{"$f":"per_game!H398","v":7.6},{"$f":"per_game!I398","v":0.44900000000000001},{"$f":"per_game!J398","v":1.2},{"$f":"per_game!K398","v":3.2},{"$f":"per_game!L398","v":0.36799999999999999},{"$f":"per_game!M398","v":0.7},{"$f":"per_game!N398","v":1.1000000000000001},{"$f":"per_game!O398","v":0.63200000000000001},{"$f":"per_game!P398","v":0.7},{"$f":"per_game!Q398","v":1.7},{"$f":"per_game!R398","v":2.4},{"$f":"per_game!S398","v":1.7},{"$f":"per_game!T398","v":1},{"$f":"per_game!U398","v":0.1},{"$f":"per_game!V398","v":1},{"$f":"per_game!W398","v":1.4},{"$f":"per_game!X398","v":8.6}]
[null,null,{"$f":"Roster!C399","v":"G"},61.193999999999996,{"$f":"per_game!B399 & \"-\" & D400","v":"Jermaine O'Neal-61.194"},{"$f":"per_game!D399","v":11},{"$f":"per_game!E399","v":0},{"$f":"per_game!F399","v":18.5},{"$f":"per_game!G399","v":3},{"$f":"per_game!H399","v":5.7},{"$f":"per_game!I399","v":0.52400000000000002},{"$f":"per_game!J399","v":0},{"$f":"per_game!K399","v":0},{"$f":"per_game!L399","v":0},{"$f":"per_game!M399","v":1.8},{"$f":"per_game!N399","v":2.1},{"$f":"per_game!O399","v":0.87},{"$f":"per_game!P399","v":0.9},{"$f":"per_game!Q399","v":4.3},{"$f":"per_game!R399","v":5.2},{"$f":"per_game!S399","v":0.3},{"$f":"per_game!T399","v":0.5},{"$f":"per_game!U399","v":1.7},{"$f":"per_game!V399","v":1},{"$f":"per_game!W399","v":2},{"$f":"per_game!X399","v":7.8}]
[null,null,{"$f":"Roster!C400","v":"F"},60.036000000000001,{"$f":"per_game!B400 & \"-\" & D401","v":"Sebastian Telfair-60.036"},{"$f":"per_game!D400","v":18},{"$f":"per_game!E400","v":0},{"$f":"per_game!F400","v":17.600000000000001},{"$f":"per_game!G400","v":2.2000000000000002},{"$f":"per_game!H400","v":5.4},{"$f":"per_game!I400","v":0.40799999999999997},{"$f":"per_game!J400","v":0.6},{"$f":"per_game!K400","v":1.9},{"$f":"per_game!L400","v":0.32400000000000001},{"$f":"per_game!M400","v":1.1000000000000001},{"$f":"per_game!N400","v":1.5},{"$f":"per_game!O400","v":0.70399999999999996},{"$f":"per_game!P400","v":0.4},{"$f":"per_game!Q400","v":1.4},{"$f":"per_game!R400","v":1.8},{"$f":"per_game!S400","v":2.7},{"$f":"per_game!T400","v":0.8},{"$f":"per_game!U400","v":0.3},{"$f":"per_game!V400","v":0.9},{"$f":"per_game!W400","v":2.2999999999999998},{"$f":"per_game!X400","v":6.1}]
[null,null,{"$f":"Roster!C401","v":"F-C"},57.945999999999998,{"$f":"per_game!B401 & \"-\" & D402","v":"P.J. Tucker-57.946"},{"$f":"per_game!D401","v":18},{"$f":"per_game!E401","v":0},{"$f":"per_game!F401","v":18.8},{"$f":"per_game!G401","v":1.8},{"$f":"per_game!H401","v":3.6},{"$f":"per_game!I401","v":0.50800000000000001},{"$f":"per_game!J401","v":0.2},{"$f":"per_game!K401","v":0.4},{"$f":"per_game!L401","v":0.42899999999999999},{"$f":"per_game!M401","v":0.8},{"$f":"per_game!N401","v":1.3},{"$f":"per_game!O401","v":0.60899999999999999},{"$f":"per_game!P401","v":1.4},{"$f":"per_game!Q401","v":2.2000000000000002},{"$f":"per_game!R401","v":3.6},{"$f":"per_game!S401","v":1.1000000000000001},{"$f":"per_game!T401","v":0.6},{"$f":"per_game!U401","v":0.3},{"$f":"per_game!V401","v":0.6},{"$f":"per_game!W401","v":1.7},{"$f":"per_game!X401","v":4.5999999999999996}]
[null,null,{"$f":"Roster!C402","v":"F"},18.5,{"$f":"per_game!B402 & \"-\" & D403","v":"Luke Zeller-18.5"},{"$f":"per_game!D402","v":6},{"$f":"per_game!E402","v":0},{"$f":"per_game!F402","v":4.5},{"$f":"per_game!G402","v":1},{"$f":"per_game!H402","v":2},{"$f":"per_game!I402","v":0.5},{"$f":"per_game!J402","v":0.2},{"$f":"per_game!K402","v":0.3},{"$f":"per_game!L402","v":0.5},{"$f":"per_game!M402","v":0},{"$f":"per_game!N402","v":0},{"$f":"per_game!O402","v":0},{"$f":"per_game!P402","v":0},{"$f":"per_game!Q402","v":0.8},{"$f":"per_game!R402","v":0.8},{"$f":"per_game!S402","v":0},{"$f":"per_game!T402","v":0},{"$f":"per_game!U402","v":0},{"$f":"per_game!V402","v":0},{"$f":"per_game!W402","v":0.3},{"$f":"per_game!X402","v":2.2000000000000002}]
[null,null,{"$f":"Roster!C403","v":"G"},14,null,{"$f":"per_game!D403","v":1},{"$f":"per_game!E403","v":0},{"$f":"per_game!F403","v":5},{"$f":"per_game!G403","v":1},{"$f":"per_game!H403","v":1},{"$f":"per_game!I403","v":1},{"$f":"per_game!J403","v":0},{"$f":"per_game!K403","v":0},{"$f":"per_game!L403","v":0},{"$f":"per_game!M403","v":0},{"$f":"per_game!N403","v":0},{"$f":"per_game!O403","v":0},{"$f":"per_game!P403","v":0},{"$f":"per_game!Q403","v":0},{"$f":"per_game!R403","v":0},{"$f":"per_game!S403","v":2},{"$f":"per_game!T403","v":1},{"$f":"per_game!U403","v":0},{"$f":"per_game!V403","v":0},{"$f":"per_game!W403","v":0},{"$f":"per_game!X403","v":2}]
[null,null,{"$f":"Roster!C404","v":"F"},23.736000000000008,null,{"$f":"per_game!D404","v":8},{"$f":"per_game!E404","v":0},{"$f":"per_game!F404","v":6.4},{"$f":"per_game!G404","v":0.8},{"$f":"per_game!H404","v":2.6},{"$f":"per_game!I404","v":0.28599999999999998},{"$f":"per_game!J404","v":0.3},{"$f":"per_game!K404","v":1},{"$f":"per_game!L404","v":0.25},{"$f":"per_game!M404","v":0},{"$f":"per_game!N404","v":0},{"$f":"per_game!O404","v":0},{"$f":"per_game!P404","v":0.1},{"$f":"per_game!Q404","v":1},{"$f":"per_game!R404","v":1.1000000000000001},{"$f":"per_game!S404","v":0.6},{"$f":"per_game!T404","v":0},{"$f":"per_game!U404","v":0.1},{"$f":"per_game!V404","v":0.3},{"$f":"per_game!W404","v":0.3},{"$f":"per_game!X404","v":1.8}]
[null,null,{"$f":"Roster!C405","v":"C"},null,null,{"$f":"per_game!D405","v":6},{"$f":"per_game!E405","v":0},{"$f":"per_game!F405","v":5.7},{"$f":"per_game!G405","v":0.5},{"$f":"per_game!H405","v":1.5},{"$f":"per_game!I405","v":0.33300000000000002},{"$f":"per_game!J405","v":0.2},{"$f":"per_game!K405","v":0.7},{"$f":"per_game!L405","v":0.25},{"$f":"per_game!M405","v":0},{"$f":"per_game!N405","v":0},{"$f":"per_game!O405","v":0},{"$f":"per_game!P405","v":0},{"$f":"per_game!Q405","v":0},{"$f":"per_game!R405","v":0},{"$f":"per_game!S405","v":0.8},{"$f":"per_game!T405","v":0.2},{"$f":"per_game!U405","v":0},{"$f":"per_game!V405","v":0.5},{"$f":"per_game!W405","v":0.5},{"$f":"per_game!X405","v":1.2}]
[null,null,{"$f":"Roster!C406","v":0},0,{"$f":"per_game!B406 & \"-\" & D407","v":"-0"},{"$f":"per_game!D406","v":0},{"$f":"per_game!E406","v":0},{"$f":"per_game!F406","v":0},{"$f":"per_game!G406","v":0},{"$f":"per_game!H406","v":0},{"$f":"per_game!I406","v":0},{"$f":"per_game!J406","v":0},{"$f":"per_game!K406","v":0},{"$f":"per_game!L406","v":0},{"$f":"per_game!M406","v":0},{"$f":"per_game!N406","v":0},{"$f":"per_game!O406","v":0},{"$f":"per_game!P406","v":0},{"$f":"per_game!Q406","v":0},{"$f":"per_game!R406","v":0},{"$f":"per_game!S406","v":0},{"$f":"per_game!T406","v":0},{"$f":"per_game!U406","v":0},{"$f":"per_game!V406","v":0},{"$f":"per_game!W406","v":0},{"$f":"per_game!X406","v":0}]
[null,null,{"$f":"Roster!C407","v":0},0,{"$f":"per_game!B407 & \"-\" & D408","v":"-0"},{"$f":"per_game!D407","v":0},{"$f":"per_game!E407","v":0},{"$f":"per_game!F407","v":0},{"$f":"per_game!G407","v":0},{"$f":"per_game!H407","v":0},{"$f":"per_game!I407","v":0},{"$f":"per_game!J407","v":0},{"$f":"per_game!K407","v":0},{"$f":"per_game!L407","v":0},{"$f":"per_game!M407","v":0},{"$f":"per_game!N407","v":0},{"$f":"per_game!O407","v":0},{"$f":"per_game!P407","v":0},{"$f":"per_game!Q407","v":0},{"$f":"per_game!R407","v":0},{"$f":"per_game!S407","v":0},{"$f":"per_game!T407","v":0},{"$f":"per_game!U407","v":0},{"$f":"per_game!V407","v":0},{"$f":"per_game!W407","v":0},{"$f":"per_game!X407","v":0}]
[null,null,{"$f":"Roster!C408","v":"Pos"},null,{"$f":"per_game!B408 & \"-\" & D409","v":"Player-"},{"$f":"per_game!D408","v":"G"},{"$f":"per_game!E408","v":"GS"},{"$f":"per_game!F408","v":"MP"},{"$f":"per_game!G408","v":"FG"},{"$f":"per_game!H408","v":"FGA"},{"$f":"per_game!I408","v":"FG%"},{"$f":"per_game!J408","v":"3P"},{"$f":"per_game!K408","v":"3PA"},{"$f":"per_game!L408","v":"3P%"},{"$f":"per_game!M408","v":"FT"},{"$f":"per_game!N408","v":"FTA"},{"$f":"per_game!O408","v":"FT%"},{"$f":"per_game!P408","v":"ORB"},{"$f":"per_game!Q408","v":"DRB"},{"$f":"per_game!R408","v":"TRB"},{"$f":"per_game!S408","v":"AST"},{"$f":"per_game!T408","v":"STL"},{"$f":"per_game!U408","v":"BLK"},{"$f":"per_game!V408","v":"TOV"},{"$f":"per_game!W408","v":"PF"},{"$f":"per_game!X408","v":"PTS"}]
[null,null,{"$f":"Roster!C409","v":"F"},146.03,{"$f":"per_game!B409 & \"-\" & D410","v":"LaMarcus Aldridge-146.03"},{"$f":"per_game!D409","v":17},{"$f":"per_game!E409","v":17},{"$f":"per_game!F409","v":38.6},{"$f":"per_game!G409","v":8.5},{"$f":"per_game!H409","v":18.600000000000001},{"$f":"per_game!I409","v":0.45900000000000002},{"$f":"per_game!J409","v":0},{"$f":"per_game!K409","v":0.4},{"$f":"per_game!L409","v":0},{"$f":"per_game!M409","v":3.8},{"$f":"per_game!N409","v":4.9000000000000004},{"$f":"per_game!O409","v":0.77100000000000002},{"$f":"per_game!P409","v":2.1},{"$f":"per_game!Q409","v":5.8},{"$f":"per_game!R409","v":7.9},{"$f":"per_game!S409","v":2.8},{"$f":"per_game!T409","v":0.8},{"$f":"per_game!U409","v":1.2},{"$f":"per_game!V409","v":2.2000000000000002},{"$f":"per_game!W409","v":3.2},{"$f":"per_game!X409","v":20.8}]
[null,null,{"$f":"Roster!C410","v":"F"},141.44899999999998,{"$f":"per_game!B410 & \"-\" & D411","v":"Damian Lillard-141.449"},{"$f":"per_game!D410","v":18},{"$f":"per_game!E410","v":18},{"$f":"per_game!F410","v":37.6},{"$f":"per_game!G410","v":6.5},{"$f":"per_game!H410","v":15.2},{"$f":"per_game!I410","v":0.42699999999999999},{"$f":"per_game!J410","v":2.4},{"$f":"per_game!K410","v":6.3},{"$f":"per_game!L410","v":0.38900000000000001},{"$f":"per_game!M410","v":3.6},{"$f":"per_game!N410","v":4.3},{"$f":"per_game!O410","v":0.83299999999999996},{"$f":"per_game!P410","v":0.8},{"$f":"per_game!Q410","v":2.4},{"$f":"per_game!R410","v":3.3},{"$f":"per_game!S410","v":6.3},{"$f":"per_game!T410","v":1.3},{"$f":"per_game!U410","v":0.2},{"$f":"per_game!V410","v":3.3},{"$f":"per_game!W410","v":2.2000000000000002},{"$f":"per_game!X410","v":19.100000000000001}]
[null,null,{"$f":"Roster!C411","v":"G"},144.833,{"$f":"per_game!B411 & \"-\" & D412","v":"Nicolas Batum-144.833"},{"$f":"per_game!D411","v":18},{"$f":"per_game!E411","v":18},{"$f":"per_game!F411","v":39.299999999999997},{"$f":"per_game!G411","v":5.9},{"$f":"per_game!H411","v":13.7},{"$f":"per_game!I411","v":0.433},{"$f":"per_game!J411","v":2.6},{"$f":"per_game!K411","v":6.9},{"$f":"per_game!L411","v":0.376},{"$f":"per_game!M411","v":3.1},{"$f":"per_game!N411","v":3.8},{"$f":"per_game!O411","v":0.82399999999999995},{"$f":"per_game!P411","v":1.6},{"$f":"per_game!Q411","v":4.7},{"$f":"per_game!R411","v":6.3},{"$f":"per_game!S411","v":3.2},{"$f":"per_game!T411","v":1.7},{"$f":"per_game!U411","v":1.1000000000000001},{"$f":"per_game!V411","v":2.5},{"$f":"per_game!W411","v":1.8},{"$f":"per_game!X411","v":17.600000000000001}]
[null,null,{"$f":"Roster!C412","v":"F"},131.12100000000001,{"$f":"per_game!B412 & \"-\" & D413","v":"Wesley Matthews-131.121"},{"$f":"per_game!D412","v":18},{"$f":"per_game!E412","v":18},{"$f":"per_game!F412","v":37.700000000000003},{"$f":"per_game!G412","v":5.6},{"$f":"per_game!H412","v":12.9},{"$f":"per_game!I412","v":0.42899999999999999},{"$f":"per_game!J412","v":2.2000000000000002},{"$f":"per_game!K412","v":5.6},{"$f":"per_game!L412","v":0.38600000000000001},{"$f":"per_game!M412","v":2.7},{"$f":"per_game!N412","v":3.8},{"$f":"per_game!O412","v":0.70599999999999996},{"$f":"per_game!P412","v":0.7},{"$f":"per_game!Q412","v":2.5},{"$f":"per_game!R412","v":3.2},{"$f":"per_game!S412","v":2.7},{"$f":"per_game!T412","v":1.9},{"$f":"per_game!U412","v":0.3},{"$f":"per_game!V412","v":1.4},{"$f":"per_game!W412","v":2.7},{"$f":"per_game!X412","v":15.9}]
[null,null,{"$f":"Roster!C413","v":"F"},110.33099999999999,{"$f":"per_game!B413 & \"-\" & D414","v":"J.J. Hickson-110.331"},{"$f":"per_game!D413","v":17},{"$f":"per_game!E413","v":17},{"$f":"per_game!F413","v":28.5},{"$f":"per_game!G413","v":4.4000000000000004},{"$f":"per_game!H413","v":8.4},{"$f":"per_game!I413","v":0.52400000000000002},{"$f":"per_game!J413","v":0},{"$f":"per_game!K413","v":0.1},{"$f":"per_game!L413","v":0},{"$f":"per_game!M413","v":2},{"$f":"per_game!N413","v":3.3},{"$f":"per_game!O413","v":0.60699999999999998},{"$f":"per_game!P413","v":3.9},{"$f":"per_game!Q413","v":5.7},{"$f":"per_game!R413","v":9.6},{"$f":"per_game!S413","v":0.9},{"$f":"per_game!T413","v":0.6},{"$f":"per_game!U413","v":0.6},{"$f":"per_game!V413","v":1.7},{"$f":"per_game!W413","v":1.9},{"$f":"per_game!X413","v":10.8}]
[null,null,{"$f":"Roster!C414","v":"F-C"},59.970000000000006,{"$f":"per_game!B414 & \"-\" & D415","v":"Meyers Leonard-59.97"},{"$f":"per_game!D414","v":18},{"$f":"per_game!E414","v":2},{"$f":"per_game!F414","v":19},{"$f":"per_game!G414","v":1.9},{"$f":"per_game!H414","v":3.7},{"$f":"per_game!I414","v":0.53},{"$f":"per_game!J414","v":0},{"$f":"per_game!K414","v":0.1},{"$f":"per_game!L414","v":0},{"$f":"per_game!M414","v":1.2},{"$f":"per_game!N414","v":1.4},{"$f":"per_game!O414","v":0.84},{"$f":"per_game!P414","v":1.4},{"$f":"per_game!Q414","v":2.4},{"$f":"per_game!R414","v":3.8},{"$f":"per_game!S414","v":0.2},{"$f":"per_game!T414","v":0.4},{"$f":"per_game!U414","v":1},{"$f":"per_game!V414","v":0.6},{"$f":"per_game!W414","v":2.4},{"$f":"per_game!X414","v":5.0999999999999996}]
[null,null,{"$f":"Roster!C415","v":"F"},40.472999999999992,{"$f":"per_game!B415 & \"-\" & D416","v":"Ronnie Price-40.473"},{"$f":"per_game!D415","v":13},{"$f":"per_game!E415","v":0},{"$f":"per_game!F415","v":14.4},{"$f":"per_game!G415","v":1.2},{"$f":"per_game!H415","v":3.3},{"$f":"per_game!I415","v":0.34899999999999998},{"$f":"per_game!J415","v":0.4},{"$f":"per_game!K415","v":1.1000000000000001},{"$f":"per_game!L415","v":0.35699999999999998},{"$f":"per_game!M415","v":0.3},{"$f":"per_game!N415","v":0.5},{"$f":"per_game!O415","v":0.66700000000000004},{"$f":"per_game!P415","v":0.4},{"$f":"per_game!Q415","v":1},{"$f":"per_game!R415","v":1.4},{"$f":"per_game!S415","v":1.9},{"$f":"per_game!T415","v":0.6},{"$f":"per_game!U415","v":0},{"$f":"per_game!V415","v":0.9},{"$f":"per_game!W415","v":2.5},{"$f":"per_game!X415","v":3}]
[null,null,{"$f":"Roster!C416","v":"F"},36.420999999999999,{"$f":"per_game!B416 & \"-\" & D417","v":"Will Barton-36.421"},{"$f":"per_game!D416","v":15},{"$f":"per_game!E416","v":0},{"$f":"per_game!F416","v":8.5},{"$f":"per_game!G416","v":1.1000000000000001},{"$f":"per_game!H416","v":3.2},{"$f":"per_game!I416","v":0.35399999999999998},{"$f":"per_game!J416","v":0.3},{"$f":"per_game!K416","v":1},{"$f":"per_game!L416","v":0.26700000000000002},{"$f":"per_game!M416","v":0.3},{"$f":"per_game!N416","v":0.5},{"$f":"per_game!O416","v":0.5},{"$f":"per_game!P416","v":0.4},{"$f":"per_game!Q416","v":1},{"$f":"per_game!R416","v":1.4},{"$f":"per_game!S416","v":0.5},{"$f":"per_game!T416","v":0.5},{"$f":"per_game!U416","v":0.1},{"$f":"per_game!V416","v":0.8},{"$f":"per_game!W416","v":0.5},{"$f":"per_game!X416","v":2.8}]
[null,null,{"$f":"Roster!C417","v":"C"},29.896000000000004,{"$f":"per_game!B417 & \"-\" & D418","v":"Luke Babbitt-29.896"},{"$f":"per_game!D417","v":11},{"$f":"per_game!E417","v":0},{"$f":"per_game!F417","v":6.7},{"$f":"per_game!G417","v":1},{"$f":"per_game!H417","v":2.5},{"$f":"per_game!I417","v":0.40699999999999997},{"$f":"per_game!J417","v":0.6},{"$f":"per_game!K417","v":1.6},{"$f":"per_game!L417","v":0.38900000000000001},{"$f":"per_game!M417","v":0},{"$f":"per_game!N417","v":0},{"$f":"per_game!O417","v":0},{"$f":"per_game!P417","v":0.3},{"$f":"per_game!Q417","v":1.3},{"$f":"per_game!R417","v":1.5},{"$f":"per_game!S417","v":0.5},{"$f":"per_game!T417","v":0.3},{"$f":"per_game!U417","v":0.2},{"$f":"per_game!V417","v":0.2},{"$f":"per_game!W417","v":0.8},{"$f":"per_game!X417","v":2.6}]
[null,null,{"$f":"Roster!C418","v":"G"},31.559999999999995,{"$f":"per_game!B418 & \"-\" & D419","v":"Joel Freeland-31.56"},{"$f":"per_game!D418","v":10},{"$f":"per_game!E418","v":0},{"$f":"per_game!F418","v":10},{"$f":"per_game!G418","v":0.9},{"$f":"per_game!H418","v":2.9},{"$f":"per_game!I418","v":0.31},{"$f":"per_game!J418","v":0},{"$f":"per_game!K418","v":0},{"$f":"per_game!L418","v":0},{"$f":"per_game!M418","v":0.6},{"$f":"per_game!N418","v":0.8},{"$f":"per_game!O418","v":0.75},{"$f":"per_game!P418","v":0.9},{"$f":"per_game!Q418","v":1.1000000000000001},{"$f":"per_game!R418","v":2},{"$f":"per_game!S418","v":0.2},{"$f":"per_game!T418","v":0.4},{"$f":"per_game!U418","v":0.3},{"$f":"per_game!V418","v":0.5},{"$f":"per_game!W418","v":1.5},{"$f":"per_game!X418","v":2.4}]
[null,null,{"$f":"Roster!C419","v":"G"},26.681999999999995,{"$f":"per_game!B419 & \"-\" & D420","v":"Nolan Smith-26.682"},{"$f":"per_game!D419","v":11},{"$f":"per_game!E419","v":0},{"$f":"per_game!F419","v":7.5},{"$f":"per_game!G419","v":0.9},{"$f":"per_game!H419","v":2.5},{"$f":"per_game!I419","v":0.35699999999999998},{"$f":"per_game!J419","v":0.1},{"$f":"per_game!K419","v":0.7},{"$f":"per_game!L419","v":0.125},{"$f":"per_game!M419","v":0.2},{"$f":"per_game!N419","v":0.4},{"$f":"per_game!O419","v":0.5},{"$f":"per_game!P419","v":0.1},{"$f":"per_game!Q419","v":0.4},{"$f":"per_game!R419","v":0.5},{"$f":"per_game!S419","v":0.9},{"$f":"per_game!T419","v":0},{"$f":"per_game!U419","v":0},{"$f":"per_game!V419","v":1},{"$f":"per_game!W419","v":0.6},{"$f":"per_game!X419","v":2.1}]
[null,null,{"$f":"Roster!C420","v":"G-F"},33.874000000000009,null,{"$f":"per_game!D420","v":15},{"$f":"per_game!E420","v":0},{"$f":"per_game!F420","v":10.7},{"$f":"per_game!G420","v":0.7},{"$f":"per_game!H420","v":1.6},{"$f":"per_game!I420","v":0.41699999999999998},{"$f":"per_game!J420","v":0.3},{"$f":"per_game!K420","v":0.9},{"$f":"per_game!L420","v":0.35699999999999998},{"$f":"per_game!M420","v":0},{"$f":"per_game!N420","v":0.1},{"$f":"per_game!O420","v":0},{"$f":"per_game!P420","v":0.1},{"$f":"per_game!Q420","v":1},{"$f":"per_game!R420","v":1.1000000000000001},{"$f":"per_game!S420","v":0.5},{"$f":"per_game!T420","v":0.7},{"$f":"per_game!U420","v":0.1},{"$f":"per_game!V420","v":0.3},{"$f":"per_game!W420","v":1.1000000000000001},{"$f":"per_game!X420","v":1.7}]
[null,null,{"$f":"Roster!C421","v":"G"},30.328000000000003,null,{"$f":"per_game!D421","v":16},{"$f":"per_game!E421","v":0},{"$f":"per_game!F421","v":9.1},{"$f":"per_game!G421","v":0.4},{"$f":"per_game!H421","v":1.4},{"$f":"per_game!I421","v":0.27300000000000002},{"$f":"per_game!J421","v":0},{"$f":"per_game!K421","v":0},{"$f":"per_game!L421","v":0},{"$f":"per_game!M421","v":0.3},{"$f":"per_game!N421","v":0.7},{"$f":"per_game!O421","v":0.45500000000000002},{"$f":"per_game!P421","v":0.6},{"$f":"per_game!Q421","v":0.6},{"$f":"per_game!R421","v":1.1000000000000001},{"$f":"per_game!S421","v":0.4},{"$f":"per_game!T421","v":0.1},{"$f":"per_game!U421","v":0.1},{"$f":"per_game!V421","v":0.5},{"$f":"per_game!W421","v":1.8},{"$f":"per_game!X421","v":1.1000000000000001}]
[null,null,{"$f":"Roster!C422","v":"G"},null,null,{"$f":"per_game!D422","v":4},{"$f":"per_game!E422","v":0},{"$f":"per_game!F422","v":5.8},{"$f":"per_game!G422","v":0},{"$f":"per_game!H422","v":0.3},{"$f":"per_game!I422","v":0},{"$f":"per_game!J422","v":0},{"$f":"per_game!K422","v":0.3},{"$f":"per_game!L422","v":0},{"$f":"per_game!M422","v":0.3},{"$f":"per_game!N422","v":0.5},{"$f":"per_game!O422","v":0.5},{"$f":"per_game!P422","v":0.3},{"$f":"per_game!Q422","v":0.8},{"$f":"per_game!R422","v":1},{"$f":"per_game!S422","v":0.3},{"$f":"per_game!T422","v":0},{"$f":"per_game!U422","v":0},{"$f":"per_game!V422","v":0.5},{"$f":"per_game!W422","v":0.5},{"$f":"per_game!X422","v":0.3}]
[null,null,{"$f":"Roster!C423","v":0},0,{"$f":"per_game!B423 & \"-\" & D424","v":"-0"},{"$f":"per_game!D423","v":0},{"$f":"per_game!E423","v":0},{"$f":"per_game!F423","v":0},{"$f":"per_game!G423","v":0},{"$f":"per_game!H423","v":0},{"$f":"per_game!I423","v":0},{"$f":"per_game!J423","v":0},{"$f":"per_game!K423","v":0},{"$f":"per_game!L423","v":0},{"$f":"per_game!M423","v":0},{"$f":"per_game!N423","v":0},{"$f":"per_game!O423","v":0},{"$f":"per_game!P423","v":0},{"$f":"per_game!Q423","v":0},{"$f":"per_game!R423","v":0},{"$f":"per_game!S423","v":0},{"$f":"per_game!T423","v":0},{"$f":"per_game!U423","v":0},{"$f":"per_game!V423","v":0},{"$f":"per_game!W423","v":0},{"$f":"per_game!X423","v":0}]
[null,null,{"$f":"Roster!C424","v":0},0,{"$f":"per_game!B424 & \"-\" & D425","v":"-0"},{"$f":"per_game!D424","v":0},{"$f":"per_game!E424","v":0},{"$f":"per_game!F424","v":0},{"$f":"per_game!G424","v":0},{"$f":"per_game!H424","v":0},{"$f":"per_game!I424","v":0},{"$f":"per_game!J424","v":0},{"$f":"per_game!K424","v":0},{"$f":"per_game!L424","v":0},{"$f":"per_game!M424","v":0},{"$f":"per_game!N424","v":0},{"$f":"per_game!O424","v":0},{"$f":"per_game!P424","v":0},{"$f":"per_game!Q424","v":0},{"$f":"per_game!R424","v":0},{"$f":"per_game!S424","v":0},{"$f":"per_game!T424","v":0},{"$f":"per_game!U424","v":0},{"$f":"per_game!V424","v":0},{"$f":"per_game!W424","v":0},{"$f":"per_game!X424","v":0}]
[null,null,{"$f":"Roster!C425","v":"Pos"},null,{"$f":"per_game!B425 & \"-\" & D426","v":"Player-"},{"$f":"per_game!D425","v":"G"},{"$f":"per_game!E425","v":"GS"},{"$f":"per_game!F425","v":"MP"},{"$f":"per_game!G425","v":"FG"},{"$f":"per_game!H425","v":"FGA"},{"$f":"per_game!I425","v":"FG%"},{"$f":"per_game!J425","v":"3P"},{"$f":"per_game!K425","v":"3PA"},{"$f":"per_game!L425","v":"3P%"},{"$f":"per_game!M425","v":"FT"},{"$f":"per_game!N425","v":"FTA"},{"$f":"per_game!O425","v":"FT%"},{"$f":"per_game!P425","v":"ORB"},{"$f":"per_game!Q425","v":"DRB"},{"$f":"per_game!R425","v":"TRB"},{"$f":"per_game!S425","v":"AST"},{"$f":"per_game!T425","v":"STL"},{"$f":"per_game!U425","v":"BLK"},{"$f":"per_game!V425","v":"TOV"},{"$f":"per_game!W425","v":"PF"},{"$f":"per_game!X425","v":"PTS"}]
[null,null,{"$f":"Roster!C426","v":"G"},121.73399999999998,{"$f":"per_game!B426 & \"-\" & D427","v":"DeMarcus Cousins-121.734"},{"$f":"per_game!D426","v":14},{"$f":"per_game!E426","v":14},{"$f":"per_game!F426","v":29.6},{"$f":"per_game!G426","v":6.4},{"$f":"per_game!H426","v":15.4},{"$f":"per_game!I426","v":0.41699999999999998},{"$f":"per_game!J426","v":0.1},{"$f":"per_game!K426","v":0.1},{"$f":"per_game!L426","v":0.5},{"$f":"per_game!M426","v":3.1},{"$f":"per_game!N426","v":4.3},{"$f":"per_game!O426","v":0.71699999999999997},{"$f":"per_game!P426","v":3.2},{"$f":"per_game!Q426","v":6.3},{"$f":"per_game!R426","v":9.5},{"$f":"per_game!S426","v":2.1},{"$f":"per_game!T426","v":1.4},{"$f":"per_game!U426","v":0.6},{"$f":"per_game!V426","v":2.6},{"$f":"per_game!W426","v":3.4},{"$f":"per_game!X426","v":16}]
[null,null,{"$f":"Roster!C427","v":"F"},99.54500000000003,{"$f":"per_game!B427 & \"-\" & D428","v":"Marcus Thornton-99.545"},{"$f":"per_game!D427","v":16},{"$f":"per_game!E427","v":2},{"$f":"per_game!F427","v":28.8},{"$f":"per_game!G427","v":5.7},{"$f":"per_game!H427","v":13.3},{"$f":"per_game!I427","v":0.42699999999999999},{"$f":"per_game!J427","v":2},{"$f":"per_game!K427","v":5.9},{"$f":"per_game!L427","v":0.34},{"$f":"per_game!M427","v":1.8},{"$f":"per_game!N427","v":2.2999999999999998},{"$f":"per_game!O427","v":0.77800000000000002},{"$f":"per_game!P427","v":0.9},{"$f":"per_game!Q427","v":2},{"$f":"per_game!R427","v":2.9},{"$f":"per_game!S427","v":1.5},{"$f":"per_game!T427","v":0.7},{"$f":"per_game!U427","v":0},{"$f":"per_game!V427","v":0.8},{"$f":"per_game!W427","v":2.1},{"$f":"per_game!X427","v":15.1}]
[null,null,{"$f":"Roster!C428","v":"G"},115.37099999999998,{"$f":"per_game!B428 & \"-\" & D429","v":"Tyreke Evans-115.371"},{"$f":"per_game!D428","v":14},{"$f":"per_game!E428","v":14},{"$f":"per_game!F428","v":32.4},{"$f":"per_game!G428","v":5.7},{"$f":"per_game!H428","v":12.6},{"$f":"per_game!I428","v":0.45500000000000002},{"$f":"per_game!J428","v":0.4},{"$f":"per_game!K428","v":1.6},{"$f":"per_game!L428","v":0.27300000000000002},{"$f":"per_game!M428","v":3.1},{"$f":"per_game!N428","v":3.6},{"$f":"per_game!O428","v":0.84299999999999997},{"$f":"per_game!P428","v":0.8},{"$f":"per_game!Q428","v":4.4000000000000004},{"$f":"per_game!R428","v":5.0999999999999996},{"$f":"per_game!S428","v":3.7},{"$f":"per_game!T428","v":1.4},{"$f":"per_game!U428","v":0.6},{"$f":"per_game!V428","v":2.1},{"$f":"per_game!W428","v":2.4},{"$f":"per_game!X428","v":14.9}]
[null,null,{"$f":"Roster!C429","v":"G"},106.06700000000002,{"$f":"per_game!B429 & \"-\" & D430","v":"Jason Thompson-106.067"},{"$f":"per_game!D429","v":16},{"$f":"per_game!E429","v":16},{"$f":"per_game!F429","v":30.6},{"$f":"per_game!G429","v":4.3},{"$f":"per_game!H429","v":8.4},{"$f":"per_game!I429","v":0.50700000000000001},{"$f":"per_game!J429","v":0},{"$f":"per_game!K429","v":0.1},{"$f":"per_game!L429","v":0},{"$f":"per_game!M429","v":2.4},{"$f":"per_game!N429","v":3.1},{"$f":"per_game!O429","v":0.76},{"$f":"per_game!P429","v":2.5},{"$f":"per_game!Q429","v":4.5999999999999996},{"$f":"per_game!R429","v":7.1},{"$f":"per_game!S429","v":1.1000000000000001},{"$f":"per_game!T429","v":0.4},{"$f":"per_game!U429","v":1.2},{"$f":"per_game!V429","v":1.1000000000000001},{"$f":"per_game!W429","v":2.8},{"$f":"per_game!X429","v":10.9}]
[null,null,{"$f":"Roster!C430","v":"F-G"},69.352999999999994,{"$f":"per_game!B430 & \"-\" & D431","v":"Isaiah Thomas-69.353"},{"$f":"per_game!D430","v":14},{"$f":"per_game!E430","v":8},{"$f":"per_game!F430","v":18.7},{"$f":"per_game!G430","v":2.9},{"$f":"per_game!H430","v":6.8},{"$f":"per_game!I430","v":0.432},{"$f":"per_game!J430","v":1.1000000000000001},{"$f":"per_game!K430","v":2.9},{"$f":"per_game!L430","v":0.375},{"$f":"per_game!M430","v":1.6},{"$f":"per_game!N430","v":1.9},{"$f":"per_game!O430","v":0.84599999999999997},{"$f":"per_game!P430","v":0.4},{"$f":"per_game!Q430","v":0.9},{"$f":"per_game!R430","v":1.2},{"$f":"per_game!S430","v":1.8},{"$f":"per_game!T430","v":0.5},{"$f":"per_game!U430","v":0},{"$f":"per_game!V430","v":1.9},{"$f":"per_game!W430","v":1.6},{"$f":"per_game!X430","v":8.5}]
[null,null,{"$f":"Roster!C431","v":"F"},73.636999999999958,{"$f":"per_game!B431 & \"-\" & D432","v":"Aaron Brooks-73.637"},{"$f":"per_game!D431","v":16},{"$f":"per_game!E431","v":8},{"$f":"per_game!F431","v":22.3},{"$f":"per_game!G431","v":3.1},{"$f":"per_game!H431","v":6.9},{"$f":"per_game!I431","v":0.44500000000000001},{"$f":"per_game!J431","v":1.3},{"$f":"per_game!K431","v":3.2},{"$f":"per_game!L431","v":0.39200000000000002},{"$f":"per_game!M431","v":0.3},{"$f":"per_game!N431","v":0.5},{"$f":"per_game!O431","v":0.5},{"$f":"per_game!P431","v":0.3},{"$f":"per_game!Q431","v":1.5},{"$f":"per_game!R431","v":1.8},{"$f":"per_game!S431","v":2.1},{"$f":"per_game!T431","v":0.6},{"$f":"per_game!U431","v":0.1},{"$f":"per_game!V431","v":0.9},{"$f":"per_game!W431","v":2.4},{"$f":"per_game!X431","v":7.6}]
[null,null,{"$f":"Roster!C432","v":"F"},72.942000000000007,{"$f":"per_game!B432 & \"-\" & D433","v":"John Salmons-72.942"},{"$f":"per_game!D432","v":11},{"$f":"per_game!E432","v":7},{"$f":"per_game!F432","v":26},{"$f":"per_game!G432","v":2.6},{"$f":"per_game!H432","v":6.5},{"$f":"per_game!I432","v":0.40799999999999997},{"$f":"per_game!J432","v":0.7},{"$f":"per_game!K432","v":2.2999999999999998},{"$f":"per_game!L432","v":0.32},{"$f":"per_game!M432","v":0.9},{"$f":"per_game!N432","v":1.3},{"$f":"per_game!O432","v":0.71399999999999997},{"$f":"per_game!P432","v":0.3},{"$f":"per_game!Q432","v":2.6},{"$f":"per_game!R432","v":2.9},{"$f":"per_game!S432","v":2},{"$f":"per_game!T432","v":0.8},{"$f":"per_game!U432","v":0.2},{"$f":"per_game!V432","v":1},{"$f":"per_game!W432","v":1.5},{"$f":"per_game!X432","v":6.9}]
[null,null,{"$f":"Roster!C433","v":"F"},45.769000000000005,{"$f":"per_game!B433 & \"-\" & D434","v":"Jimmer Fredette-45.769"},{"$f":"per_game!D433","v":14},{"$f":"per_game!E433","v":0},{"$f":"per_game!F433","v":10.5},{"$f":"per_game!G433","v":2.2000000000000002},{"$f":"per_game!H433","v":4.8},{"$f":"per_game!I433","v":0.46300000000000002},{"$f":"per_game!J433","v":0.7},{"$f":"per_game!K433","v":1.7},{"$f":"per_game!L433","v":0.41699999999999998},{"$f":"per_game!M433","v":1.1000000000000001},{"$f":"per_game!N433","v":1.3},{"$f":"per_game!O433","v":0.88900000000000001},{"$f":"per_game!P433","v":0.1},{"$f":"per_game!Q433","v":0.4},{"$f":"per_game!R433","v":0.5},{"$f":"per_game!S433","v":1.4},{"$f":"per_game!T433","v":0.2},{"$f":"per_game!U433","v":0.1},{"$f":"per_game!V433","v":0.7},{"$f":"per_game!W433","v":0.6},{"$f":"per_game!X433","v":6.3}]
[null,null,{"$f":"Roster!C434","v":"F"},50.814999999999991,{"$f":"per_game!B434 & \"-\" & D435","v":"Thomas Robinson-50.815"},{"$f":"per_game!D434","v":14},{"$f":"per_game!E434","v":0},{"$f":"per_game!F434","v":16.399999999999999},{"$f":"per_game!G434","v":2.1},{"$f":"per_game!H434","v":4.3},{"$f":"per_game!I434","v":0.48299999999999998},{"$f":"per_game!J434","v":0},{"$f":"per_game!K434","v":0},{"$f":"per_game!L434","v":0},{"$f":"per_game!M434","v":0.9},{"$f":"per_game!N434","v":1.4},{"$f":"per_game!O434","v":0.63200000000000001},{"$f":"per_game!P434","v":1},{"$f":"per_game!Q434","v":2.8},{"$f":"per_game!R434","v":3.8},{"$f":"per_game!S434","v":0.7},{"$f":"per_game!T434","v":0.7},{"$f":"per_game!U434","v":0.4},{"$f":"per_game!V434","v":1.4},{"$f":"per_game!W434","v":2.4},{"$f":"per_game!X434","v":5}]
[null,null,{"$f":"Roster!C435","v":"G"},64.455999999999989,{"$f":"per_game!B435 & \"-\" & D436","v":"James Johnson-64.456"},{"$f":"per_game!D435","v":16},{"$f":"per_game!E435","v":9},{"$f":"per_game!F435","v":19.899999999999999},{"$f":"per_game!G435","v":1.9},{"$f":"per_game!H435","v":5.3},{"$f":"per_game!I435","v":0.36499999999999999},{"$f":"per_game!J435","v":0},{"$f":"per_game!K435","v":0.5},{"$f":"per_game!L435","v":0},{"$f":"per_game!M435","v":0.8},{"$f":"per_game!N435","v":1.4},{"$f":"per_game!O435","v":0.59099999999999997},{"$f":"per_game!P435","v":0.6},{"$f":"per_game!Q435","v":1.8},{"$f":"per_game!R435","v":2.2999999999999998},{"$f":"per_game!S435","v":1.1000000000000001},{"$f":"per_game!T435","v":1.3},{"$f":"per_game!U435","v":0.6},{"$f":"per_game!V435","v":1.6},{"$f":"per_game!W435","v":2.1},{"$f":"per_game!X435","v":4.7}]
[null,null,{"$f":"Roster!C436","v":"G"},35.4,null,{"$f":"per_game!D436","v":5},{"$f":"per_game!E436","v":1},{"$f":"per_game!F436","v":12.6},{"$f":"per_game!G436","v":1.6},{"$f":"per_game!H436","v":4.8},{"$f":"per_game!I436","v":0.33300000000000002},{"$f":"per_game!J436","v":0.2},{"$f":"per_game!K436","v":1.2},{"$f":"per_game!L436","v":0.16700000000000001},{"$f":"per_game!M436","v":0.4},{"$f":"per_game!N436","v":0.8},{"$f":"per_game!O436","v":0.5},{"$f":"per_game!P436","v":0.4},{"$f":"per_game!Q436","v":1.4},{"$f":"per_game!R436","v":1.8},{"$f":"per_game!S436","v":1},{"$f":"per_game!T436","v":0.4},{"$f":"per_game!U436","v":0.6},{"$f":"per_game!V436","v":0.8},{"$f":"per_game!W436","v":1.8},{"$f":"per_game!X436","v":3.8}]
[null,null,{"$f":"Roster!C437","v":"F"},58.754999999999995,null,{"$f":"per_game!D437","v":16},{"$f":"per_game!E437","v":1},{"$f":"per_game!F437","v":21.1},{"$f":"per_game!G437","v":1.6},{"$f":"per_game!H437","v":3.4},{"$f":"per_game!I437","v":0.45500000000000002},{"$f":"per_game!J437","v":0},{"$f":"per_game!K437","v":0},{"$f":"per_game!L437","v":0},{"$f":"per_game!M437","v":0.3},{"$f":"per_game!N437","v":0.6},{"$f":"per_game!O437","v":0.5},{"$f":"per_game!P437","v":1.8},{"$f":"per_game!Q437","v":3.3},{"$f":"per_game!R437","v":5.0999999999999996},{"$f":"per_game!S437","v":2.2999999999999998},{"$f":"per_game!T437","v":0.6},{"$f":"per_game!U437","v":0.6},{"$f":"per_game!V437","v":0.8},{"$f":"per_game!W437","v":2.5},{"$f":"per_game!X437","v":3.4}]
[null,null,{"$f":"Roster!C438","v":"G"},null,null,{"$f":"per_game!D438","v":7},{"$f":"per_game!E438","v":0},{"$f":"per_game!F438","v":10.4},{"$f":"per_game!G438","v":1.4},{"$f":"per_game!H438","v":3.6},{"$f":"per_game!I438","v":0.4},{"$f":"per_game!J438","v":0.6},{"$f":"per_game!K438","v":1.3},{"$f":"per_game!L438","v":0.44400000000000001},{"$f":"per_game!M438","v":0},{"$f":"per_game!N438","v":0},{"$f":"per_game!O438","v":0},{"$f":"per_game!P438","v":0.3},{"$f":"per_game!Q438","v":0.4},{"$f":"per_game!R438","v":0.7},{"$f":"per_game!S438","v":0.3},{"$f":"per_game!T438","v":0.7},{"$f":"per_game!U438","v":0.1},{"$f":"per_game!V438","v":0.4},{"$f":"per_game!W438","v":1.3},{"$f":"per_game!X438","v":3.4}]
[null,null,{"$f":"Roster!C439","v":0},0,{"$f":"per_game!B439 & \"-\" & D440","v":"-0"},{"$f":"per_game!D439","v":0},{"$f":"per_game!E439","v":0},{"$f":"per_game!F439","v":0},{"$f":"per_game!G439","v":0},{"$f":"per_game!H439","v":0},{"$f":"per_game!I439","v":0},{"$f":"per_game!J439","v":0},{"$f":"per_game!K439","v":0},{"$f":"per_game!L439","v":0},{"$f":"per_game!M439","v":0},{"$f":"per_game!N439","v":0},{"$f":"per_game!O439","v":0},{"$f":"per_game!P439","v":0},{"$f":"per_game!Q439","v":0},{"$f":"per_game!R439","v":0},{"$f":"per_game!S439","v":0},{"$f":"per_game!T439","v":0},{"$f":"per_game!U439","v":0},{"$f":"per_game!V439","v":0},{"$f":"per_game!W439","v":0},{"$f":"per_game!X439","v":0}]
[null,null,{"$f":"Roster!C440","v":0},0,{"$f":"per_game!B440 & \"-\" & D441","v":"-0"},{"$f":"per_game!D440","v":0},{"$f":"per_game!E440","v":0},{"$f":"per_game!F440","v":0},{"$f":"per_game!G440","v":0},{"$f":"per_game!H440","v":0},{"$f":"per_game!I440","v":0},{"$f":"per_game!J440","v":0},{"$f":"per_game!K440","v":0},{"$f":"per_game!L440","v":0},{"$f":"per_game!M440","v":0},{"$f":"per_game!N440","v":0},{"$f":"per_game!O440","v":0},{"$f":"per_game!P440","v":0},{"$f":"per_game!Q440","v":0},{"$f":"per_game!R440","v":0},{"$f":"per_game!S440","v":0},{"$f":"per_game!T440","v":0},{"$f":"per_game!U440","v":0},{"$f":"per_game!V440","v":0},{"$f":"per_game!W440","v":0},{"$f":"per_game!X440","v":0}]
[null,null,{"$f":"Roster!C441","v":"Pos"},null,{"$f":"per_game!B441 & \"-\" & D442","v":"Player-"},{"$f":"per_game!D441","v":"G"},{"$f":"per_game!E441","v":"GS"},{"$f":"per_game!F441","v":"MP"},{"$f":"per_game!G441","v":"FG"},{"$f":"per_game!H441","v":"FGA"},{"$f":"per_game!I441","v":"FG%"},{"$f":"per_game!J441","v":"3P"},{"$f":"per_game!K441","v":"3PA"},{"$f":"per_game!L441","v":"3P%"},{"$f":"per_game!M441","v":"FT"},{"$f":"per_game!N441","v":"FTA"},{"$f":"per_game!O441","v":"FT%"},{"$f":"per_game!P441","v":"ORB"},{"$f":"per_game!Q441","v":"DRB"},{"$f":"per_game!R441","v":"TRB"},{"$f":"per_game!S441","v":"AST"},{"$f":"per_game!T441","v":"STL"},{"$f":"per_game!U441","v":"BLK"},{"$f":"per_game!V441","v":"TOV"},{"$f":"per_game!W441","v":"PF"},{"$f":"per_game!X441","v":"PTS"}]
[null,null,{"$f":"Roster!C442","v":"G"},139.07999999999998,{"$f":"per_game!B442 & \"-\" & D443","v":"Tim Duncan-139.08"},{"$f":"per_game!D442","v":17},{"$f":"per_game!E442","v":17},{"$f":"per_game!F442","v":31.3},{"$f":"per_game!G442","v":7.6},{"$f":"per_game!H442","v":14.1},{"$f":"per_game!I442","v":0.53800000000000003},{"$f":"per_game!J442","v":0.1},{"$f":"per_game!K442","v":0.2},{"$f":"per_game!L442","v":0.66700000000000004},{"$f":"per_game!M442","v":3.6},{"$f":"per_game!N442","v":4.7},{"$f":"per_game!O442","v":0.77500000000000002},{"$f":"per_game!P442","v":1.9},{"$f":"per_game!Q442","v":8.1},{"$f":"per_game!R442","v":10.1},{"$f":"per_game!S442","v":2.6},{"$f":"per_game!T442","v":0.9},{"$f":"per_game!U442","v":2.4},{"$f":"per_game!V442","v":1.5},{"$f":"per_game!W442","v":1.9},{"$f":"per_game!X442","v":18.899999999999999}]
[null,null,{"$f":"Roster!C443","v":"F"},125.06599999999997,{"$f":"per_game!B443 & \"-\" & D444","v":"Tony Parker-125.066"},{"$f":"per_game!D443","v":16},{"$f":"per_game!E443","v":16},{"$f":"per_game!F443","v":32.5},{"$f":"per_game!G443","v":7.6},{"$f":"per_game!H443","v":15.5},{"$f":"per_game!I443","v":0.48799999999999999},{"$f":"per_game!J443","v":0.4},{"$f":"per_game!K443","v":1.1000000000000001},{"$f":"per_game!L443","v":0.33300000000000002},{"$f":"per_game!M443","v":2.6},{"$f":"per_game!N443","v":3.4},{"$f":"per_game!O443","v":0.745},{"$f":"per_game!P443","v":0.3},{"$f":"per_game!Q443","v":2.8},{"$f":"per_game!R443","v":3.1},{"$f":"per_game!S443","v":7.1},{"$f":"per_game!T443","v":0.7},{"$f":"per_game!U443","v":0.1},{"$f":"per_game!V443","v":2},{"$f":"per_game!W443","v":1.8},{"$f":"per_game!X443","v":18.100000000000001}]
[null,null,{"$f":"Roster!C444","v":"F"},86.200999999999993,{"$f":"per_game!B444 & \"-\" & D445","v":"Manu Ginobili-86.201"},{"$f":"per_game!D444","v":15},{"$f":"per_game!E444","v":0},{"$f":"per_game!F444","v":24.5},{"$f":"per_game!G444","v":3.9},{"$f":"per_game!H444","v":9.6999999999999993},{"$f":"per_game!I444","v":0.4},{"$f":"per_game!J444","v":1.5},{"$f":"per_game!K444","v":4.7},{"$f":"per_game!L444","v":0.314},{"$f":"per_game!M444","v":2.5},{"$f":"per_game!N444","v":3.1},{"$f":"per_game!O444","v":0.78700000000000003},{"$f":"per_game!P444","v":0.2},{"$f":"per_game!Q444","v":2.9},{"$f":"per_game!R444","v":3.1},{"$f":"per_game!S444","v":4.3},{"$f":"per_game!T444","v":1.4},{"$f":"per_game!U444","v":0.3},{"$f":"per_game!V444","v":2.2000000000000002},{"$f":"per_game!W444","v":1.9},{"$f":"per_game!X444","v":11.7}]
[null,null,{"$f":"Roster!C445","v":"G"},86.245999999999981,{"$f":"per_game!B445 & \"-\" & D446","v":"Gary Neal-86.246"},{"$f":"per_game!D445","v":16},{"$f":"per_game!E445","v":6},{"$f":"per_game!F445","v":24},{"$f":"per_game!G445","v":4.2},{"$f":"per_game!H445","v":9.4},{"$f":"per_game!I445","v":0.44400000000000001},{"$f":"per_game!J445","v":1.1000000000000001},{"$f":"per_game!K445","v":3.3},{"$f":"per_game!L445","v":0.34},{"$f":"per_game!M445","v":1.6},{"$f":"per_game!N445","v":1.8},{"$f":"per_game!O445","v":0.86199999999999999},{"$f":"per_game!P445","v":0.3},{"$f":"per_game!Q445","v":2.9},{"$f":"per_game!R445","v":3.2},{"$f":"per_game!S445","v":2},{"$f":"per_game!T445","v":0.6},{"$f":"per_game!U445","v":0},{"$f":"per_game!V445","v":1.5},{"$f":"per_game!W445","v":1.4},{"$f":"per_game!X445","v":11.1}]
[null,null,{"$f":"Roster!C446","v":"F-C"},88.779999999999987,{"$f":"per_game!B446 & \"-\" & D447","v":"Kawhi Leonard-88.78"},{"$f":"per_game!D446","v":9},{"$f":"per_game!E446","v":9},{"$f":"per_game!F446","v":28.9},{"$f":"per_game!G446","v":3.9},{"$f":"per_game!H446","v":7.9},{"$f":"per_game!I446","v":0.49299999999999999},{"$f":"per_game!J446","v":1},{"$f":"per_game!K446","v":2.9},{"$f":"per_game!L446","v":0.34599999999999997},{"$f":"per_game!M446","v":1.8},{"$f":"per_game!N446","v":1.9},{"$f":"per_game!O446","v":0.94099999999999995},{"$f":"per_game!P446","v":1.3},{"$f":"per_game!Q446","v":4.0999999999999996},{"$f":"per_game!R446","v":5.4},{"$f":"per_game!S446","v":1.3},{"$f":"per_game!T446","v":2},{"$f":"per_game!U446","v":0.2},{"$f":"per_game!V446","v":1.9},{"$f":"per_game!W446","v":2.2999999999999998},{"$f":"per_game!X446","v":10.6}]
[null,null,{"$f":"Roster!C447","v":"F-C"},104.08900000000001,{"$f":"per_game!B447 & \"-\" & D448","v":"Danny Green-104.089"},{"$f":"per_game!D447","v":17},{"$f":"per_game!E447","v":17},{"$f":"per_game!F447","v":30.2},{"$f":"per_game!G447","v":3.6},{"$f":"per_game!H447","v":8.8000000000000007},{"$f":"per_game!I447","v":0.41599999999999998},{"$f":"per_game!J447","v":1.9},{"$f":"per_game!K447","v":5.2},{"$f":"per_game!L447","v":0.36399999999999999},{"$f":"per_game!M447","v":0.6},{"$f":"per_game!N447","v":0.6},{"$f":"per_game!O447","v":0.90900000000000003},{"$f":"per_game!P447","v":0.8},{"$f":"per_game!Q447","v":2.8},{"$f":"per_game!R447","v":3.5},{"$f":"per_game!S447","v":1.4},{"$f":"per_game!T447","v":0.9},{"$f":"per_game!U447","v":0.7},{"$f":"per_game!V447","v":1.1000000000000001},{"$f":"per_game!W447","v":1.3},{"$f":"per_game!X447","v":9.8000000000000007}]
[null,null,{"$f":"Roster!C448","v":"G"},71.105999999999995,{"$f":"per_game!B448 & \"-\" & D449","v":"Tiago Splitter-71.106"},{"$f":"per_game!D448","v":18},{"$f":"per_game!E448","v":2},{"$f":"per_game!F448","v":18.7},{"$f":"per_game!G448","v":3.1},{"$f":"per_game!H448","v":5.3},{"$f":"per_game!I448","v":0.57299999999999995},{"$f":"per_game!J448","v":0},{"$f":"per_game!K448","v":0},{"$f":"per_game!L448","v":0},{"$f":"per_game!M448","v":2.4},{"$f":"per_game!N448","v":3.3},{"$f":"per_game!O448","v":0.73299999999999998},{"$f":"per_game!P448","v":1.7},{"$f":"per_game!Q448","v":2.8},{"$f":"per_game!R448","v":4.5},{"$f":"per_game!S448","v":1.2},{"$f":"per_game!T448","v":0.6},{"$f":"per_game!U448","v":0.7},{"$f":"per_game!V448","v":1.2},{"$f":"per_game!W448","v":1.9},{"$f":"per_game!X448","v":8.6}]
[null,null,{"$f":"Roster!C449","v":"F"},70.039000000000016,{"$f":"per_game!B449 & \"-\" & D450","v":"Stephen Jackson-70.039"},{"$f":"per_game!D449","v":10},{"$f":"per_game!E449","v":2},{"$f":"per_game!F449","v":23.2},{"$f":"per_game!G449","v":2.6},{"$f":"per_game!H449","v":7},{"$f":"per_game!I449","v":0.371},{"$f":"per_game!J449","v":1},{"$f":"per_game!K449","v":3.5},{"$f":"per_game!L449","v":0.28599999999999998},{"$f":"per_game!M449","v":1.5},{"$f":"per_game!N449","v":2.2000000000000002},{"$f":"per_game!O449","v":0.68200000000000005},{"$f":"per_game!P449","v":0.9},{"$f":"per_game!Q449","v":3.4},{"$f":"per_game!R449","v":4.3},{"$f":"per_game!S449","v":1.5},{"$f":"per_game!T449","v":1},{"$f":"per_game!U449","v":0.2},{"$f":"per_game!V449","v":1.3},{"$f":"per_game!W449","v":2},{"$f":"per_game!X449","v":7.7}]
[null,null,{"$f":"Roster!C450","v":"F"},69.527000000000015,{"$f":"per_game!B450 & \"-\" & D451","v":"DeJuan Blair-69.527"},{"$f":"per_game!D450","v":15},{"$f":"per_game!E450","v":10},{"$f":"per_game!F450","v":17.600000000000001},{"$f":"per_game!G450","v":2.7},{"$f":"per_game!H450","v":5.7},{"$f":"per_game!I450","v":0.46500000000000002},{"$f":"per_game!J450","v":0},{"$f":"per_game!K450","v":0},{"$f":"per_game!L450","v":0},{"$f":"per_game!M450","v":1.1000000000000001},{"$f":"per_game!N450","v":1.4},{"$f":"per_game!O450","v":0.76200000000000001},{"$f":"per_game!P450","v":1.8},{"$f":"per_game!Q450","v":2.9},{"$f":"per_game!R450","v":4.7},{"$f":"per_game!S450","v":1.1000000000000001},{"$f":"per_game!T450","v":0.9},{"$f":"per_game!U450","v":0.2},{"$f":"per_game!V450","v":1.2},{"$f":"per_game!W450","v":2},{"$f":"per_game!X450","v":6.4}]
[null,null,{"$f":"Roster!C451","v":"G"},72.762000000000015,{"$f":"per_game!B451 & \"-\" & D452","v":"Boris Diaw-72.762"},{"$f":"per_game!D451","v":18},{"$f":"per_game!E451","v":7},{"$f":"per_game!F451","v":24.1},{"$f":"per_game!G451","v":2.2999999999999998},{"$f":"per_game!H451","v":3.7},{"$f":"per_game!I451","v":0.61199999999999999},{"$f":"per_game!J451","v":0.5},{"$f":"per_game!K451","v":1},{"$f":"per_game!L451","v":0.5},{"$f":"per_game!M451","v":0.7},{"$f":"per_game!N451","v":1.1000000000000001},{"$f":"per_game!O451","v":0.65},{"$f":"per_game!P451","v":0.9},{"$f":"per_game!Q451","v":2.6},{"$f":"per_game!R451","v":3.4},{"$f":"per_game!S451","v":2.5},{"$f":"per_game!T451","v":0.5},{"$f":"per_game!U451","v":0.2},{"$f":"per_game!V451","v":1},{"$f":"per_game!W451","v":2.2999999999999998},{"$f":"per_game!X451","v":5.8}]
[null,null,{"$f":"Roster!C452","v":"F"},{"$f":"F453*$B$21+G453*$B$20+H453*$B$19+I453*$B$13+J453*$B$14+K453*$B$6+L453*$B$17+M453*$B$18+N453*$B$8+O453*$B$15+P453*$B$16+Q453*$B$7+R453*$B$10+S453*$B$11+T453*$B$2+U453*$B$3+V453*$B$5+W453*$B$4+X453*$B$9+Y453*$B$12+Z453*$B$1","v":46.970000000000006},{"$f":"per_game!B452 & \"-\" & D453","v":"Patrick Mills-46.97"},{"$f":"per_game!D452","v":15},{"$f":"per_game!E452","v":2},{"$f":"per_game!F452","v":12.1},{"$f":"per_game!G452","v":2},{"$f":"per_game!H452","v":4.5},{"$f":"per_game!I452","v":0.44800000000000001},{"$f":"per_game!J452","v":0.7},{"$f":"per_game!K452","v":2.1},{"$f":"per_game!L452","v":0.35499999999999998},{"$f":"per_game!M452","v":0.1},{"$f":"per_game!N452","v":0.2},{"$f":"per_game!O452","v":0.66700000000000004},{"$f":"per_game!P452","v":0.3},{"$f":"per_game!Q452","v":0.8},{"$f":"per_game!R452","v":1.1000000000000001},{"$f":"per_game!S452","v":1.1000000000000001},{"$f":"per_game!T452","v":0.5},{"$f":"per_game!U452","v":0.1},{"$f":"per_game!V452","v":1.2},{"$f":"per_game!W452","v":0.8},{"$f":"per_game!X452","v":4.9000000000000004}]
[null,null,{"$f":"Roster!C453","v":"G"},42.393000000000008,{"$f":"per_game!B453 & \"-\" & D454","v":"Matt Bonner-42.393"},{"$f":"per_game!D453","v":14},{"$f":"per_game!E453","v":1},{"$f":"per_game!F453","v":12.3},{"$f":"per_game!G453","v":1.6},{"$f":"per_game!H453","v":2.9},{"$f":"per_game!I453","v":0.53700000000000003},{"$f":"per_game!J453","v":1.1000000000000001},{"$f":"per_game!K453","v":1.9},{"$f":"per_game!L453","v":0.55600000000000005},{"$f":"per_game!M453","v":0},{"$f":"per_game!N453","v":0},{"$f":"per_game!O453","v":0},{"$f":"per_game!P453","v":0.2},{"$f":"per_game!Q453","v":1.4},{"$f":"per_game!R453","v":1.6},{"$f":"per_game!S453","v":0.4},{"$f":"per_game!T453","v":0.2},{"$f":"per_game!U453","v":0.1},{"$f":"per_game!V453","v":0.4},{"$f":"per_game!W453","v":1.2},{"$f":"per_game!X453","v":4.2}]
[null,null,{"$f":"Roster!C454","v":"G"},25.971000000000004,null,{"$f":"per_game!D454","v":4},{"$f":"per_game!E454","v":0},{"$f":"per_game!F454","v":7.8},{"$f":"per_game!G454","v":1},{"$f":"per_game!H454","v":1.8},{"$f":"per_game!I454","v":0.57099999999999995},{"$f":"per_game!J454","v":0.5},{"$f":"per_game!K454","v":1},{"$f":"per_game!L454","v":0.5},{"$f":"per_game!M454","v":1},{"$f":"per_game!N454","v":1.3},{"$f":"per_game!O454","v":0.8},{"$f":"per_game!P454","v":0.3},{"$f":"per_game!Q454","v":1},{"$f":"per_game!R454","v":1.3},{"$f":"per_game!S454","v":0.8},{"$f":"per_game!T454","v":0},{"$f":"per_game!U454","v":0.3},{"$f":"per_game!V454","v":0.5},{"$f":"per_game!W454","v":1},{"$f":"per_game!X454","v":3.5}]
[null,null,{"$f":"Roster!C455","v":"G"},36.682999999999993,null,{"$f":"per_game!D455","v":13},{"$f":"per_game!E455","v":1},{"$f":"per_game!F455","v":10.4},{"$f":"per_game!G455","v":0.7},{"$f":"per_game!H455","v":2.2999999999999998},{"$f":"per_game!I455","v":0.3},{"$f":"per_game!J455","v":0.4},{"$f":"per_game!K455","v":1.2},{"$f":"per_game!L455","v":0.33300000000000002},{"$f":"per_game!M455","v":0.7},{"$f":"per_game!N455","v":0.9},{"$f":"per_game!O455","v":0.75},{"$f":"per_game!P455","v":0.2},{"$f":"per_game!Q455","v":1},{"$f":"per_game!R455","v":1.2},{"$f":"per_game!S455","v":1.4},{"$f":"per_game!T455","v":0.4},{"$f":"per_game!U455","v":0},{"$f":"per_game!V455","v":1.2},{"$f":"per_game!W455","v":0.8},{"$f":"per_game!X455","v":2.5}]
[null,null,{"$f":"Roster!C456","v":"F"},null,null,{"$f":"per_game!D456","v":4},{"$f":"per_game!E456","v":0},{"$f":"per_game!F456","v":7.8},{"$f":"per_game!G456","v":0.8},{"$f":"per_game!H456","v":2.5},{"$f":"per_game!I456","v":0.3},{"$f":"per_game!J456","v":0.3},{"$f":"per_game!K456","v":1.3},{"$f":"per_game!L456","v":0.2},{"$f":"per_game!M456","v":0},{"$f":"per_game!N456","v":0},{"$f":"per_game!O456","v":0},{"$f":"per_game!P456","v":0.3},{"$f":"per_game!Q456","v":0.5},{"$f":"per_game!R456","v":0.8},{"$f":"per_game!S456","v":1.5},{"$f":"per_game!T456","v":0.3},{"$f":"per_game!U456","v":0},{"$f":"per_game!V456","v":0.8},{"$f":"per_game!W456","v":0},{"$f":"per_game!X456","v":1.8}]
[null,null,{"$f":"Roster!C457","v":0},0,{"$f":"per_game!B457 & \"-\" & D458","v":"-0"},{"$f":"per_game!D457","v":0},{"$f":"per_game!E457","v":0},{"$f":"per_game!F457","v":0},{"$f":"per_game!G457","v":0},{"$f":"per_game!H457","v":0},{"$f":"per_game!I457","v":0},{"$f":"per_game!J457","v":0},{"$f":"per_game!K457","v":0},{"$f":"per_game!L457","v":0},{"$f":"per_game!M457","v":0},{"$f":"per_game!N457","v":0},{"$f":"per_game!O457","v":0},{"$f":"per_game!P457","v":0},{"$f":"per_game!Q457","v":0},{"$f":"per_game!R457","v":0},{"$f":"per_game!S457","v":0},{"$f":"per_game!T457","v":0},{"$f":"per_game!U457","v":0},{"$f":"per_game!V457","v":0},{"$f":"per_game!W457","v":0},{"$f":"per_game!X457","v":0}]
[null,null,{"$f":"Roster!C458","v":0},0,{"$f":"per_game!B458 & \"-\" & D459","v":"-0"},{"$f":"per_game!D458","v":0},{"$f":"per_game!E458","v":0},{"$f":"per_game!F458","v":0},{"$f":"per_game!G458","v":0},{"$f":"per_game!H458","v":0},{"$f":"per_game!I458","v":0},{"$f":"per_game!J458","v":0},{"$f":"per_game!K458","v":0},{"$f":"per_game!L458","v":0},{"$f":"per_game!M458","v":0},{"$f":"per_game!N458","v":0},{"$f":"per_game!O458","v":0},{"$f":"per_game!P458","v":0},{"$f":"per_game!Q458","v":0},{"$f":"per_game!R458","v":0},{"$f":"per_game!S458","v":0},{"$f":"per_game!T458","v":0},{"$f":"per_game!U458","v":0},{"$f":"per_game!V458","v":0},{"$f":"per_game!W458","v":0},{"$f":"per_game!X458","v":0}]
[null,null,{"$f":"Roster!C459","v":"Pos"},null,{"$f":"per_game!B459 & \"-\" & D460","v":"Player-"},{"$f":"per_game!D459","v":"G"},{"$f":"per_game!E459","v":"GS"},{"$f":"per_game!F459","v":"MP"},{"$f":"per_game!G459","v":"FG"},{"$f":"per_game!H459","v":"FGA"},{"$f":"per_game!I459","v":"FG%"},{"$f":"per_game!J459","v":"3P"},{"$f":"per_game!K459","v":"3PA"},{"$f":"per_game!L459","v":"3P%"},{"$f":"per_game!M459","v":"FT"},{"$f":"per_game!N459","v":"FTA"},{"$f":"per_game!O459","v":"FT%"},{"$f":"per_game!P459","v":"ORB"},{"$f":"per_game!Q459","v":"DRB"},{"$f":"per_game!R459","v":"TRB"},{"$f":"per_game!S459","v":"AST"},{"$f":"per_game!T459","v":"STL"},{"$f":"per_game!U459","v":"BLK"},{"$f":"per_game!V459","v":"TOV"},{"$f":"per_game!W459","v":"PF"},{"$f":"per_game!X459","v":"PTS"}]
[null,null,{"$f":"Roster!C460","v":"F"},135.65699999999998,{"$f":"per_game!B460 & \"-\" & D461","v":"DeMar DeRozan-135.657"},{"$f":"per_game!D460","v":18},{"$f":"per_game!E460","v":18},{"$f":"per_game!F460","v":37},{"$f":"per_game!G460","v":6.9},{"$f":"per_game!H460","v":15.3},{"$f":"per_game!I460","v":0.44900000000000001},{"$f":"per_game!J460","v":0.5},{"$f":"per_game!K460","v":1.6},{"$f":"per_game!L460","v":0.32100000000000001},{"$f":"per_game!M460","v":4.0999999999999996},{"$f":"per_game!N460","v":5.2},{"$f":"per_game!O460","v":0.78700000000000003},{"$f":"per_game!P460","v":0.8},{"$f":"per_game!Q460","v":4.2},{"$f":"per_game!R460","v":5},{"$f":"per_game!S460","v":1.9},{"$f":"per_game!T460","v":1.1000000000000001},{"$f":"per_game!U460","v":0.2},{"$f":"per_game!V460","v":1.7},{"$f":"per_game!W460","v":2.4},{"$f":"per_game!X460","v":18.399999999999999}]
[null,null,{"$f":"Roster!C461","v":"G-F"},130.178,{"$f":"per_game!B461 & \"-\" & D462","v":"Andrea Bargnani-130.178"},{"$f":"per_game!D461","v":17},{"$f":"per_game!E461","v":17},{"$f":"per_game!F461","v":34.5},{"$f":"per_game!G461","v":6.5},{"$f":"per_game!H461","v":16},{"$f":"per_game!I461","v":0.40400000000000003},{"$f":"per_game!J461","v":1.6},{"$f":"per_game!K461","v":4.5999999999999996},{"$f":"per_game!L461","v":0.34599999999999997},{"$f":"per_game!M461","v":2.8},{"$f":"per_game!N461","v":3.4},{"$f":"per_game!O461","v":0.82799999999999996},{"$f":"per_game!P461","v":0.9},{"$f":"per_game!Q461","v":3.6},{"$f":"per_game!R461","v":4.5},{"$f":"per_game!S461","v":1.4},{"$f":"per_game!T461","v":0.7},{"$f":"per_game!U461","v":0.6},{"$f":"per_game!V461","v":1.8},{"$f":"per_game!W461","v":2.1},{"$f":"per_game!X461","v":17.399999999999999}]
[null,null,{"$f":"Roster!C462","v":"F"},121.79599999999998,{"$f":"per_game!B462 & \"-\" & D463","v":"Kyle Lowry-121.796"},{"$f":"per_game!D462","v":12},{"$f":"per_game!E462","v":11},{"$f":"per_game!F462","v":31.6},{"$f":"per_game!G462","v":5.3},{"$f":"per_game!H462","v":12.6},{"$f":"per_game!I462","v":0.42399999999999999},{"$f":"per_game!J462","v":1.8},{"$f":"per_game!K462","v":4.7},{"$f":"per_game!L462","v":0.375},{"$f":"per_game!M462","v":4.5999999999999996},{"$f":"per_game!N462","v":5.8},{"$f":"per_game!O462","v":0.79700000000000004},{"$f":"per_game!P462","v":1},{"$f":"per_game!Q462","v":4.8},{"$f":"per_game!R462","v":5.8},{"$f":"per_game!S462","v":5.6},{"$f":"per_game!T462","v":1.7},{"$f":"per_game!U462","v":0.8},{"$f":"per_game!V462","v":2.4},{"$f":"per_game!W462","v":3.5},{"$f":"per_game!X462","v":17}]
[null,null,{"$f":"Roster!C463","v":"G"},94.261000000000024,{"$f":"per_game!B463 & \"-\" & D464","v":"Jose Calderon-94.261"},{"$f":"per_game!D463","v":18},{"$f":"per_game!E463","v":7},{"$f":"per_game!F463","v":28.5},{"$f":"per_game!G463","v":3.6},{"$f":"per_game!H463","v":8.4},{"$f":"per_game!I463","v":0.43},{"$f":"per_game!J463","v":1.9},{"$f":"per_game!K463","v":3.9},{"$f":"per_game!L463","v":0.47899999999999998},{"$f":"per_game!M463","v":1.1000000000000001},{"$f":"per_game!N463","v":1.2},{"$f":"per_game!O463","v":0.95199999999999996},{"$f":"per_game!P463","v":0.3},{"$f":"per_game!Q463","v":1.6},{"$f":"per_game!R463","v":1.9},{"$f":"per_game!S463","v":7.3},{"$f":"per_game!T463","v":0.7},{"$f":"per_game!U463","v":0.2},{"$f":"per_game!V463","v":2.1},{"$f":"per_game!W463","v":1.3},{"$f":"per_game!X463","v":10.199999999999999}]
[null,null,{"$f":"Roster!C464","v":"F"},95.071999999999989,{"$f":"per_game!B464 & \"-\" & D465","v":"Jonas Valanciunas-95.072"},{"$f":"per_game!D464","v":18},{"$f":"per_game!E464","v":18},{"$f":"per_game!F464","v":24},{"$f":"per_game!G464","v":3.7},{"$f":"per_game!H464","v":7.1},{"$f":"per_game!I464","v":0.51600000000000001},{"$f":"per_game!J464","v":0},{"$f":"per_game!K464","v":0},{"$f":"per_game!L464","v":0},{"$f":"per_game!M464","v":1.7},{"$f":"per_game!N464","v":2.2999999999999998},{"$f":"per_game!O464","v":0.75600000000000001},{"$f":"per_game!P464","v":2.1},{"$f":"per_game!Q464","v":3.6},{"$f":"per_game!R464","v":5.7},{"$f":"per_game!S464","v":1.3},{"$f":"per_game!T464","v":0.3},{"$f":"per_game!U464","v":1.3},{"$f":"per_game!V464","v":1.3},{"$f":"per_game!W464","v":3.1},{"$f":"per_game!X464","v":9.1}]
[null,null,{"$f":"Roster!C465","v":"G"},56.602999999999994,{"$f":"per_game!B465 & \"-\" & D466","v":"Alan Anderson-56.603"},{"$f":"per_game!D465","v":6},{"$f":"per_game!E465","v":1},{"$f":"per_game!F465","v":20.7},{"$f":"per_game!G465","v":2.2999999999999998},{"$f":"per_game!H465","v":7.3},{"$f":"per_game!I465","v":0.318},{"$f":"per_game!J465","v":1.3},{"$f":"per_game!K465","v":4.5},{"$f":"per_game!L465","v":0.29599999999999999},{"$f":"per_game!M465","v":1.3},{"$f":"per_game!N465","v":1.5},{"$f":"per_game!O465","v":0.88900000000000001},{"$f":"per_game!P465","v":0.3},{"$f":"per_game!Q465","v":1},{"$f":"per_game!R465","v":1.3},{"$f":"per_game!S465","v":1.2},{"$f":"per_game!T465","v":0.7},{"$f":"per_game!U465","v":0.2},{"$f":"per_game!V465","v":0.8},{"$f":"per_game!W465","v":2},{"$f":"per_game!X465","v":7.3}]
[null,null,{"$f":"Roster!C466","v":"F"},67.511999999999972,{"$f":"per_game!B466 & \"-\" & D467","v":"Amir Johnson-67.512"},{"$f":"per_game!D466","v":18},{"$f":"per_game!E466","v":0},{"$f":"per_game!F466","v":20.2},{"$f":"per_game!G466","v":2.8},{"$f":"per_game!H466","v":5.6},{"$f":"per_game!I466","v":0.495},{"$f":"per_game!J466","v":0.1},{"$f":"per_game!K466","v":0.3},{"$f":"per_game!L466","v":0.33300000000000002},{"$f":"per_game!M466","v":1.4},{"$f":"per_game!N466","v":2.1},{"$f":"per_game!O466","v":0.68400000000000005},{"$f":"per_game!P466","v":2.2999999999999998},{"$f":"per_game!Q466","v":2.9},{"$f":"per_game!R466","v":5.2},{"$f":"per_game!S466","v":1.2},{"$f":"per_game!T466","v":0.8},{"$f":"per_game!U466","v":0.6},{"$f":"per_game!V466","v":0.9},{"$f":"per_game!W466","v":3.7},{"$f":"per_game!X466","v":7.1}]
[null,null,{"$f":"Roster!C467","v":"C"},60.523000000000017,{"$f":"per_game!B467 & \"-\" & D468","v":"Linas Kleiza-60.523"},{"$f":"per_game!D467","v":11},{"$f":"per_game!E467","v":2},{"$f":"per_game!F467","v":19.7},{"$f":"per_game!G467","v":2.5},{"$f":"per_game!H467","v":7.2},{"$f":"per_game!I467","v":0.34200000000000003},{"$f":"per_game!J467","v":0.5},{"$f":"per_game!K467","v":2.4},{"$f":"per_game!L467","v":0.23100000000000001},{"$f":"per_game!M467","v":1.5},{"$f":"per_game!N467","v":1.8},{"$f":"per_game!O467","v":0.85},{"$f":"per_game!P467","v":0.6},{"$f":"per_game!Q467","v":2.1},{"$f":"per_game!R467","v":2.7},{"$f":"per_game!S467","v":0.7},{"$f":"per_game!T467","v":0.2},{"$f":"per_game!U467","v":0.1},{"$f":"per_game!V467","v":1},{"$f":"per_game!W467","v":1.9},{"$f":"per_game!X467","v":7}]
[null,null,{"$f":"Roster!C468","v":"F"},54.125000000000014,{"$f":"per_game!B468 & \"-\" & D469","v":"Terrence Ross-54.125"},{"$f":"per_game!D468","v":16},{"$f":"per_game!E468","v":0},{"$f":"per_game!F468","v":15.6},{"$f":"per_game!G468","v":2.6},{"$f":"per_game!H468","v":6.1},{"$f":"per_game!I468","v":0.42299999999999999},{"$f":"per_game!J468","v":0.8},{"$f":"per_game!K468","v":2.7},{"$f":"per_game!L468","v":0.30199999999999999},{"$f":"per_game!M468","v":0.1},{"$f":"per_game!N468","v":0.3},{"$f":"per_game!O468","v":0.4},{"$f":"per_game!P468","v":0.4},{"$f":"per_game!Q468","v":1.6},{"$f":"per_game!R468","v":2},{"$f":"per_game!S468","v":0.6},{"$f":"per_game!T468","v":0.7},{"$f":"per_game!U468","v":0.1},{"$f":"per_game!V468","v":0.8},{"$f":"per_game!W468","v":1.9},{"$f":"per_game!X468","v":6.1}]
[null,null,{"$f":"Roster!C469","v":"F"},60.631,{"$f":"per_game!B469 & \"-\" & D470","v":"Ed Davis-60.631"},{"$f":"per_game!D469","v":18},{"$f":"per_game!E469","v":1},{"$f":"per_game!F469","v":15.4},{"$f":"per_game!G469","v":2.2999999999999998},{"$f":"per_game!H469","v":4.0999999999999996},{"$f":"per_game!I469","v":0.57499999999999996},{"$f":"per_game!J469","v":0},{"$f":"per_game!K469","v":0},{"$f":"per_game!L469","v":0},{"$f":"per_game!M469","v":1.2},{"$f":"per_game!N469","v":1.8},{"$f":"per_game!O469","v":0.65600000000000003},{"$f":"per_game!P469","v":2},{"$f":"per_game!Q469","v":3.4},{"$f":"per_game!R469","v":5.4},{"$f":"per_game!S469","v":0.7},{"$f":"per_game!T469","v":0.5},{"$f":"per_game!U469","v":0.7},{"$f":"per_game!V469","v":0.8},{"$f":"per_game!W469","v":2.1},{"$f":"per_game!X469","v":5.8}]
[null,null,{"$f":"Roster!C470","v":"G"},50.625,{"$f":"per_game!B470 & \"-\" & D471","v":"Mickael Pietrus-50.625"},{"$f":"per_game!D470","v":2},{"$f":"per_game!E470","v":1},{"$f":"per_game!F470","v":28.5},{"$f":"per_game!G470","v":1.5},{"$f":"per_game!H470","v":6},{"$f":"per_game!I470","v":0.25},{"$f":"per_game!J470","v":1.5},{"$f":"per_game!K470","v":4},{"$f":"per_game!L470","v":0.375},{"$f":"per_game!M470","v":0},{"$f":"per_game!N470","v":0},{"$f":"per_game!O470","v":0},{"$f":"per_game!P470","v":0},{"$f":"per_game!Q470","v":1},{"$f":"per_game!R470","v":1},{"$f":"per_game!S470","v":0},{"$f":"per_game!T470","v":1},{"$f":"per_game!U470","v":0.5},{"$f":"per_game!V470","v":0.5},{"$f":"per_game!W470","v":2},{"$f":"per_game!X470","v":4.5}]
[null,null,{"$f":"Roster!C471","v":"G"},40.753999999999991,{"$f":"per_game!B471 & \"-\" & D472","v":"John Lucas-40.754"},{"$f":"per_game!D471","v":14},{"$f":"per_game!E471","v":0},{"$f":"per_game!F471","v":11},{"$f":"per_game!G471","v":1.1000000000000001},{"$f":"per_game!H471","v":4.4000000000000004},{"$f":"per_game!I471","v":0.25800000000000001},{"$f":"per_game!J471","v":0.6},{"$f":"per_game!K471","v":1.9},{"$f":"per_game!L471","v":0.29599999999999999},{"$f":"per_game!M471","v":0.3},{"$f":"per_game!N471","v":0.4},{"$f":"per_game!O471","v":0.8},{"$f":"per_game!P471","v":0.1},{"$f":"per_game!Q471","v":0.9},{"$f":"per_game!R471","v":0.9},{"$f":"per_game!S471","v":1.3},{"$f":"per_game!T471","v":0.4},{"$f":"per_game!U471","v":0},{"$f":"per_game!V471","v":0.4},{"$f":"per_game!W471","v":0.6},{"$f":"per_game!X471","v":3.1}]
[null,null,{"$f":"Roster!C472","v":"F"},48.475000000000001,null,{"$f":"per_game!D472","v":5},{"$f":"per_game!E472","v":5},{"$f":"per_game!F472","v":21.4},{"$f":"per_game!G472","v":1},{"$f":"per_game!H472","v":4.8},{"$f":"per_game!I472","v":0.20799999999999999},{"$f":"per_game!J472","v":0},{"$f":"per_game!K472","v":0.6},{"$f":"per_game!L472","v":0},{"$f":"per_game!M472","v":0.4},{"$f":"per_game!N472","v":0.6},{"$f":"per_game!O472","v":0.66700000000000004},{"$f":"per_game!P472","v":0.6},{"$f":"per_game!Q472","v":2.6},{"$f":"per_game!R472","v":3.2},{"$f":"per_game!S472","v":1.6},{"$f":"per_game!T472","v":0.6},{"$f":"per_game!U472","v":0},{"$f":"per_game!V472","v":1},{"$f":"per_game!W472","v":1.2},{"$f":"per_game!X472","v":2.4}]
[null,null,{"$f":"Roster!C473","v":"G-F"},22.766000000000002,null,{"$f":"per_game!D473","v":3},{"$f":"per_game!E473","v":0},{"$f":"per_game!F473","v":7},{"$f":"per_game!G473","v":0.3},{"$f":"per_game!H473","v":1},{"$f":"per_game!I473","v":0.33300000000000002},{"$f":"per_game!J473","v":0},{"$f":"per_game!K473","v":0},{"$f":"per_game!L473","v":0},{"$f":"per_game!M473","v":1.7},{"$f":"per_game!N473","v":2},{"$f":"per_game!O473","v":0.83299999999999996},{"$f":"per_game!P473","v":0.7},{"$f":"per_game!Q473","v":1.3},{"$f":"per_game!R473","v":2},{"$f":"per_game!S473","v":0},{"$f":"per_game!T473","v":0.7},{"$f":"per_game!U473","v":0.3},{"$f":"per_game!V473","v":0},{"$f":"per_game!W473","v":0.7},{"$f":"per_game!X473","v":2.2999999999999998}]
[null,null,{"$f":"Roster!C474","v":"G"},null,null,{"$f":"per_game!D474","v":15},{"$f":"per_game!E474","v":9},{"$f":"per_game!F474","v":15.3},{"$f":"per_game!G474","v":1},{"$f":"per_game!H474","v":2.1},{"$f":"per_game!I474","v":0.46899999999999997},{"$f":"per_game!J474","v":0},{"$f":"per_game!K474","v":0},{"$f":"per_game!L474","v":0},{"$f":"per_game!M474","v":0.1},{"$f":"per_game!N474","v":0.4},{"$f":"per_game!O474","v":0.33300000000000002},{"$f":"per_game!P474","v":0.7},{"$f":"per_game!Q474","v":2.5},{"$f":"per_game!R474","v":3.2},{"$f":"per_game!S474","v":0.7},{"$f":"per_game!T474","v":0.3},{"$f":"per_game!U474","v":0.5},{"$f":"per_game!V474","v":0.5},{"$f":"per_game!W474","v":1.7},{"$f":"per_game!X474","v":2.1}]
[null,null,{"$f":"Roster!C475","v":"C"},23.967000000000006,{"$f":"per_game!B475 & \"-\" & D476","v":"Aaron Gray-23.967"},{"$f":"per_game!D475","v":8},{"$f":"per_game!E475","v":0},{"$f":"per_game!F475","v":8.5},{"$f":"per_game!G475","v":0.8},{"$f":"per_game!H475","v":1.1000000000000001},{"$f":"per_game!I475","v":0.66700000000000004},{"$f":"per_game!J475","v":0},{"$f":"per_game!K475","v":0},{"$f":"per_game!L475","v":0},{"$f":"per_game!M475","v":0.3},{"$f":"per_game!N475","v":0.5},{"$f":"per_game!O475","v":0.5},{"$f":"per_game!P475","v":0.1},{"$f":"per_game!Q475","v":1.6},{"$f":"per_game!R475","v":1.8},{"$f":"per_game!S475","v":0.4},{"$f":"per_game!T475","v":0.4},{"$f":"per_game!U475","v":0},{"$f":"per_game!V475","v":0.6},{"$f":"per_game!W475","v":1.9},{"$f":"per_game!X475","v":1.8}]
[null,null,{"$f":"Roster!C476","v":0},0,{"$f":"per_game!B476 & \"-\" & D477","v":"-0"},{"$f":"per_game!D476","v":0},{"$f":"per_game!E476","v":0},{"$f":"per_game!F476","v":0},{"$f":"per_game!G476","v":0},{"$f":"per_game!H476","v":0},{"$f":"per_game!I476","v":0},{"$f":"per_game!J476","v":0},{"$f":"per_game!K476","v":0},{"$f":"per_game!L476","v":0},{"$f":"per_game!M476","v":0},{"$f":"per_game!N476","v":0},{"$f":"per_game!O476","v":0},{"$f":"per_game!P476","v":0},{"$f":"per_game!Q476","v":0},{"$f":"per_game!R476","v":0},{"$f":"per_game!S476","v":0},{"$f":"per_game!T476","v":0},{"$f":"per_game!U476","v":0},{"$f":"per_game!V476","v":0},{"$f":"per_game!W476","v":0},{"$f":"per_game!X476","v":0}]
[null,null,{"$f":"Roster!C477","v":0},0,{"$f":"per_game!B477 & \"-\" & D478","v":"-0"},{"$f":"per_game!D477","v":0},{"$f":"per_game!E477","v":0},{"$f":"per_game!F477","v":0},{"$f":"per_game!G477","v":0},{"$f":"per_game!H477","v":0},{"$f":"per_game!I477","v":0},{"$f":"per_game!J477","v":0},{"$f":"per_game!K477","v":0},{"$f":"per_game!L477","v":0},{"$f":"per_game!M477","v":0},{"$f":"per_game!N477","v":0},{"$f":"per_game!O477","v":0},{"$f":"per_game!P477","v":0},{"$f":"per_game!Q477","v":0},{"$f":"per_game!R477","v":0},{"$f":"per_game!S477","v":0},{"$f":"per_game!T477","v":0},{"$f":"per_game!U477","v":0},{"$f":"per_game!V477","v":0},{"$f":"per_game!W477","v":0},{"$f":"per_game!X477","v":0}]
[null,null,{"$f":"Roster!C478","v":"Pos"},null,{"$f":"per_game!B478 & \"-\" & D479","v":"Player-"},{"$f":"per_game!D478","v":"G"},{"$f":"per_game!E478","v":"GS"},{"$f":"per_game!F478","v":"MP"},{"$f":"per_game!G478","v":"FG"},{"$f":"per_game!H478","v":"FGA"},{"$f":"per_game!I478","v":"FG%"},{"$f":"per_game!J478","v":"3P"},{"$f":"per_game!K478","v":"3PA"},{"$f":"per_game!L478","v":"3P%"},{"$f":"per_game!M478","v":"FT"},{"$f":"per_game!N478","v":"FTA"},{"$f":"per_game!O478","v":"FT%"},{"$f":"per_game!P478","v":"ORB"},{"$f":"per_game!Q478","v":"DRB"},{"$f":"per_game!R478","v":"TRB"},{"$f":"per_game!S478","v":"AST"},{"$f":"per_game!T478","v":"STL"},{"$f":"per_game!U478","v":"BLK"},{"$f":"per_game!V478","v":"TOV"},{"$f":"per_game!W478","v":"PF"},{"$f":"per_game!X478","v":"PTS"}]
[null,null,{"$f":"Roster!C479","v":"G"},138.55799999999999,{"$f":"per_game!B479 & \"-\" & D480","v":"Al Jefferson-138.558"},{"$f":"per_game!D479","v":19},{"$f":"per_game!E479","v":19},{"$f":"per_game!F479","v":33.299999999999997},{"$f":"per_game!G479","v":7.2},{"$f":"per_game!H479","v":15.2},{"$f":"per_game!I479","v":0.47199999999999998},{"$f":"per_game!J479","v":0.1},{"$f":"per_game!K479","v":0.3},{"$f":"per_game!L479","v":0.2},{"$f":"per_game!M479","v":2.2999999999999998},{"$f":"per_game!N479","v":2.9},{"$f":"per_game!O479","v":0.78600000000000003},{"$f":"per_game!P479","v":2.4},{"$f":"per_game!Q479","v":8.1},{"$f":"per_game!R479","v":10.5},{"$f":"per_game!S479","v":1.9},{"$f":"per_game!T479","v":1.1000000000000001},{"$f":"per_game!U479","v":1.2},{"$f":"per_game!V479","v":1.5},{"$f":"per_game!W479","v":2.6},{"$f":"per_game!X479","v":16.7}]
[null,null,{"$f":"Roster!C480","v":"F"},113.75299999999999,{"$f":"per_game!B480 & \"-\" & D481","v":"Mo Williams-113.753"},{"$f":"per_game!D480","v":15},{"$f":"per_game!E480","v":15},{"$f":"per_game!F480","v":33.1},{"$f":"per_game!G480","v":5.5},{"$f":"per_game!H480","v":12.6},{"$f":"per_game!I480","v":0.439},{"$f":"per_game!J480","v":1.4},{"$f":"per_game!K480","v":4},{"$f":"per_game!L480","v":0.35},{"$f":"per_game!M480","v":1.8},{"$f":"per_game!N480","v":1.9},{"$f":"per_game!O480","v":0.96399999999999997},{"$f":"per_game!P480","v":0.7},{"$f":"per_game!Q480","v":1.3},{"$f":"per_game!R480","v":2},{"$f":"per_game!S480","v":6.9},{"$f":"per_game!T480","v":1},{"$f":"per_game!U480","v":0.5},{"$f":"per_game!V480","v":2.7},{"$f":"per_game!W480","v":2.2999999999999998},{"$f":"per_game!X480","v":14.3}]
[null,null,{"$f":"Roster!C481","v":"F"},105.58799999999999,{"$f":"per_game!B481 & \"-\" & D482","v":"Gordon Hayward-105.588"},{"$f":"per_game!D481","v":19},{"$f":"per_game!E481","v":10},{"$f":"per_game!F481","v":28.3},{"$f":"per_game!G481","v":4.7},{"$f":"per_game!H481","v":11},{"$f":"per_game!I481","v":0.43099999999999999},{"$f":"per_game!J481","v":1.1000000000000001},{"$f":"per_game!K481","v":3.4},{"$f":"per_game!L481","v":0.32800000000000001},{"$f":"per_game!M481","v":3.3},{"$f":"per_game!N481","v":4},{"$f":"per_game!O481","v":0.82899999999999996},{"$f":"per_game!P481","v":1},{"$f":"per_game!Q481","v":2},{"$f":"per_game!R481","v":3},{"$f":"per_game!S481","v":2},{"$f":"per_game!T481","v":0.8},{"$f":"per_game!U481","v":0.6},{"$f":"per_game!V481","v":2},{"$f":"per_game!W481","v":2.1},{"$f":"per_game!X481","v":13.9}]
[null,null,{"$f":"Roster!C482","v":"F"},125.60300000000001,{"$f":"per_game!B482 & \"-\" & D483","v":"Paul Millsap-125.603"},{"$f":"per_game!D482","v":19},{"$f":"per_game!E482","v":19},{"$f":"per_game!F482","v":30.7},{"$f":"per_game!G482","v":5},{"$f":"per_game!H482","v":11.1},{"$f":"per_game!I482","v":0.45200000000000001},{"$f":"per_game!J482","v":0.6},{"$f":"per_game!K482","v":1.1000000000000001},{"$f":"per_game!L482","v":0.52400000000000002},{"$f":"per_game!M482","v":3.4},{"$f":"per_game!N482","v":4.5999999999999996},{"$f":"per_game!O482","v":0.72699999999999998},{"$f":"per_game!P482","v":2.6},{"$f":"per_game!Q482","v":5.7},{"$f":"per_game!R482","v":8.4},{"$f":"per_game!S482","v":2.5},{"$f":"per_game!T482","v":0.9},{"$f":"per_game!U482","v":0.9},{"$f":"per_game!V482","v":2.1},{"$f":"per_game!W482","v":3.4},{"$f":"per_game!X482","v":13.9}]
[null,null,{"$f":"Roster!C483","v":"G"},93.90000000000002,{"$f":"per_game!B483 & \"-\" & D484","v":"Randy Foye-93.9"},{"$f":"per_game!D483","v":19},{"$f":"per_game!E483","v":9},{"$f":"per_game!F483","v":26.1},{"$f":"per_game!G483","v":3.9},{"$f":"per_game!H483","v":9.1},{"$f":"per_game!I483","v":0.42799999999999999},{"$f":"per_game!J483","v":2.5},{"$f":"per_game!K483","v":5.4},{"$f":"per_game!L483","v":0.46100000000000002},{"$f":"per_game!M483","v":1.6},{"$f":"per_game!N483","v":1.9},{"$f":"per_game!O483","v":0.81100000000000005},{"$f":"per_game!P483","v":0.2},{"$f":"per_game!Q483","v":1.2},{"$f":"per_game!R483","v":1.3},{"$f":"per_game!S483","v":1.9},{"$f":"per_game!T483","v":0.7},{"$f":"per_game!U483","v":0.4},{"$f":"per_game!V483","v":1.2},{"$f":"per_game!W483","v":2.6},{"$f":"per_game!X483","v":11.8}]
[null,null,{"$f":"Roster!C484","v":"F"},97.883999999999958,{"$f":"per_game!B484 & \"-\" & D485","v":"Marvin Williams-97.884"},{"$f":"per_game!D484","v":16},{"$f":"per_game!E484","v":14},{"$f":"per_game!F484","v":27.8},{"$f":"per_game!G484","v":3.5},{"$f":"per_game!H484","v":7.8},{"$f":"per_game!I484","v":0.45200000000000001},{"$f":"per_game!J484","v":1},{"$f":"per_game!K484","v":2.8},{"$f":"per_game!L484","v":0.35599999999999998},{"$f":"per_game!M484","v":2.4},{"$f":"per_game!N484","v":3.1},{"$f":"per_game!O484","v":0.77600000000000002},{"$f":"per_game!P484","v":0.6},{"$f":"per_game!Q484","v":3.1},{"$f":"per_game!R484","v":3.8},{"$f":"per_game!S484","v":1.1000000000000001},{"$f":"per_game!T484","v":0.6},{"$f":"per_game!U484","v":0.6},{"$f":"per_game!V484","v":1},{"$f":"per_game!W484","v":1.3},{"$f":"per_game!X484","v":10.4}]
[null,null,{"$f":"Roster!C485","v":"F"},83.756,{"$f":"per_game!B485 & \"-\" & D486","v":"Derrick Favors-83.756"},{"$f":"per_game!D485","v":17},{"$f":"per_game!E485","v":2},{"$f":"per_game!F485","v":22.8},{"$f":"per_game!G485","v":3.2},{"$f":"per_game!H485","v":7.4},{"$f":"per_game!I485","v":0.44},{"$f":"per_game!J485","v":0},{"$f":"per_game!K485","v":0.1},{"$f":"per_game!L485","v":0},{"$f":"per_game!M485","v":2.8},{"$f":"per_game!N485","v":3.9},{"$f":"per_game!O485","v":0.71599999999999997},{"$f":"per_game!P485","v":3.3},{"$f":"per_game!Q485","v":4.2},{"$f":"per_game!R485","v":7.5},{"$f":"per_game!S485","v":0.5},{"$f":"per_game!T485","v":0.9},{"$f":"per_game!U485","v":1.9},{"$f":"per_game!V485","v":1.5},{"$f":"per_game!W485","v":2.7},{"$f":"per_game!X485","v":9.3000000000000007}]
[null,null,{"$f":"Roster!C486","v":"F"},59.622,{"$f":"per_game!B486 & \"-\" & D487","v":"DeMarre Carroll-59.622"},{"$f":"per_game!D486","v":14},{"$f":"per_game!E486","v":3},{"$f":"per_game!F486","v":16.899999999999999},{"$f":"per_game!G486","v":2.1},{"$f":"per_game!H486","v":4.7},{"$f":"per_game!I486","v":0.439},{"$f":"per_game!J486","v":0.2},{"$f":"per_game!K486","v":1},{"$f":"per_game!L486","v":0.214},{"$f":"per_game!M486","v":1.4},{"$f":"per_game!N486","v":1.9},{"$f":"per_game!O486","v":0.76900000000000002},{"$f":"per_game!P486","v":1.8},{"$f":"per_game!Q486","v":1.6},{"$f":"per_game!R486","v":3.4},{"$f":"per_game!S486","v":0.6},{"$f":"per_game!T486","v":0.9},{"$f":"per_game!U486","v":0.6},{"$f":"per_game!V486","v":0.3},{"$f":"per_game!W486","v":1.4},{"$f":"per_game!X486","v":5.8}]
[null,null,{"$f":"Roster!C487","v":"F"},54.210999999999999,{"$f":"per_game!B487 & \"-\" & D488","v":"Enes Kanter-54.211"},{"$f":"per_game!D487","v":19},{"$f":"per_game!E487","v":0},{"$f":"per_game!F487","v":14.3},{"$f":"per_game!G487","v":2.5},{"$f":"per_game!H487","v":4.5999999999999996},{"$f":"per_game!I487","v":0.54},{"$f":"per_game!J487","v":0},{"$f":"per_game!K487","v":0},{"$f":"per_game!L487","v":0},{"$f":"per_game!M487","v":0.6},{"$f":"per_game!N487","v":1.1000000000000001},{"$f":"per_game!O487","v":0.57099999999999995},{"$f":"per_game!P487","v":1.6},{"$f":"per_game!Q487","v":2.2000000000000002},{"$f":"per_game!R487","v":3.8},{"$f":"per_game!S487","v":0.4},{"$f":"per_game!T487","v":0.3},{"$f":"per_game!U487","v":0.5},{"$f":"per_game!V487","v":1.4},{"$f":"per_game!W487","v":2},{"$f":"per_game!X487","v":5.6}]
[null,null,{"$f":"Roster!C488","v":"G"},58.173000000000002,{"$f":"per_game!B488 & \"-\" & D489","v":"Jamaal Tinsley-58.173"},{"$f":"per_game!D488","v":16},{"$f":"per_game!E488","v":4},{"$f":"per_game!F488","v":20.399999999999999},{"$f":"per_game!G488","v":1},{"$f":"per_game!H488","v":3.1},{"$f":"per_game!I488","v":0.32700000000000001},{"$f":"per_game!J488","v":0.5},{"$f":"per_game!K488","v":1.7},{"$f":"per_game!L488","v":0.29599999999999999},{"$f":"per_game!M488","v":0.2},{"$f":"per_game!N488","v":0.3},{"$f":"per_game!O488","v":0.75},{"$f":"per_game!P488","v":0.3},{"$f":"per_game!Q488","v":1.7},{"$f":"per_game!R488","v":1.9},{"$f":"per_game!S488","v":5.6},{"$f":"per_game!T488","v":0.8},{"$f":"per_game!U488","v":0.2},{"$f":"per_game!V488","v":1.9},{"$f":"per_game!W488","v":1.7},{"$f":"per_game!X488","v":2.7}]
[null,null,{"$f":"Roster!C489","v":"G"},21.45,null,{"$f":"per_game!D489","v":6},{"$f":"per_game!E489","v":0},{"$f":"per_game!F489","v":6},{"$f":"per_game!G489","v":1},{"$f":"per_game!H489","v":1.3},{"$f":"per_game!I489","v":0.75},{"$f":"per_game!J489","v":0},{"$f":"per_game!K489","v":0},{"$f":"per_game!L489","v":0},{"$f":"per_game!M489","v":0.3},{"$f":"per_game!N489","v":0.8},{"$f":"per_game!O489","v":0.4},{"$f":"per_game!P489","v":0.7},{"$f":"per_game!Q489","v":0.8},{"$f":"per_game!R489","v":1.5},{"$f":"per_game!S489","v":0.2},{"$f":"per_game!T489","v":0.2},{"$f":"per_game!U489","v":0.5},{"$f":"per_game!V489","v":0},{"$f":"per_game!W489","v":1.3},{"$f":"per_game!X489","v":2.2999999999999998}]
[null,null,{"$f":"Roster!C490","v":"G"},30.046999999999997,null,{"$f":"per_game!D490","v":9},{"$f":"per_game!E490","v":0},{"$f":"per_game!F490","v":9.6},{"$f":"per_game!G490","v":0.9},{"$f":"per_game!H490","v":3.6},{"$f":"per_game!I490","v":0.25},{"$f":"per_game!J490","v":0.2},{"$f":"per_game!K490","v":1},{"$f":"per_game!L490","v":0.222},{"$f":"per_game!M490","v":0.3},{"$f":"per_game!N490","v":0.9},{"$f":"per_game!O490","v":0.375},{"$f":"per_game!P490","v":0.3},{"$f":"per_game!Q490","v":0.7},{"$f":"per_game!R490","v":1},{"$f":"per_game!S490","v":0.4},{"$f":"per_game!T490","v":0.2},{"$f":"per_game!U490","v":0.2},{"$f":"per_game!V490","v":0.3},{"$f":"per_game!W490","v":1.1000000000000001},{"$f":"per_game!X490","v":2.2999999999999998}]
[null,null,{"$f":"Roster!C491","v":"F"},null,null,{"$f":"per_game!D491","v":7},{"$f":"per_game!E491","v":0},{"$f":"per_game!F491","v":13.1},{"$f":"per_game!G491","v":1},{"$f":"per_game!H491","v":2.2999999999999998},{"$f":"per_game!I491","v":0.438},{"$f":"per_game!J491","v":0.1},{"$f":"per_game!K491","v":0.6},{"$f":"per_game!L491","v":0.25},{"$f":"per_game!M491","v":0},{"$f":"per_game!N491","v":0},{"$f":"per_game!O491","v":0},{"$f":"per_game!P491","v":0.4},{"$f":"per_game!Q491","v":0.6},{"$f":"per_game!R491","v":1},{"$f":"per_game!S491","v":4.0999999999999996},{"$f":"per_game!T491","v":1.1000000000000001},{"$f":"per_game!U491","v":0},{"$f":"per_game!V491","v":1},{"$f":"per_game!W491","v":2.6},{"$f":"per_game!X491","v":2.1}]
[null,null,{"$f":"Roster!C492","v":"G"},10.333,{"$f":"per_game!B492 & \"-\" & D493","v":"Kevin Murphy-10.333"},{"$f":"per_game!D492","v":3},{"$f":"per_game!E492","v":0},{"$f":"per_game!F492","v":3},{"$f":"per_game!G492","v":0.7},{"$f":"per_game!H492","v":2},{"$f":"per_game!I492","v":0.33300000000000002},{"$f":"per_game!J492","v":0},{"$f":"per_game!K492","v":0.3},{"$f":"per_game!L492","v":0},{"$f":"per_game!M492","v":0},{"$f":"per_game!N492","v":0},{"$f":"per_game!O492","v":0},{"$f":"per_game!P492","v":0},{"$f":"per_game!Q492","v":0},{"$f":"per_game!R492","v":0},{"$f":"per_game!S492","v":0},{"$f":"per_game!T492","v":0.3},{"$f":"per_game!U492","v":0},{"$f":"per_game!V492","v":0.3},{"$f":"per_game!W492","v":0.3},{"$f":"per_game!X492","v":1.3}]
[null,null,{"$f":"Roster!C493","v":0},0,{"$f":"per_game!B493 & \"-\" & D494","v":"-0"},{"$f":"per_game!D493","v":0},{"$f":"per_game!E493","v":0},{"$f":"per_game!F493","v":0},{"$f":"per_game!G493","v":0},{"$f":"per_game!H493","v":0},{"$f":"per_game!I493","v":0},{"$f":"per_game!J493","v":0},{"$f":"per_game!K493","v":0},{"$f":"per_game!L493","v":0},{"$f":"per_game!M493","v":0},{"$f":"per_game!N493","v":0},{"$f":"per_game!O493","v":0},{"$f":"per_game!P493","v":0},{"$f":"per_game!Q493","v":0},{"$f":"per_game!R493","v":0},{"$f":"per_game!S493","v":0},{"$f":"per_game!T493","v":0},{"$f":"per_game!U493","v":0},{"$f":"per_game!V493","v":0},{"$f":"per_game!W493","v":0},{"$f":"per_game!X493","v":0}]
[null,null,{"$f":"Roster!C494","v":0},0,{"$f":"per_game!B494 & \"-\" & D495","v":"-0"},{"$f":"per_game!D494","v":0},{"$f":"per_game!E494","v":0},{"$f":"per_game!F494","v":0},{"$f":"per_game!G494","v":0},{"$f":"per_game!H494","v":0},{"$f":"per_game!I494","v":0},{"$f":"per_game!J494","v":0},{"$f":"per_game!K494","v":0},{"$f":"per_game!L494","v":0},{"$f":"per_game!M494","v":0},{"$f":"per_game!N494","v":0},{"$f":"per_game!O494","v":0},{"$f":"per_game!P494","v":0},{"$f":"per_game!Q494","v":0},{"$f":"per_game!R494","v":0},{"$f":"per_game!S494","v":0},{"$f":"per_game!T494","v":0},{"$f":"per_game!U494","v":0},{"$f":"per_game!V494","v":0},{"$f":"per_game!W494","v":0},{"$f":"per_game!X494","v":0}]
[null,null,{"$f":"Roster!C495","v":"Pos"},null,{"$f":"per_game!B495 & \"-\" & D496","v":"Player-"},{"$f":"per_game!D495","v":"G"},{"$f":"per_game!E495","v":"GS"},{"$f":"per_game!F495","v":"MP"},{"$f":"per_game!G495","v":"FG"},{"$f":"per_game!H495","v":"FGA"},{"$f":"per_game!I495","v":"FG%"},{"$f":"per_game!J495","v":"3P"},{"$f":"per_game!K495","v":"3PA"},{"$f":"per_game!L495","v":"3P%"},{"$f":"per_game!M495","v":"FT"},{"$f":"per_game!N495","v":"FTA"},{"$f":"per_game!O495","v":"FT%"},{"$f":"per_game!P495","v":"ORB"},{"$f":"per_game!Q495","v":"DRB"},{"$f":"per_game!R495","v":"TRB"},{"$f":"per_game!S495","v":"AST"},{"$f":"per_game!T495","v":"STL"},{"$f":"per_game!U495","v":"BLK"},{"$f":"per_game!V495","v":"TOV"},{"$f":"per_game!W495","v":"PF"},{"$f":"per_game!X495","v":"PTS"}]
[null,null,{"$f":"Roster!C496","v":"F"},89.897000000000006,{"$f":"per_game!B496 & \"-\" & D497","v":"Jordan Crawford-89.897"},{"$f":"per_game!D496","v":14},{"$f":"per_game!E496","v":4},{"$f":"per_game!F496","v":24.4},{"$f":"per_game!G496","v":4.9000000000000004},{"$f":"per_game!H496","v":11.8},{"$f":"per_game!I496","v":0.41199999999999998},{"$f":"per_game!J496","v":1},{"$f":"per_game!K496","v":3.6},{"$f":"per_game!L496","v":0.28000000000000003},{"$f":"per_game!M496","v":2.4},{"$f":"per_game!N496","v":2.9},{"$f":"per_game!O496","v":0.80500000000000005},{"$f":"per_game!P496","v":1.1000000000000001},{"$f":"per_game!Q496","v":2.1},{"$f":"per_game!R496","v":3.2},{"$f":"per_game!S496","v":3.4},{"$f":"per_game!T496","v":0.3},{"$f":"per_game!U496","v":0.1},{"$f":"per_game!V496","v":2.2999999999999998},{"$f":"per_game!W496","v":1.6},{"$f":"per_game!X496","v":13.1}]
[null,null,{"$f":"Roster!C497","v":"C"},68.043999999999983,{"$f":"per_game!B497 & \"-\" & D498","v":"Nene Hilario-68.044"},{"$f":"per_game!D497","v":4},{"$f":"per_game!E497","v":0},{"$f":"per_game!F497","v":21.5},{"$f":"per_game!G497","v":3.8},{"$f":"per_game!H497","v":7.3},{"$f":"per_game!I497","v":0.51700000000000002},{"$f":"per_game!J497","v":0},{"$f":"per_game!K497","v":0},{"$f":"per_game!L497","v":0},{"$f":"per_game!M497","v":4},{"$f":"per_game!N497","v":5.5},{"$f":"per_game!O497","v":0.72699999999999998},{"$f":"per_game!P497","v":1.3},{"$f":"per_game!Q497","v":3.5},{"$f":"per_game!R497","v":4.8},{"$f":"per_game!S497","v":1.3},{"$f":"per_game!T497","v":1.3},{"$f":"per_game!U497","v":0.3},{"$f":"per_game!V497","v":1.3},{"$f":"per_game!W497","v":2},{"$f":"per_game!X497","v":11.5}]
[null,null,{"$f":"Roster!C498","v":"G"},81.643999999999991,{"$f":"per_game!B498 & \"-\" & D499","v":"Kevin Seraphin-81.644"},{"$f":"per_game!D498","v":13},{"$f":"per_game!E498","v":5},{"$f":"per_game!F498","v":24.5},{"$f":"per_game!G498","v":5.5},{"$f":"per_game!H498","v":11.8},{"$f":"per_game!I498","v":0.46100000000000002},{"$f":"per_game!J498","v":0},{"$f":"per_game!K498","v":0},{"$f":"per_game!L498","v":0},{"$f":"per_game!M498","v":0.5},{"$f":"per_game!N498","v":0.9},{"$f":"per_game!O498","v":0.58299999999999996},{"$f":"per_game!P498","v":2.2000000000000002},{"$f":"per_game!Q498","v":3.2},{"$f":"per_game!R498","v":5.5},{"$f":"per_game!S498","v":1.2},{"$f":"per_game!T498","v":0.5},{"$f":"per_game!U498","v":0.9},{"$f":"per_game!V498","v":2.4},{"$f":"per_game!W498","v":3.2},{"$f":"per_game!X498","v":11.5}]
[null,null,{"$f":"Roster!C499","v":"F"},97.632000000000005,{"$f":"per_game!B499 & \"-\" & D500","v":"Bradley Beal-97.632"},{"$f":"per_game!D499","v":14},{"$f":"per_game!E499","v":12},{"$f":"per_game!F499","v":27.7},{"$f":"per_game!G499","v":3.5},{"$f":"per_game!H499","v":10.4},{"$f":"per_game!I499","v":0.33600000000000002},{"$f":"per_game!J499","v":1.4},{"$f":"per_game!K499","v":4.2},{"$f":"per_game!L499","v":0.33900000000000002},{"$f":"per_game!M499","v":2.6},{"$f":"per_game!N499","v":3},{"$f":"per_game!O499","v":0.85699999999999998},{"$f":"per_game!P499","v":0.7},{"$f":"per_game!Q499","v":2.6},{"$f":"per_game!R499","v":3.3},{"$f":"per_game!S499","v":1.7},{"$f":"per_game!T499","v":0.8},{"$f":"per_game!U499","v":0.5},{"$f":"per_game!V499","v":1.8},{"$f":"per_game!W499","v":1.5},{"$f":"per_game!X499","v":11}]
[null,null,{"$f":"Roster!C500","v":"G"},95.728000000000009,{"$f":"per_game!B500 & \"-\" & D501","v":"A.J. Price-95.728"},{"$f":"per_game!D500","v":14},{"$f":"per_game!E500","v":12},{"$f":"per_game!F500","v":29.6},{"$f":"per_game!G500","v":3.3},{"$f":"per_game!H500","v":9.3000000000000007},{"$f":"per_game!I500","v":0.35399999999999998},{"$f":"per_game!J500","v":1.6},{"$f":"per_game!K500","v":4.8},{"$f":"per_game!L500","v":0.32800000000000001},{"$f":"per_game!M500","v":0.8},{"$f":"per_game!N500","v":0.9},{"$f":"per_game!O500","v":0.84599999999999997},{"$f":"per_game!P500","v":0.6},{"$f":"per_game!Q500","v":2.6},{"$f":"per_game!R500","v":3.2},{"$f":"per_game!S500","v":5.2},{"$f":"per_game!T500","v":0.6},{"$f":"per_game!U500","v":0},{"$f":"per_game!V500","v":1.6},{"$f":"per_game!W500","v":1.6},{"$f":"per_game!X500","v":8.9}]
[null,null,{"$f":"Roster!C501","v":"F-C"},68.256,{"$f":"per_game!B501 & \"-\" & D502","v":"Martell Webster-68.256"},{"$f":"per_game!D501","v":13},{"$f":"per_game!E501","v":0},{"$f":"per_game!F501","v":21.5},{"$f":"per_game!G501","v":2.5},{"$f":"per_game!H501","v":5.4},{"$f":"per_game!I501","v":0.45700000000000002},{"$f":"per_game!J501","v":1.2},{"$f":"per_game!K501","v":3},{"$f":"per_game!L501","v":0.41},{"$f":"per_game!M501","v":2.5},{"$f":"per_game!N501","v":2.8},{"$f":"per_game!O501","v":0.88900000000000001},{"$f":"per_game!P501","v":0.3},{"$f":"per_game!Q501","v":3.2},{"$f":"per_game!R501","v":3.5},{"$f":"per_game!S501","v":1.2},{"$f":"per_game!T501","v":0.5},{"$f":"per_game!U501","v":0.4},{"$f":"per_game!V501","v":1.3},{"$f":"per_game!W501","v":1.8},{"$f":"per_game!X501","v":8.6}]
[null,null,{"$f":"Roster!C502","v":"G"},91.745999999999995,{"$f":"per_game!B502 & \"-\" & D503","v":"Trevor Ariza-91.746"},{"$f":"per_game!D502","v":14},{"$f":"per_game!E502","v":12},{"$f":"per_game!F502","v":25.6},{"$f":"per_game!G502","v":3.1},{"$f":"per_game!H502","v":8.8000000000000007},{"$f":"per_game!I502","v":0.35},{"$f":"per_game!J502","v":0.7},{"$f":"per_game!K502","v":2.8},{"$f":"per_game!L502","v":0.25600000000000001},{"$f":"per_game!M502","v":1.5},{"$f":"per_game!N502","v":1.8},{"$f":"per_game!O502","v":0.84},{"$f":"per_game!P502","v":1.2},{"$f":"per_game!Q502","v":3.9},{"$f":"per_game!R502","v":5.0999999999999996},{"$f":"per_game!S502","v":1.9},{"$f":"per_game!T502","v":1.8},{"$f":"per_game!U502","v":0.5},{"$f":"per_game!V502","v":1.4},{"$f":"per_game!W502","v":1.4},{"$f":"per_game!X502","v":8.4}]
[null,null,{"$f":"Roster!C503","v":"F"},82.404000000000011,{"$f":"per_game!B503 & \"-\" & D504","v":"Emeka Okafor-82.404"},{"$f":"per_game!D503","v":14},{"$f":"per_game!E503","v":12},{"$f":"per_game!F503","v":21.9},{"$f":"per_game!G503","v":2.9},{"$f":"per_game!H503","v":7.1},{"$f":"per_game!I503","v":0.40400000000000003},{"$f":"per_game!J503","v":0},{"$f":"per_game!K503","v":0},{"$f":"per_game!L503","v":0},{"$f":"per_game!M503","v":1.5},{"$f":"per_game!N503","v":2.1},{"$f":"per_game!O503","v":0.7},{"$f":"per_game!P503","v":2.6},{"$f":"per_game!Q503","v":3.4},{"$f":"per_game!R503","v":5.9},{"$f":"per_game!S503","v":0.9},{"$f":"per_game!T503","v":0.8},{"$f":"per_game!U503","v":1.6},{"$f":"per_game!V503","v":0.9},{"$f":"per_game!W503","v":1.7},{"$f":"per_game!X503","v":7.2}]
[null,null,{"$f":"Roster!C504","v":"C-F"},70.053000000000026,{"$f":"per_game!B504 & \"-\" & D505","v":"Trevor Booker-70.053"},{"$f":"per_game!D504","v":9},{"$f":"per_game!E504","v":7},{"$f":"per_game!F504","v":24.1},{"$f":"per_game!G504","v":3.2},{"$f":"per_game!H504","v":7.1},{"$f":"per_game!I504","v":0.45300000000000001},{"$f":"per_game!J504","v":0},{"$f":"per_game!K504","v":0.2},{"$f":"per_game!L504","v":0},{"$f":"per_game!M504","v":0.3},{"$f":"per_game!N504","v":0.6},{"$f":"per_game!O504","v":0.6},{"$f":"per_game!P504","v":2},{"$f":"per_game!Q504","v":3.6},{"$f":"per_game!R504","v":5.6},{"$f":"per_game!S504","v":1.4},{"$f":"per_game!T504","v":1.2},{"$f":"per_game!U504","v":0.6},{"$f":"per_game!V504","v":1.3},{"$f":"per_game!W504","v":2.4},{"$f":"per_game!X504","v":6.8}]
[null,null,{"$f":"Roster!C505","v":"G"},47.682999999999993,{"$f":"per_game!B505 & \"-\" & D506","v":"Shaun Livingston-47.683"},{"$f":"per_game!D505","v":6},{"$f":"per_game!E505","v":2},{"$f":"per_game!F505","v":19.8},{"$f":"per_game!G505","v":2.2999999999999998},{"$f":"per_game!H505","v":4.8},{"$f":"per_game!I505","v":0.48299999999999998},{"$f":"per_game!J505","v":0},{"$f":"per_game!K505","v":0.3},{"$f":"per_game!L505","v":0},{"$f":"per_game!M505","v":0.7},{"$f":"per_game!N505","v":0.7},{"$f":"per_game!O505","v":1},{"$f":"per_game!P505","v":0.2},{"$f":"per_game!Q505","v":1.8},{"$f":"per_game!R505","v":2},{"$f":"per_game!S505","v":1.8},{"$f":"per_game!T505","v":0.5},{"$f":"per_game!U505","v":0.2},{"$f":"per_game!V505","v":1},{"$f":"per_game!W505","v":1.2},{"$f":"per_game!X505","v":5.3}]
[null,null,{"$f":"Roster!C506","v":"G"},51.439000000000007,{"$f":"per_game!B506 & \"-\" & D507","v":"Chris Singleton-51.439"},{"$f":"per_game!D506","v":14},{"$f":"per_game!E506","v":0},{"$f":"per_game!F506","v":16.399999999999999},{"$f":"per_game!G506","v":1.9},{"$f":"per_game!H506","v":4.2},{"$f":"per_game!I506","v":0.45800000000000002},{"$f":"per_game!J506","v":0.1},{"$f":"per_game!K506","v":0.6},{"$f":"per_game!L506","v":0.125},{"$f":"per_game!M506","v":1.1000000000000001},{"$f":"per_game!N506","v":1.9},{"$f":"per_game!O506","v":0.55600000000000005},{"$f":"per_game!P506","v":1},{"$f":"per_game!Q506","v":2.6},{"$f":"per_game!R506","v":3.6},{"$f":"per_game!S506","v":0.6},{"$f":"per_game!T506","v":0.9},{"$f":"per_game!U506","v":0.1},{"$f":"per_game!V506","v":0.9},{"$f":"per_game!W506","v":2.8},{"$f":"per_game!X506","v":5}]
[null,null,{"$f":"Roster!C507","v":"F"},34.961000000000006,{"$f":"per_game!B507","v":"Cartier Martin"},{"$f":"per_game!D507","v":7},{"$f":"per_game!E507","v":0},{"$f":"per_game!F507","v":9.3000000000000007},{"$f":"per_game!G507","v":1.4},{"$f":"per_game!H507","v":4.0999999999999996},{"$f":"per_game!I507","v":0.34499999999999997},{"$f":"per_game!J507","v":0.9},{"$f":"per_game!K507","v":2.7},{"$f":"per_game!L507","v":0.316},{"$f":"per_game!M507","v":0.6},{"$f":"per_game!N507","v":0.6},{"$f":"per_game!O507","v":1},{"$f":"per_game!P507","v":0.1},{"$f":"per_game!Q507","v":1.1000000000000001},{"$f":"per_game!R507","v":1.3},{"$f":"per_game!S507","v":0.1},{"$f":"per_game!T507","v":0.6},{"$f":"per_game!U507","v":0},{"$f":"per_game!V507","v":0.4},{"$f":"per_game!W507","v":0.4},{"$f":"per_game!X507","v":4.3}]
[null,null,{"$f":"Roster!C508","v":"F"},31.058999999999997,{"$f":"per_game!B508","v":"Earl Barron"},{"$f":"per_game!D508","v":6},{"$f":"per_game!E508","v":0},{"$f":"per_game!F508","v":9.8000000000000007},{"$f":"per_game!G508","v":1.7},{"$f":"per_game!H508","v":3.2},{"$f":"per_game!I508","v":0.52600000000000002},{"$f":"per_game!J508","v":0},{"$f":"per_game!K508","v":0},{"$f":"per_game!L508","v":0},{"$f":"per_game!M508","v":0.2},{"$f":"per_game!N508","v":0.5},{"$f":"per_game!O508","v":0.33300000000000002},{"$f":"per_game!P508","v":1.3},{"$f":"per_game!Q508","v":2},{"$f":"per_game!R508","v":3.3},{"$f":"per_game!S508","v":0.3},{"$f":"per_game!T508","v":0.5},{"$f":"per_game!U508","v":0.2},{"$f":"per_game!V508","v":0.5},{"$f":"per_game!W508","v":1.8},{"$f":"per_game!X508","v":3.5}]
[null,null,{"$f":"Roster!C509","v":"F"},null,{"$f":"per_game!B509","v":"Jannero Pargo"},{"$f":"per_game!D509","v":7},{"$f":"per_game!E509","v":0},{"$f":"per_game!F509","v":14.6},{"$f":"per_game!G509","v":1.1000000000000001},{"$f":"per_game!H509","v":4.5999999999999996},{"$f":"per_game!I509","v":0.25},{"$f":"per_game!J509","v":0.4},{"$f":"per_game!K509","v":2.9},{"$f":"per_game!L509","v":0.15},{"$f":"per_game!M509","v":0.3},{"$f":"per_game!N509","v":0.3},{"$f":"per_game!O509","v":1},{"$f":"per_game!P509","v":0},{"$f":"per_game!Q509","v":0.9},{"$f":"per_game!R509","v":0.9},{"$f":"per_game!S509","v":2},{"$f":"per_game!T509","v":0},{"$f":"per_game!U509","v":0.1},{"$f":"per_game!V509","v":1.1000000000000001},{"$f":"per_game!W509","v":1.1000000000000001},{"$f":"per_game!X509","v":3}]
[null,null,{"$f":"Roster!C510","v":"G-F"},null,{"$f":"per_game!B510","v":"Jan Vesely"},{"$f":"per_game!D510","v":14},{"$f":"per_game!E510","v":4},{"$f":"per_game!F510","v":12.3},{"$f":"per_game!G510","v":0.9},{"$f":"per_game!H510","v":2.1},{"$f":"per_game!I510","v":0.433},{"$f":"per_game!J510","v":0},{"$f":"per_game!K510","v":0},{"$f":"per_game!L510","v":0},{"$f":"per_game!M510","v":0.2},{"$f":"per_game!N510","v":0.9},{"$f":"per_game!O510","v":0.23100000000000001},{"$f":"per_game!P510","v":0.9},{"$f":"per_game!Q510","v":1.3},{"$f":"per_game!R510","v":2.1},{"$f":"per_game!S510","v":0.6},{"$f":"per_game!T510","v":0.4},{"$f":"per_game!U510","v":0.3},{"$f":"per_game!V510","v":0.6},{"$f":"per_game!W510","v":2.4},{"$f":"per_game!X510","v":2.1}]
[null,null,null,null,{"$f":"per_game!B511","v":0},null,null,{"$f":"per_game!F511","v":0},{"$f":"per_game!G511","v":0},null,null,null,null,null,null,{"$f":"per_game!N511","v":0},null,null,null,null,null,{"$f":"per_game!T511","v":0},{"$f":"per_game!U511","v":0},{"$f":"per_game!V511","v":0},{"$f":"per_game!W511","v":0}]
[null,null,null,null,null,null,null,null,null,null,null,null,null,null,null,null,null,null,null,null,null,null,{"$f":"per_game!U512","v":0}]

{"sheet":"transfer","index":10,"n_rows":505,"n_cols":3,"rows_kept":505,"cut":false,"hidden":true,"merged":[]}
["Kevin Durant-169.445",169.44499999999996,"F"]
["Kobe Bryant-160.062",160.06199999999998,"G"]
["LeBron James-157.83",157.83000000000001,"G"]
["Carmelo Anthony-156.702",156.702,"F"]
["James Harden-154.802",154.80199999999999,"C"]
["Russell Westbrook-150.034",150.03399999999999,"F"]
["Kevin Love-149.647",149.64700000000002,"F"]
["Dwight Howard-146.564",146.56399999999996,"G"]
["LaMarcus Aldridge-146.03",146.03,"F"]
["Nicolas Batum-144.833",144.833,"G"]
["Anderson Varejao-143.5",143.5,"G"]
["Damian Lillard-141.449",141.44899999999998,"F"]
["Stephen Curry-139.625",139.625,"F"]
["David Lee-139.359",139.35900000000001,"G"]
["Tim Duncan-139.08",139.07999999999998,"G"]
["Al Jefferson-138.558",138.55799999999999,"G"]
["Paul Pierce-138.549",138.54900000000001,"G"]
["Luol Deng-138.377",138.37700000000001,"G"]
["Jrue Holiday-138.03",138.03000000000003,"F"]
["Zach Randolph-135.819",135.81900000000002,"F"]
["DeMar DeRozan-135.657",135.65699999999998,"F"]
["Greg Monroe-135.561",135.56099999999998,"G"]
["Rudy Gay-135.005",135.00500000000002,"G"]
["David West-134.449",134.44900000000001,"G"]
["O.J. Mayo-134.351",134.351,"G"]
["Monta Ellis-133.265",133.26499999999996,"C"]
["Brandon Jennings-132.585",132.58499999999998,"G-F"]
["Blake Griffin-132.237",132.23699999999999,"G"]
["Kemba Walker-131.663",131.66299999999998,"F"]
["Chris Bosh-131.285",131.28499999999997,"F"]
["Wesley Matthews-131.121",131.12100000000001,"F"]
["Andrea Bargnani-130.178",130.178,"G-F"]
["Danilo Gallinari-130.162",130.16200000000001,"F"]
["Chris Paul-129.995",129.995,"G"]
["Chandler Parsons-129.984",129.98400000000001,"C"]
["Kyrie Irving-129.879",129.87899999999999,"F"]
["Deron Williams-129.588",129.58799999999999,"G-F"]
["Joakim Noah-129.05",129.05000000000001,"F"]
["Andre Iguodala-128.729",128.72900000000001,"F"]
["Glen Davis-126.584",126.58399999999997,"C"]
["Marc Gasol-126.4",126.40000000000002,"G"]
["George Hill-126.391",126.39100000000002,"F"]
["Klay Thompson-126.197",126.197,"C"]
["Ryan Anderson-126.151",126.15100000000001,"F"]
["Paul Millsap-125.603",125.60300000000001,"F"]
["Al Horford-125.558",125.55800000000001,"C"]
["Joe Johnson-125.552",125.55199999999999,"G-F"]
["Paul George-125.44",125.44000000000003,"F"]
["Pau Gasol-125.265",125.265,"G"]
["Evan Turner-125.195",125.19499999999999,"C"]
["Tony Parker-125.066",125.06599999999997,"F"]
["Byron Mullens-124.517",124.517,"G"]
["Goran Dragic-124.388",124.38799999999999,"F"]
["Josh Smith-123.979",123.97900000000001,"G"]
["Arron Afflalo-123.923",123.923,"G"]
["Ty Lawson-123.776",123.77600000000002,"F"]
["Metta World Peace-123.761",123.76100000000001,"F"]
["Thaddeus Young-123.728",123.72800000000002,"F"]
["Dwyane Wade-123.573",123.57299999999999,"C"]
["Kenneth Faried-121.943",121.943,"G-F"]
["Kyle Lowry-121.796",121.79599999999998,"F"]
["DeMarcus Cousins-121.734",121.73399999999998,"G"]
["Dion Waiters-121.698",121.69800000000001,"G"]
["Raymond Felton-120.409",120.40899999999999,"G-F"]
["Brook Lopez-119.872",119.872,"F"]
["Rajon Rondo-119.535",119.53500000000003,"C"]
["Kevin Garnett-119.425",119.42500000000001,"F"]
["Andrei Kirilenko-118.997",118.99699999999997,"F"]
["Omer Asik-118.979",118.97899999999998,"G"]
["Brandon Knight-118.921",118.92099999999996,"F"]
["Serge Ibaka-118.804",118.804,"G"]
["Mike Conley-117.29",117.28999999999999,"G"]
["Tayshaun Prince-115.698",115.69800000000002,"C"]
["Tyreke Evans-115.371",115.37099999999998,"G"]
["Carlos Boozer-115.361",115.36100000000003,"F"]
["Marcin Gortat-115.31",115.30999999999999,"G"]
["Greivis Vasquez-115.096",115.096,"F-C"]
["Alonzo Gee-113.941",113.94099999999999,"G"]
["Mo Williams-113.753",113.75299999999999,"F"]
["Jeremy Lin-113.571",113.57100000000003,"G"]
["Nikola Pekovic-112.321",112.32099999999997,"G"]
["J.J. Hickson-110.331",110.33099999999999,"F"]
["Patrick Patterson-110.159",110.15899999999996,"G"]
["Tyson Chandler-109.198",109.19799999999996,"C"]
["Roy Hibbert-108.565",108.56500000000001,"G"]
["Nikola Vucevic-108.112",108.11199999999999,"F"]
["Jeff Teague-108.088",108.08799999999999,"F"]
["Michael Beasley-108.004",108.00399999999999,"F"]
["Jameer Nelson-107.633",107.633,"G-F"]
["Darren Collison-107.456",107.45600000000002,"G"]
["Tristan Thompson-106.833",106.83299999999997,"G"]
["Jason Thompson-106.067",106.06700000000002,"G"]
["Gordon Hayward-105.588",105.58799999999999,"F"]
["Luke Ridnour-105.121",105.12100000000001,"F"]
["Al-Farouq Aminu-105.06",105.05999999999999,"C"]
["Jason Richardson-104.954",104.95400000000001,"G"]
["Danny Green-104.089",104.08900000000001,"F-C"]
["Ramon Sessions-103.997",103.99699999999999,"G"]
["Michael Kidd-Gilchrist-103.732",103.73199999999997,"C"]
["Luis Scola-103.444",103.44399999999997,"G"]
["Robin Lopez-103.386",103.38599999999997,"G"]
["Jamal Crawford-103.288",103.28799999999995,"F"]
["Anthony Davis-102.332",102.33199999999998,"F"]
["J.R. Smith-101.659",101.65900000000002,"C-F"]
["Jason Maxiell-101.5",101.49999999999999,"G"]
["Kevin Martin-101.167",101.167,"F"]
["Richard Hamilton-101.06",101.06000000000002,"F-C"]
["Harrison Barnes-99.972",99.97199999999998,"C"]
["DeAndre Jordan-99.743",99.742999999999995,"F"]
["Marcus Thornton-99.545",99.54500000000003,"F"]
["Chris Kaman-99.029",99.028999999999996,"F"]
["J.J. Redick-98.921",98.920999999999992,"F"]
["Kyle Korver-98.204",98.204000000000008,"F"]
["Marvin Williams-97.884",97.883999999999958,"F"]
["Jason Terry-97.84",97.839999999999989,"F"]
["Bradley Beal-97.632",97.632000000000005,"F"]
["A.J. Price-95.728",95.728000000000009,"G"]
["Brandon Bass-95.525",95.525000000000006,"F"]
["Jonas Valanciunas-95.072",95.071999999999989,"F"]
["Shawn Marion-95.051",95.051000000000016,"F"]
["Kris Humphries-95.008",95.00800000000001,"F"]
["Thabo Sefolosha-95.002",95.001999999999981,"F"]
["Jose Calderon-94.261",94.261000000000024,"G"]
["Rodney Stuckey-94.144",94.143999999999991,"F"]
["Randy Foye-93.9",93.90000000000002,"G"]
["Carl Landry-93.265",93.264999999999986,"C"]
["Kyle Singler-93.128",93.128,"G"]
["Shannon Brown-92.13",92.130000000000024,"G"]
["Trevor Ariza-91.746",91.745999999999995,"G"]
["Caron Butler-91.158",91.158000000000001,"G"]
["Jordan Crawford-89.897",89.897000000000006,"F"]
["Ben Gordon-89.39",89.390000000000015,"C"]
["Kawhi Leonard-88.78",88.779999999999987,"F-C"]
["Gerald Wallace-88.46",88.460000000000022,"F"]
["Louis Williams-88.414",88.414000000000001,"G"]
["Jared Dudley-87.249",87.248999999999995,"F"]
["Ray Allen-87.093",87.092999999999975,"F-C"]
["Brendan Haywood-87.049",87.049000000000007,"C"]
["Vince Carter-86.9",86.899999999999977,"G-F"]
["Mike Dunleavy-86.57",86.570000000000007,"F-G"]
["E'Twaun Moore-86.55",86.549999999999983,"F"]
["Gary Neal-86.246",86.245999999999981,"G"]
["Manu Ginobili-86.201",86.200999999999993,"F"]
["Jeremy Pargo-86.129",86.129000000000005,"F"]
["Kosta Koufos-85.959",85.958999999999989,"C"]
["Jason Kidd-85.918",85.917999999999992,"G"]
["Mario Chalmers-85.904",85.903999999999996,"G"]
["Ronnie Brewer-85.606",85.605999999999995,"F"]
["Kendrick Perkins-85.202",85.201999999999998,"G"]
["Kirk Hinrich-84.937",84.937000000000026,"G"]
["Elton Brand-84.49",84.490000000000009,"C"]
["Jeff Taylor-84.096",84.096000000000004,"G"]
["Derrick Favors-83.756",83.756,"F"]
["Derrick Williams-83.457",83.457000000000008,"F"]
["Emeka Okafor-82.404",82.404000000000011,"F"]
["Markieff Morris-82.016",82.016000000000005,"C-F"]
["Tony Allen-81.828",81.827999999999989,"G"]
["Ersan Ilyasova-81.691",81.691000000000017,"G"]
["Kevin Seraphin-81.644",81.643999999999991,"G"]
["Alexey Shved-80.67",80.67,"F-G"]
["Lance Stephenson-80.641",80.641000000000005,"C"]
["Dorell Wright-80.21",80.210000000000022,"F"]
["Shane Battier-80.073",80.072999999999993,"G"]
["Corey Brewer-79.983",79.983000000000004,"G-F"]
["Austin Rivers-79.593",79.593000000000004,"G"]
["Jarrett Jack-79.227",79.227000000000004,"G"]
["Matt Barnes-78.943",78.942999999999984,"F"]
["Lavoy Allen-77.287",77.286999999999992,"G"]
["JaVale McGee-77.282",77.281999999999996,"F"]
["Andray Blatche-76.617",76.61699999999999,"G-F"]
["Zaza Pachulia-76.427",76.426999999999992,"G"]
["Gerald Green-75.979",75.978999999999999,"F"]
["Larry Sanders-75.563",75.562999999999988,"F"]
["Nate Robinson-75.447",75.446999999999989,"F"]
["Andre Miller-75.392",75.391999999999996,"G-F"]
["Nick Young-74.803",74.802999999999983,"G"]
["Chase Budinger-73.684",73.683999999999983,"G"]
["Aaron Brooks-73.637",73.636999999999958,"F"]
["John Salmons-72.942",72.942000000000007,"F"]
["Boris Diaw-72.762",72.762000000000015,"G"]
["Tobias Harris-72.172",72.171999999999983,"F"]
["Marcus Morris-72.038",72.037999999999997,"G"]
["Courtney Lee-71.602",71.602000000000004,"F-C"]
["Carlos Delfino-71.366",71.365999999999971,"F"]
["DeShawn Stevenson-71.2",71.199999999999989,"C"]
["Daniel Gibson-71.159",71.158999999999992,"G"]
["Darius Morris-71.116",71.116,"F-C"]
["Tiago Splitter-71.106",71.105999999999995,"G"]
["Jae Crowder-71.021",71.021000000000001,"G"]
["Eric Bledsoe-70.944",70.944000000000003,"G"]
["Steve Novak-70.841",70.84099999999998,"F"]
["Jeff Green-70.523",70.522999999999996,"F"]
["Trevor Booker-70.053",70.053000000000026,"C-F"]
["Stephen Jackson-70.039",70.039000000000016,"F"]
["DeJuan Blair-69.527",69.527000000000015,"F"]
["Samuel Dalembert-69.436",69.436000000000021,"G"]
["Isaiah Thomas-69.353",69.352999999999994,"F-G"]
["Spencer Hawes-68.662",68.661999999999992,"G"]
["Willie Green-68.587",68.587000000000003,"C"]
["Jose Barea-68.472",68.472000000000008,"G"]
["Martell Webster-68.256",68.256,"F-C"]
["Antawn Jamison-68.068",68.067999999999998,"F"]
["Nene Hilario-68.044",68.043999999999983,"C"]
["Dante Cunningham-67.841",67.841000000000008,"F"]
["Brandan Wright-67.683",67.682999999999993,"G"]
["Amir Johnson-67.512",67.511999999999972,"F"]
["Roger Mason-67.055",67.054999999999993,"G"]
["Taj Gibson-66.321",66.320999999999998,"G-F"]
["Festus Ezeli-65.66",65.66,"G"]
["Andre Drummond-65.533",65.533000000000001,"F"]
["Devin Harris-65.172",65.171999999999997,"C"]
["Gerald Henderson-64.945",64.945000000000022,"G"]
["James Johnson-64.456",64.455999999999989,"G"]
["Brandon Roy-64.014",64.01400000000001,"G"]
["C.J. Watson-63.844",63.844000000000001,"C"]
["Beno Udrih-63.815",63.814999999999998,"G"]
[null,63.793000000000013,"F"]
["Jason Smith-63.544",63.543999999999997,"G"]
["Tyler Hansbrough-63.304",63.304000000000009,"G"]
["Tyler Zeller-63.295",63.295000000000009,"F"]
["Steve Blake-62.553",62.553000000000004,"F"]
["Quincy Pondexter-62.253",62.252999999999993,"G-F"]
["Jared Sullinger-62.029",62.029000000000011,"F"]
["Marreese Speights-61.87",61.87,"F"]
["Rasheed Wallace-61.445",61.445000000000007,"G"]
["Jermaine O'Neal-61.194",61.193999999999996,"G"]
["Maurice Harkless-61.008",61.007999999999988,"F"]
["Ed Davis-60.631",60.631,"F"]
["Linas Kleiza-60.523",60.523000000000017,"C"]
["Reggie Evans-60.471",60.471000000000011,"G-F"]
["Sebastian Telfair-60.036",60.036000000000001,"F"]
["Meyers Leonard-59.97",59.970000000000006,"F-C"]
["DeMarre Carroll-59.622",59.622,"F"]
["Jerryd Bayless-59.558",59.558,"C"]
[null,58.754999999999995,"F"]
["Sam Young-58.286",58.286000000000001,"G"]
["Jamaal Tinsley-58.173",58.173000000000002,"G"]
["P.J. Tucker-57.946",57.945999999999998,"F-C"]
["Nick Collison-57.901",57.901000000000003,"G-F"]
["Malcolm Lee-57.844",57.843999999999987,"G"]
["Brian Roberts-57.819",57.81900000000001,"F"]
["Bismack Biyombo-57.309",57.30899999999999,"G"]
["Alan Anderson-56.603",56.602999999999994,"G"]
["Troy Murphy-56.284",56.283999999999992,"C"]
["Chauncey Billups-55.286",55.286000000000001,"C"]
["Jordan Hill-54.966",54.965999999999994,"F"]
["Jonas Jerebko-54.896",54.896000000000001,"F"]
["Leandro Barbosa-54.6",54.599999999999987,"G"]
["Omri Casspi-54.478",54.477999999999987,"G"]
["Enes Kanter-54.211",54.210999999999999,"F"]
["Josh McRoberts-54.177",54.176999999999978,"C"]
["Terrence Ross-54.125",54.125000000000014,"F"]
["Wayne Ellington-53.834",53.834000000000003,"F"]
["Steve Nash-53.533",53.533000000000001,"G"]
["Luc Mbah a Moute-53.467",53.466999999999999,"F"]
["John Henson-53.396",53.396000000000008,"F"]
["Rashard Lewis-53.316",53.316000000000003,"C"]
["Toney Douglas-53.137",53.137,"G"]
["Norris Cole-52.904",52.904000000000003,"G"]
["Ian Mahinmi-52.66",52.660000000000011,"C"]
["Jimmy Butler-52.611",52.611000000000011,"C"]
["Jerry Stackhouse-52.517",52.517000000000003,"G"]
["Tyrus Thomas-52.29",52.290000000000013,"F"]
["Marquis Daniels-51.986",51.986000000000004,"C"]
["C.J. Miles-51.859",51.858999999999995,"F"]
["Jordan Hamilton-51.672",51.67199999999999,"C"]
["Udonis Haslem-51.6",51.6,"F"]
["Chris Singleton-51.439",51.439000000000007,"G"]
["Wilson Chandler-51.363",51.363,"G"]
["Andrew Bogut-51.05",51.04999999999999,"G"]
["Thomas Robinson-50.815",50.814999999999991,"F"]
["Andrew Nicholson-50.757",50.756999999999991,"F"]
["Mickael Pietrus-50.625",50.625,"G"]
["Will Bynum-50.579",50.579000000000015,"F-C"]
["Josh Howard-50.197",50.196999999999996,"C-F"]
["Keith Bogans-49.995",49.994999999999997,"G"]
["Charlie Villanueva-49.99",49.99,"F"]
["Eric Maynor-48.743",48.743000000000009,"G"]
["D.J. Augustin-48.709",48.70900000000001,"F"]
[null,48.475000000000001,"F"]
["Marco Belinelli-47.87",47.87,"C"]
["Jodie Meeks-47.715",47.714999999999996,"C-F"]
["Shaun Livingston-47.683",47.682999999999993,"G"]
["Mike Miller-47.651",47.650999999999996,"F-G"]
["Dominique Jones-47.433",47.433000000000007,"F"]
["Rodrigue Beaubois-47.377",47.377000000000002,"G"]
["Patrick Mills-46.97",46.970000000000006,"F"]
["Chris Duhon-46.533",46.533000000000008,"G"]
["Jimmer Fredette-45.769",45.769000000000005,"F"]
["Lamar Odom-45.756",45.756000000000007,"G"]
["Greg Smith-45.679",45.678999999999995,"G"]
["Bernard James-45.482",45.481999999999999,"C"]
["Hasheem Thabeet-45.089",45.088999999999992,"G"]
["Pablo Prigioni-44.729",44.728999999999992,"G"]
["MarShon Brooks-44.602",44.602000000000011,"F"]
["Daequan Cook-44.372",44.372,"F"]
["Richard Jefferson-44.35",44.350000000000009,"F"]
["Corey Maggette-44.166",44.166000000000004,"F"]
["Chris Wilcox-42.765",42.764999999999986,"G"]
["Matt Bonner-42.393",42.393000000000008,"G"]
["Ivan Johnson-42.151",42.151000000000003,"F"]
["Derek Fisher-42.125",42.125,"F"]
[null,41.997000000000007,"G"]
["Anthony Morrow-41.388",41.388000000000012,"F"]
["Lance Thomas-41.266",41.265999999999998,"F"]
["Dahntay Jones-41.222",41.222000000000008,"G"]
[null,41.187999999999995,"G"]
["Draymond Green-41.175",41.175000000000004,"F"]
["John Lucas-40.754",40.753999999999991,"G"]
["Ronnie Price-40.473",40.472999999999992,"F"]
[null,40.460999999999999,"G-F"]
["Ryan Hollins-40.178",40.17799999999999,"F"]
["Royal Ivey-38.818",38.818000000000005,"G"]
["Anthony Tolliver-38.749",38.749000000000002,"G"]
["Donald Sloan-38.289",38.288999999999994,"F-C"]
["Hedo Turkoglu-37.75",37.75,"G"]
["Darrell Arthur-37.745",37.745000000000005,"C"]
["Reggie Williams-37.412",37.412000000000006,"F"]
["Samardo Samuels-36.76",36.76,"G"]
[null,36.682999999999993,"G"]
["Will Barton-36.421",36.420999999999999,"F"]
["DeQuan Jones-36.323",36.322999999999986,"G"]
[null,35.743000000000009,"G"]
[null,35.4,"G"]
["Terrence Jones-35.033",35.032999999999987,"F"]
["Cartier Martin",34.961000000000006,"F"]
[null,34.377000000000002,"F"]
[null,34.045000000000002,"F-C"]
[null,33.874000000000009,"G-F"]
[null,33.717999999999996,"F"]
["Jon Leuer-33.266",33.265999999999991,"F"]
["Timofey Mozgov-32.6",32.600000000000009,"C"]
["Kim English-31.979",31.979000000000003,"F"]
["Brandon Rush-31.834",31.834000000000003,"F"]
["Joel Freeland-31.56",31.559999999999995,"G"]
["Earl Barron",31.058999999999997,"F"]
["Devin Ebanks-30.669",30.668999999999997,"G"]
["Andris Biedrins-30.608",30.607999999999997,"G"]
[null,30.328000000000003,"G"]
[null,30.046999999999997,"G"]
["Luke Babbitt-29.896",29.896000000000004,"C"]
[null,29.332999999999998,"F"]
["Chris Copeland-29.297",29.297000000000004,"G"]
["Hakim Warrick-28.883",28.882999999999999,"F"]
["Mirza Teletovic-28.768",28.767999999999997,"F"]
["Cole Aldrich-28.391",28.391000000000005,"F"]
["Josh Childress-28.353",28.352999999999998,"G"]
["Eddy Curry-27.25",27.25,"G"]
["Maalik Wayns-27.175",27.175000000000004,"F"]
["Nolan Smith-26.682",26.681999999999995,"G"]
[null,26.582000000000001,"C"]
["Evan Fournier-26.099",26.099,"G"]
[null,25.971000000000004,"G"]
["Nazr Mohammed-25.518",25.517999999999997,"G"]
["Charles Jenkins-24.836",24.836000000000002,"F"]
["Aaron Gray-23.967",23.967000000000006,"C"]
[null,23.782999999999998,"G"]
[null,23.736000000000008,"F"]
[null,23.628999999999994,"F"]
[null,23.400000000000006,"C"]
[null,22.766000000000002,"G-F"]
["DeSagana Diop-21.9",21.899999999999995,"F"]
[null,21.5,"F"]
[null,21.45,"G"]
["Jeff Pendergraph-21.214",21.214000000000002,"F"]
["Jeremy Lamb-21.133",21.132999999999999,"F"]
[null,19.750000000000007,"G"]
["Jason Collins-19.25",19.250000000000004,"G"]
["Austin Daye-18.823",18.823,"G"]
["Luke Zeller-18.5",18.5,"F"]
[null,18.329000000000004,"C"]
["Marquis Teague-18.2",18.199999999999996,"G"]
["Cory Higgins-17.481",17.480999999999995,"G"]
["Tornike Shengelia-16.9",16.900000000000006,"F"]
["James Jones-16.288",16.288,"F"]
[null,15.930999999999999,"F"]
["Miles Plumlee-15.9",15.900000000000002,"F"]
["Tyshawn Taylor-15.833",15.832999999999998,"G"]
["John Jenkins-15.786",15.786000000000001,"G"]
["Josh Harrellson-15.067",15.066999999999998,"F"]
["Luke Walton-14.543",14.543000000000001,"F-C"]
[null,14,"G"]
[null,13.633000000000001,"F"]
["Vladimir Radmanovic-13.542",13.541999999999998,"F"]
[null,13,"F"]
["Jeremy Tyler-13",12.999999999999998,"F"]
["Terrel Harris-12.633",12.632999999999999,"F"]
["Scott Machado-12",12,"F"]
["Ben Hansbrough-11.767",11.767000000000005,"G"]
["Kris Joseph-11.5",11.5,"F"]
["Robert Sacre-11.25",11.250000000000002,"C"]
["Mike Scott-10.767",10.766999999999998,"C"]
[null,10.500000000000002,"C"]
["Kevin Murphy-10.333",10.333,"G"]
["Earl Clark-10.133",10.133000000000001,"G"]
[null,9.9000000000000021,"C"]
[null,9.1999999999999993,"F"]
["Hamed Haddadi-9",9,"G"]
["Daniel Orton-9",9,"C"]
["Josh Selby-8.6",8.5999999999999979,"F"]
[null,7.6,"G"]
["Matt Carroll-7",7,"F"]
["Johan Petro-6",6,"G"]
["Darko Milicic-6",6,"F"]
[null,5.5,"F"]
[null,2,"G"]
[null,0,0]
[null,0,0]
[null,0,0]
[null,0,0]
[null,0,0]
[null,0,0]
[null,0,0]
[null,0,0]
[null,0,0]
[null,0,0]
[null,0,0]
[null,0,0]
[null,0,0]
[null,0,0]
[null,0,0]
[null,0,0]
[null,0,0]
[null,0,0]
[null,0,0]
[null,0,0]
[null,0,0]
["-0",0,0]
["-0",0,0]
["-0",0,0]
["-0",0,0]
["-0",0,0]
["-0",0,0]
["-0",0,0]
["-0",0,0]
["-0",0,0]
["-0",0,0]
["-0",0,0]
["-0",0,0]
["-0",0,0]
["-0",0,0]
["-0",0,0]
["-0",0,0]
["-0",0,0]
["-0",0,0]
["-0",0,0]
["-0",0,0]
["-0",0,0]
["-0",0,0]
["-0",0,0]
["-0",0,0]
["-0",0,0]
["-0",0,0]
["-0",0,0]
["Player-",null,"Rk"]
["Player-",null,"Rk"]
["Player-",null,"Rk"]
["Player-",null,"Rk"]
["Player-",null,"Rk"]
["Player-",null,"Rk"]
["Player-",null,"Rk"]
["Player-",null,"Rk"]
["Player-",null,"Rk"]
["Player-",null,"Rk"]
["Player-",null,"Rk"]
["Player-",null,"Rk"]
["Player-",null,"Rk"]
["Player-",null,"Rk"]
["Player-",null,"Rk"]
["Player-",null,"Rk"]
["Player-",null,"Rk"]
["Player-",null,"Rk"]
["Player-",null,"Rk"]
["Player-",null,"Rk"]
["Player-",null,"Rk"]
["Player-",null,"Rk"]
["Player-",null,"Rk"]
[0]
["Enes Kanter",null,"F"]
["Jamaal Tinsley",null,"G"]
["Earl Watson",null,"G"]
["Kevin Murphy",null,"G"]
["Alec Burks",null,"G"]
["Jeremy Evans",null,"F"]
["Jordan Crawford",null,"G"]
["Nene Hilario",null,"F-C"]
["Kevin Seraphin",null,"F"]
["Bradley Beal",null,"G"]
["A.J. Price",null,"G"]
["Martell Webster",null,"G-F"]
["Trevor Ariza",null,"F"]
["Emeka Okafor",null,"C-F"]
["Trevor Booker",null,"F"]
["Shaun Livingston",null,"G"]
["Chris Singleton",null,"F"]
["Cartier Martin",null,"F"]
["Earl Barron",null,"C"]
["Jannero Pargo",null,"G"]
["Jan Vesely",null,"F"]
[0]
[null,"F",5]
[null,"C",3.8]
[null,"G",3]
[null,"F"]
[null,0]

{"sheet":"Sheet2","index":11,"n_rows":505,"n_cols":3,"rows_kept":505,"cut":false,"hidden":true,"merged":[]}
["Kevin Durant-169.445",169.44499999999996,"F"]
["Kobe Bryant-160.062",160.06199999999998,"G"]
["LeBron James-157.83",157.83000000000001,"G"]
["Carmelo Anthony-156.702",156.702,"F"]
["James Harden-154.802",154.80199999999999,"C"]
["Russell Westbrook-150.034",150.03399999999999,"F"]
["Kevin Love-149.647",149.64700000000002,"F"]
["Dwight Howard-146.564",146.56399999999996,"G"]
["LaMarcus Aldridge-146.03",146.03,"F"]
["Nicolas Batum-144.833",144.833,"G"]
["Anderson Varejao-143.5",143.5,"G"]
["Damian Lillard-141.449",141.44899999999998,"F"]
["Stephen Curry-139.625",139.625,"F"]
["David Lee-139.359",139.35900000000001,"G"]
["Tim Duncan-139.08",139.07999999999998,"G"]
["Al Jefferson-138.558",138.55799999999999,"G"]
["Paul Pierce-138.549",138.54900000000001,"G"]
["Luol Deng-138.377",138.37700000000001,"G"]
["Jrue Holiday-138.03",138.03000000000003,"F"]
["Zach Randolph-135.819",135.81900000000002,"F"]
["DeMar DeRozan-135.657",135.65699999999998,"F"]
["Greg Monroe-135.561",135.56099999999998,"G"]
["Rudy Gay-135.005",135.00500000000002,"G"]
["David West-134.449",134.44900000000001,"G"]
["O.J. Mayo-134.351",134.351,"G"]
["Monta Ellis-133.265",133.26499999999996,"C"]
["Brandon Jennings-132.585",132.58499999999998,"G-F"]
["Blake Griffin-132.237",132.23699999999999,"G"]
["Kemba Walker-131.663",131.66299999999998,"F"]
["Chris Bosh-131.285",131.28499999999997,"F"]
["Wesley Matthews-131.121",131.12100000000001,"F"]
["Andrea Bargnani-130.178",130.178,"G-F"]
["Danilo Gallinari-130.162",130.16200000000001,"F"]
["Chris Paul-129.995",129.995,"G"]
["Chandler Parsons-129.984",129.98400000000001,"C"]
["Kyrie Irving-129.879",129.87899999999999,"F"]
["Deron Williams-129.588",129.58799999999999,"G-F"]
["Joakim Noah-129.05",129.05000000000001,"F"]
["Andre Iguodala-128.729",128.72900000000001,"F"]
["Glen Davis-126.584",126.58399999999997,"C"]
["Marc Gasol-126.4",126.40000000000002,"G"]
["George Hill-126.391",126.39100000000002,"F"]
["Klay Thompson-126.197",126.197,"C"]
["Ryan Anderson-126.151",126.15100000000001,"F"]
["Paul Millsap-125.603",125.60300000000001,"F"]
["Al Horford-125.558",125.55800000000001,"C"]
["Joe Johnson-125.552",125.55199999999999,"G-F"]
["Paul George-125.44",125.44000000000003,"F"]
["Pau Gasol-125.265",125.265,"G"]
["Evan Turner-125.195",125.19499999999999,"C"]
["Tony Parker-125.066",125.06599999999997,"F"]
["Byron Mullens-124.517",124.517,"G"]
["Goran Dragic-124.388",124.38799999999999,"F"]
["Josh Smith-123.979",123.97900000000001,"G"]
["Arron Afflalo-123.923",123.923,"G"]
["Ty Lawson-123.776",123.77600000000002,"F"]
["Metta World Peace-123.761",123.76100000000001,"F"]
["Thaddeus Young-123.728",123.72800000000002,"F"]
["Dwyane Wade-123.573",123.57299999999999,"C"]
["Kenneth Faried-121.943",121.943,"G-F"]
["Kyle Lowry-121.796",121.79599999999998,"F"]
["DeMarcus Cousins-121.734",121.73399999999998,"G"]
["Dion Waiters-121.698",121.69800000000001,"G"]
["Raymond Felton-120.409",120.40899999999999,"G-F"]
["Brook Lopez-119.872",119.872,"F"]
["Rajon Rondo-119.535",119.53500000000003,"C"]
["Kevin Garnett-119.425",119.42500000000001,"F"]
["Andrei Kirilenko-118.997",118.99699999999997,"F"]
["Omer Asik-118.979",118.97899999999998,"G"]
["Brandon Knight-118.921",118.92099999999996,"F"]
["Serge Ibaka-118.804",118.804,"G"]
["Mike Conley-117.29",117.28999999999999,"G"]
["Tayshaun Prince-115.698",115.69800000000002,"C"]
["Tyreke Evans-115.371",115.37099999999998,"G"]
["Carlos Boozer-115.361",115.36100000000003,"F"]
["Marcin Gortat-115.31",115.30999999999999,"G"]
["Greivis Vasquez-115.096",115.096,"F-C"]
["Alonzo Gee-113.941",113.94099999999999,"G"]
["Mo Williams-113.753",113.75299999999999,"F"]
["Jeremy Lin-113.571",113.57100000000003,"G"]
["Nikola Pekovic-112.321",112.32099999999997,"G"]
["J.J. Hickson-110.331",110.33099999999999,"F"]
["Patrick Patterson-110.159",110.15899999999996,"G"]
["Tyson Chandler-109.198",109.19799999999996,"C"]
["Roy Hibbert-108.565",108.56500000000001,"G"]
["Nikola Vucevic-108.112",108.11199999999999,"F"]
["Jeff Teague-108.088",108.08799999999999,"F"]
["Michael Beasley-108.004",108.00399999999999,"F"]
["Jameer Nelson-107.633",107.633,"G-F"]
["Darren Collison-107.456",107.45600000000002,"G"]
["Tristan Thompson-106.833",106.83299999999997,"G"]
["Jason Thompson-106.067",106.06700000000002,"G"]
["Gordon Hayward-105.588",105.58799999999999,"F"]
["Luke Ridnour-105.121",105.12100000000001,"F"]
["Al-Farouq Aminu-105.06",105.05999999999999,"C"]
["Jason Richardson-104.954",104.95400000000001,"G"]
["Danny Green-104.089",104.08900000000001,"F-C"]
["Ramon Sessions-103.997",103.99699999999999,"G"]
["Michael Kidd-Gilchrist-103.732",103.73199999999997,"C"]
["Luis Scola-103.444",103.44399999999997,"G"]
["Robin Lopez-103.386",103.38599999999997,"G"]
["Jamal Crawford-103.288",103.28799999999995,"F"]
["Anthony Davis-102.332",102.33199999999998,"F"]
["J.R. Smith-101.659",101.65900000000002,"C-F"]
["Jason Maxiell-101.5",101.49999999999999,"G"]
["Kevin Martin-101.167",101.167,"F"]
["Richard Hamilton-101.06",101.06000000000002,"F-C"]
["Harrison Barnes-99.972",99.97199999999998,"C"]
["DeAndre Jordan-99.743",99.742999999999995,"F"]
["Marcus Thornton-99.545",99.54500000000003,"F"]
["Chris Kaman-99.029",99.028999999999996,"F"]
["J.J. Redick-98.921",98.920999999999992,"F"]
["Kyle Korver-98.204",98.204000000000008,"F"]
["Marvin Williams-97.884",97.883999999999958,"F"]
["Jason Terry-97.84",97.839999999999989,"F"]
["Bradley Beal-97.632",97.632000000000005,"F"]
["A.J. Price-95.728",95.728000000000009,"G"]
["Brandon Bass-95.525",95.525000000000006,"F"]
["Jonas Valanciunas-95.072",95.071999999999989,"F"]
["Shawn Marion-95.051",95.051000000000016,"F"]
["Kris Humphries-95.008",95.00800000000001,"F"]
["Thabo Sefolosha-95.002",95.001999999999981,"F"]
["Jose Calderon-94.261",94.261000000000024,"G"]
["Rodney Stuckey-94.144",94.143999999999991,"F"]
["Randy Foye-93.9",93.90000000000002,"G"]
["Carl Landry-93.265",93.264999999999986,"C"]
["Kyle Singler-93.128",93.128,"G"]
["Shannon Brown-92.13",92.130000000000024,"G"]
["Trevor Ariza-91.746",91.745999999999995,"G"]
["Caron Butler-91.158",91.158000000000001,"G"]
["Jordan Crawford-89.897",89.897000000000006,"F"]
["Ben Gordon-89.39",89.390000000000015,"C"]
["Kawhi Leonard-88.78",88.779999999999987,"F-C"]
["Gerald Wallace-88.46",88.460000000000022,"F"]
["Louis Williams-88.414",88.414000000000001,"G"]
["Jared Dudley-87.249",87.248999999999995,"F"]
["Ray Allen-87.093",87.092999999999975,"F-C"]
["Brendan Haywood-87.049",87.049000000000007,"C"]
["Vince Carter-86.9",86.899999999999977,"G-F"]
["Mike Dunleavy-86.57",86.570000000000007,"F-G"]
["E'Twaun Moore-86.55",86.549999999999983,"F"]
["Gary Neal-86.246",86.245999999999981,"G"]
["Manu Ginobili-86.201",86.200999999999993,"F"]
["Jeremy Pargo-86.129",86.129000000000005,"F"]
["Kosta Koufos-85.959",85.958999999999989,"C"]
["Jason Kidd-85.918",85.917999999999992,"G"]
["Mario Chalmers-85.904",85.903999999999996,"G"]
["Ronnie Brewer-85.606",85.605999999999995,"F"]
["Kendrick Perkins-85.202",85.201999999999998,"G"]
["Kirk Hinrich-84.937",84.937000000000026,"G"]
["Elton Brand-84.49",84.490000000000009,"C"]
["Jeff Taylor-84.096",84.096000000000004,"G"]
["Derrick Favors-83.756",83.756,"F"]
["Derrick Williams-83.457",83.457000000000008,"F"]
["Emeka Okafor-82.404",82.404000000000011,"F"]
["Markieff Morris-82.016",82.016000000000005,"C-F"]
["Tony Allen-81.828",81.827999999999989,"G"]
["Ersan Ilyasova-81.691",81.691000000000017,"G"]
["Kevin Seraphin-81.644",81.643999999999991,"G"]
["Alexey Shved-80.67",80.67,"F-G"]
["Lance Stephenson-80.641",80.641000000000005,"C"]
["Dorell Wright-80.21",80.210000000000022,"F"]
["Shane Battier-80.073",80.072999999999993,"G"]
["Corey Brewer-79.983",79.983000000000004,"G-F"]
["Austin Rivers-79.593",79.593000000000004,"G"]
["Jarrett Jack-79.227",79.227000000000004,"G"]
["Matt Barnes-78.943",78.942999999999984,"F"]
["Lavoy Allen-77.287",77.286999999999992,"G"]
["JaVale McGee-77.282",77.281999999999996,"F"]
["Andray Blatche-76.617",76.61699999999999,"G-F"]
["Zaza Pachulia-76.427",76.426999999999992,"G"]
["Gerald Green-75.979",75.978999999999999,"F"]
["Larry Sanders-75.563",75.562999999999988,"F"]
["Nate Robinson-75.447",75.446999999999989,"F"]
["Andre Miller-75.392",75.391999999999996,"G-F"]
["Nick Young-74.803",74.802999999999983,"G"]
["Chase Budinger-73.684",73.683999999999983,"G"]
["Aaron Brooks-73.637",73.636999999999958,"F"]
["John Salmons-72.942",72.942000000000007,"F"]
["Boris Diaw-72.762",72.762000000000015,"G"]
["Tobias Harris-72.172",72.171999999999983,"F"]
["Marcus Morris-72.038",72.037999999999997,"G"]
["Courtney Lee-71.602",71.602000000000004,"F-C"]
["Carlos Delfino-71.366",71.365999999999971,"F"]
["DeShawn Stevenson-71.2",71.199999999999989,"C"]
["Daniel Gibson-71.159",71.158999999999992,"G"]
["Darius Morris-71.116",71.116,"F-C"]
["Tiago Splitter-71.106",71.105999999999995,"G"]
["Jae Crowder-71.021",71.021000000000001,"G"]
["Eric Bledsoe-70.944",70.944000000000003,"G"]
["Steve Novak-70.841",70.84099999999998,"F"]
["Jeff Green-70.523",70.522999999999996,"F"]
["Trevor Booker-70.053",70.053000000000026,"C-F"]
["Stephen Jackson-70.039",70.039000000000016,"F"]
["DeJuan Blair-69.527",69.527000000000015,"F"]
["Samuel Dalembert-69.436",69.436000000000021,"G"]
["Isaiah Thomas-69.353",69.352999999999994,"F-G"]
["Spencer Hawes-68.662",68.661999999999992,"G"]
["Willie Green-68.587",68.587000000000003,"C"]
["Jose Barea-68.472",68.472000000000008,"G"]
["Martell Webster-68.256",68.256,"F-C"]
["Antawn Jamison-68.068",68.067999999999998,"F"]
["Nene Hilario-68.044",68.043999999999983,"C"]
["Dante Cunningham-67.841",67.841000000000008,"F"]
["Brandan Wright-67.683",67.682999999999993,"G"]
["Amir Johnson-67.512",67.511999999999972,"F"]
["Roger Mason-67.055",67.054999999999993,"G"]
["Taj Gibson-66.321",66.320999999999998,"G-F"]
["Festus Ezeli-65.66",65.66,"G"]
["Andre Drummond-65.533",65.533000000000001,"F"]
["Devin Harris-65.172",65.171999999999997,"C"]
["Gerald Henderson-64.945",64.945000000000022,"G"]
["James Johnson-64.456",64.455999999999989,"G"]
["Brandon Roy-64.014",64.01400000000001,"G"]
["C.J. Watson-63.844",63.844000000000001,"C"]
["Beno Udrih-63.815",63.814999999999998,"G"]
[null,63.793000000000013,"F"]
["Jason Smith-63.544",63.543999999999997,"G"]
["Tyler Hansbrough-63.304",63.304000000000009,"G"]
["Tyler Zeller-63.295",63.295000000000009,"F"]
["Steve Blake-62.553",62.553000000000004,"F"]
["Quincy Pondexter-62.253",62.252999999999993,"G-F"]
["Jared Sullinger-62.029",62.029000000000011,"F"]
["Marreese Speights-61.87",61.87,"F"]
["Rasheed Wallace-61.445",61.445000000000007,"G"]
["Jermaine O'Neal-61.194",61.193999999999996,"G"]
["Maurice Harkless-61.008",61.007999999999988,"F"]
["Ed Davis-60.631",60.631,"F"]
["Linas Kleiza-60.523",60.523000000000017,"C"]
["Reggie Evans-60.471",60.471000000000011,"G-F"]
["Sebastian Telfair-60.036",60.036000000000001,"F"]
["Meyers Leonard-59.97",59.970000000000006,"F-C"]
["DeMarre Carroll-59.622",59.622,"F"]
["Jerryd Bayless-59.558",59.558,"C"]
[null,58.754999999999995,"F"]
["Sam Young-58.286",58.286000000000001,"G"]
["Jamaal Tinsley-58.173",58.173000000000002,"G"]
["P.J. Tucker-57.946",57.945999999999998,"F-C"]
["Nick Collison-57.901",57.901000000000003,"G-F"]
["Malcolm Lee-57.844",57.843999999999987,"G"]
["Brian Roberts-57.819",57.81900000000001,"F"]
["Bismack Biyombo-57.309",57.30899999999999,"G"]
["Alan Anderson-56.603",56.602999999999994,"G"]
["Troy Murphy-56.284",56.283999999999992,"C"]
["Chauncey Billups-55.286",55.286000000000001,"C"]
["Jordan Hill-54.966",54.965999999999994,"F"]
["Jonas Jerebko-54.896",54.896000000000001,"F"]
["Leandro Barbosa-54.6",54.599999999999987,"G"]
["Omri Casspi-54.478",54.477999999999987,"G"]
["Enes Kanter-54.211",54.210999999999999,"F"]
["Josh McRoberts-54.177",54.176999999999978,"C"]
["Terrence Ross-54.125",54.125000000000014,"F"]
["Wayne Ellington-53.834",53.834000000000003,"F"]
["Steve Nash-53.533",53.533000000000001,"G"]
["Luc Mbah a Moute-53.467",53.466999999999999,"F"]
["John Henson-53.396",53.396000000000008,"F"]
["Rashard Lewis-53.316",53.316000000000003,"C"]
["Toney Douglas-53.137",53.137,"G"]
["Norris Cole-52.904",52.904000000000003,"G"]
["Ian Mahinmi-52.66",52.660000000000011,"C"]
["Jimmy Butler-52.611",52.611000000000011,"C"]
["Jerry Stackhouse-52.517",52.517000000000003,"G"]
["Tyrus Thomas-52.29",52.290000000000013,"F"]
["Marquis Daniels-51.986",51.986000000000004,"C"]
["C.J. Miles-51.859",51.858999999999995,"F"]
["Jordan Hamilton-51.672",51.67199999999999,"C"]
["Udonis Haslem-51.6",51.6,"F"]
["Chris Singleton-51.439",51.439000000000007,"G"]
["Wilson Chandler-51.363",51.363,"G"]
["Andrew Bogut-51.05",51.04999999999999,"G"]
["Thomas Robinson-50.815",50.814999999999991,"F"]
["Andrew Nicholson-50.757",50.756999999999991,"F"]
["Mickael Pietrus-50.625",50.625,"G"]
["Will Bynum-50.579",50.579000000000015,"F-C"]
["Josh Howard-50.197",50.196999999999996,"C-F"]
["Keith Bogans-49.995",49.994999999999997,"G"]
["Charlie Villanueva-49.99",49.99,"F"]
["Eric Maynor-48.743",48.743000000000009,"G"]
["D.J. Augustin-48.709",48.70900000000001,"F"]
[null,48.475000000000001,"F"]
["Marco Belinelli-47.87",47.87,"C"]
["Jodie Meeks-47.715",47.714999999999996,"C-F"]
["Shaun Livingston-47.683",47.682999999999993,"G"]
["Mike Miller-47.651",47.650999999999996,"F-G"]
["Dominique Jones-47.433",47.433000000000007,"F"]
["Rodrigue Beaubois-47.377",47.377000000000002,"G"]
["Patrick Mills-46.97",46.970000000000006,"F"]
["Chris Duhon-46.533",46.533000000000008,"G"]
["Jimmer Fredette-45.769",45.769000000000005,"F"]
["Lamar Odom-45.756",45.756000000000007,"G"]
["Greg Smith-45.679",45.678999999999995,"G"]
["Bernard James-45.482",45.481999999999999,"C"]
["Hasheem Thabeet-45.089",45.088999999999992,"G"]
["Pablo Prigioni-44.729",44.728999999999992,"G"]
["MarShon Brooks-44.602",44.602000000000011,"F"]
["Daequan Cook-44.372",44.372,"F"]
["Richard Jefferson-44.35",44.350000000000009,"F"]
["Corey Maggette-44.166",44.166000000000004,"F"]
["Chris Wilcox-42.765",42.764999999999986,"G"]
["Matt Bonner-42.393",42.393000000000008,"G"]
["Ivan Johnson-42.151",42.151000000000003,"F"]
["Derek Fisher-42.125",42.125,"F"]
[null,41.997000000000007,"G"]
["Anthony Morrow-41.388",41.388000000000012,"F"]
["Lance Thomas-41.266",41.265999999999998,"F"]
["Dahntay Jones-41.222",41.222000000000008,"G"]
[null,41.187999999999995,"G"]
["Draymond Green-41.175",41.175000000000004,"F"]
["John Lucas-40.754",40.753999999999991,"G"]
["Ronnie Price-40.473",40.472999999999992,"F"]
[null,40.460999999999999,"G-F"]
["Ryan Hollins-40.178",40.17799999999999,"F"]
["Royal Ivey-38.818",38.818000000000005,"G"]
["Anthony Tolliver-38.749",38.749000000000002,"G"]
["Donald Sloan-38.289",38.288999999999994,"F-C"]
["Hedo Turkoglu-37.75",37.75,"G"]
["Darrell Arthur-37.745",37.745000000000005,"C"]
["Reggie Williams-37.412",37.412000000000006,"F"]
["Samardo Samuels-36.76",36.76,"G"]
[null,36.682999999999993,"G"]
["Will Barton-36.421",36.420999999999999,"F"]
["DeQuan Jones-36.323",36.322999999999986,"G"]
[null,35.743000000000009,"G"]
[null,35.4,"G"]
["Terrence Jones-35.033",35.032999999999987,"F"]
["Cartier Martin",34.961000000000006,"F"]
[null,34.377000000000002,"F"]
[null,34.045000000000002,"F-C"]
[null,33.874000000000009,"G-F"]
[null,33.717999999999996,"F"]
["Jon Leuer-33.266",33.265999999999991,"F"]
["Timofey Mozgov-32.6",32.600000000000009,"C"]
["Kim English-31.979",31.979000000000003,"F"]
["Brandon Rush-31.834",31.834000000000003,"F"]
["Joel Freeland-31.56",31.559999999999995,"G"]
["Earl Barron",31.058999999999997,"F"]
["Devin Ebanks-30.669",30.668999999999997,"G"]
["Andris Biedrins-30.608",30.607999999999997,"G"]
[null,30.328000000000003,"G"]
[null,30.046999999999997,"G"]
["Luke Babbitt-29.896",29.896000000000004,"C"]
[null,29.332999999999998,"F"]
["Chris Copeland-29.297",29.297000000000004,"G"]
["Hakim Warrick-28.883",28.882999999999999,"F"]
["Mirza Teletovic-28.768",28.767999999999997,"F"]
["Cole Aldrich-28.391",28.391000000000005,"F"]
["Josh Childress-28.353",28.352999999999998,"G"]
["Eddy Curry-27.25",27.25,"G"]
["Maalik Wayns-27.175",27.175000000000004,"F"]
["Nolan Smith-26.682",26.681999999999995,"G"]
[null,26.582000000000001,"C"]
["Evan Fournier-26.099",26.099,"G"]
[null,25.971000000000004,"G"]
["Nazr Mohammed-25.518",25.517999999999997,"G"]
["Charles Jenkins-24.836",24.836000000000002,"F"]
["Aaron Gray-23.967",23.967000000000006,"C"]
[null,23.782999999999998,"G"]
[null,23.736000000000008,"F"]
[null,23.628999999999994,"F"]
[null,23.400000000000006,"C"]
[null,22.766000000000002,"G-F"]
["DeSagana Diop-21.9",21.899999999999995,"F"]
[null,21.5,"F"]
[null,21.45,"G"]
["Jeff Pendergraph-21.214",21.214000000000002,"F"]
["Jeremy Lamb-21.133",21.132999999999999,"F"]
[null,19.750000000000007,"G"]
["Jason Collins-19.25",19.250000000000004,"G"]
["Austin Daye-18.823",18.823,"G"]
["Luke Zeller-18.5",18.5,"F"]
[null,18.329000000000004,"C"]
["Marquis Teague-18.2",18.199999999999996,"G"]
["Cory Higgins-17.481",17.480999999999995,"G"]
["Tornike Shengelia-16.9",16.900000000000006,"F"]
["James Jones-16.288",16.288,"F"]
[null,15.930999999999999,"F"]
["Miles Plumlee-15.9",15.900000000000002,"F"]
["Tyshawn Taylor-15.833",15.832999999999998,"G"]
["John Jenkins-15.786",15.786000000000001,"G"]
["Josh Harrellson-15.067",15.066999999999998,"F"]
["Luke Walton-14.543",14.543000000000001,"F-C"]
[null,14,"G"]
[null,13.633000000000001,"F"]
["Vladimir Radmanovic-13.542",13.541999999999998,"F"]
[null,13,"F"]
["Jeremy Tyler-13",12.999999999999998,"F"]
["Terrel Harris-12.633",12.632999999999999,"F"]
["Scott Machado-12",12,"F"]
["Ben Hansbrough-11.767",11.767000000000005,"G"]
["Kris Joseph-11.5",11.5,"F"]
["Robert Sacre-11.25",11.250000000000002,"C"]
["Mike Scott-10.767",10.766999999999998,"C"]
[null,10.500000000000002,"C"]
["Kevin Murphy-10.333",10.333,"G"]
["Earl Clark-10.133",10.133000000000001,"G"]
[null,9.9000000000000021,"C"]
[null,9.1999999999999993,"F"]
["Hamed Haddadi-9",9,"G"]
["Daniel Orton-9",9,"C"]
["Josh Selby-8.6",8.5999999999999979,"F"]
[null,7.6,"G"]
["Matt Carroll-7",7,"F"]
["Johan Petro-6",6,"G"]
["Darko Milicic-6",6,"F"]
[null,5.5,"F"]
[null,2,"G"]
[null,0,0]
[null,0,0]
[null,0,0]
[null,0,0]
[null,0,0]
[null,0,0]
[null,0,0]
[null,0,0]
[null,0,0]
[null,0,0]
[null,0,0]
[null,0,0]
[null,0,0]
[null,0,0]
[null,0,0]
[null,0,0]
[null,0,0]
[null,0,0]
[null,0,0]
[null,0,0]
[null,0,0]
["-0",0,0]
["-0",0,0]
["-0",0,0]
["-0",0,0]
["-0",0,0]
["-0",0,0]
["-0",0,0]
["-0",0,0]
["-0",0,0]
["-0",0,0]
["-0",0,0]
["-0",0,0]
["-0",0,0]
["-0",0,0]
["-0",0,0]
["-0",0,0]
["-0",0,0]
["-0",0,0]
["-0",0,0]
["-0",0,0]
["-0",0,0]
["-0",0,0]
["-0",0,0]
["-0",0,0]
["-0",0,0]
["-0",0,0]
["-0",0,0]
["Player-",null,"Rk"]
["Player-",null,"Rk"]
["Player-",null,"Rk"]
["Player-",null,"Rk"]
["Player-",null,"Rk"]
["Player-",null,"Rk"]
["Player-",null,"Rk"]
["Player-",null,"Rk"]
["Player-",null,"Rk"]
["Player-",null,"Rk"]
["Player-",null,"Rk"]
["Player-",null,"Rk"]
["Player-",null,"Rk"]
["Player-",null,"Rk"]
["Player-",null,"Rk"]
["Player-",null,"Rk"]
["Player-",null,"Rk"]
["Player-",null,"Rk"]
["Player-",null,"Rk"]
["Player-",null,"Rk"]
["Player-",null,"Rk"]
["Player-",null,"Rk"]
["Player-",null,"Rk"]
[0]
["Enes Kanter",null,"F"]
["Jamaal Tinsley",null,"G"]
["Earl Watson",null,"G"]
["Kevin Murphy",null,"G"]
["Alec Burks",null,"G"]
["Jeremy Evans",null,"F"]
["Jordan Crawford",null,"G"]
["Nene Hilario",null,"F-C"]
["Kevin Seraphin",null,"F"]
["Bradley Beal",null,"G"]
["A.J. Price",null,"G"]
["Martell Webster",null,"G-F"]
["Trevor Ariza",null,"F"]
["Emeka Okafor",null,"C-F"]
["Trevor Booker",null,"F"]
["Shaun Livingston",null,"G"]
["Chris Singleton",null,"F"]
["Cartier Martin",null,"F"]
["Earl Barron",null,"C"]
["Jannero Pargo",null,"G"]
["Jan Vesely",null,"F"]
[0]
[null,"F",5]
[null,"C",3.8]
[null,"G",3]
[null,"F"]
[null,0]